{"text_format":"1","workbook":"xlsx","n_sheets":6,"sheets":["Instructions","Data Entry","Pivot Tables","Graphs","DataExport","DropDowns"],"not_rendered":{"charts":12,"images":0,"macros":1,"external_links":0,"defined_names":4,"comments":1,"pivot_tables":8},"unopened":[],"bounds":{"document_bytes":16777216,"sheet_cells":100000,"rows_first":2000,"rows_last":500,"rows_between":2000,"halvings":0,"cell_chars":16384,"cell_head_chars":4096},"cells_cut":0,"cells_raw":0,"read":"whole","date_system":"1900"}

{"sheet":"Instructions","index":0,"n_rows":49,"n_cols":6,"rows_kept":49,"cut":false,"hidden":false,"merged":[[10,1,10,6],[7,1,7,6],[11,2,11,6],[0,0,0,6],[2,0,2,6],[1,0,1,6],[9,1,9,6],[5,2,5,6],[4,2,4,6],[3,2,3,6],[8,0,8,6],[6,2,6,6],[25,1,25,6],[26,1,26,6],[27,1,27,6],[36,1,36,6],[48,2,48,6],[39,2,39,6],[33,1,33,5],[47,2,47,6],[40,2,40,6],[41,2,41,6],[45,2,45,6],[46,2,46,6],[44,1,44,5],[34,1,34,6],[35,1,35,6],[32,2,32,5],[21,1,21,6],[22,2,22,6],[23,2,23,6],[24,2,24,6],[12,2,12,6],[13,1,13,6],[17,1,17,6],[16,1,16,6],[19,1,19,6],[18,1,18,6],[14,1,14,6],[20,1,20,6],[15,1,15,6]]}
["Safe use of opioids measurement"]
[]
["There are four worksheets:"]
[1,"Instructions","Provides guidance on how to navigate through the worksheets, enter your data, and review your aggregated data."]
[2,"Data Entry","Use this worksheet to enter your data. Follow the instructions below."]
[3,"Graphs","This worksheet summarises your aggregated data over time.\nIf graphs do not display correctly after data entry push on of the 'Refresh All graphs' buttons (row 1, columns U-X in the 'Graphs' and 'Graphs no labels' worksheets; row 1, columns Q-V in the 'Data Entry' worksheet)."]
[4,"DataExport","This contains your data, formatted to make it suitable for a database. Do not edit this sheet, as it is used by the Commission to import the data. However, you may like to use it as source data for other analyses."]
[]
["Instructions"]
[1,"Some cells are protected and cannot be altered or have data entered manually. Grey cells cannot be edited."]
[2,"When first using your opioid QSM workbook"]
[null,"• ","Select your DHB organisation (cell E2) from the drop-down list."]
[null,"• ","Enter the date for the Monday of the first week when the opioid QSM data collection commences.  This should only be added once at the commencement of the audit."]
[3,"Area (optional) (column C): This is a free text field where you can enter the names of local wards, areas or services for local analysis and comparison."]
[4,"Gender (column F): Enter, or select from the drop-down list, M = male; F = female; or O = other / not specified.  This is not case sensitive."]
[5,"Age (column G): Enter the actual age in years in the appropriate cell.  This value will auto populate the Age group field (column M)."]
[6,"Ethnicity (MPAEOR) (column H): Enter, or select from the drop-down list, M = Māori; P = Pacific; A = Asian; E = European; O = Other, R = Residual Categories. This is not case sensitive. This is the prioritised ethnicity.  This value will auto populate the Ethnic group field (column N). Note that Residual Categories includes 'Don't know', 'Refused to answer', 'Response unidentifiable' and 'Not stated' as stated by the Ministry of Health (see 14 Additional information)."]
[7,"Sedation scores documentation: Process 1 (Yes/No) (column O): Enter, or select from the drop-down list, Yes = sedation scores have been documented in accordance with the definition; No = sedation scores have not been documented in accordance with the definition. This is not case sensitive."]
[8,"Bowel function documentation: Process 2 (Yes/No) (column P): Enter, or select from the drop-down list, Yes = bowel function has been documented in accordance with the definition; No = bowel function has not been documented in accordance with the definition. This is not case sensitive."]
[9,"Presence of uncontrolled pain: Balance (Yes/No/Not recorded) (column Q): Enter, or select from the drop-down list, Yes = uncontrolled pain has been documented in accordance with the definition; No = uncontrolled pain has not been documented in accordance with the definition; Not recorded = the documentation does not discern if the pain was controlled or not. This marker allows local improvement activity to improve documentation.  The use of 'Not recorded' is optional. This is not case sensitive."]
[10,"The Week starting column (column D), and the Case number column (column E) will auto populate when a value is added to the Sedation scores [Process 1 (Yes/No)] (column O) cell on the row of the current Case number 1 cell.  A maximum of 10 patients can be entered per week.  If you have fewer than 10 patients audited just leave the cells blank, and record the next week's data from the new Week starting row."]
[11,"If you do not have any data for a week(s) – skip the week(s), leaving the cells blank.  To generate the Week starting and the Case numbers for the next week where you have data"]
[null,"• ","In column O (Sedation scores documentation: Process 1 (Yes/No)) for the week you are skipping, enter a ‘Yes’ or ‘No’ on the row for case number 1.  This will auto populate the Week starting and the Case numbers for the following week. You can do this for multiple weeks if needed."]
[null,"• ","Enter your data against the case numbers for the new week that you have data for."]
[null,"• ","Delete the ‘Yes’ or ‘No’ that you entered into the cell in column O on the row for case number 1 to auto generate the Week starting series."]
[]
[12,"Key definitions\n(please refer to the ‘Opioid implementation package’ and the ‘Safe use of opioids measurement: frequently asked questions’ for full definitions and explanations)."]
[]
[null,"Measure","Numerator","Denominator","Exclusions","Population"]
[null,"Process 1\nPercentage of patients whose sedation levels are monitored and documented following local guidelines","Total number of patients with documented sedation level rate consistent with local guidelines","Total number of patients who were administered an opioid","Nil","Surgical patients aged 18 years and over admitted to a hospital inpatient area"]
[null,"Process 2\nPercentage of patients who have had bowel function activity recorded in relevant documentation","Total number of patients who have had bowel function recorded at least twice a day, morning (am) and afternoon (pm), for the 24 hour audit period","Total number of patients who were administered an opioid","Nil","Surgical patients aged 18 years and over admitted to a hospital inpatient area"]
[null,"Balance\nPercentage of patients prescribed an opioid that have uncontrolled pain","Total number of patients prescribed an opioid that have uncontrolled pain","Total number of patients who have an opioid prescribed","Nil","Surgical patients aged 18 years and over admitted to a hospital inpatient area"]
[null,"Outcome\nPercentage of patients with opioid-related adverse drug events","This will be captured by the Commission using the National Minimum Data Set (NMDS) derived from DHB hospital clinical coding data"]
[]
[null,"Opioid: All opioids, strong and weak, including but not limited to: codeine, dihydrocodeine, fentanyl, methadone, morphine, oxycodone, pethidine and tramadol.  For methadone, this includes methadone used for analgesia, but excludes methadone used for opioid substitution therapy (OST). Additional exclusions are other opioids / opioid-combinations use in OST (eg, Suboxone [buprenorphine + naloxone]); and low-dose opioid combination products (eg, paracetamol + codeine, ibuprofen + codeine)."]
[null,"Opioid-induced ventilatory impairment: A respiratory rate < 8 breaths per minute and a sedation score ≥ 2 on the modified Macintyre sedation scale (or Pasero scale, or the equivalent score using any validated sedation scale)."]
[null,"Uncontrolled pain: Two or more (≥2) consecutive at rest pain scores, at least 60 minutes apart, of ≥7/10 in 24 hours confirmed on completion of a pain assessment."]
[]
[13,"Data submission"]
[null,"• ","Save your completed form with your DHB organisation name entered."]
[null,"• ","Ensure that you go through your organisation’s approval procedures before submitting the workbook."]
[null,"• ","Send the complete Excel workbook to QSM@hqsc.govt.nz "]
[]
[14,"Additional information"]
[null,"For additional information on the safe use of opioids programme see the Commission’s website:"]
[null,"• ","Safe use of opioids implementation guide. URL: https://www.hqsc.govt.nz/our-programmes/medication-safety/publications-and-resources/publication/3433/."]
[null,"• ","Safe use of opioids frequently asked questions. URL: https://www.hqsc.govt.nz/our-programmes/medication-safety/publications-and-resources/publication/3433/."]
[null,"• ","Safe use of opioids national collaborative (including the How-to Guide developed during the national collaborative). URL: https://www.hqsc.govt.nz/our-programmes/medication-safety/projects/collaborative/.  "]
[null,"• ","Ministry of Health ethnicity coding guidelines. URL: https://www.health.govt.nz/nz-health-statistics/data-references/code-tables/common-code-tables/ethnicity-code-tables"]

{"sheet":"Data Entry","index":1,"n_rows":5195,"n_cols":20,"rows_kept":4500,"cut":true,"hidden":false,"merged":[[3,5,3,13],[1,4,1,5],[1,6,1,12],[0,3,0,13]],"bounds":{"rows_first":2000,"rows_last":500,"rows_between":2000,"halvings":0}}
[null,null,null,"Safe use of opioids QSM data collection"]
[null,null,null,"DHB",null,null,"Start date of audits (Monday)"]
[]
[null,null,null,null,null,"Demographics",null,null,null,null,null,null,null,null,"Sedation scores documentation","Bowel function documentation","Presence of uncontrolled pain"]
["DHB","Date","Area (optional)","Week starting","Case number (10 per week)","Gender","Age (years)","Ethnicity (MPAEOR)","Number of audits","P1_Sedation","P2_BowelFunction","Bal_UncontrolledPain","Age group","Ethnic group","Process 1 (Yes/No)","Process 2 (Yes/No)","Balance (Yes/No/Not recorded)","Process 1 flag","Process 2 flag","Balance flag"]
[{"$f":"$E$2","v":0},{"$f":"$N$2","v":"00:00:00"},null,{"$f":"IF(E6=1,B6,\"\")","v":"00:00:00"},1,null,null,null,{"$f":"IF(COUNTA(O6:Q6)>0,1,0)","v":0},{"$f":"IF(O6=\"y\",1,0)","v":0},{"$f":"IF(P6=\"y\",1,0)","v":0},{"$f":"IF(Q6=\"y\",1,0)","v":0},{"$f":"IFERROR(VLOOKUP(G6,DropDowns!$D$2:$E$151,2,FALSE),\"\")","v":""},{"$f":"IFERROR(VLOOKUP(H6,DropDowns!$F$2:$G$7,2,FALSE),\"Residual categories\")","v":"Residual categories"},null,null,null,{"$f":"IF(O6=\"yes\",1,0)","v":0},{"$f":"IF(P6=\"yes\",1,0)","v":0},0]
[0,{"$f":"$N$2","v":"00:00:00"},null,{"$f":"IF(E7=1,B7,\"\")","v":""},2,null,null,null,{"$f":"IF(COUNTA(O7:Q7)>0,1,0)","v":0},{"$f":"IF(O7=\"y\",1,0)","v":0},{"$f":"IF(P7=\"y\",1,0)","v":0},{"$f":"IF(Q7=\"y\",1,0)","v":0},{"$f":"IFERROR(VLOOKUP(G7,DropDowns!$D$2:$E$151,2,FALSE),\"\")","v":""},{"$f":"IFERROR(VLOOKUP(H7,DropDowns!$F$2:$G$7,2,FALSE),\"Residual categories\")","v":"Residual categories"},null,null,null,{"$f":"IF(O7=\"yes\",1,0)","v":0},{"$f":"IF(P7=\"yes\",1,0)","v":0},{"$f":"IF(Q7=\"yes\",1,0)","v":0}]
[0,"00:00:00",null,"",3,null,null,null,{"$f":"IF(COUNTA(O8:Q8)>0,1,0)","v":0},{"$f":"IF(O8=\"y\",1,0)","v":0},{"$f":"IF(P8=\"y\",1,0)","v":0},{"$f":"IF(Q8=\"y\",1,0)","v":0},{"$f":"IFERROR(VLOOKUP(G8,DropDowns!$D$2:$E$151,2,FALSE),\"\")","v":""},{"$f":"IFERROR(VLOOKUP(H8,DropDowns!$F$2:$G$7,2,FALSE),\"Residual categories\")","v":"Residual categories"},null,null,null,{"$f":"IF(O8=\"yes\",1,0)","v":0},{"$f":"IF(P8=\"yes\",1,0)","v":0},0]
[0,"00:00:00",null,"",4,null,null,null,0,{"$f":"IF(O9=\"y\",1,0)","v":0},{"$f":"IF(P9=\"y\",1,0)","v":0},0,{"$f":"IFERROR(VLOOKUP(G9,DropDowns!$D$2:$E$151,2,FALSE),\"\")","v":""},{"$f":"IFERROR(VLOOKUP(H9,DropDowns!$F$2:$G$7,2,FALSE),\"Residual categories\")","v":"Residual categories"},null,null,null,{"$f":"IF(O9=\"yes\",1,0)","v":0},{"$f":"IF(P9=\"yes\",1,0)","v":0},0]
[0,"00:00:00",null,"",5,null,null,null,0,0,{"$f":"IF(P10=\"y\",1,0)","v":0},0,{"$f":"IFERROR(VLOOKUP(G10,DropDowns!$D$2:$E$151,2,FALSE),\"\")","v":""},{"$f":"IFERROR(VLOOKUP(H10,DropDowns!$F$2:$G$7,2,FALSE),\"Residual categories\")","v":"Residual categories"},null,null,null,0,{"$f":"IF(P10=\"yes\",1,0)","v":0},0]
[0,"00:00:00",null,"",6,null,null,null,0,0,{"$f":"IF(P11=\"y\",1,0)","v":0},0,{"$f":"IFERROR(VLOOKUP(G11,DropDowns!$D$2:$E$151,2,FALSE),\"\")","v":""},{"$f":"IFERROR(VLOOKUP(H11,DropDowns!$F$2:$G$7,2,FALSE),\"Residual categories\")","v":"Residual categories"},null,null,null,0,0,0]
[0,"00:00:00",null,"",7,null,null,null,0,0,0,0,{"$f":"IFERROR(VLOOKUP(G12,DropDowns!$D$2:$E$151,2,FALSE),\"\")","v":""},{"$f":"IFERROR(VLOOKUP(H12,DropDowns!$F$2:$G$7,2,FALSE),\"Residual categories\")","v":"Residual categories"},null,null,null,0,0,0]
[0,"00:00:00",null,"",8,null,null,null,{"$f":"IF(COUNTA(O13:Q13)>0,1,0)","v":0},{"$f":"IF(O13=\"y\",1,0)","v":0},{"$f":"IF(P13=\"y\",1,0)","v":0},{"$f":"IF(Q13=\"y\",1,0)","v":0},{"$f":"IFERROR(VLOOKUP(G13,DropDowns!$D$2:$E$151,2,FALSE),\"\")","v":""},{"$f":"IFERROR(VLOOKUP(H13,DropDowns!$F$2:$G$7,2,FALSE),\"Residual categories\")","v":"Residual categories"},null,null,null,{"$f":"IF(O13=\"yes\",1,0)","v":0},0,0]
[0,"00:00:00",null,"",9,null,null,null,0,{"$f":"IF(O14=\"y\",1,0)","v":0},{"$f":"IF(P14=\"y\",1,0)","v":0},0,{"$f":"IFERROR(VLOOKUP(G14,DropDowns!$D$2:$E$151,2,FALSE),\"\")","v":""},{"$f":"IFERROR(VLOOKUP(H14,DropDowns!$F$2:$G$7,2,FALSE),\"Residual categories\")","v":"Residual categories"},null,null,null,{"$f":"IF(O14=\"yes\",1,0)","v":0},{"$f":"IF(P14=\"yes\",1,0)","v":0},0]
[0,"00:00:00",null,"",10,null,null,null,0,{"$f":"IF(O15=\"y\",1,0)","v":0},{"$f":"IF(P15=\"y\",1,0)","v":0},0,{"$f":"IFERROR(VLOOKUP(G15,DropDowns!$D$2:$E$151,2,FALSE),\"\")","v":""},{"$f":"IFERROR(VLOOKUP(H15,DropDowns!$F$2:$G$7,2,FALSE),\"Residual categories\")","v":"Residual categories"},null,null,null,{"$f":"IF(O15=\"yes\",1,0)","v":0},{"$f":"IF(P15=\"yes\",1,0)","v":0},0]
[0,{"$f":"IF(COUNTIF(B6:B15,B15)=10,B15+7,B15)","v":"1900-01-07"},null,"1900-01-07",{"$f":"IF(B16=\"\",\"\",COUNTIF(B7:B16,B16))","v":1},null,null,null,0,{"$f":"IF(O16=\"y\",1,0)","v":0},{"$f":"IF(P16=\"y\",1,0)","v":0},0,{"$f":"IFERROR(VLOOKUP(G16,DropDowns!$D$2:$E$151,2,FALSE),\"\")","v":""},{"$f":"IFERROR(VLOOKUP(H16,DropDowns!$F$2:$G$7,2,FALSE),\"Residual categories\")","v":"Residual categories"},null,null,null,{"$f":"IF(O16=\"yes\",1,0)","v":0},{"$f":"IF(P16=\"yes\",1,0)","v":0},0]
[0,{"$f":"IF(COUNTIF(B7:B16,B16)=10,B16+7,B16)","v":"1900-01-07"},null,"",{"$f":"IF(B17=\"\",\"\",COUNTIF(B8:B17,B17))","v":2},null,null,null,0,{"$f":"IF(O17=\"y\",1,0)","v":0},{"$f":"IF(P17=\"y\",1,0)","v":0},0,{"$f":"IFERROR(VLOOKUP(G17,DropDowns!$D$2:$E$151,2,FALSE),\"\")","v":""},{"$f":"IFERROR(VLOOKUP(H17,DropDowns!$F$2:$G$7,2,FALSE),\"Residual categories\")","v":"Residual categories"},null,null,null,{"$f":"IF(O17=\"yes\",1,0)","v":0},{"$f":"IF(P17=\"yes\",1,0)","v":0},0]
[0,"1900-01-07",null,"",3,null,null,null,0,0,{"$f":"IF(P18=\"y\",1,0)","v":0},0,{"$f":"IFERROR(VLOOKUP(G18,DropDowns!$D$2:$E$151,2,FALSE),\"\")","v":""},{"$f":"IFERROR(VLOOKUP(H18,DropDowns!$F$2:$G$7,2,FALSE),\"Residual categories\")","v":"Residual categories"},null,null,null,0,{"$f":"IF(P18=\"yes\",1,0)","v":0},0]
[0,"1900-01-07",null,"",4,null,null,null,0,0,0,0,{"$f":"IFERROR(VLOOKUP(G19,DropDowns!$D$2:$E$151,2,FALSE),\"\")","v":""},{"$f":"IFERROR(VLOOKUP(H19,DropDowns!$F$2:$G$7,2,FALSE),\"Residual categories\")","v":"Residual categories"},null,null,null,0,0,0]
[{"$f":"$E$2","v":0},"1900-01-07",null,"",5,null,null,null,0,0,0,0,{"$f":"IFERROR(VLOOKUP(G20,DropDowns!$D$2:$E$151,2,FALSE),\"\")","v":""},{"$f":"IFERROR(VLOOKUP(H20,DropDowns!$F$2:$G$7,2,FALSE),\"Residual categories\")","v":"Residual categories"},null,null,null,0,0,0]
[0,"1900-01-07",null,"",6,null,null,null,0,0,0,0,{"$f":"IFERROR(VLOOKUP(G21,DropDowns!$D$2:$E$151,2,FALSE),\"\")","v":""},{"$f":"IFERROR(VLOOKUP(H21,DropDowns!$F$2:$G$7,2,FALSE),\"Residual categories\")","v":"Residual categories"},null,null,null,0,0,0]
[0,"1900-01-07",null,"",7,null,null,null,0,0,0,0,{"$f":"IFERROR(VLOOKUP(G22,DropDowns!$D$2:$E$151,2,FALSE),\"\")","v":""},{"$f":"IFERROR(VLOOKUP(H22,DropDowns!$F$2:$G$7,2,FALSE),\"Residual categories\")","v":"Residual categories"},null,null,null,0,0,0]
[0,"1900-01-07",null,"",8,null,null,null,0,0,0,0,{"$f":"IFERROR(VLOOKUP(G23,DropDowns!$D$2:$E$151,2,FALSE),\"\")","v":""},{"$f":"IFERROR(VLOOKUP(H23,DropDowns!$F$2:$G$7,2,FALSE),\"Residual categories\")","v":"Residual categories"},null,null,null,0,0,0]
[0,"1900-01-07",null,"",9,null,null,null,0,0,0,0,{"$f":"IFERROR(VLOOKUP(G24,DropDowns!$D$2:$E$151,2,FALSE),\"\")","v":""},{"$f":"IFERROR(VLOOKUP(H24,DropDowns!$F$2:$G$7,2,FALSE),\"Residual categories\")","v":"Residual categories"},null,null,null,0,0,0]
[0,"1900-01-07",null,"",10,null,null,null,0,0,0,0,{"$f":"IFERROR(VLOOKUP(G25,DropDowns!$D$2:$E$151,2,FALSE),\"\")","v":""},{"$f":"IFERROR(VLOOKUP(H25,DropDowns!$F$2:$G$7,2,FALSE),\"Residual categories\")","v":"Residual categories"},null,null,null,0,0,0]
[0,"1900-01-14",null,"1900-01-14",1,null,null,null,{"$f":"IF(COUNTA(O26:Q26)>0,1,0)","v":0},{"$f":"IF(O26=\"y\",1,0)","v":0},{"$f":"IF(P26=\"y\",1,0)","v":0},0,{"$f":"IFERROR(VLOOKUP(G26,DropDowns!$D$2:$E$151,2,FALSE),\"\")","v":""},{"$f":"IFERROR(VLOOKUP(H26,DropDowns!$F$2:$G$7,2,FALSE),\"Residual categories\")","v":"Residual categories"},null,null,null,{"$f":"IF(O26=\"yes\",1,0)","v":0},{"$f":"IF(P26=\"yes\",1,0)","v":0},0]
[0,"1900-01-14",null,"",2,null,null,null,{"$f":"IF(COUNTA(O27:Q27)>0,1,0)","v":0},0,{"$f":"IF(P27=\"y\",1,0)","v":0},0,{"$f":"IFERROR(VLOOKUP(G27,DropDowns!$D$2:$E$151,2,FALSE),\"\")","v":""},{"$f":"IFERROR(VLOOKUP(H27,DropDowns!$F$2:$G$7,2,FALSE),\"Residual categories\")","v":"Residual categories"},null,null,null,0,{"$f":"IF(P27=\"yes\",1,0)","v":0},0]
[0,"1900-01-14",null,"",3,null,null,null,0,0,0,0,{"$f":"IFERROR(VLOOKUP(G28,DropDowns!$D$2:$E$151,2,FALSE),\"\")","v":""},{"$f":"IFERROR(VLOOKUP(H28,DropDowns!$F$2:$G$7,2,FALSE),\"Residual categories\")","v":"Residual categories"},null,null,null,0,0,0]
[0,"1900-01-14",null,"",4,null,null,null,0,0,{"$f":"IF(P29=\"y\",1,0)","v":0},0,{"$f":"IFERROR(VLOOKUP(G29,DropDowns!$D$2:$E$151,2,FALSE),\"\")","v":""},{"$f":"IFERROR(VLOOKUP(H29,DropDowns!$F$2:$G$7,2,FALSE),\"Residual categories\")","v":"Residual categories"},null,null,null,0,{"$f":"IF(P29=\"yes\",1,0)","v":0},0]
[0,"1900-01-14",null,"",5,null,null,null,0,0,{"$f":"IF(P30=\"y\",1,0)","v":0},0,{"$f":"IFERROR(VLOOKUP(G30,DropDowns!$D$2:$E$151,2,FALSE),\"\")","v":""},{"$f":"IFERROR(VLOOKUP(H30,DropDowns!$F$2:$G$7,2,FALSE),\"Residual categories\")","v":"Residual categories"},null,null,null,0,{"$f":"IF(P30=\"yes\",1,0)","v":0},0]
[0,"1900-01-14",null,"",6,null,null,null,0,0,0,0,{"$f":"IFERROR(VLOOKUP(G31,DropDowns!$D$2:$E$151,2,FALSE),\"\")","v":""},{"$f":"IFERROR(VLOOKUP(H31,DropDowns!$F$2:$G$7,2,FALSE),\"Residual categories\")","v":"Residual categories"},null,null,null,0,0,0]
[0,"1900-01-14",null,"",7,null,null,null,0,0,0,0,{"$f":"IFERROR(VLOOKUP(G32,DropDowns!$D$2:$E$151,2,FALSE),\"\")","v":""},{"$f":"IFERROR(VLOOKUP(H32,DropDowns!$F$2:$G$7,2,FALSE),\"Residual categories\")","v":"Residual categories"},null,null,null,0,0,0]
[0,"1900-01-14",null,"",8,null,null,null,0,0,0,0,{"$f":"IFERROR(VLOOKUP(G33,DropDowns!$D$2:$E$151,2,FALSE),\"\")","v":""},{"$f":"IFERROR(VLOOKUP(H33,DropDowns!$F$2:$G$7,2,FALSE),\"Residual categories\")","v":"Residual categories"},null,null,null,0,0,0]
[0,"1900-01-14",null,"",9,null,null,null,0,0,0,0,{"$f":"IFERROR(VLOOKUP(G34,DropDowns!$D$2:$E$151,2,FALSE),\"\")","v":""},{"$f":"IFERROR(VLOOKUP(H34,DropDowns!$F$2:$G$7,2,FALSE),\"Residual categories\")","v":"Residual categories"},null,null,null,0,0,0]
[0,"1900-01-14",null,"",10,null,null,null,0,0,0,0,{"$f":"IFERROR(VLOOKUP(G35,DropDowns!$D$2:$E$151,2,FALSE),\"\")","v":""},{"$f":"IFERROR(VLOOKUP(H35,DropDowns!$F$2:$G$7,2,FALSE),\"Residual categories\")","v":"Residual categories"},null,null,null,0,0,0]
[0,{"$f":"IF(OR(COUNTA(O6:O35)>0,COUNTA(O35:$O$5195)>0),IF(COUNTIF(B26:B35,B35)=10,B35+7,B35),\"\")","v":""},null,"",1,null,null,null,0,0,0,0,{"$f":"IFERROR(VLOOKUP(G36,DropDowns!$D$2:$E$151,2,FALSE),\"\")","v":""},{"$f":"IFERROR(VLOOKUP(H36,DropDowns!$F$2:$G$7,2,FALSE),\"Residual categories\")","v":"Residual categories"},null,null,null,0,0,0]
[0,{"$f":"IF(OR(COUNTA(O7:O36)>0,COUNTA(O36:$O$5195)>0),IF(COUNTIF(B27:B36,B36)=10,B36+7,B36),\"\")","v":""},null,"",2,null,null,null,0,0,0,0,{"$f":"IFERROR(VLOOKUP(G37,DropDowns!$D$2:$E$151,2,FALSE),\"\")","v":""},{"$f":"IFERROR(VLOOKUP(H37,DropDowns!$F$2:$G$7,2,FALSE),\"Residual categories\")","v":"Residual categories"},null,null,null,0,0,0]
[0,{"$f":"IF(OR(COUNTA(O8:O37)>0,COUNTA(O37:$O$5195)>0),IF(COUNTIF(B28:B37,B37)=10,B37+7,B37),\"\")","v":""},null,"",3,null,null,null,0,0,0,0,{"$f":"IFERROR(VLOOKUP(G38,DropDowns!$D$2:$E$151,2,FALSE),\"\")","v":""},{"$f":"IFERROR(VLOOKUP(H38,DropDowns!$F$2:$G$7,2,FALSE),\"Residual categories\")","v":"Residual categories"},null,null,null,0,0,0]
[0,{"$f":"IF(OR(COUNTA(O9:O38)>0,COUNTA(O38:$O$5195)>0),IF(COUNTIF(B29:B38,B38)=10,B38+7,B38),\"\")","v":""},null,"",4,null,null,null,0,0,0,0,{"$f":"IFERROR(VLOOKUP(G39,DropDowns!$D$2:$E$151,2,FALSE),\"\")","v":""},{"$f":"IFERROR(VLOOKUP(H39,DropDowns!$F$2:$G$7,2,FALSE),\"Residual categories\")","v":"Residual categories"},null,null,null,0,0,0]
[0,{"$f":"IF(OR(COUNTA(O10:O39)>0,COUNTA(O39:$O$5195)>0),IF(COUNTIF(B30:B39,B39)=10,B39+7,B39),\"\")","v":""},null,"",5,null,null,null,0,0,0,0,{"$f":"IFERROR(VLOOKUP(G40,DropDowns!$D$2:$E$151,2,FALSE),\"\")","v":""},{"$f":"IFERROR(VLOOKUP(H40,DropDowns!$F$2:$G$7,2,FALSE),\"Residual categories\")","v":"Residual categories"},null,null,null,0,0,0]
[0,{"$f":"IF(OR(COUNTA(O11:O40)>0,COUNTA(O40:$O$5195)>0),IF(COUNTIF(B31:B40,B40)=10,B40+7,B40),\"\")","v":""},null,"","",null,null,null,0,0,0,0,{"$f":"IFERROR(VLOOKUP(G41,DropDowns!$D$2:$E$151,2,FALSE),\"\")","v":""},{"$f":"IFERROR(VLOOKUP(H41,DropDowns!$F$2:$G$7,2,FALSE),\"Residual categories\")","v":"Residual categories"},null,null,null,0,0,0]
[0,{"$f":"IF(OR(COUNTA(O12:O41)>0,COUNTA(O41:$O$5195)>0),IF(COUNTIF(B32:B41,B41)=10,B41+7,B41),\"\")","v":""},null,"","",null,null,null,0,0,0,0,{"$f":"IFERROR(VLOOKUP(G42,DropDowns!$D$2:$E$151,2,FALSE),\"\")","v":""},{"$f":"IFERROR(VLOOKUP(H42,DropDowns!$F$2:$G$7,2,FALSE),\"Residual categories\")","v":"Residual categories"},null,null,null,0,0,0]
[0,{"$f":"IF(OR(COUNTA(O13:O42)>0,COUNTA(O42:$O$5195)>0),IF(COUNTIF(B33:B42,B42)=10,B42+7,B42),\"\")","v":""},null,"","",null,null,null,0,0,0,0,{"$f":"IFERROR(VLOOKUP(G43,DropDowns!$D$2:$E$151,2,FALSE),\"\")","v":""},{"$f":"IFERROR(VLOOKUP(H43,DropDowns!$F$2:$G$7,2,FALSE),\"Residual categories\")","v":"Residual categories"},null,null,null,0,0,0]
[0,{"$f":"IF(OR(COUNTA(O14:O43)>0,COUNTA(O43:$O$5195)>0),IF(COUNTIF(B34:B43,B43)=10,B43+7,B43),\"\")","v":""},null,"","",null,null,null,0,0,0,0,{"$f":"IFERROR(VLOOKUP(G44,DropDowns!$D$2:$E$151,2,FALSE),\"\")","v":""},{"$f":"IFERROR(VLOOKUP(H44,DropDowns!$F$2:$G$7,2,FALSE),\"Residual categories\")","v":"Residual categories"},null,null,null,0,0,0]
[0,{"$f":"IF(OR(COUNTA(O15:O44)>0,COUNTA(O44:$O$5195)>0),IF(COUNTIF(B35:B44,B44)=10,B44+7,B44),\"\")","v":""},null,"","",null,null,null,0,0,0,0,{"$f":"IFERROR(VLOOKUP(G45,DropDowns!$D$2:$E$151,2,FALSE),\"\")","v":""},{"$f":"IFERROR(VLOOKUP(H45,DropDowns!$F$2:$G$7,2,FALSE),\"Residual categories\")","v":"Residual categories"},null,null,null,0,0,0]
[0,{"$f":"IF(OR(COUNTA(O16:O45)>0,COUNTA(O45:$O$5195)>0),IF(COUNTIF(B36:B45,B45)=10,B45+7,B45),\"\")","v":""},null,"","",null,null,null,0,0,0,0,{"$f":"IFERROR(VLOOKUP(G46,DropDowns!$D$2:$E$151,2,FALSE),\"\")","v":""},{"$f":"IFERROR(VLOOKUP(H46,DropDowns!$F$2:$G$7,2,FALSE),\"Residual categories\")","v":"Residual categories"},null,null,null,0,0,0]
[0,{"$f":"IF(OR(COUNTA(O17:O46)>0,COUNTA(O46:$O$5195)>0),IF(COUNTIF(B37:B46,B46)=10,B46+7,B46),\"\")","v":""},null,"","",null,null,null,0,0,0,0,{"$f":"IFERROR(VLOOKUP(G47,DropDowns!$D$2:$E$151,2,FALSE),\"\")","v":""},{"$f":"IFERROR(VLOOKUP(H47,DropDowns!$F$2:$G$7,2,FALSE),\"Residual categories\")","v":"Residual categories"},null,null,null,0,0,0]
[0,{"$f":"IF(OR(COUNTA(O18:O47)>0,COUNTA(O47:$O$5195)>0),IF(COUNTIF(B38:B47,B47)=10,B47+7,B47),\"\")","v":""},null,"","",null,null,null,0,0,0,0,{"$f":"IFERROR(VLOOKUP(G48,DropDowns!$D$2:$E$151,2,FALSE),\"\")","v":""},{"$f":"IFERROR(VLOOKUP(H48,DropDowns!$F$2:$G$7,2,FALSE),\"Residual categories\")","v":"Residual categories"},null,null,null,0,0,0]
[0,{"$f":"IF(OR(COUNTA(O19:O48)>0,COUNTA(O48:$O$5195)>0),IF(COUNTIF(B39:B48,B48)=10,B48+7,B48),\"\")","v":""},null,{"$f":"IF(E49=1,B49,\"\")","v":""},{"$f":"IF(B49=\"\",\"\",COUNTIF(B40:B49,B49))","v":""},null,null,null,0,0,0,0,{"$f":"IFERROR(VLOOKUP(G49,DropDowns!$D$2:$E$151,2,FALSE),\"\")","v":""},{"$f":"IFERROR(VLOOKUP(H49,DropDowns!$F$2:$G$7,2,FALSE),\"Residual categories\")","v":"Residual categories"},null,null,null,0,0,0]
[0,{"$f":"IF(OR(COUNTA(O20:O49)>0,COUNTA(O49:$O$5195)>0),IF(COUNTIF(B40:B49,B49)=10,B49+7,B49),\"\")","v":""},null,"","",null,null,null,0,0,0,0,{"$f":"IFERROR(VLOOKUP(G50,DropDowns!$D$2:$E$151,2,FALSE),\"\")","v":""},{"$f":"IFERROR(VLOOKUP(H50,DropDowns!$F$2:$G$7,2,FALSE),\"Residual categories\")","v":"Residual categories"},null,null,null,0,0,0]
[0,{"$f":"IF(OR(COUNTA(O21:O50)>0,COUNTA(O50:$O$5195)>0),IF(COUNTIF(B41:B50,B50)=10,B50+7,B50),\"\")","v":""},null,"","",null,null,null,0,0,0,0,{"$f":"IFERROR(VLOOKUP(G51,DropDowns!$D$2:$E$151,2,FALSE),\"\")","v":""},{"$f":"IFERROR(VLOOKUP(H51,DropDowns!$F$2:$G$7,2,FALSE),\"Residual categories\")","v":"Residual categories"},null,null,null,0,0,0]
[0,{"$f":"IF(OR(COUNTA(O22:O51)>0,COUNTA(O51:$O$5195)>0),IF(COUNTIF(B42:B51,B51)=10,B51+7,B51),\"\")","v":""},null,"","",null,null,null,0,0,0,0,{"$f":"IFERROR(VLOOKUP(G52,DropDowns!$D$2:$E$151,2,FALSE),\"\")","v":""},{"$f":"IFERROR(VLOOKUP(H52,DropDowns!$F$2:$G$7,2,FALSE),\"Residual categories\")","v":"Residual categories"},null,null,null,0,0,0]
[0,{"$f":"IF(OR(COUNTA(O23:O52)>0,COUNTA(O52:$O$5195)>0),IF(COUNTIF(B43:B52,B52)=10,B52+7,B52),\"\")","v":""},null,"","",null,null,null,0,0,0,0,{"$f":"IFERROR(VLOOKUP(G53,DropDowns!$D$2:$E$151,2,FALSE),\"\")","v":""},{"$f":"IFERROR(VLOOKUP(H53,DropDowns!$F$2:$G$7,2,FALSE),\"Residual categories\")","v":"Residual categories"},null,null,null,0,0,0]
[0,{"$f":"IF(OR(COUNTA(O24:O53)>0,COUNTA(O53:$O$5195)>0),IF(COUNTIF(B44:B53,B53)=10,B53+7,B53),\"\")","v":""},null,"","",null,null,null,0,0,0,0,{"$f":"IFERROR(VLOOKUP(G54,DropDowns!$D$2:$E$151,2,FALSE),\"\")","v":""},{"$f":"IFERROR(VLOOKUP(H54,DropDowns!$F$2:$G$7,2,FALSE),\"Residual categories\")","v":"Residual categories"},null,null,null,0,0,0]
[0,{"$f":"IF(OR(COUNTA(O25:O54)>0,COUNTA(O54:$O$5195)>0),IF(COUNTIF(B45:B54,B54)=10,B54+7,B54),\"\")","v":""},null,"","",null,null,null,0,0,0,0,{"$f":"IFERROR(VLOOKUP(G55,DropDowns!$D$2:$E$151,2,FALSE),\"\")","v":""},{"$f":"IFERROR(VLOOKUP(H55,DropDowns!$F$2:$G$7,2,FALSE),\"Residual categories\")","v":"Residual categories"},null,null,null,0,0,0]
[0,{"$f":"IF(OR(COUNTA(O26:O55)>0,COUNTA(O55:$O$5195)>0),IF(COUNTIF(B46:B55,B55)=10,B55+7,B55),\"\")","v":""},null,"","",null,null,null,0,0,0,0,{"$f":"IFERROR(VLOOKUP(G56,DropDowns!$D$2:$E$151,2,FALSE),\"\")","v":""},{"$f":"IFERROR(VLOOKUP(H56,DropDowns!$F$2:$G$7,2,FALSE),\"Residual categories\")","v":"Residual categories"},null,null,null,0,0,0]
[0,{"$f":"IF(OR(COUNTA(O27:O56)>0,COUNTA(O56:$O$5195)>0),IF(COUNTIF(B47:B56,B56)=10,B56+7,B56),\"\")","v":""},null,"","",null,null,null,0,0,0,0,{"$f":"IFERROR(VLOOKUP(G57,DropDowns!$D$2:$E$151,2,FALSE),\"\")","v":""},{"$f":"IFERROR(VLOOKUP(H57,DropDowns!$F$2:$G$7,2,FALSE),\"Residual categories\")","v":"Residual categories"},null,null,null,0,0,0]
[0,{"$f":"IF(OR(COUNTA(O28:O57)>0,COUNTA(O57:$O$5195)>0),IF(COUNTIF(B48:B57,B57)=10,B57+7,B57),\"\")","v":""},null,"","",null,null,null,0,0,0,0,{"$f":"IFERROR(VLOOKUP(G58,DropDowns!$D$2:$E$151,2,FALSE),\"\")","v":""},{"$f":"IFERROR(VLOOKUP(H58,DropDowns!$F$2:$G$7,2,FALSE),\"Residual categories\")","v":"Residual categories"},null,null,null,0,0,0]
[0,{"$f":"IF(OR(COUNTA(O29:O58)>0,COUNTA(O58:$O$5195)>0),IF(COUNTIF(B49:B58,B58)=10,B58+7,B58),\"\")","v":""},null,"","",null,null,null,0,0,0,0,{"$f":"IFERROR(VLOOKUP(G59,DropDowns!$D$2:$E$151,2,FALSE),\"\")","v":""},{"$f":"IFERROR(VLOOKUP(H59,DropDowns!$F$2:$G$7,2,FALSE),\"Residual categories\")","v":"Residual categories"},null,null,null,0,0,0]
[0,{"$f":"IF(OR(COUNTA(O30:O59)>0,COUNTA(O59:$O$5195)>0),IF(COUNTIF(B50:B59,B59)=10,B59+7,B59),\"\")","v":""},null,"","",null,null,null,0,0,0,0,{"$f":"IFERROR(VLOOKUP(G60,DropDowns!$D$2:$E$151,2,FALSE),\"\")","v":""},{"$f":"IFERROR(VLOOKUP(H60,DropDowns!$F$2:$G$7,2,FALSE),\"Residual categories\")","v":"Residual categories"},null,null,null,0,0,0]
[0,{"$f":"IF(OR(COUNTA(O31:O60)>0,COUNTA(O60:$O$5195)>0),IF(COUNTIF(B51:B60,B60)=10,B60+7,B60),\"\")","v":""},null,"","",null,null,null,0,0,0,0,{"$f":"IFERROR(VLOOKUP(G61,DropDowns!$D$2:$E$151,2,FALSE),\"\")","v":""},{"$f":"IFERROR(VLOOKUP(H61,DropDowns!$F$2:$G$7,2,FALSE),\"Residual categories\")","v":"Residual categories"},null,null,null,0,0,0]
[0,{"$f":"IF(OR(COUNTA(O32:O61)>0,COUNTA(O61:$O$5195)>0),IF(COUNTIF(B52:B61,B61)=10,B61+7,B61),\"\")","v":""},null,"","",null,null,null,0,0,0,0,{"$f":"IFERROR(VLOOKUP(G62,DropDowns!$D$2:$E$151,2,FALSE),\"\")","v":""},{"$f":"IFERROR(VLOOKUP(H62,DropDowns!$F$2:$G$7,2,FALSE),\"Residual categories\")","v":"Residual categories"},null,null,null,0,0,0]
[0,{"$f":"IF(OR(COUNTA(O33:O62)>0,COUNTA(O62:$O$5195)>0),IF(COUNTIF(B53:B62,B62)=10,B62+7,B62),\"\")","v":""},null,"","",null,null,null,0,0,0,0,{"$f":"IFERROR(VLOOKUP(G63,DropDowns!$D$2:$E$151,2,FALSE),\"\")","v":""},{"$f":"IFERROR(VLOOKUP(H63,DropDowns!$F$2:$G$7,2,FALSE),\"Residual categories\")","v":"Residual categories"},null,null,null,0,0,0]
[0,{"$f":"IF(OR(COUNTA(O34:O63)>0,COUNTA(O63:$O$5195)>0),IF(COUNTIF(B54:B63,B63)=10,B63+7,B63),\"\")","v":""},null,"","",null,null,null,0,0,0,0,{"$f":"IFERROR(VLOOKUP(G64,DropDowns!$D$2:$E$151,2,FALSE),\"\")","v":""},{"$f":"IFERROR(VLOOKUP(H64,DropDowns!$F$2:$G$7,2,FALSE),\"Residual categories\")","v":"Residual categories"},null,null,null,0,0,0]
[0,{"$f":"IF(OR(COUNTA(O35:O64)>0,COUNTA(O64:$O$5195)>0),IF(COUNTIF(B55:B64,B64)=10,B64+7,B64),\"\")","v":""},null,"","",null,null,null,0,0,0,0,{"$f":"IFERROR(VLOOKUP(G65,DropDowns!$D$2:$E$151,2,FALSE),\"\")","v":""},{"$f":"IFERROR(VLOOKUP(H65,DropDowns!$F$2:$G$7,2,FALSE),\"Residual categories\")","v":"Residual categories"},null,null,null,0,0,0]
[0,{"$f":"IF(OR(COUNTA(O36:O65)>0,COUNTA(O65:$O$5195)>0),IF(COUNTIF(B56:B65,B65)=10,B65+7,B65),\"\")","v":""},null,"","",null,null,null,0,0,0,0,{"$f":"IFERROR(VLOOKUP(G66,DropDowns!$D$2:$E$151,2,FALSE),\"\")","v":""},{"$f":"IFERROR(VLOOKUP(H66,DropDowns!$F$2:$G$7,2,FALSE),\"Residual categories\")","v":"Residual categories"},null,null,null,0,0,0]
[0,{"$f":"IF(OR(COUNTA(O37:O66)>0,COUNTA(O66:$O$5195)>0),IF(COUNTIF(B57:B66,B66)=10,B66+7,B66),\"\")","v":""},null,"","",null,null,null,0,0,0,0,{"$f":"IFERROR(VLOOKUP(G67,DropDowns!$D$2:$E$151,2,FALSE),\"\")","v":""},{"$f":"IFERROR(VLOOKUP(H67,DropDowns!$F$2:$G$7,2,FALSE),\"Residual categories\")","v":"Residual categories"},null,null,null,0,0,0]
[0,{"$f":"IF(OR(COUNTA(O38:O67)>0,COUNTA(O67:$O$5195)>0),IF(COUNTIF(B58:B67,B67)=10,B67+7,B67),\"\")","v":""},null,"","",null,null,null,0,0,0,0,{"$f":"IFERROR(VLOOKUP(G68,DropDowns!$D$2:$E$151,2,FALSE),\"\")","v":""},{"$f":"IFERROR(VLOOKUP(H68,DropDowns!$F$2:$G$7,2,FALSE),\"Residual categories\")","v":"Residual categories"},null,null,null,0,0,0]
[0,{"$f":"IF(OR(COUNTA(O39:O68)>0,COUNTA(O68:$O$5195)>0),IF(COUNTIF(B59:B68,B68)=10,B68+7,B68),\"\")","v":""},null,"","",null,null,null,{"$f":"IF(COUNTA(O69:Q69)>0,1,0)","v":0},{"$f":"IF(O69=\"y\",1,0)","v":0},{"$f":"IF(P69=\"y\",1,0)","v":0},{"$f":"IF(Q69=\"y\",1,0)","v":0},{"$f":"IFERROR(VLOOKUP(G69,DropDowns!$D$2:$E$151,2,FALSE),\"\")","v":""},{"$f":"IFERROR(VLOOKUP(H69,DropDowns!$F$2:$G$7,2,FALSE),\"Residual categories\")","v":"Residual categories"},null,null,null,0,0,0]
[0,{"$f":"IF(OR(COUNTA(O40:O69)>0,COUNTA(O69:$O$5195)>0),IF(COUNTIF(B60:B69,B69)=10,B69+7,B69),\"\")","v":""},null,"","",null,null,null,0,0,0,0,{"$f":"IFERROR(VLOOKUP(G70,DropDowns!$D$2:$E$151,2,FALSE),\"\")","v":""},{"$f":"IFERROR(VLOOKUP(H70,DropDowns!$F$2:$G$7,2,FALSE),\"Residual categories\")","v":"Residual categories"},null,null,null,0,0,0]
[0,{"$f":"IF(OR(COUNTA(O41:O70)>0,COUNTA(O70:$O$5195)>0),IF(COUNTIF(B61:B70,B70)=10,B70+7,B70),\"\")","v":""},null,{"$f":"IF(E71=1,B71,\"\")","v":""},"",null,null,null,0,0,0,0,{"$f":"IFERROR(VLOOKUP(G71,DropDowns!$D$2:$E$151,2,FALSE),\"\")","v":""},{"$f":"IFERROR(VLOOKUP(H71,DropDowns!$F$2:$G$7,2,FALSE),\"Residual categories\")","v":"Residual categories"},null,null,null,{"$f":"IF(O71=\"yes\",1,0)","v":0},{"$f":"IF(P71=\"yes\",1,0)","v":0},{"$f":"IF(Q71=\"yes\",1,0)","v":0}]
[0,{"$f":"IF(OR(COUNTA(O42:O71)>0,COUNTA(O71:$O$5195)>0),IF(COUNTIF(B62:B71,B71)=10,B71+7,B71),\"\")","v":""},null,"","",null,null,null,0,0,0,0,{"$f":"IFERROR(VLOOKUP(G72,DropDowns!$D$2:$E$151,2,FALSE),\"\")","v":""},{"$f":"IFERROR(VLOOKUP(H72,DropDowns!$F$2:$G$7,2,FALSE),\"Residual categories\")","v":"Residual categories"},null,null,null,0,0,0]
[0,{"$f":"IF(OR(COUNTA(O43:O72)>0,COUNTA(O72:$O$5195)>0),IF(COUNTIF(B63:B72,B72)=10,B72+7,B72),\"\")","v":""},null,"","",null,null,null,0,0,0,0,{"$f":"IFERROR(VLOOKUP(G73,DropDowns!$D$2:$E$151,2,FALSE),\"\")","v":""},{"$f":"IFERROR(VLOOKUP(H73,DropDowns!$F$2:$G$7,2,FALSE),\"Residual categories\")","v":"Residual categories"},null,null,null,0,0,0]
[0,{"$f":"IF(OR(COUNTA(O44:O73)>0,COUNTA(O73:$O$5195)>0),IF(COUNTIF(B64:B73,B73)=10,B73+7,B73),\"\")","v":""},null,"","",null,null,null,0,0,0,0,{"$f":"IFERROR(VLOOKUP(G74,DropDowns!$D$2:$E$151,2,FALSE),\"\")","v":""},{"$f":"IFERROR(VLOOKUP(H74,DropDowns!$F$2:$G$7,2,FALSE),\"Residual categories\")","v":"Residual categories"},null,null,null,0,0,0]
[0,{"$f":"IF(OR(COUNTA(O45:O74)>0,COUNTA(O74:$O$5195)>0),IF(COUNTIF(B65:B74,B74)=10,B74+7,B74),\"\")","v":""},null,"","",null,null,null,0,0,0,0,{"$f":"IFERROR(VLOOKUP(G75,DropDowns!$D$2:$E$151,2,FALSE),\"\")","v":""},{"$f":"IFERROR(VLOOKUP(H75,DropDowns!$F$2:$G$7,2,FALSE),\"Residual categories\")","v":"Residual categories"},null,null,null,0,0,0]
[0,{"$f":"IF(OR(COUNTA(O46:O75)>0,COUNTA(O75:$O$5195)>0),IF(COUNTIF(B66:B75,B75)=10,B75+7,B75),\"\")","v":""},null,"","",null,null,null,0,0,0,0,{"$f":"IFERROR(VLOOKUP(G76,DropDowns!$D$2:$E$151,2,FALSE),\"\")","v":""},{"$f":"IFERROR(VLOOKUP(H76,DropDowns!$F$2:$G$7,2,FALSE),\"Residual categories\")","v":"Residual categories"},null,null,null,0,0,0]
[0,{"$f":"IF(OR(COUNTA(O47:O76)>0,COUNTA(O76:$O$5195)>0),IF(COUNTIF(B67:B76,B76)=10,B76+7,B76),\"\")","v":""},null,"","",null,null,null,0,0,0,0,{"$f":"IFERROR(VLOOKUP(G77,DropDowns!$D$2:$E$151,2,FALSE),\"\")","v":""},{"$f":"IFERROR(VLOOKUP(H77,DropDowns!$F$2:$G$7,2,FALSE),\"Residual categories\")","v":"Residual categories"},null,null,null,0,0,0]
[0,{"$f":"IF(OR(COUNTA(O48:O77)>0,COUNTA(O77:$O$5195)>0),IF(COUNTIF(B68:B77,B77)=10,B77+7,B77),\"\")","v":""},null,"","",null,null,null,0,0,0,0,{"$f":"IFERROR(VLOOKUP(G78,DropDowns!$D$2:$E$151,2,FALSE),\"\")","v":""},{"$f":"IFERROR(VLOOKUP(H78,DropDowns!$F$2:$G$7,2,FALSE),\"Residual categories\")","v":"Residual categories"},null,null,null,0,0,0]
[0,{"$f":"IF(OR(COUNTA(O49:O78)>0,COUNTA(O78:$O$5195)>0),IF(COUNTIF(B69:B78,B78)=10,B78+7,B78),\"\")","v":""},null,"","",null,null,null,0,0,0,0,{"$f":"IFERROR(VLOOKUP(G79,DropDowns!$D$2:$E$151,2,FALSE),\"\")","v":""},{"$f":"IFERROR(VLOOKUP(H79,DropDowns!$F$2:$G$7,2,FALSE),\"Residual categories\")","v":"Residual categories"},null,null,null,0,0,0]
[0,{"$f":"IF(OR(COUNTA(O50:O79)>0,COUNTA(O79:$O$5195)>0),IF(COUNTIF(B70:B79,B79)=10,B79+7,B79),\"\")","v":""},null,"","",null,null,null,0,0,0,0,{"$f":"IFERROR(VLOOKUP(G80,DropDowns!$D$2:$E$151,2,FALSE),\"\")","v":""},{"$f":"IFERROR(VLOOKUP(H80,DropDowns!$F$2:$G$7,2,FALSE),\"Residual categories\")","v":"Residual categories"},null,null,null,0,0,0]
[0,{"$f":"IF(OR(COUNTA(O51:O80)>0,COUNTA(O80:$O$5195)>0),IF(COUNTIF(B71:B80,B80)=10,B80+7,B80),\"\")","v":""},null,"",{"$f":"IF(B81=\"\",\"\",COUNTIF(B72:B81,B81))","v":""},null,null,null,0,0,0,0,{"$f":"IFERROR(VLOOKUP(G81,DropDowns!$D$2:$E$151,2,FALSE),\"\")","v":""},{"$f":"IFERROR(VLOOKUP(H81,DropDowns!$F$2:$G$7,2,FALSE),\"Residual categories\")","v":"Residual categories"},null,null,null,0,0,0]
[0,{"$f":"IF(OR(COUNTA(O52:O81)>0,COUNTA(O81:$O$5195)>0),IF(COUNTIF(B72:B81,B81)=10,B81+7,B81),\"\")","v":""},null,"","",null,null,null,{"$f":"IF(COUNTA(O82:Q82)>0,1,0)","v":0},{"$f":"IF(O82=\"y\",1,0)","v":0},{"$f":"IF(P82=\"y\",1,0)","v":0},{"$f":"IF(Q82=\"y\",1,0)","v":0},{"$f":"IFERROR(VLOOKUP(G82,DropDowns!$D$2:$E$151,2,FALSE),\"\")","v":""},{"$f":"IFERROR(VLOOKUP(H82,DropDowns!$F$2:$G$7,2,FALSE),\"Residual categories\")","v":"Residual categories"},null,null,null,0,0,0]
[0,{"$f":"IF(OR(COUNTA(O53:O82)>0,COUNTA(O82:$O$5195)>0),IF(COUNTIF(B73:B82,B82)=10,B82+7,B82),\"\")","v":""},null,"","",null,null,null,0,0,0,0,{"$f":"IFERROR(VLOOKUP(G83,DropDowns!$D$2:$E$151,2,FALSE),\"\")","v":""},{"$f":"IFERROR(VLOOKUP(H83,DropDowns!$F$2:$G$7,2,FALSE),\"Residual categories\")","v":"Residual categories"},null,null,null,0,0,0]
[{"$f":"$E$2","v":0},{"$f":"IF(OR(COUNTA(O54:O83)>0,COUNTA(O83:$O$5195)>0),IF(COUNTIF(B74:B83,B83)=10,B83+7,B83),\"\")","v":""},null,"","",null,null,null,0,0,0,0,{"$f":"IFERROR(VLOOKUP(G84,DropDowns!$D$2:$E$151,2,FALSE),\"\")","v":""},{"$f":"IFERROR(VLOOKUP(H84,DropDowns!$F$2:$G$7,2,FALSE),\"Residual categories\")","v":"Residual categories"},null,null,null,0,0,0]
[0,{"$f":"IF(OR(COUNTA(O55:O84)>0,COUNTA(O84:$O$5195)>0),IF(COUNTIF(B75:B84,B84)=10,B84+7,B84),\"\")","v":""},null,"","",null,null,null,0,0,0,0,{"$f":"IFERROR(VLOOKUP(G85,DropDowns!$D$2:$E$151,2,FALSE),\"\")","v":""},{"$f":"IFERROR(VLOOKUP(H85,DropDowns!$F$2:$G$7,2,FALSE),\"Residual categories\")","v":"Residual categories"},null,null,null,0,0,0]
[0,{"$f":"IF(OR(COUNTA(O56:O85)>0,COUNTA(O85:$O$5195)>0),IF(COUNTIF(B76:B85,B85)=10,B85+7,B85),\"\")","v":""},null,"","",null,null,null,0,0,0,0,{"$f":"IFERROR(VLOOKUP(G86,DropDowns!$D$2:$E$151,2,FALSE),\"\")","v":""},{"$f":"IFERROR(VLOOKUP(H86,DropDowns!$F$2:$G$7,2,FALSE),\"Residual categories\")","v":"Residual categories"},null,null,null,0,0,0]
[0,{"$f":"IF(OR(COUNTA(O57:O86)>0,COUNTA(O86:$O$5195)>0),IF(COUNTIF(B77:B86,B86)=10,B86+7,B86),\"\")","v":""},null,"","",null,null,null,0,0,0,0,{"$f":"IFERROR(VLOOKUP(G87,DropDowns!$D$2:$E$151,2,FALSE),\"\")","v":""},{"$f":"IFERROR(VLOOKUP(H87,DropDowns!$F$2:$G$7,2,FALSE),\"Residual categories\")","v":"Residual categories"},null,null,null,0,0,0]
[0,{"$f":"IF(OR(COUNTA(O58:O87)>0,COUNTA(O87:$O$5195)>0),IF(COUNTIF(B78:B87,B87)=10,B87+7,B87),\"\")","v":""},null,"","",null,null,null,0,0,0,0,{"$f":"IFERROR(VLOOKUP(G88,DropDowns!$D$2:$E$151,2,FALSE),\"\")","v":""},{"$f":"IFERROR(VLOOKUP(H88,DropDowns!$F$2:$G$7,2,FALSE),\"Residual categories\")","v":"Residual categories"},null,null,null,0,0,0]
[0,{"$f":"IF(OR(COUNTA(O59:O88)>0,COUNTA(O88:$O$5195)>0),IF(COUNTIF(B79:B88,B88)=10,B88+7,B88),\"\")","v":""},null,"","",null,null,null,{"$f":"IF(COUNTA(O89:Q89)>0,1,0)","v":0},{"$f":"IF(O89=\"y\",1,0)","v":0},{"$f":"IF(P89=\"y\",1,0)","v":0},{"$f":"IF(Q89=\"y\",1,0)","v":0},{"$f":"IFERROR(VLOOKUP(G89,DropDowns!$D$2:$E$151,2,FALSE),\"\")","v":""},{"$f":"IFERROR(VLOOKUP(H89,DropDowns!$F$2:$G$7,2,FALSE),\"Residual categories\")","v":"Residual categories"},null,null,null,0,0,0]
[0,{"$f":"IF(OR(COUNTA(O60:O89)>0,COUNTA(O89:$O$5195)>0),IF(COUNTIF(B80:B89,B89)=10,B89+7,B89),\"\")","v":""},null,"","",null,null,null,0,0,0,0,{"$f":"IFERROR(VLOOKUP(G90,DropDowns!$D$2:$E$151,2,FALSE),\"\")","v":""},{"$f":"IFERROR(VLOOKUP(H90,DropDowns!$F$2:$G$7,2,FALSE),\"Residual categories\")","v":"Residual categories"},null,null,null,0,0,0]
[0,{"$f":"IF(OR(COUNTA(O61:O90)>0,COUNTA(O90:$O$5195)>0),IF(COUNTIF(B81:B90,B90)=10,B90+7,B90),\"\")","v":""},null,"","",null,null,null,0,0,0,0,{"$f":"IFERROR(VLOOKUP(G91,DropDowns!$D$2:$E$151,2,FALSE),\"\")","v":""},{"$f":"IFERROR(VLOOKUP(H91,DropDowns!$F$2:$G$7,2,FALSE),\"Residual categories\")","v":"Residual categories"},null,null,null,0,0,0]
[0,{"$f":"IF(OR(COUNTA(O62:O91)>0,COUNTA(O91:$O$5195)>0),IF(COUNTIF(B82:B91,B91)=10,B91+7,B91),\"\")","v":""},null,"","",null,null,null,0,0,0,0,{"$f":"IFERROR(VLOOKUP(G92,DropDowns!$D$2:$E$151,2,FALSE),\"\")","v":""},{"$f":"IFERROR(VLOOKUP(H92,DropDowns!$F$2:$G$7,2,FALSE),\"Residual categories\")","v":"Residual categories"},null,null,null,0,0,0]
[0,{"$f":"IF(OR(COUNTA(O63:O92)>0,COUNTA(O92:$O$5195)>0),IF(COUNTIF(B83:B92,B92)=10,B92+7,B92),\"\")","v":""},null,"","",null,null,null,0,0,0,0,{"$f":"IFERROR(VLOOKUP(G93,DropDowns!$D$2:$E$151,2,FALSE),\"\")","v":""},{"$f":"IFERROR(VLOOKUP(H93,DropDowns!$F$2:$G$7,2,FALSE),\"Residual categories\")","v":"Residual categories"},null,null,null,0,0,0]
[0,{"$f":"IF(OR(COUNTA(O64:O93)>0,COUNTA(O93:$O$5195)>0),IF(COUNTIF(B84:B93,B93)=10,B93+7,B93),\"\")","v":""},null,"","",null,null,null,0,0,0,0,{"$f":"IFERROR(VLOOKUP(G94,DropDowns!$D$2:$E$151,2,FALSE),\"\")","v":""},{"$f":"IFERROR(VLOOKUP(H94,DropDowns!$F$2:$G$7,2,FALSE),\"Residual categories\")","v":"Residual categories"},null,null,null,0,0,0]
[0,{"$f":"IF(OR(COUNTA(O65:O94)>0,COUNTA(O94:$O$5195)>0),IF(COUNTIF(B85:B94,B94)=10,B94+7,B94),\"\")","v":""},null,"","",null,null,null,0,0,0,0,{"$f":"IFERROR(VLOOKUP(G95,DropDowns!$D$2:$E$151,2,FALSE),\"\")","v":""},{"$f":"IFERROR(VLOOKUP(H95,DropDowns!$F$2:$G$7,2,FALSE),\"Residual categories\")","v":"Residual categories"},null,null,null,0,0,0]
[0,{"$f":"IF(OR(COUNTA(O66:O95)>0,COUNTA(O95:$O$5195)>0),IF(COUNTIF(B86:B95,B95)=10,B95+7,B95),\"\")","v":""},null,"","",null,null,null,0,0,0,0,{"$f":"IFERROR(VLOOKUP(G96,DropDowns!$D$2:$E$151,2,FALSE),\"\")","v":""},{"$f":"IFERROR(VLOOKUP(H96,DropDowns!$F$2:$G$7,2,FALSE),\"Residual categories\")","v":"Residual categories"},null,null,null,0,0,0]
[0,{"$f":"IF(OR(COUNTA(O67:O96)>0,COUNTA(O96:$O$5195)>0),IF(COUNTIF(B87:B96,B96)=10,B96+7,B96),\"\")","v":""},null,"","",null,null,null,0,0,0,0,{"$f":"IFERROR(VLOOKUP(G97,DropDowns!$D$2:$E$151,2,FALSE),\"\")","v":""},{"$f":"IFERROR(VLOOKUP(H97,DropDowns!$F$2:$G$7,2,FALSE),\"Residual categories\")","v":"Residual categories"},null,null,null,0,0,0]
[0,{"$f":"IF(OR(COUNTA(O68:O97)>0,COUNTA(O97:$O$5195)>0),IF(COUNTIF(B88:B97,B97)=10,B97+7,B97),\"\")","v":""},null,"","",null,null,null,0,0,0,0,{"$f":"IFERROR(VLOOKUP(G98,DropDowns!$D$2:$E$151,2,FALSE),\"\")","v":""},{"$f":"IFERROR(VLOOKUP(H98,DropDowns!$F$2:$G$7,2,FALSE),\"Residual categories\")","v":"Residual categories"},null,null,null,0,0,0]
[0,{"$f":"IF(OR(COUNTA(O69:O98)>0,COUNTA(O98:$O$5195)>0),IF(COUNTIF(B89:B98,B98)=10,B98+7,B98),\"\")","v":""},null,"","",null,null,null,0,0,0,0,{"$f":"IFERROR(VLOOKUP(G99,DropDowns!$D$2:$E$151,2,FALSE),\"\")","v":""},{"$f":"IFERROR(VLOOKUP(H99,DropDowns!$F$2:$G$7,2,FALSE),\"Residual categories\")","v":"Residual categories"},null,null,null,0,0,0]
[0,{"$f":"IF(OR(COUNTA(O70:O99)>0,COUNTA(O99:$O$5195)>0),IF(COUNTIF(B90:B99,B99)=10,B99+7,B99),\"\")","v":""},null,"","",null,null,null,0,0,0,0,{"$f":"IFERROR(VLOOKUP(G100,DropDowns!$D$2:$E$151,2,FALSE),\"\")","v":""},{"$f":"IFERROR(VLOOKUP(H100,DropDowns!$F$2:$G$7,2,FALSE),\"Residual categories\")","v":"Residual categories"},null,null,null,0,0,0]
[0,{"$f":"IF(OR(COUNTA(O71:O100)>0,COUNTA(O100:$O$5195)>0),IF(COUNTIF(B91:B100,B100)=10,B100+7,B100),\"\")","v":""},null,"","",null,null,null,0,0,0,0,{"$f":"IFERROR(VLOOKUP(G101,DropDowns!$D$2:$E$151,2,FALSE),\"\")","v":""},{"$f":"IFERROR(VLOOKUP(H101,DropDowns!$F$2:$G$7,2,FALSE),\"Residual categories\")","v":"Residual categories"},null,null,null,0,0,0]
[0,{"$f":"IF(OR(COUNTA(O72:O101)>0,COUNTA(O101:$O$5195)>0),IF(COUNTIF(B92:B101,B101)=10,B101+7,B101),\"\")","v":""},null,"","",null,null,null,0,0,0,0,{"$f":"IFERROR(VLOOKUP(G102,DropDowns!$D$2:$E$151,2,FALSE),\"\")","v":""},{"$f":"IFERROR(VLOOKUP(H102,DropDowns!$F$2:$G$7,2,FALSE),\"Residual categories\")","v":"Residual categories"},null,null,null,0,0,0]
[0,{"$f":"IF(OR(COUNTA(O73:O102)>0,COUNTA(O102:$O$5195)>0),IF(COUNTIF(B93:B102,B102)=10,B102+7,B102),\"\")","v":""},null,"","",null,null,null,0,0,0,0,{"$f":"IFERROR(VLOOKUP(G103,DropDowns!$D$2:$E$151,2,FALSE),\"\")","v":""},{"$f":"IFERROR(VLOOKUP(H103,DropDowns!$F$2:$G$7,2,FALSE),\"Residual categories\")","v":"Residual categories"},null,null,null,0,0,0]
[0,{"$f":"IF(OR(COUNTA(O74:O103)>0,COUNTA(O103:$O$5195)>0),IF(COUNTIF(B94:B103,B103)=10,B103+7,B103),\"\")","v":""},null,"","",null,null,null,0,0,0,0,{"$f":"IFERROR(VLOOKUP(G104,DropDowns!$D$2:$E$151,2,FALSE),\"\")","v":""},{"$f":"IFERROR(VLOOKUP(H104,DropDowns!$F$2:$G$7,2,FALSE),\"Residual categories\")","v":"Residual categories"},null,null,null,0,0,0]
[0,{"$f":"IF(OR(COUNTA(O75:O104)>0,COUNTA(O104:$O$5195)>0),IF(COUNTIF(B95:B104,B104)=10,B104+7,B104),\"\")","v":""},null,"","",null,null,null,0,0,0,0,{"$f":"IFERROR(VLOOKUP(G105,DropDowns!$D$2:$E$151,2,FALSE),\"\")","v":""},{"$f":"IFERROR(VLOOKUP(H105,DropDowns!$F$2:$G$7,2,FALSE),\"Residual categories\")","v":"Residual categories"},null,null,null,0,0,0]
[0,{"$f":"IF(OR(COUNTA(O76:O105)>0,COUNTA(O105:$O$5195)>0),IF(COUNTIF(B96:B105,B105)=10,B105+7,B105),\"\")","v":""},null,"","",null,null,null,0,0,0,0,{"$f":"IFERROR(VLOOKUP(G106,DropDowns!$D$2:$E$151,2,FALSE),\"\")","v":""},{"$f":"IFERROR(VLOOKUP(H106,DropDowns!$F$2:$G$7,2,FALSE),\"Residual categories\")","v":"Residual categories"},null,null,null,0,0,0]
[0,{"$f":"IF(OR(COUNTA(O77:O106)>0,COUNTA(O106:$O$5195)>0),IF(COUNTIF(B97:B106,B106)=10,B106+7,B106),\"\")","v":""},null,"","",null,null,null,0,0,0,0,{"$f":"IFERROR(VLOOKUP(G107,DropDowns!$D$2:$E$151,2,FALSE),\"\")","v":""},{"$f":"IFERROR(VLOOKUP(H107,DropDowns!$F$2:$G$7,2,FALSE),\"Residual categories\")","v":"Residual categories"},null,null,null,0,0,0]
[0,{"$f":"IF(OR(COUNTA(O78:O107)>0,COUNTA(O107:$O$5195)>0),IF(COUNTIF(B98:B107,B107)=10,B107+7,B107),\"\")","v":""},null,"","",null,null,null,0,0,0,0,{"$f":"IFERROR(VLOOKUP(G108,DropDowns!$D$2:$E$151,2,FALSE),\"\")","v":""},{"$f":"IFERROR(VLOOKUP(H108,DropDowns!$F$2:$G$7,2,FALSE),\"Residual categories\")","v":"Residual categories"},null,null,null,0,0,0]
[0,{"$f":"IF(OR(COUNTA(O79:O108)>0,COUNTA(O108:$O$5195)>0),IF(COUNTIF(B99:B108,B108)=10,B108+7,B108),\"\")","v":""},null,"","",null,null,null,0,0,0,0,{"$f":"IFERROR(VLOOKUP(G109,DropDowns!$D$2:$E$151,2,FALSE),\"\")","v":""},{"$f":"IFERROR(VLOOKUP(H109,DropDowns!$F$2:$G$7,2,FALSE),\"Residual categories\")","v":"Residual categories"},null,null,null,0,0,0]
[0,{"$f":"IF(OR(COUNTA(O80:O109)>0,COUNTA(O109:$O$5195)>0),IF(COUNTIF(B100:B109,B109)=10,B109+7,B109),\"\")","v":""},null,"","",null,null,null,0,0,0,0,{"$f":"IFERROR(VLOOKUP(G110,DropDowns!$D$2:$E$151,2,FALSE),\"\")","v":""},{"$f":"IFERROR(VLOOKUP(H110,DropDowns!$F$2:$G$7,2,FALSE),\"Residual categories\")","v":"Residual categories"},null,null,null,0,0,0]
[0,{"$f":"IF(OR(COUNTA(O81:O110)>0,COUNTA(O110:$O$5195)>0),IF(COUNTIF(B101:B110,B110)=10,B110+7,B110),\"\")","v":""},null,"","",null,null,null,0,0,0,0,{"$f":"IFERROR(VLOOKUP(G111,DropDowns!$D$2:$E$151,2,FALSE),\"\")","v":""},{"$f":"IFERROR(VLOOKUP(H111,DropDowns!$F$2:$G$7,2,FALSE),\"Residual categories\")","v":"Residual categories"},null,null,null,0,0,0]
[0,{"$f":"IF(OR(COUNTA(O82:O111)>0,COUNTA(O111:$O$5195)>0),IF(COUNTIF(B102:B111,B111)=10,B111+7,B111),\"\")","v":""},null,"","",null,null,null,0,0,0,0,{"$f":"IFERROR(VLOOKUP(G112,DropDowns!$D$2:$E$151,2,FALSE),\"\")","v":""},{"$f":"IFERROR(VLOOKUP(H112,DropDowns!$F$2:$G$7,2,FALSE),\"Residual categories\")","v":"Residual categories"},null,null,null,0,0,0]
[0,{"$f":"IF(OR(COUNTA(O83:O112)>0,COUNTA(O112:$O$5195)>0),IF(COUNTIF(B103:B112,B112)=10,B112+7,B112),\"\")","v":""},null,"","",null,null,null,0,0,0,0,{"$f":"IFERROR(VLOOKUP(G113,DropDowns!$D$2:$E$151,2,FALSE),\"\")","v":""},{"$f":"IFERROR(VLOOKUP(H113,DropDowns!$F$2:$G$7,2,FALSE),\"Residual categories\")","v":"Residual categories"},null,null,null,0,0,0]
[0,{"$f":"IF(OR(COUNTA(O84:O113)>0,COUNTA(O113:$O$5195)>0),IF(COUNTIF(B104:B113,B113)=10,B113+7,B113),\"\")","v":""},null,"","",null,null,null,0,0,0,0,{"$f":"IFERROR(VLOOKUP(G114,DropDowns!$D$2:$E$151,2,FALSE),\"\")","v":""},{"$f":"IFERROR(VLOOKUP(H114,DropDowns!$F$2:$G$7,2,FALSE),\"Residual categories\")","v":"Residual categories"},null,null,null,0,0,0]
[0,{"$f":"IF(OR(COUNTA(O85:O114)>0,COUNTA(O114:$O$5195)>0),IF(COUNTIF(B105:B114,B114)=10,B114+7,B114),\"\")","v":""},null,"","",null,null,null,0,0,0,0,{"$f":"IFERROR(VLOOKUP(G115,DropDowns!$D$2:$E$151,2,FALSE),\"\")","v":""},{"$f":"IFERROR(VLOOKUP(H115,DropDowns!$F$2:$G$7,2,FALSE),\"Residual categories\")","v":"Residual categories"},null,null,null,0,0,0]
[0,{"$f":"IF(OR(COUNTA(O86:O115)>0,COUNTA(O115:$O$5195)>0),IF(COUNTIF(B106:B115,B115)=10,B115+7,B115),\"\")","v":""},null,"","",null,null,null,0,0,0,0,{"$f":"IFERROR(VLOOKUP(G116,DropDowns!$D$2:$E$151,2,FALSE),\"\")","v":""},{"$f":"IFERROR(VLOOKUP(H116,DropDowns!$F$2:$G$7,2,FALSE),\"Residual categories\")","v":"Residual categories"},null,null,null,0,0,0]
[0,{"$f":"IF(OR(COUNTA(O87:O116)>0,COUNTA(O116:$O$5195)>0),IF(COUNTIF(B107:B116,B116)=10,B116+7,B116),\"\")","v":""},null,"","",null,null,null,0,0,0,0,{"$f":"IFERROR(VLOOKUP(G117,DropDowns!$D$2:$E$151,2,FALSE),\"\")","v":""},{"$f":"IFERROR(VLOOKUP(H117,DropDowns!$F$2:$G$7,2,FALSE),\"Residual categories\")","v":"Residual categories"},null,null,null,0,0,0]
[0,{"$f":"IF(OR(COUNTA(O88:O117)>0,COUNTA(O117:$O$5195)>0),IF(COUNTIF(B108:B117,B117)=10,B117+7,B117),\"\")","v":""},null,"","",null,null,null,0,0,0,0,{"$f":"IFERROR(VLOOKUP(G118,DropDowns!$D$2:$E$151,2,FALSE),\"\")","v":""},{"$f":"IFERROR(VLOOKUP(H118,DropDowns!$F$2:$G$7,2,FALSE),\"Residual categories\")","v":"Residual categories"},null,null,null,0,0,0]
[0,{"$f":"IF(OR(COUNTA(O89:O118)>0,COUNTA(O118:$O$5195)>0),IF(COUNTIF(B109:B118,B118)=10,B118+7,B118),\"\")","v":""},null,"","",null,null,null,0,0,0,0,{"$f":"IFERROR(VLOOKUP(G119,DropDowns!$D$2:$E$151,2,FALSE),\"\")","v":""},{"$f":"IFERROR(VLOOKUP(H119,DropDowns!$F$2:$G$7,2,FALSE),\"Residual categories\")","v":"Residual categories"},null,null,null,0,0,0]
[0,{"$f":"IF(OR(COUNTA(O90:O119)>0,COUNTA(O119:$O$5195)>0),IF(COUNTIF(B110:B119,B119)=10,B119+7,B119),\"\")","v":""},null,"","",null,null,null,0,0,0,0,{"$f":"IFERROR(VLOOKUP(G120,DropDowns!$D$2:$E$151,2,FALSE),\"\")","v":""},{"$f":"IFERROR(VLOOKUP(H120,DropDowns!$F$2:$G$7,2,FALSE),\"Residual categories\")","v":"Residual categories"},null,null,null,0,0,0]
[0,{"$f":"IF(OR(COUNTA(O91:O120)>0,COUNTA(O120:$O$5195)>0),IF(COUNTIF(B111:B120,B120)=10,B120+7,B120),\"\")","v":""},null,"","",null,null,null,0,0,0,0,{"$f":"IFERROR(VLOOKUP(G121,DropDowns!$D$2:$E$151,2,FALSE),\"\")","v":""},{"$f":"IFERROR(VLOOKUP(H121,DropDowns!$F$2:$G$7,2,FALSE),\"Residual categories\")","v":"Residual categories"},null,null,null,0,0,0]
[0,{"$f":"IF(OR(COUNTA(O92:O121)>0,COUNTA(O121:$O$5195)>0),IF(COUNTIF(B112:B121,B121)=10,B121+7,B121),\"\")","v":""},null,"","",null,null,null,0,0,0,0,{"$f":"IFERROR(VLOOKUP(G122,DropDowns!$D$2:$E$151,2,FALSE),\"\")","v":""},{"$f":"IFERROR(VLOOKUP(H122,DropDowns!$F$2:$G$7,2,FALSE),\"Residual categories\")","v":"Residual categories"},null,null,null,0,0,0]
[0,{"$f":"IF(OR(COUNTA(O93:O122)>0,COUNTA(O122:$O$5195)>0),IF(COUNTIF(B113:B122,B122)=10,B122+7,B122),\"\")","v":""},null,"","",null,null,null,0,0,0,0,{"$f":"IFERROR(VLOOKUP(G123,DropDowns!$D$2:$E$151,2,FALSE),\"\")","v":""},{"$f":"IFERROR(VLOOKUP(H123,DropDowns!$F$2:$G$7,2,FALSE),\"Residual categories\")","v":"Residual categories"},null,null,null,0,0,0]
[0,{"$f":"IF(OR(COUNTA(O94:O123)>0,COUNTA(O123:$O$5195)>0),IF(COUNTIF(B114:B123,B123)=10,B123+7,B123),\"\")","v":""},null,"","",null,null,null,0,0,0,0,{"$f":"IFERROR(VLOOKUP(G124,DropDowns!$D$2:$E$151,2,FALSE),\"\")","v":""},{"$f":"IFERROR(VLOOKUP(H124,DropDowns!$F$2:$G$7,2,FALSE),\"Residual categories\")","v":"Residual categories"},null,null,null,0,0,0]
[0,{"$f":"IF(OR(COUNTA(O95:O124)>0,COUNTA(O124:$O$5195)>0),IF(COUNTIF(B115:B124,B124)=10,B124+7,B124),\"\")","v":""},null,"","",null,null,null,0,0,0,0,{"$f":"IFERROR(VLOOKUP(G125,DropDowns!$D$2:$E$151,2,FALSE),\"\")","v":""},{"$f":"IFERROR(VLOOKUP(H125,DropDowns!$F$2:$G$7,2,FALSE),\"Residual categories\")","v":"Residual categories"},null,null,null,0,0,0]
[0,{"$f":"IF(OR(COUNTA(O96:O125)>0,COUNTA(O125:$O$5195)>0),IF(COUNTIF(B116:B125,B125)=10,B125+7,B125),\"\")","v":""},null,"","",null,null,null,0,0,0,0,{"$f":"IFERROR(VLOOKUP(G126,DropDowns!$D$2:$E$151,2,FALSE),\"\")","v":""},{"$f":"IFERROR(VLOOKUP(H126,DropDowns!$F$2:$G$7,2,FALSE),\"Residual categories\")","v":"Residual categories"},null,null,null,0,0,0]
[0,{"$f":"IF(OR(COUNTA(O97:O126)>0,COUNTA(O126:$O$5195)>0),IF(COUNTIF(B117:B126,B126)=10,B126+7,B126),\"\")","v":""},null,"","",null,null,null,0,0,0,0,{"$f":"IFERROR(VLOOKUP(G127,DropDowns!$D$2:$E$151,2,FALSE),\"\")","v":""},{"$f":"IFERROR(VLOOKUP(H127,DropDowns!$F$2:$G$7,2,FALSE),\"Residual categories\")","v":"Residual categories"},null,null,null,0,0,0]
[0,{"$f":"IF(OR(COUNTA(O98:O127)>0,COUNTA(O127:$O$5195)>0),IF(COUNTIF(B118:B127,B127)=10,B127+7,B127),\"\")","v":""},null,"","",null,null,null,0,0,0,0,{"$f":"IFERROR(VLOOKUP(G128,DropDowns!$D$2:$E$151,2,FALSE),\"\")","v":""},{"$f":"IFERROR(VLOOKUP(H128,DropDowns!$F$2:$G$7,2,FALSE),\"Residual categories\")","v":"Residual categories"},null,null,null,0,0,0]
[0,{"$f":"IF(OR(COUNTA(O99:O128)>0,COUNTA(O128:$O$5195)>0),IF(COUNTIF(B119:B128,B128)=10,B128+7,B128),\"\")","v":""},null,"","",null,null,null,0,0,0,0,{"$f":"IFERROR(VLOOKUP(G129,DropDowns!$D$2:$E$151,2,FALSE),\"\")","v":""},{"$f":"IFERROR(VLOOKUP(H129,DropDowns!$F$2:$G$7,2,FALSE),\"Residual categories\")","v":"Residual categories"},null,null,null,0,0,0]
[0,{"$f":"IF(OR(COUNTA(O100:O129)>0,COUNTA(O129:$O$5195)>0),IF(COUNTIF(B120:B129,B129)=10,B129+7,B129),\"\")","v":""},null,"","",null,null,null,0,0,0,0,{"$f":"IFERROR(VLOOKUP(G130,DropDowns!$D$2:$E$151,2,FALSE),\"\")","v":""},{"$f":"IFERROR(VLOOKUP(H130,DropDowns!$F$2:$G$7,2,FALSE),\"Residual categories\")","v":"Residual categories"},null,null,null,0,0,0]
[0,{"$f":"IF(OR(COUNTA(O101:O130)>0,COUNTA(O130:$O$5195)>0),IF(COUNTIF(B121:B130,B130)=10,B130+7,B130),\"\")","v":""},null,"","",null,null,null,0,0,0,0,{"$f":"IFERROR(VLOOKUP(G131,DropDowns!$D$2:$E$151,2,FALSE),\"\")","v":""},{"$f":"IFERROR(VLOOKUP(H131,DropDowns!$F$2:$G$7,2,FALSE),\"Residual categories\")","v":"Residual categories"},null,null,null,0,0,0]
[0,{"$f":"IF(OR(COUNTA(O102:O131)>0,COUNTA(O131:$O$5195)>0),IF(COUNTIF(B122:B131,B131)=10,B131+7,B131),\"\")","v":""},null,"","",null,null,null,0,0,0,0,{"$f":"IFERROR(VLOOKUP(G132,DropDowns!$D$2:$E$151,2,FALSE),\"\")","v":""},{"$f":"IFERROR(VLOOKUP(H132,DropDowns!$F$2:$G$7,2,FALSE),\"Residual categories\")","v":"Residual categories"},null,null,null,0,0,0]
[0,{"$f":"IF(OR(COUNTA(O103:O132)>0,COUNTA(O132:$O$5195)>0),IF(COUNTIF(B123:B132,B132)=10,B132+7,B132),\"\")","v":""},null,"","",null,null,null,0,0,0,0,{"$f":"IFERROR(VLOOKUP(G133,DropDowns!$D$2:$E$151,2,FALSE),\"\")","v":""},{"$f":"IFERROR(VLOOKUP(H133,DropDowns!$F$2:$G$7,2,FALSE),\"Residual categories\")","v":"Residual categories"},null,null,null,0,0,0]
[0,{"$f":"IF(OR(COUNTA(O104:O133)>0,COUNTA(O133:$O$5195)>0),IF(COUNTIF(B124:B133,B133)=10,B133+7,B133),\"\")","v":""},null,"","",null,null,null,0,0,0,0,{"$f":"IFERROR(VLOOKUP(G134,DropDowns!$D$2:$E$151,2,FALSE),\"\")","v":""},{"$f":"IFERROR(VLOOKUP(H134,DropDowns!$F$2:$G$7,2,FALSE),\"Residual categories\")","v":"Residual categories"},null,null,null,0,0,0]
[0,{"$f":"IF(OR(COUNTA(O105:O134)>0,COUNTA(O134:$O$5195)>0),IF(COUNTIF(B125:B134,B134)=10,B134+7,B134),\"\")","v":""},null,{"$f":"IF(E135=1,B135,\"\")","v":""},"",null,null,null,{"$f":"IF(COUNTA(O135:Q135)>0,1,0)","v":0},{"$f":"IF(O135=\"y\",1,0)","v":0},{"$f":"IF(P135=\"y\",1,0)","v":0},{"$f":"IF(Q135=\"y\",1,0)","v":0},{"$f":"IFERROR(VLOOKUP(G135,DropDowns!$D$2:$E$151,2,FALSE),\"\")","v":""},{"$f":"IFERROR(VLOOKUP(H135,DropDowns!$F$2:$G$7,2,FALSE),\"Residual categories\")","v":"Residual categories"},null,null,null,{"$f":"IF(O135=\"yes\",1,0)","v":0},{"$f":"IF(P135=\"yes\",1,0)","v":0},{"$f":"IF(Q135=\"yes\",1,0)","v":0}]
[0,{"$f":"IF(OR(COUNTA(O106:O135)>0,COUNTA(O135:$O$5195)>0),IF(COUNTIF(B126:B135,B135)=10,B135+7,B135),\"\")","v":""},null,"","",null,null,null,0,0,0,0,{"$f":"IFERROR(VLOOKUP(G136,DropDowns!$D$2:$E$151,2,FALSE),\"\")","v":""},{"$f":"IFERROR(VLOOKUP(H136,DropDowns!$F$2:$G$7,2,FALSE),\"Residual categories\")","v":"Residual categories"},null,null,null,0,0,0]
[0,{"$f":"IF(OR(COUNTA(O107:O136)>0,COUNTA(O136:$O$5195)>0),IF(COUNTIF(B127:B136,B136)=10,B136+7,B136),\"\")","v":""},null,"","",null,null,null,0,0,0,0,{"$f":"IFERROR(VLOOKUP(G137,DropDowns!$D$2:$E$151,2,FALSE),\"\")","v":""},{"$f":"IFERROR(VLOOKUP(H137,DropDowns!$F$2:$G$7,2,FALSE),\"Residual categories\")","v":"Residual categories"},null,null,null,0,0,0]
[0,{"$f":"IF(OR(COUNTA(O108:O137)>0,COUNTA(O137:$O$5195)>0),IF(COUNTIF(B128:B137,B137)=10,B137+7,B137),\"\")","v":""},null,"","",null,null,null,0,0,0,0,{"$f":"IFERROR(VLOOKUP(G138,DropDowns!$D$2:$E$151,2,FALSE),\"\")","v":""},{"$f":"IFERROR(VLOOKUP(H138,DropDowns!$F$2:$G$7,2,FALSE),\"Residual categories\")","v":"Residual categories"},null,null,null,0,0,0]
[0,{"$f":"IF(OR(COUNTA(O109:O138)>0,COUNTA(O138:$O$5195)>0),IF(COUNTIF(B129:B138,B138)=10,B138+7,B138),\"\")","v":""},null,"","",null,null,null,0,0,0,0,{"$f":"IFERROR(VLOOKUP(G139,DropDowns!$D$2:$E$151,2,FALSE),\"\")","v":""},{"$f":"IFERROR(VLOOKUP(H139,DropDowns!$F$2:$G$7,2,FALSE),\"Residual categories\")","v":"Residual categories"},null,null,null,0,0,0]
[0,{"$f":"IF(OR(COUNTA(O110:O139)>0,COUNTA(O139:$O$5195)>0),IF(COUNTIF(B130:B139,B139)=10,B139+7,B139),\"\")","v":""},null,"","",null,null,null,0,0,0,0,{"$f":"IFERROR(VLOOKUP(G140,DropDowns!$D$2:$E$151,2,FALSE),\"\")","v":""},{"$f":"IFERROR(VLOOKUP(H140,DropDowns!$F$2:$G$7,2,FALSE),\"Residual categories\")","v":"Residual categories"},null,null,null,0,0,0]
[0,{"$f":"IF(OR(COUNTA(O111:O140)>0,COUNTA(O140:$O$5195)>0),IF(COUNTIF(B131:B140,B140)=10,B140+7,B140),\"\")","v":""},null,"","",null,null,null,0,0,0,0,{"$f":"IFERROR(VLOOKUP(G141,DropDowns!$D$2:$E$151,2,FALSE),\"\")","v":""},{"$f":"IFERROR(VLOOKUP(H141,DropDowns!$F$2:$G$7,2,FALSE),\"Residual categories\")","v":"Residual categories"},null,null,null,0,0,0]
[0,{"$f":"IF(OR(COUNTA(O112:O141)>0,COUNTA(O141:$O$5195)>0),IF(COUNTIF(B132:B141,B141)=10,B141+7,B141),\"\")","v":""},null,"","",null,null,null,0,0,0,0,{"$f":"IFERROR(VLOOKUP(G142,DropDowns!$D$2:$E$151,2,FALSE),\"\")","v":""},{"$f":"IFERROR(VLOOKUP(H142,DropDowns!$F$2:$G$7,2,FALSE),\"Residual categories\")","v":"Residual categories"},null,null,null,0,0,0]
[0,{"$f":"IF(OR(COUNTA(O113:O142)>0,COUNTA(O142:$O$5195)>0),IF(COUNTIF(B133:B142,B142)=10,B142+7,B142),\"\")","v":""},null,"","",null,null,null,0,0,0,0,{"$f":"IFERROR(VLOOKUP(G143,DropDowns!$D$2:$E$151,2,FALSE),\"\")","v":""},{"$f":"IFERROR(VLOOKUP(H143,DropDowns!$F$2:$G$7,2,FALSE),\"Residual categories\")","v":"Residual categories"},null,null,null,0,0,0]
[0,{"$f":"IF(OR(COUNTA(O114:O143)>0,COUNTA(O143:$O$5195)>0),IF(COUNTIF(B134:B143,B143)=10,B143+7,B143),\"\")","v":""},null,"","",null,null,null,0,0,0,0,{"$f":"IFERROR(VLOOKUP(G144,DropDowns!$D$2:$E$151,2,FALSE),\"\")","v":""},{"$f":"IFERROR(VLOOKUP(H144,DropDowns!$F$2:$G$7,2,FALSE),\"Residual categories\")","v":"Residual categories"},null,null,null,0,0,0]
[0,{"$f":"IF(OR(COUNTA(O115:O144)>0,COUNTA(O144:$O$5195)>0),IF(COUNTIF(B135:B144,B144)=10,B144+7,B144),\"\")","v":""},null,"",{"$f":"IF(B145=\"\",\"\",COUNTIF(B136:B145,B145))","v":""},null,null,null,0,0,0,0,{"$f":"IFERROR(VLOOKUP(G145,DropDowns!$D$2:$E$151,2,FALSE),\"\")","v":""},{"$f":"IFERROR(VLOOKUP(H145,DropDowns!$F$2:$G$7,2,FALSE),\"Residual categories\")","v":"Residual categories"},null,null,null,0,0,0]
[0,{"$f":"IF(OR(COUNTA(O116:O145)>0,COUNTA(O145:$O$5195)>0),IF(COUNTIF(B136:B145,B145)=10,B145+7,B145),\"\")","v":""},null,"","",null,null,null,0,0,0,0,{"$f":"IFERROR(VLOOKUP(G146,DropDowns!$D$2:$E$151,2,FALSE),\"\")","v":""},{"$f":"IFERROR(VLOOKUP(H146,DropDowns!$F$2:$G$7,2,FALSE),\"Residual categories\")","v":"Residual categories"},null,null,null,0,0,0]
[0,{"$f":"IF(OR(COUNTA(O117:O146)>0,COUNTA(O146:$O$5195)>0),IF(COUNTIF(B137:B146,B146)=10,B146+7,B146),\"\")","v":""},null,"","",null,null,null,0,0,0,0,{"$f":"IFERROR(VLOOKUP(G147,DropDowns!$D$2:$E$151,2,FALSE),\"\")","v":""},{"$f":"IFERROR(VLOOKUP(H147,DropDowns!$F$2:$G$7,2,FALSE),\"Residual categories\")","v":"Residual categories"},null,null,null,0,0,0]
[{"$f":"$E$2","v":0},{"$f":"IF(OR(COUNTA(O118:O147)>0,COUNTA(O147:$O$5195)>0),IF(COUNTIF(B138:B147,B147)=10,B147+7,B147),\"\")","v":""},null,"","",null,null,null,0,0,0,0,{"$f":"IFERROR(VLOOKUP(G148,DropDowns!$D$2:$E$151,2,FALSE),\"\")","v":""},{"$f":"IFERROR(VLOOKUP(H148,DropDowns!$F$2:$G$7,2,FALSE),\"Residual categories\")","v":"Residual categories"},null,null,null,0,0,0]
[0,{"$f":"IF(OR(COUNTA(O119:O148)>0,COUNTA(O148:$O$5195)>0),IF(COUNTIF(B139:B148,B148)=10,B148+7,B148),\"\")","v":""},null,"","",null,null,null,0,0,0,0,{"$f":"IFERROR(VLOOKUP(G149,DropDowns!$D$2:$E$151,2,FALSE),\"\")","v":""},{"$f":"IFERROR(VLOOKUP(H149,DropDowns!$F$2:$G$7,2,FALSE),\"Residual categories\")","v":"Residual categories"},null,null,null,0,0,0]
[0,{"$f":"IF(OR(COUNTA(O120:O149)>0,COUNTA(O149:$O$5195)>0),IF(COUNTIF(B140:B149,B149)=10,B149+7,B149),\"\")","v":""},null,"","",null,null,null,0,0,0,0,{"$f":"IFERROR(VLOOKUP(G150,DropDowns!$D$2:$E$151,2,FALSE),\"\")","v":""},{"$f":"IFERROR(VLOOKUP(H150,DropDowns!$F$2:$G$7,2,FALSE),\"Residual categories\")","v":"Residual categories"},null,null,null,0,0,0]
[0,{"$f":"IF(OR(COUNTA(O121:O150)>0,COUNTA(O150:$O$5195)>0),IF(COUNTIF(B141:B150,B150)=10,B150+7,B150),\"\")","v":""},null,"","",null,null,null,0,0,0,0,{"$f":"IFERROR(VLOOKUP(G151,DropDowns!$D$2:$E$151,2,FALSE),\"\")","v":""},{"$f":"IFERROR(VLOOKUP(H151,DropDowns!$F$2:$G$7,2,FALSE),\"Residual categories\")","v":"Residual categories"},null,null,null,0,0,0]
[0,{"$f":"IF(OR(COUNTA(O122:O151)>0,COUNTA(O151:$O$5195)>0),IF(COUNTIF(B142:B151,B151)=10,B151+7,B151),\"\")","v":""},null,"","",null,null,null,0,0,0,0,{"$f":"IFERROR(VLOOKUP(G152,DropDowns!$D$2:$E$151,2,FALSE),\"\")","v":""},{"$f":"IFERROR(VLOOKUP(H152,DropDowns!$F$2:$G$7,2,FALSE),\"Residual categories\")","v":"Residual categories"},null,null,null,0,0,0]
[0,{"$f":"IF(OR(COUNTA(O123:O152)>0,COUNTA(O152:$O$5195)>0),IF(COUNTIF(B143:B152,B152)=10,B152+7,B152),\"\")","v":""},null,"","",null,null,null,0,0,0,0,{"$f":"IFERROR(VLOOKUP(G153,DropDowns!$D$2:$E$151,2,FALSE),\"\")","v":""},{"$f":"IFERROR(VLOOKUP(H153,DropDowns!$F$2:$G$7,2,FALSE),\"Residual categories\")","v":"Residual categories"},null,null,null,0,0,0]
[0,{"$f":"IF(OR(COUNTA(O124:O153)>0,COUNTA(O153:$O$5195)>0),IF(COUNTIF(B144:B153,B153)=10,B153+7,B153),\"\")","v":""},null,"","",null,null,null,0,0,0,0,{"$f":"IFERROR(VLOOKUP(G154,DropDowns!$D$2:$E$151,2,FALSE),\"\")","v":""},{"$f":"IFERROR(VLOOKUP(H154,DropDowns!$F$2:$G$7,2,FALSE),\"Residual categories\")","v":"Residual categories"},null,null,null,0,0,0]
[0,{"$f":"IF(OR(COUNTA(O125:O154)>0,COUNTA(O154:$O$5195)>0),IF(COUNTIF(B145:B154,B154)=10,B154+7,B154),\"\")","v":""},null,"","",null,null,null,0,0,0,0,{"$f":"IFERROR(VLOOKUP(G155,DropDowns!$D$2:$E$151,2,FALSE),\"\")","v":""},{"$f":"IFERROR(VLOOKUP(H155,DropDowns!$F$2:$G$7,2,FALSE),\"Residual categories\")","v":"Residual categories"},null,null,null,0,0,0]
[0,{"$f":"IF(OR(COUNTA(O126:O155)>0,COUNTA(O155:$O$5195)>0),IF(COUNTIF(B146:B155,B155)=10,B155+7,B155),\"\")","v":""},null,"","",null,null,null,0,0,0,0,{"$f":"IFERROR(VLOOKUP(G156,DropDowns!$D$2:$E$151,2,FALSE),\"\")","v":""},{"$f":"IFERROR(VLOOKUP(H156,DropDowns!$F$2:$G$7,2,FALSE),\"Residual categories\")","v":"Residual categories"},null,null,null,0,0,0]
[0,{"$f":"IF(OR(COUNTA(O127:O156)>0,COUNTA(O156:$O$5195)>0),IF(COUNTIF(B147:B156,B156)=10,B156+7,B156),\"\")","v":""},null,"","",null,null,null,0,0,0,0,{"$f":"IFERROR(VLOOKUP(G157,DropDowns!$D$2:$E$151,2,FALSE),\"\")","v":""},{"$f":"IFERROR(VLOOKUP(H157,DropDowns!$F$2:$G$7,2,FALSE),\"Residual categories\")","v":"Residual categories"},null,null,null,0,0,0]
[0,{"$f":"IF(OR(COUNTA(O128:O157)>0,COUNTA(O157:$O$5195)>0),IF(COUNTIF(B148:B157,B157)=10,B157+7,B157),\"\")","v":""},null,"","",null,null,null,0,0,0,0,{"$f":"IFERROR(VLOOKUP(G158,DropDowns!$D$2:$E$151,2,FALSE),\"\")","v":""},{"$f":"IFERROR(VLOOKUP(H158,DropDowns!$F$2:$G$7,2,FALSE),\"Residual categories\")","v":"Residual categories"},null,null,null,0,0,0]
[0,{"$f":"IF(OR(COUNTA(O129:O158)>0,COUNTA(O158:$O$5195)>0),IF(COUNTIF(B149:B158,B158)=10,B158+7,B158),\"\")","v":""},null,"","",null,null,null,0,0,0,0,{"$f":"IFERROR(VLOOKUP(G159,DropDowns!$D$2:$E$151,2,FALSE),\"\")","v":""},{"$f":"IFERROR(VLOOKUP(H159,DropDowns!$F$2:$G$7,2,FALSE),\"Residual categories\")","v":"Residual categories"},null,null,null,0,0,0]
[0,{"$f":"IF(OR(COUNTA(O130:O159)>0,COUNTA(O159:$O$5195)>0),IF(COUNTIF(B150:B159,B159)=10,B159+7,B159),\"\")","v":""},null,"","",null,null,null,0,0,0,0,{"$f":"IFERROR(VLOOKUP(G160,DropDowns!$D$2:$E$151,2,FALSE),\"\")","v":""},{"$f":"IFERROR(VLOOKUP(H160,DropDowns!$F$2:$G$7,2,FALSE),\"Residual categories\")","v":"Residual categories"},null,null,null,0,0,0]
[0,{"$f":"IF(OR(COUNTA(O131:O160)>0,COUNTA(O160:$O$5195)>0),IF(COUNTIF(B151:B160,B160)=10,B160+7,B160),\"\")","v":""},null,"","",null,null,null,0,0,0,0,{"$f":"IFERROR(VLOOKUP(G161,DropDowns!$D$2:$E$151,2,FALSE),\"\")","v":""},{"$f":"IFERROR(VLOOKUP(H161,DropDowns!$F$2:$G$7,2,FALSE),\"Residual categories\")","v":"Residual categories"},null,null,null,0,0,0]
[0,{"$f":"IF(OR(COUNTA(O132:O161)>0,COUNTA(O161:$O$5195)>0),IF(COUNTIF(B152:B161,B161)=10,B161+7,B161),\"\")","v":""},null,"","",null,null,null,0,0,0,0,{"$f":"IFERROR(VLOOKUP(G162,DropDowns!$D$2:$E$151,2,FALSE),\"\")","v":""},{"$f":"IFERROR(VLOOKUP(H162,DropDowns!$F$2:$G$7,2,FALSE),\"Residual categories\")","v":"Residual categories"},null,null,null,0,0,0]
[0,{"$f":"IF(OR(COUNTA(O133:O162)>0,COUNTA(O162:$O$5195)>0),IF(COUNTIF(B153:B162,B162)=10,B162+7,B162),\"\")","v":""},null,"","",null,null,null,0,0,0,0,{"$f":"IFERROR(VLOOKUP(G163,DropDowns!$D$2:$E$151,2,FALSE),\"\")","v":""},{"$f":"IFERROR(VLOOKUP(H163,DropDowns!$F$2:$G$7,2,FALSE),\"Residual categories\")","v":"Residual categories"},null,null,null,0,0,0]
[0,{"$f":"IF(OR(COUNTA(O134:O163)>0,COUNTA(O163:$O$5195)>0),IF(COUNTIF(B154:B163,B163)=10,B163+7,B163),\"\")","v":""},null,"","",null,null,null,0,0,0,0,{"$f":"IFERROR(VLOOKUP(G164,DropDowns!$D$2:$E$151,2,FALSE),\"\")","v":""},{"$f":"IFERROR(VLOOKUP(H164,DropDowns!$F$2:$G$7,2,FALSE),\"Residual categories\")","v":"Residual categories"},null,null,null,0,0,0]
[0,{"$f":"IF(OR(COUNTA(O135:O164)>0,COUNTA(O164:$O$5195)>0),IF(COUNTIF(B155:B164,B164)=10,B164+7,B164),\"\")","v":""},null,"","",null,null,null,0,0,0,0,{"$f":"IFERROR(VLOOKUP(G165,DropDowns!$D$2:$E$151,2,FALSE),\"\")","v":""},{"$f":"IFERROR(VLOOKUP(H165,DropDowns!$F$2:$G$7,2,FALSE),\"Residual categories\")","v":"Residual categories"},null,null,null,0,0,0]
[0,{"$f":"IF(OR(COUNTA(O136:O165)>0,COUNTA(O165:$O$5195)>0),IF(COUNTIF(B156:B165,B165)=10,B165+7,B165),\"\")","v":""},null,"","",null,null,null,0,0,0,0,{"$f":"IFERROR(VLOOKUP(G166,DropDowns!$D$2:$E$151,2,FALSE),\"\")","v":""},{"$f":"IFERROR(VLOOKUP(H166,DropDowns!$F$2:$G$7,2,FALSE),\"Residual categories\")","v":"Residual categories"},null,null,null,0,0,0]
[0,{"$f":"IF(OR(COUNTA(O137:O166)>0,COUNTA(O166:$O$5195)>0),IF(COUNTIF(B157:B166,B166)=10,B166+7,B166),\"\")","v":""},null,"","",null,null,null,0,0,0,0,{"$f":"IFERROR(VLOOKUP(G167,DropDowns!$D$2:$E$151,2,FALSE),\"\")","v":""},{"$f":"IFERROR(VLOOKUP(H167,DropDowns!$F$2:$G$7,2,FALSE),\"Residual categories\")","v":"Residual categories"},null,null,null,0,0,0]
[0,{"$f":"IF(OR(COUNTA(O138:O167)>0,COUNTA(O167:$O$5195)>0),IF(COUNTIF(B158:B167,B167)=10,B167+7,B167),\"\")","v":""},null,"","",null,null,null,0,0,0,0,{"$f":"IFERROR(VLOOKUP(G168,DropDowns!$D$2:$E$151,2,FALSE),\"\")","v":""},{"$f":"IFERROR(VLOOKUP(H168,DropDowns!$F$2:$G$7,2,FALSE),\"Residual categories\")","v":"Residual categories"},null,null,null,0,0,0]
[0,{"$f":"IF(OR(COUNTA(O139:O168)>0,COUNTA(O168:$O$5195)>0),IF(COUNTIF(B159:B168,B168)=10,B168+7,B168),\"\")","v":""},null,"","",null,null,null,0,0,0,0,{"$f":"IFERROR(VLOOKUP(G169,DropDowns!$D$2:$E$151,2,FALSE),\"\")","v":""},{"$f":"IFERROR(VLOOKUP(H169,DropDowns!$F$2:$G$7,2,FALSE),\"Residual categories\")","v":"Residual categories"},null,null,null,0,0,0]
[0,{"$f":"IF(OR(COUNTA(O140:O169)>0,COUNTA(O169:$O$5195)>0),IF(COUNTIF(B160:B169,B169)=10,B169+7,B169),\"\")","v":""},null,"","",null,null,null,0,0,0,0,{"$f":"IFERROR(VLOOKUP(G170,DropDowns!$D$2:$E$151,2,FALSE),\"\")","v":""},{"$f":"IFERROR(VLOOKUP(H170,DropDowns!$F$2:$G$7,2,FALSE),\"Residual categories\")","v":"Residual categories"},null,null,null,0,0,0]
[0,{"$f":"IF(OR(COUNTA(O141:O170)>0,COUNTA(O170:$O$5195)>0),IF(COUNTIF(B161:B170,B170)=10,B170+7,B170),\"\")","v":""},null,"","",null,null,null,0,0,0,0,{"$f":"IFERROR(VLOOKUP(G171,DropDowns!$D$2:$E$151,2,FALSE),\"\")","v":""},{"$f":"IFERROR(VLOOKUP(H171,DropDowns!$F$2:$G$7,2,FALSE),\"Residual categories\")","v":"Residual categories"},null,null,null,0,0,0]
[0,{"$f":"IF(OR(COUNTA(O142:O171)>0,COUNTA(O171:$O$5195)>0),IF(COUNTIF(B162:B171,B171)=10,B171+7,B171),\"\")","v":""},null,"","",null,null,null,0,0,0,0,{"$f":"IFERROR(VLOOKUP(G172,DropDowns!$D$2:$E$151,2,FALSE),\"\")","v":""},{"$f":"IFERROR(VLOOKUP(H172,DropDowns!$F$2:$G$7,2,FALSE),\"Residual categories\")","v":"Residual categories"},null,null,null,0,0,0]
[0,{"$f":"IF(OR(COUNTA(O143:O172)>0,COUNTA(O172:$O$5195)>0),IF(COUNTIF(B163:B172,B172)=10,B172+7,B172),\"\")","v":""},null,"","",null,null,null,0,0,0,0,{"$f":"IFERROR(VLOOKUP(G173,DropDowns!$D$2:$E$151,2,FALSE),\"\")","v":""},{"$f":"IFERROR(VLOOKUP(H173,DropDowns!$F$2:$G$7,2,FALSE),\"Residual categories\")","v":"Residual categories"},null,null,null,0,0,0]
[0,{"$f":"IF(OR(COUNTA(O144:O173)>0,COUNTA(O173:$O$5195)>0),IF(COUNTIF(B164:B173,B173)=10,B173+7,B173),\"\")","v":""},null,"","",null,null,null,0,0,0,0,{"$f":"IFERROR(VLOOKUP(G174,DropDowns!$D$2:$E$151,2,FALSE),\"\")","v":""},{"$f":"IFERROR(VLOOKUP(H174,DropDowns!$F$2:$G$7,2,FALSE),\"Residual categories\")","v":"Residual categories"},null,null,null,0,0,0]
[0,{"$f":"IF(OR(COUNTA(O145:O174)>0,COUNTA(O174:$O$5195)>0),IF(COUNTIF(B165:B174,B174)=10,B174+7,B174),\"\")","v":""},null,"","",null,null,null,0,0,0,0,{"$f":"IFERROR(VLOOKUP(G175,DropDowns!$D$2:$E$151,2,FALSE),\"\")","v":""},{"$f":"IFERROR(VLOOKUP(H175,DropDowns!$F$2:$G$7,2,FALSE),\"Residual categories\")","v":"Residual categories"},null,null,null,0,0,0]
[0,{"$f":"IF(OR(COUNTA(O146:O175)>0,COUNTA(O175:$O$5195)>0),IF(COUNTIF(B166:B175,B175)=10,B175+7,B175),\"\")","v":""},null,"","",null,null,null,0,0,0,0,{"$f":"IFERROR(VLOOKUP(G176,DropDowns!$D$2:$E$151,2,FALSE),\"\")","v":""},{"$f":"IFERROR(VLOOKUP(H176,DropDowns!$F$2:$G$7,2,FALSE),\"Residual categories\")","v":"Residual categories"},null,null,null,0,0,0]
[0,{"$f":"IF(OR(COUNTA(O147:O176)>0,COUNTA(O176:$O$5195)>0),IF(COUNTIF(B167:B176,B176)=10,B176+7,B176),\"\")","v":""},null,"","",null,null,null,0,0,0,0,{"$f":"IFERROR(VLOOKUP(G177,DropDowns!$D$2:$E$151,2,FALSE),\"\")","v":""},{"$f":"IFERROR(VLOOKUP(H177,DropDowns!$F$2:$G$7,2,FALSE),\"Residual categories\")","v":"Residual categories"},null,null,null,0,0,0]
[0,{"$f":"IF(OR(COUNTA(O148:O177)>0,COUNTA(O177:$O$5195)>0),IF(COUNTIF(B168:B177,B177)=10,B177+7,B177),\"\")","v":""},null,"","",null,null,null,0,0,0,0,{"$f":"IFERROR(VLOOKUP(G178,DropDowns!$D$2:$E$151,2,FALSE),\"\")","v":""},{"$f":"IFERROR(VLOOKUP(H178,DropDowns!$F$2:$G$7,2,FALSE),\"Residual categories\")","v":"Residual categories"},null,null,null,0,0,0]
[0,{"$f":"IF(OR(COUNTA(O149:O178)>0,COUNTA(O178:$O$5195)>0),IF(COUNTIF(B169:B178,B178)=10,B178+7,B178),\"\")","v":""},null,"","",null,null,null,0,0,0,0,{"$f":"IFERROR(VLOOKUP(G179,DropDowns!$D$2:$E$151,2,FALSE),\"\")","v":""},{"$f":"IFERROR(VLOOKUP(H179,DropDowns!$F$2:$G$7,2,FALSE),\"Residual categories\")","v":"Residual categories"},null,null,null,0,0,0]
[0,{"$f":"IF(OR(COUNTA(O150:O179)>0,COUNTA(O179:$O$5195)>0),IF(COUNTIF(B170:B179,B179)=10,B179+7,B179),\"\")","v":""},null,"","",null,null,null,0,0,0,0,{"$f":"IFERROR(VLOOKUP(G180,DropDowns!$D$2:$E$151,2,FALSE),\"\")","v":""},{"$f":"IFERROR(VLOOKUP(H180,DropDowns!$F$2:$G$7,2,FALSE),\"Residual categories\")","v":"Residual categories"},null,null,null,0,0,0]
[0,{"$f":"IF(OR(COUNTA(O151:O180)>0,COUNTA(O180:$O$5195)>0),IF(COUNTIF(B171:B180,B180)=10,B180+7,B180),\"\")","v":""},null,"","",null,null,null,0,0,0,0,{"$f":"IFERROR(VLOOKUP(G181,DropDowns!$D$2:$E$151,2,FALSE),\"\")","v":""},{"$f":"IFERROR(VLOOKUP(H181,DropDowns!$F$2:$G$7,2,FALSE),\"Residual categories\")","v":"Residual categories"},null,null,null,0,0,0]
[0,{"$f":"IF(OR(COUNTA(O152:O181)>0,COUNTA(O181:$O$5195)>0),IF(COUNTIF(B172:B181,B181)=10,B181+7,B181),\"\")","v":""},null,"","",null,null,null,0,0,0,0,{"$f":"IFERROR(VLOOKUP(G182,DropDowns!$D$2:$E$151,2,FALSE),\"\")","v":""},{"$f":"IFERROR(VLOOKUP(H182,DropDowns!$F$2:$G$7,2,FALSE),\"Residual categories\")","v":"Residual categories"},null,null,null,0,0,0]
[0,{"$f":"IF(OR(COUNTA(O153:O182)>0,COUNTA(O182:$O$5195)>0),IF(COUNTIF(B173:B182,B182)=10,B182+7,B182),\"\")","v":""},null,"","",null,null,null,0,0,0,0,{"$f":"IFERROR(VLOOKUP(G183,DropDowns!$D$2:$E$151,2,FALSE),\"\")","v":""},{"$f":"IFERROR(VLOOKUP(H183,DropDowns!$F$2:$G$7,2,FALSE),\"Residual categories\")","v":"Residual categories"},null,null,null,0,0,0]
[0,{"$f":"IF(OR(COUNTA(O154:O183)>0,COUNTA(O183:$O$5195)>0),IF(COUNTIF(B174:B183,B183)=10,B183+7,B183),\"\")","v":""},null,"","",null,null,null,0,0,0,0,{"$f":"IFERROR(VLOOKUP(G184,DropDowns!$D$2:$E$151,2,FALSE),\"\")","v":""},{"$f":"IFERROR(VLOOKUP(H184,DropDowns!$F$2:$G$7,2,FALSE),\"Residual categories\")","v":"Residual categories"},null,null,null,0,0,0]
[0,{"$f":"IF(OR(COUNTA(O155:O184)>0,COUNTA(O184:$O$5195)>0),IF(COUNTIF(B175:B184,B184)=10,B184+7,B184),\"\")","v":""},null,"","",null,null,null,0,0,0,0,{"$f":"IFERROR(VLOOKUP(G185,DropDowns!$D$2:$E$151,2,FALSE),\"\")","v":""},{"$f":"IFERROR(VLOOKUP(H185,DropDowns!$F$2:$G$7,2,FALSE),\"Residual categories\")","v":"Residual categories"},null,null,null,0,0,0]
[0,{"$f":"IF(OR(COUNTA(O156:O185)>0,COUNTA(O185:$O$5195)>0),IF(COUNTIF(B176:B185,B185)=10,B185+7,B185),\"\")","v":""},null,"","",null,null,null,0,0,0,0,{"$f":"IFERROR(VLOOKUP(G186,DropDowns!$D$2:$E$151,2,FALSE),\"\")","v":""},{"$f":"IFERROR(VLOOKUP(H186,DropDowns!$F$2:$G$7,2,FALSE),\"Residual categories\")","v":"Residual categories"},null,null,null,0,0,0]
[0,{"$f":"IF(OR(COUNTA(O157:O186)>0,COUNTA(O186:$O$5195)>0),IF(COUNTIF(B177:B186,B186)=10,B186+7,B186),\"\")","v":""},null,"","",null,null,null,0,0,0,0,{"$f":"IFERROR(VLOOKUP(G187,DropDowns!$D$2:$E$151,2,FALSE),\"\")","v":""},{"$f":"IFERROR(VLOOKUP(H187,DropDowns!$F$2:$G$7,2,FALSE),\"Residual categories\")","v":"Residual categories"},null,null,null,0,0,0]
[0,{"$f":"IF(OR(COUNTA(O158:O187)>0,COUNTA(O187:$O$5195)>0),IF(COUNTIF(B178:B187,B187)=10,B187+7,B187),\"\")","v":""},null,"","",null,null,null,0,0,0,0,{"$f":"IFERROR(VLOOKUP(G188,DropDowns!$D$2:$E$151,2,FALSE),\"\")","v":""},{"$f":"IFERROR(VLOOKUP(H188,DropDowns!$F$2:$G$7,2,FALSE),\"Residual categories\")","v":"Residual categories"},null,null,null,0,0,0]
[0,{"$f":"IF(OR(COUNTA(O159:O188)>0,COUNTA(O188:$O$5195)>0),IF(COUNTIF(B179:B188,B188)=10,B188+7,B188),\"\")","v":""},null,"","",null,null,null,0,0,0,0,{"$f":"IFERROR(VLOOKUP(G189,DropDowns!$D$2:$E$151,2,FALSE),\"\")","v":""},{"$f":"IFERROR(VLOOKUP(H189,DropDowns!$F$2:$G$7,2,FALSE),\"Residual categories\")","v":"Residual categories"},null,null,null,0,0,0]
[0,{"$f":"IF(OR(COUNTA(O160:O189)>0,COUNTA(O189:$O$5195)>0),IF(COUNTIF(B180:B189,B189)=10,B189+7,B189),\"\")","v":""},null,"","",null,null,null,0,0,0,0,{"$f":"IFERROR(VLOOKUP(G190,DropDowns!$D$2:$E$151,2,FALSE),\"\")","v":""},{"$f":"IFERROR(VLOOKUP(H190,DropDowns!$F$2:$G$7,2,FALSE),\"Residual categories\")","v":"Residual categories"},null,null,null,0,0,0]
[0,{"$f":"IF(OR(COUNTA(O161:O190)>0,COUNTA(O190:$O$5195)>0),IF(COUNTIF(B181:B190,B190)=10,B190+7,B190),\"\")","v":""},null,"","",null,null,null,0,0,0,0,{"$f":"IFERROR(VLOOKUP(G191,DropDowns!$D$2:$E$151,2,FALSE),\"\")","v":""},{"$f":"IFERROR(VLOOKUP(H191,DropDowns!$F$2:$G$7,2,FALSE),\"Residual categories\")","v":"Residual categories"},null,null,null,0,0,0]
[0,{"$f":"IF(OR(COUNTA(O162:O191)>0,COUNTA(O191:$O$5195)>0),IF(COUNTIF(B182:B191,B191)=10,B191+7,B191),\"\")","v":""},null,"","",null,null,null,0,0,0,0,{"$f":"IFERROR(VLOOKUP(G192,DropDowns!$D$2:$E$151,2,FALSE),\"\")","v":""},{"$f":"IFERROR(VLOOKUP(H192,DropDowns!$F$2:$G$7,2,FALSE),\"Residual categories\")","v":"Residual categories"},null,null,null,0,0,0]
[0,{"$f":"IF(OR(COUNTA(O163:O192)>0,COUNTA(O192:$O$5195)>0),IF(COUNTIF(B183:B192,B192)=10,B192+7,B192),\"\")","v":""},null,"","",null,null,null,0,0,0,0,{"$f":"IFERROR(VLOOKUP(G193,DropDowns!$D$2:$E$151,2,FALSE),\"\")","v":""},{"$f":"IFERROR(VLOOKUP(H193,DropDowns!$F$2:$G$7,2,FALSE),\"Residual categories\")","v":"Residual categories"},null,null,null,0,0,0]
[0,{"$f":"IF(OR(COUNTA(O164:O193)>0,COUNTA(O193:$O$5195)>0),IF(COUNTIF(B184:B193,B193)=10,B193+7,B193),\"\")","v":""},null,"","",null,null,null,0,0,0,0,{"$f":"IFERROR(VLOOKUP(G194,DropDowns!$D$2:$E$151,2,FALSE),\"\")","v":""},{"$f":"IFERROR(VLOOKUP(H194,DropDowns!$F$2:$G$7,2,FALSE),\"Residual categories\")","v":"Residual categories"},null,null,null,0,0,0]
[0,{"$f":"IF(OR(COUNTA(O165:O194)>0,COUNTA(O194:$O$5195)>0),IF(COUNTIF(B185:B194,B194)=10,B194+7,B194),\"\")","v":""},null,"","",null,null,null,0,0,0,0,{"$f":"IFERROR(VLOOKUP(G195,DropDowns!$D$2:$E$151,2,FALSE),\"\")","v":""},{"$f":"IFERROR(VLOOKUP(H195,DropDowns!$F$2:$G$7,2,FALSE),\"Residual categories\")","v":"Residual categories"},null,null,null,0,0,0]
[0,{"$f":"IF(OR(COUNTA(O166:O195)>0,COUNTA(O195:$O$5195)>0),IF(COUNTIF(B186:B195,B195)=10,B195+7,B195),\"\")","v":""},null,"","",null,null,null,0,0,0,0,{"$f":"IFERROR(VLOOKUP(G196,DropDowns!$D$2:$E$151,2,FALSE),\"\")","v":""},{"$f":"IFERROR(VLOOKUP(H196,DropDowns!$F$2:$G$7,2,FALSE),\"Residual categories\")","v":"Residual categories"},null,null,null,0,0,0]
[0,{"$f":"IF(OR(COUNTA(O167:O196)>0,COUNTA(O196:$O$5195)>0),IF(COUNTIF(B187:B196,B196)=10,B196+7,B196),\"\")","v":""},null,"","",null,null,null,0,0,0,0,{"$f":"IFERROR(VLOOKUP(G197,DropDowns!$D$2:$E$151,2,FALSE),\"\")","v":""},{"$f":"IFERROR(VLOOKUP(H197,DropDowns!$F$2:$G$7,2,FALSE),\"Residual categories\")","v":"Residual categories"},null,null,null,0,0,0]
[0,{"$f":"IF(OR(COUNTA(O168:O197)>0,COUNTA(O197:$O$5195)>0),IF(COUNTIF(B188:B197,B197)=10,B197+7,B197),\"\")","v":""},null,"","",null,null,null,0,0,0,0,{"$f":"IFERROR(VLOOKUP(G198,DropDowns!$D$2:$E$151,2,FALSE),\"\")","v":""},{"$f":"IFERROR(VLOOKUP(H198,DropDowns!$F$2:$G$7,2,FALSE),\"Residual categories\")","v":"Residual categories"},null,null,null,0,0,0]
[0,{"$f":"IF(OR(COUNTA(O169:O198)>0,COUNTA(O198:$O$5195)>0),IF(COUNTIF(B189:B198,B198)=10,B198+7,B198),\"\")","v":""},null,{"$f":"IF(E199=1,B199,\"\")","v":""},"",null,null,null,{"$f":"IF(COUNTA(O199:Q199)>0,1,0)","v":0},{"$f":"IF(O199=\"y\",1,0)","v":0},{"$f":"IF(P199=\"y\",1,0)","v":0},{"$f":"IF(Q199=\"y\",1,0)","v":0},{"$f":"IFERROR(VLOOKUP(G199,DropDowns!$D$2:$E$151,2,FALSE),\"\")","v":""},{"$f":"IFERROR(VLOOKUP(H199,DropDowns!$F$2:$G$7,2,FALSE),\"Residual categories\")","v":"Residual categories"},null,null,null,{"$f":"IF(O199=\"yes\",1,0)","v":0},{"$f":"IF(P199=\"yes\",1,0)","v":0},{"$f":"IF(Q199=\"yes\",1,0)","v":0}]
[0,{"$f":"IF(OR(COUNTA(O170:O199)>0,COUNTA(O199:$O$5195)>0),IF(COUNTIF(B190:B199,B199)=10,B199+7,B199),\"\")","v":""},null,"","",null,null,null,0,0,0,0,{"$f":"IFERROR(VLOOKUP(G200,DropDowns!$D$2:$E$151,2,FALSE),\"\")","v":""},{"$f":"IFERROR(VLOOKUP(H200,DropDowns!$F$2:$G$7,2,FALSE),\"Residual categories\")","v":"Residual categories"},null,null,null,0,0,0]
[0,{"$f":"IF(OR(COUNTA(O171:O200)>0,COUNTA(O200:$O$5195)>0),IF(COUNTIF(B191:B200,B200)=10,B200+7,B200),\"\")","v":""},null,"","",null,null,null,0,0,0,0,{"$f":"IFERROR(VLOOKUP(G201,DropDowns!$D$2:$E$151,2,FALSE),\"\")","v":""},{"$f":"IFERROR(VLOOKUP(H201,DropDowns!$F$2:$G$7,2,FALSE),\"Residual categories\")","v":"Residual categories"},null,null,null,0,0,0]
[0,{"$f":"IF(OR(COUNTA(O172:O201)>0,COUNTA(O201:$O$5195)>0),IF(COUNTIF(B192:B201,B201)=10,B201+7,B201),\"\")","v":""},null,"","",null,null,null,0,0,0,0,{"$f":"IFERROR(VLOOKUP(G202,DropDowns!$D$2:$E$151,2,FALSE),\"\")","v":""},{"$f":"IFERROR(VLOOKUP(H202,DropDowns!$F$2:$G$7,2,FALSE),\"Residual categories\")","v":"Residual categories"},null,null,null,0,0,0]
[0,{"$f":"IF(OR(COUNTA(O173:O202)>0,COUNTA(O202:$O$5195)>0),IF(COUNTIF(B193:B202,B202)=10,B202+7,B202),\"\")","v":""},null,"","",null,null,null,0,0,0,0,{"$f":"IFERROR(VLOOKUP(G203,DropDowns!$D$2:$E$151,2,FALSE),\"\")","v":""},{"$f":"IFERROR(VLOOKUP(H203,DropDowns!$F$2:$G$7,2,FALSE),\"Residual categories\")","v":"Residual categories"},null,null,null,0,0,0]
[0,{"$f":"IF(OR(COUNTA(O174:O203)>0,COUNTA(O203:$O$5195)>0),IF(COUNTIF(B194:B203,B203)=10,B203+7,B203),\"\")","v":""},null,"","",null,null,null,0,0,0,0,{"$f":"IFERROR(VLOOKUP(G204,DropDowns!$D$2:$E$151,2,FALSE),\"\")","v":""},{"$f":"IFERROR(VLOOKUP(H204,DropDowns!$F$2:$G$7,2,FALSE),\"Residual categories\")","v":"Residual categories"},null,null,null,0,0,0]
[0,{"$f":"IF(OR(COUNTA(O175:O204)>0,COUNTA(O204:$O$5195)>0),IF(COUNTIF(B195:B204,B204)=10,B204+7,B204),\"\")","v":""},null,"","",null,null,null,0,0,0,0,{"$f":"IFERROR(VLOOKUP(G205,DropDowns!$D$2:$E$151,2,FALSE),\"\")","v":""},{"$f":"IFERROR(VLOOKUP(H205,DropDowns!$F$2:$G$7,2,FALSE),\"Residual categories\")","v":"Residual categories"},null,null,null,0,0,0]
[0,{"$f":"IF(OR(COUNTA(O176:O205)>0,COUNTA(O205:$O$5195)>0),IF(COUNTIF(B196:B205,B205)=10,B205+7,B205),\"\")","v":""},null,"","",null,null,null,0,0,0,0,{"$f":"IFERROR(VLOOKUP(G206,DropDowns!$D$2:$E$151,2,FALSE),\"\")","v":""},{"$f":"IFERROR(VLOOKUP(H206,DropDowns!$F$2:$G$7,2,FALSE),\"Residual categories\")","v":"Residual categories"},null,null,null,0,0,0]
[0,{"$f":"IF(OR(COUNTA(O177:O206)>0,COUNTA(O206:$O$5195)>0),IF(COUNTIF(B197:B206,B206)=10,B206+7,B206),\"\")","v":""},null,"","",null,null,null,0,0,0,0,{"$f":"IFERROR(VLOOKUP(G207,DropDowns!$D$2:$E$151,2,FALSE),\"\")","v":""},{"$f":"IFERROR(VLOOKUP(H207,DropDowns!$F$2:$G$7,2,FALSE),\"Residual categories\")","v":"Residual categories"},null,null,null,0,0,0]
[0,{"$f":"IF(OR(COUNTA(O178:O207)>0,COUNTA(O207:$O$5195)>0),IF(COUNTIF(B198:B207,B207)=10,B207+7,B207),\"\")","v":""},null,"","",null,null,null,0,0,0,0,{"$f":"IFERROR(VLOOKUP(G208,DropDowns!$D$2:$E$151,2,FALSE),\"\")","v":""},{"$f":"IFERROR(VLOOKUP(H208,DropDowns!$F$2:$G$7,2,FALSE),\"Residual categories\")","v":"Residual categories"},null,null,null,0,0,0]
[0,{"$f":"IF(OR(COUNTA(O179:O208)>0,COUNTA(O208:$O$5195)>0),IF(COUNTIF(B199:B208,B208)=10,B208+7,B208),\"\")","v":""},null,"",{"$f":"IF(B209=\"\",\"\",COUNTIF(B200:B209,B209))","v":""},null,null,null,0,0,0,0,{"$f":"IFERROR(VLOOKUP(G209,DropDowns!$D$2:$E$151,2,FALSE),\"\")","v":""},{"$f":"IFERROR(VLOOKUP(H209,DropDowns!$F$2:$G$7,2,FALSE),\"Residual categories\")","v":"Residual categories"},null,null,null,0,0,0]
[0,{"$f":"IF(OR(COUNTA(O180:O209)>0,COUNTA(O209:$O$5195)>0),IF(COUNTIF(B200:B209,B209)=10,B209+7,B209),\"\")","v":""},null,"","",null,null,null,0,0,0,0,{"$f":"IFERROR(VLOOKUP(G210,DropDowns!$D$2:$E$151,2,FALSE),\"\")","v":""},{"$f":"IFERROR(VLOOKUP(H210,DropDowns!$F$2:$G$7,2,FALSE),\"Residual categories\")","v":"Residual categories"},null,null,null,0,0,0]
[0,{"$f":"IF(OR(COUNTA(O181:O210)>0,COUNTA(O210:$O$5195)>0),IF(COUNTIF(B201:B210,B210)=10,B210+7,B210),\"\")","v":""},null,"","",null,null,null,0,0,0,0,{"$f":"IFERROR(VLOOKUP(G211,DropDowns!$D$2:$E$151,2,FALSE),\"\")","v":""},{"$f":"IFERROR(VLOOKUP(H211,DropDowns!$F$2:$G$7,2,FALSE),\"Residual categories\")","v":"Residual categories"},null,null,null,0,0,0]
[{"$f":"$E$2","v":0},{"$f":"IF(OR(COUNTA(O182:O211)>0,COUNTA(O211:$O$5195)>0),IF(COUNTIF(B202:B211,B211)=10,B211+7,B211),\"\")","v":""},null,"","",null,null,null,0,0,0,0,{"$f":"IFERROR(VLOOKUP(G212,DropDowns!$D$2:$E$151,2,FALSE),\"\")","v":""},{"$f":"IFERROR(VLOOKUP(H212,DropDowns!$F$2:$G$7,2,FALSE),\"Residual categories\")","v":"Residual categories"},null,null,null,0,0,0]
[0,{"$f":"IF(OR(COUNTA(O183:O212)>0,COUNTA(O212:$O$5195)>0),IF(COUNTIF(B203:B212,B212)=10,B212+7,B212),\"\")","v":""},null,"","",null,null,null,0,0,0,0,{"$f":"IFERROR(VLOOKUP(G213,DropDowns!$D$2:$E$151,2,FALSE),\"\")","v":""},{"$f":"IFERROR(VLOOKUP(H213,DropDowns!$F$2:$G$7,2,FALSE),\"Residual categories\")","v":"Residual categories"},null,null,null,0,0,0]
[0,{"$f":"IF(OR(COUNTA(O184:O213)>0,COUNTA(O213:$O$5195)>0),IF(COUNTIF(B204:B213,B213)=10,B213+7,B213),\"\")","v":""},null,"","",null,null,null,0,0,0,0,{"$f":"IFERROR(VLOOKUP(G214,DropDowns!$D$2:$E$151,2,FALSE),\"\")","v":""},{"$f":"IFERROR(VLOOKUP(H214,DropDowns!$F$2:$G$7,2,FALSE),\"Residual categories\")","v":"Residual categories"},null,null,null,0,0,0]
[0,{"$f":"IF(OR(COUNTA(O185:O214)>0,COUNTA(O214:$O$5195)>0),IF(COUNTIF(B205:B214,B214)=10,B214+7,B214),\"\")","v":""},null,"","",null,null,null,0,0,0,0,{"$f":"IFERROR(VLOOKUP(G215,DropDowns!$D$2:$E$151,2,FALSE),\"\")","v":""},{"$f":"IFERROR(VLOOKUP(H215,DropDowns!$F$2:$G$7,2,FALSE),\"Residual categories\")","v":"Residual categories"},null,null,null,0,0,0]
[0,{"$f":"IF(OR(COUNTA(O186:O215)>0,COUNTA(O215:$O$5195)>0),IF(COUNTIF(B206:B215,B215)=10,B215+7,B215),\"\")","v":""},null,"","",null,null,null,0,0,0,0,{"$f":"IFERROR(VLOOKUP(G216,DropDowns!$D$2:$E$151,2,FALSE),\"\")","v":""},{"$f":"IFERROR(VLOOKUP(H216,DropDowns!$F$2:$G$7,2,FALSE),\"Residual categories\")","v":"Residual categories"},null,null,null,0,0,0]
[0,{"$f":"IF(OR(COUNTA(O187:O216)>0,COUNTA(O216:$O$5195)>0),IF(COUNTIF(B207:B216,B216)=10,B216+7,B216),\"\")","v":""},null,"","",null,null,null,0,0,0,0,{"$f":"IFERROR(VLOOKUP(G217,DropDowns!$D$2:$E$151,2,FALSE),\"\")","v":""},{"$f":"IFERROR(VLOOKUP(H217,DropDowns!$F$2:$G$7,2,FALSE),\"Residual categories\")","v":"Residual categories"},null,null,null,0,0,0]
[0,{"$f":"IF(OR(COUNTA(O188:O217)>0,COUNTA(O217:$O$5195)>0),IF(COUNTIF(B208:B217,B217)=10,B217+7,B217),\"\")","v":""},null,"","",null,null,null,0,0,0,0,{"$f":"IFERROR(VLOOKUP(G218,DropDowns!$D$2:$E$151,2,FALSE),\"\")","v":""},{"$f":"IFERROR(VLOOKUP(H218,DropDowns!$F$2:$G$7,2,FALSE),\"Residual categories\")","v":"Residual categories"},null,null,null,0,0,0]
[0,{"$f":"IF(OR(COUNTA(O189:O218)>0,COUNTA(O218:$O$5195)>0),IF(COUNTIF(B209:B218,B218)=10,B218+7,B218),\"\")","v":""},null,"","",null,null,null,0,0,0,0,{"$f":"IFERROR(VLOOKUP(G219,DropDowns!$D$2:$E$151,2,FALSE),\"\")","v":""},{"$f":"IFERROR(VLOOKUP(H219,DropDowns!$F$2:$G$7,2,FALSE),\"Residual categories\")","v":"Residual categories"},null,null,null,0,0,0]
[0,{"$f":"IF(OR(COUNTA(O190:O219)>0,COUNTA(O219:$O$5195)>0),IF(COUNTIF(B210:B219,B219)=10,B219+7,B219),\"\")","v":""},null,"","",null,null,null,0,0,0,0,{"$f":"IFERROR(VLOOKUP(G220,DropDowns!$D$2:$E$151,2,FALSE),\"\")","v":""},{"$f":"IFERROR(VLOOKUP(H220,DropDowns!$F$2:$G$7,2,FALSE),\"Residual categories\")","v":"Residual categories"},null,null,null,0,0,0]
[0,{"$f":"IF(OR(COUNTA(O191:O220)>0,COUNTA(O220:$O$5195)>0),IF(COUNTIF(B211:B220,B220)=10,B220+7,B220),\"\")","v":""},null,"","",null,null,null,0,0,0,0,{"$f":"IFERROR(VLOOKUP(G221,DropDowns!$D$2:$E$151,2,FALSE),\"\")","v":""},{"$f":"IFERROR(VLOOKUP(H221,DropDowns!$F$2:$G$7,2,FALSE),\"Residual categories\")","v":"Residual categories"},null,null,null,0,0,0]
[0,{"$f":"IF(OR(COUNTA(O192:O221)>0,COUNTA(O221:$O$5195)>0),IF(COUNTIF(B212:B221,B221)=10,B221+7,B221),\"\")","v":""},null,"","",null,null,null,0,0,0,0,{"$f":"IFERROR(VLOOKUP(G222,DropDowns!$D$2:$E$151,2,FALSE),\"\")","v":""},{"$f":"IFERROR(VLOOKUP(H222,DropDowns!$F$2:$G$7,2,FALSE),\"Residual categories\")","v":"Residual categories"},null,null,null,0,0,0]
[0,{"$f":"IF(OR(COUNTA(O193:O222)>0,COUNTA(O222:$O$5195)>0),IF(COUNTIF(B213:B222,B222)=10,B222+7,B222),\"\")","v":""},null,"","",null,null,null,0,0,0,0,{"$f":"IFERROR(VLOOKUP(G223,DropDowns!$D$2:$E$151,2,FALSE),\"\")","v":""},{"$f":"IFERROR(VLOOKUP(H223,DropDowns!$F$2:$G$7,2,FALSE),\"Residual categories\")","v":"Residual categories"},null,null,null,0,0,0]
[0,{"$f":"IF(OR(COUNTA(O194:O223)>0,COUNTA(O223:$O$5195)>0),IF(COUNTIF(B214:B223,B223)=10,B223+7,B223),\"\")","v":""},null,"","",null,null,null,0,0,0,0,{"$f":"IFERROR(VLOOKUP(G224,DropDowns!$D$2:$E$151,2,FALSE),\"\")","v":""},{"$f":"IFERROR(VLOOKUP(H224,DropDowns!$F$2:$G$7,2,FALSE),\"Residual categories\")","v":"Residual categories"},null,null,null,0,0,0]
[0,{"$f":"IF(OR(COUNTA(O195:O224)>0,COUNTA(O224:$O$5195)>0),IF(COUNTIF(B215:B224,B224)=10,B224+7,B224),\"\")","v":""},null,"","",null,null,null,0,0,0,0,{"$f":"IFERROR(VLOOKUP(G225,DropDowns!$D$2:$E$151,2,FALSE),\"\")","v":""},{"$f":"IFERROR(VLOOKUP(H225,DropDowns!$F$2:$G$7,2,FALSE),\"Residual categories\")","v":"Residual categories"},null,null,null,0,0,0]
[0,{"$f":"IF(OR(COUNTA(O196:O225)>0,COUNTA(O225:$O$5195)>0),IF(COUNTIF(B216:B225,B225)=10,B225+7,B225),\"\")","v":""},null,"","",null,null,null,0,0,0,0,{"$f":"IFERROR(VLOOKUP(G226,DropDowns!$D$2:$E$151,2,FALSE),\"\")","v":""},{"$f":"IFERROR(VLOOKUP(H226,DropDowns!$F$2:$G$7,2,FALSE),\"Residual categories\")","v":"Residual categories"},null,null,null,0,0,0]
[0,{"$f":"IF(OR(COUNTA(O197:O226)>0,COUNTA(O226:$O$5195)>0),IF(COUNTIF(B217:B226,B226)=10,B226+7,B226),\"\")","v":""},null,"","",null,null,null,0,0,0,0,{"$f":"IFERROR(VLOOKUP(G227,DropDowns!$D$2:$E$151,2,FALSE),\"\")","v":""},{"$f":"IFERROR(VLOOKUP(H227,DropDowns!$F$2:$G$7,2,FALSE),\"Residual categories\")","v":"Residual categories"},null,null,null,0,0,0]
[0,{"$f":"IF(OR(COUNTA(O198:O227)>0,COUNTA(O227:$O$5195)>0),IF(COUNTIF(B218:B227,B227)=10,B227+7,B227),\"\")","v":""},null,"","",null,null,null,0,0,0,0,{"$f":"IFERROR(VLOOKUP(G228,DropDowns!$D$2:$E$151,2,FALSE),\"\")","v":""},{"$f":"IFERROR(VLOOKUP(H228,DropDowns!$F$2:$G$7,2,FALSE),\"Residual categories\")","v":"Residual categories"},null,null,null,0,0,0]
[0,{"$f":"IF(OR(COUNTA(O199:O228)>0,COUNTA(O228:$O$5195)>0),IF(COUNTIF(B219:B228,B228)=10,B228+7,B228),\"\")","v":""},null,"","",null,null,null,0,0,0,0,{"$f":"IFERROR(VLOOKUP(G229,DropDowns!$D$2:$E$151,2,FALSE),\"\")","v":""},{"$f":"IFERROR(VLOOKUP(H229,DropDowns!$F$2:$G$7,2,FALSE),\"Residual categories\")","v":"Residual categories"},null,null,null,0,0,0]
[0,{"$f":"IF(OR(COUNTA(O200:O229)>0,COUNTA(O229:$O$5195)>0),IF(COUNTIF(B220:B229,B229)=10,B229+7,B229),\"\")","v":""},null,"","",null,null,null,0,0,0,0,{"$f":"IFERROR(VLOOKUP(G230,DropDowns!$D$2:$E$151,2,FALSE),\"\")","v":""},{"$f":"IFERROR(VLOOKUP(H230,DropDowns!$F$2:$G$7,2,FALSE),\"Residual categories\")","v":"Residual categories"},null,null,null,0,0,0]
[0,{"$f":"IF(OR(COUNTA(O201:O230)>0,COUNTA(O230:$O$5195)>0),IF(COUNTIF(B221:B230,B230)=10,B230+7,B230),\"\")","v":""},null,"","",null,null,null,0,0,0,0,{"$f":"IFERROR(VLOOKUP(G231,DropDowns!$D$2:$E$151,2,FALSE),\"\")","v":""},{"$f":"IFERROR(VLOOKUP(H231,DropDowns!$F$2:$G$7,2,FALSE),\"Residual categories\")","v":"Residual categories"},null,null,null,0,0,0]
[0,{"$f":"IF(OR(COUNTA(O202:O231)>0,COUNTA(O231:$O$5195)>0),IF(COUNTIF(B222:B231,B231)=10,B231+7,B231),\"\")","v":""},null,"","",null,null,null,0,0,0,0,{"$f":"IFERROR(VLOOKUP(G232,DropDowns!$D$2:$E$151,2,FALSE),\"\")","v":""},{"$f":"IFERROR(VLOOKUP(H232,DropDowns!$F$2:$G$7,2,FALSE),\"Residual categories\")","v":"Residual categories"},null,null,null,0,0,0]
[0,{"$f":"IF(OR(COUNTA(O203:O232)>0,COUNTA(O232:$O$5195)>0),IF(COUNTIF(B223:B232,B232)=10,B232+7,B232),\"\")","v":""},null,"","",null,null,null,0,0,0,0,{"$f":"IFERROR(VLOOKUP(G233,DropDowns!$D$2:$E$151,2,FALSE),\"\")","v":""},{"$f":"IFERROR(VLOOKUP(H233,DropDowns!$F$2:$G$7,2,FALSE),\"Residual categories\")","v":"Residual categories"},null,null,null,0,0,0]
[0,{"$f":"IF(OR(COUNTA(O204:O233)>0,COUNTA(O233:$O$5195)>0),IF(COUNTIF(B224:B233,B233)=10,B233+7,B233),\"\")","v":""},null,"","",null,null,null,0,0,0,0,{"$f":"IFERROR(VLOOKUP(G234,DropDowns!$D$2:$E$151,2,FALSE),\"\")","v":""},{"$f":"IFERROR(VLOOKUP(H234,DropDowns!$F$2:$G$7,2,FALSE),\"Residual categories\")","v":"Residual categories"},null,null,null,0,0,0]
[0,{"$f":"IF(OR(COUNTA(O205:O234)>0,COUNTA(O234:$O$5195)>0),IF(COUNTIF(B225:B234,B234)=10,B234+7,B234),\"\")","v":""},null,"","",null,null,null,0,0,0,0,{"$f":"IFERROR(VLOOKUP(G235,DropDowns!$D$2:$E$151,2,FALSE),\"\")","v":""},{"$f":"IFERROR(VLOOKUP(H235,DropDowns!$F$2:$G$7,2,FALSE),\"Residual categories\")","v":"Residual categories"},null,null,null,0,0,0]
[0,{"$f":"IF(OR(COUNTA(O206:O235)>0,COUNTA(O235:$O$5195)>0),IF(COUNTIF(B226:B235,B235)=10,B235+7,B235),\"\")","v":""},null,"","",null,null,null,0,0,0,0,{"$f":"IFERROR(VLOOKUP(G236,DropDowns!$D$2:$E$151,2,FALSE),\"\")","v":""},{"$f":"IFERROR(VLOOKUP(H236,DropDowns!$F$2:$G$7,2,FALSE),\"Residual categories\")","v":"Residual categories"},null,null,null,0,0,0]
[0,{"$f":"IF(OR(COUNTA(O207:O236)>0,COUNTA(O236:$O$5195)>0),IF(COUNTIF(B227:B236,B236)=10,B236+7,B236),\"\")","v":""},null,"","",null,null,null,0,0,0,0,{"$f":"IFERROR(VLOOKUP(G237,DropDowns!$D$2:$E$151,2,FALSE),\"\")","v":""},{"$f":"IFERROR(VLOOKUP(H237,DropDowns!$F$2:$G$7,2,FALSE),\"Residual categories\")","v":"Residual categories"},null,null,null,0,0,0]
[0,{"$f":"IF(OR(COUNTA(O208:O237)>0,COUNTA(O237:$O$5195)>0),IF(COUNTIF(B228:B237,B237)=10,B237+7,B237),\"\")","v":""},null,"","",null,null,null,0,0,0,0,{"$f":"IFERROR(VLOOKUP(G238,DropDowns!$D$2:$E$151,2,FALSE),\"\")","v":""},{"$f":"IFERROR(VLOOKUP(H238,DropDowns!$F$2:$G$7,2,FALSE),\"Residual categories\")","v":"Residual categories"},null,null,null,0,0,0]
[0,{"$f":"IF(OR(COUNTA(O209:O238)>0,COUNTA(O238:$O$5195)>0),IF(COUNTIF(B229:B238,B238)=10,B238+7,B238),\"\")","v":""},null,"","",null,null,null,0,0,0,0,{"$f":"IFERROR(VLOOKUP(G239,DropDowns!$D$2:$E$151,2,FALSE),\"\")","v":""},{"$f":"IFERROR(VLOOKUP(H239,DropDowns!$F$2:$G$7,2,FALSE),\"Residual categories\")","v":"Residual categories"},null,null,null,0,0,0]
[0,{"$f":"IF(OR(COUNTA(O210:O239)>0,COUNTA(O239:$O$5195)>0),IF(COUNTIF(B230:B239,B239)=10,B239+7,B239),\"\")","v":""},null,"","",null,null,null,0,0,0,0,{"$f":"IFERROR(VLOOKUP(G240,DropDowns!$D$2:$E$151,2,FALSE),\"\")","v":""},{"$f":"IFERROR(VLOOKUP(H240,DropDowns!$F$2:$G$7,2,FALSE),\"Residual categories\")","v":"Residual categories"},null,null,null,0,0,0]
[0,{"$f":"IF(OR(COUNTA(O211:O240)>0,COUNTA(O240:$O$5195)>0),IF(COUNTIF(B231:B240,B240)=10,B240+7,B240),\"\")","v":""},null,"","",null,null,null,0,0,0,0,{"$f":"IFERROR(VLOOKUP(G241,DropDowns!$D$2:$E$151,2,FALSE),\"\")","v":""},{"$f":"IFERROR(VLOOKUP(H241,DropDowns!$F$2:$G$7,2,FALSE),\"Residual categories\")","v":"Residual categories"},null,null,null,0,0,0]
[0,{"$f":"IF(OR(COUNTA(O212:O241)>0,COUNTA(O241:$O$5195)>0),IF(COUNTIF(B232:B241,B241)=10,B241+7,B241),\"\")","v":""},null,"","",null,null,null,0,0,0,0,{"$f":"IFERROR(VLOOKUP(G242,DropDowns!$D$2:$E$151,2,FALSE),\"\")","v":""},{"$f":"IFERROR(VLOOKUP(H242,DropDowns!$F$2:$G$7,2,FALSE),\"Residual categories\")","v":"Residual categories"},null,null,null,0,0,0]
[0,{"$f":"IF(OR(COUNTA(O213:O242)>0,COUNTA(O242:$O$5195)>0),IF(COUNTIF(B233:B242,B242)=10,B242+7,B242),\"\")","v":""},null,"","",null,null,null,0,0,0,0,{"$f":"IFERROR(VLOOKUP(G243,DropDowns!$D$2:$E$151,2,FALSE),\"\")","v":""},{"$f":"IFERROR(VLOOKUP(H243,DropDowns!$F$2:$G$7,2,FALSE),\"Residual categories\")","v":"Residual categories"},null,null,null,0,0,0]
[0,{"$f":"IF(OR(COUNTA(O214:O243)>0,COUNTA(O243:$O$5195)>0),IF(COUNTIF(B234:B243,B243)=10,B243+7,B243),\"\")","v":""},null,"","",null,null,null,0,0,0,0,{"$f":"IFERROR(VLOOKUP(G244,DropDowns!$D$2:$E$151,2,FALSE),\"\")","v":""},{"$f":"IFERROR(VLOOKUP(H244,DropDowns!$F$2:$G$7,2,FALSE),\"Residual categories\")","v":"Residual categories"},null,null,null,0,0,0]
[0,{"$f":"IF(OR(COUNTA(O215:O244)>0,COUNTA(O244:$O$5195)>0),IF(COUNTIF(B235:B244,B244)=10,B244+7,B244),\"\")","v":""},null,"","",null,null,null,0,0,0,0,{"$f":"IFERROR(VLOOKUP(G245,DropDowns!$D$2:$E$151,2,FALSE),\"\")","v":""},{"$f":"IFERROR(VLOOKUP(H245,DropDowns!$F$2:$G$7,2,FALSE),\"Residual categories\")","v":"Residual categories"},null,null,null,0,0,0]
[0,{"$f":"IF(OR(COUNTA(O216:O245)>0,COUNTA(O245:$O$5195)>0),IF(COUNTIF(B236:B245,B245)=10,B245+7,B245),\"\")","v":""},null,"","",null,null,null,0,0,0,0,{"$f":"IFERROR(VLOOKUP(G246,DropDowns!$D$2:$E$151,2,FALSE),\"\")","v":""},{"$f":"IFERROR(VLOOKUP(H246,DropDowns!$F$2:$G$7,2,FALSE),\"Residual categories\")","v":"Residual categories"},null,null,null,0,0,0]
[0,{"$f":"IF(OR(COUNTA(O217:O246)>0,COUNTA(O246:$O$5195)>0),IF(COUNTIF(B237:B246,B246)=10,B246+7,B246),\"\")","v":""},null,"","",null,null,null,0,0,0,0,{"$f":"IFERROR(VLOOKUP(G247,DropDowns!$D$2:$E$151,2,FALSE),\"\")","v":""},{"$f":"IFERROR(VLOOKUP(H247,DropDowns!$F$2:$G$7,2,FALSE),\"Residual categories\")","v":"Residual categories"},null,null,null,0,0,0]
[0,{"$f":"IF(OR(COUNTA(O218:O247)>0,COUNTA(O247:$O$5195)>0),IF(COUNTIF(B238:B247,B247)=10,B247+7,B247),\"\")","v":""},null,"","",null,null,null,0,0,0,0,{"$f":"IFERROR(VLOOKUP(G248,DropDowns!$D$2:$E$151,2,FALSE),\"\")","v":""},{"$f":"IFERROR(VLOOKUP(H248,DropDowns!$F$2:$G$7,2,FALSE),\"Residual categories\")","v":"Residual categories"},null,null,null,0,0,0]
[0,{"$f":"IF(OR(COUNTA(O219:O248)>0,COUNTA(O248:$O$5195)>0),IF(COUNTIF(B239:B248,B248)=10,B248+7,B248),\"\")","v":""},null,"","",null,null,null,0,0,0,0,{"$f":"IFERROR(VLOOKUP(G249,DropDowns!$D$2:$E$151,2,FALSE),\"\")","v":""},{"$f":"IFERROR(VLOOKUP(H249,DropDowns!$F$2:$G$7,2,FALSE),\"Residual categories\")","v":"Residual categories"},null,null,null,0,0,0]
[0,{"$f":"IF(OR(COUNTA(O220:O249)>0,COUNTA(O249:$O$5195)>0),IF(COUNTIF(B240:B249,B249)=10,B249+7,B249),\"\")","v":""},null,"","",null,null,null,0,0,0,0,{"$f":"IFERROR(VLOOKUP(G250,DropDowns!$D$2:$E$151,2,FALSE),\"\")","v":""},{"$f":"IFERROR(VLOOKUP(H250,DropDowns!$F$2:$G$7,2,FALSE),\"Residual categories\")","v":"Residual categories"},null,null,null,0,0,0]
[0,{"$f":"IF(OR(COUNTA(O221:O250)>0,COUNTA(O250:$O$5195)>0),IF(COUNTIF(B241:B250,B250)=10,B250+7,B250),\"\")","v":""},null,"","",null,null,null,0,0,0,0,{"$f":"IFERROR(VLOOKUP(G251,DropDowns!$D$2:$E$151,2,FALSE),\"\")","v":""},{"$f":"IFERROR(VLOOKUP(H251,DropDowns!$F$2:$G$7,2,FALSE),\"Residual categories\")","v":"Residual categories"},null,null,null,0,0,0]
[0,{"$f":"IF(OR(COUNTA(O222:O251)>0,COUNTA(O251:$O$5195)>0),IF(COUNTIF(B242:B251,B251)=10,B251+7,B251),\"\")","v":""},null,"","",null,null,null,0,0,0,0,{"$f":"IFERROR(VLOOKUP(G252,DropDowns!$D$2:$E$151,2,FALSE),\"\")","v":""},{"$f":"IFERROR(VLOOKUP(H252,DropDowns!$F$2:$G$7,2,FALSE),\"Residual categories\")","v":"Residual categories"},null,null,null,0,0,0]
[0,{"$f":"IF(OR(COUNTA(O223:O252)>0,COUNTA(O252:$O$5195)>0),IF(COUNTIF(B243:B252,B252)=10,B252+7,B252),\"\")","v":""},null,"","",null,null,null,0,0,0,0,{"$f":"IFERROR(VLOOKUP(G253,DropDowns!$D$2:$E$151,2,FALSE),\"\")","v":""},{"$f":"IFERROR(VLOOKUP(H253,DropDowns!$F$2:$G$7,2,FALSE),\"Residual categories\")","v":"Residual categories"},null,null,null,0,0,0]
[0,{"$f":"IF(OR(COUNTA(O224:O253)>0,COUNTA(O253:$O$5195)>0),IF(COUNTIF(B244:B253,B253)=10,B253+7,B253),\"\")","v":""},null,"","",null,null,null,0,0,0,0,{"$f":"IFERROR(VLOOKUP(G254,DropDowns!$D$2:$E$151,2,FALSE),\"\")","v":""},{"$f":"IFERROR(VLOOKUP(H254,DropDowns!$F$2:$G$7,2,FALSE),\"Residual categories\")","v":"Residual categories"},null,null,null,0,0,0]
[0,{"$f":"IF(OR(COUNTA(O225:O254)>0,COUNTA(O254:$O$5195)>0),IF(COUNTIF(B245:B254,B254)=10,B254+7,B254),\"\")","v":""},null,"","",null,null,null,0,0,0,0,{"$f":"IFERROR(VLOOKUP(G255,DropDowns!$D$2:$E$151,2,FALSE),\"\")","v":""},{"$f":"IFERROR(VLOOKUP(H255,DropDowns!$F$2:$G$7,2,FALSE),\"Residual categories\")","v":"Residual categories"},null,null,null,0,0,0]
[0,{"$f":"IF(OR(COUNTA(O226:O255)>0,COUNTA(O255:$O$5195)>0),IF(COUNTIF(B246:B255,B255)=10,B255+7,B255),\"\")","v":""},null,"","",null,null,null,0,0,0,0,{"$f":"IFERROR(VLOOKUP(G256,DropDowns!$D$2:$E$151,2,FALSE),\"\")","v":""},{"$f":"IFERROR(VLOOKUP(H256,DropDowns!$F$2:$G$7,2,FALSE),\"Residual categories\")","v":"Residual categories"},null,null,null,0,0,0]
[0,{"$f":"IF(OR(COUNTA(O227:O256)>0,COUNTA(O256:$O$5195)>0),IF(COUNTIF(B247:B256,B256)=10,B256+7,B256),\"\")","v":""},null,"","",null,null,null,0,0,0,0,{"$f":"IFERROR(VLOOKUP(G257,DropDowns!$D$2:$E$151,2,FALSE),\"\")","v":""},{"$f":"IFERROR(VLOOKUP(H257,DropDowns!$F$2:$G$7,2,FALSE),\"Residual categories\")","v":"Residual categories"},null,null,null,0,0,0]
[0,{"$f":"IF(OR(COUNTA(O228:O257)>0,COUNTA(O257:$O$5195)>0),IF(COUNTIF(B248:B257,B257)=10,B257+7,B257),\"\")","v":""},null,"","",null,null,null,0,0,0,0,{"$f":"IFERROR(VLOOKUP(G258,DropDowns!$D$2:$E$151,2,FALSE),\"\")","v":""},{"$f":"IFERROR(VLOOKUP(H258,DropDowns!$F$2:$G$7,2,FALSE),\"Residual categories\")","v":"Residual categories"},null,null,null,0,0,0]
[0,{"$f":"IF(OR(COUNTA(O229:O258)>0,COUNTA(O258:$O$5195)>0),IF(COUNTIF(B249:B258,B258)=10,B258+7,B258),\"\")","v":""},null,"","",null,null,null,0,0,0,0,{"$f":"IFERROR(VLOOKUP(G259,DropDowns!$D$2:$E$151,2,FALSE),\"\")","v":""},{"$f":"IFERROR(VLOOKUP(H259,DropDowns!$F$2:$G$7,2,FALSE),\"Residual categories\")","v":"Residual categories"},null,null,null,0,0,0]
[0,{"$f":"IF(OR(COUNTA(O230:O259)>0,COUNTA(O259:$O$5195)>0),IF(COUNTIF(B250:B259,B259)=10,B259+7,B259),\"\")","v":""},null,"","",null,null,null,0,0,0,0,{"$f":"IFERROR(VLOOKUP(G260,DropDowns!$D$2:$E$151,2,FALSE),\"\")","v":""},{"$f":"IFERROR(VLOOKUP(H260,DropDowns!$F$2:$G$7,2,FALSE),\"Residual categories\")","v":"Residual categories"},null,null,null,0,0,0]
[0,{"$f":"IF(OR(COUNTA(O231:O260)>0,COUNTA(O260:$O$5195)>0),IF(COUNTIF(B251:B260,B260)=10,B260+7,B260),\"\")","v":""},null,"","",null,null,null,0,0,0,0,{"$f":"IFERROR(VLOOKUP(G261,DropDowns!$D$2:$E$151,2,FALSE),\"\")","v":""},{"$f":"IFERROR(VLOOKUP(H261,DropDowns!$F$2:$G$7,2,FALSE),\"Residual categories\")","v":"Residual categories"},null,null,null,0,0,0]
[0,{"$f":"IF(OR(COUNTA(O232:O261)>0,COUNTA(O261:$O$5195)>0),IF(COUNTIF(B252:B261,B261)=10,B261+7,B261),\"\")","v":""},null,"","",null,null,null,0,0,0,0,{"$f":"IFERROR(VLOOKUP(G262,DropDowns!$D$2:$E$151,2,FALSE),\"\")","v":""},{"$f":"IFERROR(VLOOKUP(H262,DropDowns!$F$2:$G$7,2,FALSE),\"Residual categories\")","v":"Residual categories"},null,null,null,0,0,0]
[0,{"$f":"IF(OR(COUNTA(O233:O262)>0,COUNTA(O262:$O$5195)>0),IF(COUNTIF(B253:B262,B262)=10,B262+7,B262),\"\")","v":""},null,{"$f":"IF(E263=1,B263,\"\")","v":""},"",null,null,null,{"$f":"IF(COUNTA(O263:Q263)>0,1,0)","v":0},{"$f":"IF(O263=\"y\",1,0)","v":0},{"$f":"IF(P263=\"y\",1,0)","v":0},{"$f":"IF(Q263=\"y\",1,0)","v":0},{"$f":"IFERROR(VLOOKUP(G263,DropDowns!$D$2:$E$151,2,FALSE),\"\")","v":""},{"$f":"IFERROR(VLOOKUP(H263,DropDowns!$F$2:$G$7,2,FALSE),\"Residual categories\")","v":"Residual categories"},null,null,null,{"$f":"IF(O263=\"yes\",1,0)","v":0},{"$f":"IF(P263=\"yes\",1,0)","v":0},{"$f":"IF(Q263=\"yes\",1,0)","v":0}]
[0,{"$f":"IF(OR(COUNTA(O234:O263)>0,COUNTA(O263:$O$5195)>0),IF(COUNTIF(B254:B263,B263)=10,B263+7,B263),\"\")","v":""},null,"","",null,null,null,0,0,0,0,{"$f":"IFERROR(VLOOKUP(G264,DropDowns!$D$2:$E$151,2,FALSE),\"\")","v":""},{"$f":"IFERROR(VLOOKUP(H264,DropDowns!$F$2:$G$7,2,FALSE),\"Residual categories\")","v":"Residual categories"},null,null,null,0,0,0]
[0,{"$f":"IF(OR(COUNTA(O235:O264)>0,COUNTA(O264:$O$5195)>0),IF(COUNTIF(B255:B264,B264)=10,B264+7,B264),\"\")","v":""},null,"","",null,null,null,0,0,0,0,{"$f":"IFERROR(VLOOKUP(G265,DropDowns!$D$2:$E$151,2,FALSE),\"\")","v":""},{"$f":"IFERROR(VLOOKUP(H265,DropDowns!$F$2:$G$7,2,FALSE),\"Residual categories\")","v":"Residual categories"},null,null,null,0,0,0]
[0,{"$f":"IF(OR(COUNTA(O236:O265)>0,COUNTA(O265:$O$5195)>0),IF(COUNTIF(B256:B265,B265)=10,B265+7,B265),\"\")","v":""},null,"","",null,null,null,0,0,0,0,{"$f":"IFERROR(VLOOKUP(G266,DropDowns!$D$2:$E$151,2,FALSE),\"\")","v":""},{"$f":"IFERROR(VLOOKUP(H266,DropDowns!$F$2:$G$7,2,FALSE),\"Residual categories\")","v":"Residual categories"},null,null,null,0,0,0]
[0,{"$f":"IF(OR(COUNTA(O237:O266)>0,COUNTA(O266:$O$5195)>0),IF(COUNTIF(B257:B266,B266)=10,B266+7,B266),\"\")","v":""},null,"","",null,null,null,0,0,0,0,{"$f":"IFERROR(VLOOKUP(G267,DropDowns!$D$2:$E$151,2,FALSE),\"\")","v":""},{"$f":"IFERROR(VLOOKUP(H267,DropDowns!$F$2:$G$7,2,FALSE),\"Residual categories\")","v":"Residual categories"},null,null,null,0,0,0]
[0,{"$f":"IF(OR(COUNTA(O238:O267)>0,COUNTA(O267:$O$5195)>0),IF(COUNTIF(B258:B267,B267)=10,B267+7,B267),\"\")","v":""},null,"","",null,null,null,0,0,0,0,{"$f":"IFERROR(VLOOKUP(G268,DropDowns!$D$2:$E$151,2,FALSE),\"\")","v":""},{"$f":"IFERROR(VLOOKUP(H268,DropDowns!$F$2:$G$7,2,FALSE),\"Residual categories\")","v":"Residual categories"},null,null,null,0,0,0]
[0,{"$f":"IF(OR(COUNTA(O239:O268)>0,COUNTA(O268:$O$5195)>0),IF(COUNTIF(B259:B268,B268)=10,B268+7,B268),\"\")","v":""},null,"","",null,null,null,0,0,0,0,{"$f":"IFERROR(VLOOKUP(G269,DropDowns!$D$2:$E$151,2,FALSE),\"\")","v":""},{"$f":"IFERROR(VLOOKUP(H269,DropDowns!$F$2:$G$7,2,FALSE),\"Residual categories\")","v":"Residual categories"},null,null,null,0,0,0]
[0,{"$f":"IF(OR(COUNTA(O240:O269)>0,COUNTA(O269:$O$5195)>0),IF(COUNTIF(B260:B269,B269)=10,B269+7,B269),\"\")","v":""},null,"","",null,null,null,0,0,0,0,{"$f":"IFERROR(VLOOKUP(G270,DropDowns!$D$2:$E$151,2,FALSE),\"\")","v":""},{"$f":"IFERROR(VLOOKUP(H270,DropDowns!$F$2:$G$7,2,FALSE),\"Residual categories\")","v":"Residual categories"},null,null,null,0,0,0]
[0,{"$f":"IF(OR(COUNTA(O241:O270)>0,COUNTA(O270:$O$5195)>0),IF(COUNTIF(B261:B270,B270)=10,B270+7,B270),\"\")","v":""},null,"","",null,null,null,0,0,0,0,{"$f":"IFERROR(VLOOKUP(G271,DropDowns!$D$2:$E$151,2,FALSE),\"\")","v":""},{"$f":"IFERROR(VLOOKUP(H271,DropDowns!$F$2:$G$7,2,FALSE),\"Residual categories\")","v":"Residual categories"},null,null,null,0,0,0]
[0,{"$f":"IF(OR(COUNTA(O242:O271)>0,COUNTA(O271:$O$5195)>0),IF(COUNTIF(B262:B271,B271)=10,B271+7,B271),\"\")","v":""},null,"","",null,null,null,0,0,0,0,{"$f":"IFERROR(VLOOKUP(G272,DropDowns!$D$2:$E$151,2,FALSE),\"\")","v":""},{"$f":"IFERROR(VLOOKUP(H272,DropDowns!$F$2:$G$7,2,FALSE),\"Residual categories\")","v":"Residual categories"},null,null,null,0,0,0]
[0,{"$f":"IF(OR(COUNTA(O243:O272)>0,COUNTA(O272:$O$5195)>0),IF(COUNTIF(B263:B272,B272)=10,B272+7,B272),\"\")","v":""},null,"",{"$f":"IF(B273=\"\",\"\",COUNTIF(B264:B273,B273))","v":""},null,null,null,0,0,0,0,{"$f":"IFERROR(VLOOKUP(G273,DropDowns!$D$2:$E$151,2,FALSE),\"\")","v":""},{"$f":"IFERROR(VLOOKUP(H273,DropDowns!$F$2:$G$7,2,FALSE),\"Residual categories\")","v":"Residual categories"},null,null,null,0,0,0]
[0,{"$f":"IF(OR(COUNTA(O244:O273)>0,COUNTA(O273:$O$5195)>0),IF(COUNTIF(B264:B273,B273)=10,B273+7,B273),\"\")","v":""},null,"","",null,null,null,0,0,0,0,{"$f":"IFERROR(VLOOKUP(G274,DropDowns!$D$2:$E$151,2,FALSE),\"\")","v":""},{"$f":"IFERROR(VLOOKUP(H274,DropDowns!$F$2:$G$7,2,FALSE),\"Residual categories\")","v":"Residual categories"},null,null,null,0,0,0]
[0,{"$f":"IF(OR(COUNTA(O245:O274)>0,COUNTA(O274:$O$5195)>0),IF(COUNTIF(B265:B274,B274)=10,B274+7,B274),\"\")","v":""},null,"","",null,null,null,0,0,0,0,{"$f":"IFERROR(VLOOKUP(G275,DropDowns!$D$2:$E$151,2,FALSE),\"\")","v":""},{"$f":"IFERROR(VLOOKUP(H275,DropDowns!$F$2:$G$7,2,FALSE),\"Residual categories\")","v":"Residual categories"},null,null,null,0,0,0]
[{"$f":"$E$2","v":0},{"$f":"IF(OR(COUNTA(O246:O275)>0,COUNTA(O275:$O$5195)>0),IF(COUNTIF(B266:B275,B275)=10,B275+7,B275),\"\")","v":""},null,"","",null,null,null,0,0,0,0,{"$f":"IFERROR(VLOOKUP(G276,DropDowns!$D$2:$E$151,2,FALSE),\"\")","v":""},{"$f":"IFERROR(VLOOKUP(H276,DropDowns!$F$2:$G$7,2,FALSE),\"Residual categories\")","v":"Residual categories"},null,null,null,0,0,0]
[0,{"$f":"IF(OR(COUNTA(O247:O276)>0,COUNTA(O276:$O$5195)>0),IF(COUNTIF(B267:B276,B276)=10,B276+7,B276),\"\")","v":""},null,"","",null,null,null,0,0,0,0,{"$f":"IFERROR(VLOOKUP(G277,DropDowns!$D$2:$E$151,2,FALSE),\"\")","v":""},{"$f":"IFERROR(VLOOKUP(H277,DropDowns!$F$2:$G$7,2,FALSE),\"Residual categories\")","v":"Residual categories"},null,null,null,0,0,0]
[0,{"$f":"IF(OR(COUNTA(O248:O277)>0,COUNTA(O277:$O$5195)>0),IF(COUNTIF(B268:B277,B277)=10,B277+7,B277),\"\")","v":""},null,"","",null,null,null,0,0,0,0,{"$f":"IFERROR(VLOOKUP(G278,DropDowns!$D$2:$E$151,2,FALSE),\"\")","v":""},{"$f":"IFERROR(VLOOKUP(H278,DropDowns!$F$2:$G$7,2,FALSE),\"Residual categories\")","v":"Residual categories"},null,null,null,0,0,0]
[0,{"$f":"IF(OR(COUNTA(O249:O278)>0,COUNTA(O278:$O$5195)>0),IF(COUNTIF(B269:B278,B278)=10,B278+7,B278),\"\")","v":""},null,"","",null,null,null,0,0,0,0,{"$f":"IFERROR(VLOOKUP(G279,DropDowns!$D$2:$E$151,2,FALSE),\"\")","v":""},{"$f":"IFERROR(VLOOKUP(H279,DropDowns!$F$2:$G$7,2,FALSE),\"Residual categories\")","v":"Residual categories"},null,null,null,0,0,0]
[0,{"$f":"IF(OR(COUNTA(O250:O279)>0,COUNTA(O279:$O$5195)>0),IF(COUNTIF(B270:B279,B279)=10,B279+7,B279),\"\")","v":""},null,"","",null,null,null,0,0,0,0,{"$f":"IFERROR(VLOOKUP(G280,DropDowns!$D$2:$E$151,2,FALSE),\"\")","v":""},{"$f":"IFERROR(VLOOKUP(H280,DropDowns!$F$2:$G$7,2,FALSE),\"Residual categories\")","v":"Residual categories"},null,null,null,0,0,0]
[0,{"$f":"IF(OR(COUNTA(O251:O280)>0,COUNTA(O280:$O$5195)>0),IF(COUNTIF(B271:B280,B280)=10,B280+7,B280),\"\")","v":""},null,"","",null,null,null,0,0,0,0,{"$f":"IFERROR(VLOOKUP(G281,DropDowns!$D$2:$E$151,2,FALSE),\"\")","v":""},{"$f":"IFERROR(VLOOKUP(H281,DropDowns!$F$2:$G$7,2,FALSE),\"Residual categories\")","v":"Residual categories"},null,null,null,0,0,0]
[0,{"$f":"IF(OR(COUNTA(O252:O281)>0,COUNTA(O281:$O$5195)>0),IF(COUNTIF(B272:B281,B281)=10,B281+7,B281),\"\")","v":""},null,"","",null,null,null,0,0,0,0,{"$f":"IFERROR(VLOOKUP(G282,DropDowns!$D$2:$E$151,2,FALSE),\"\")","v":""},{"$f":"IFERROR(VLOOKUP(H282,DropDowns!$F$2:$G$7,2,FALSE),\"Residual categories\")","v":"Residual categories"},null,null,null,0,0,0]
[0,{"$f":"IF(OR(COUNTA(O253:O282)>0,COUNTA(O282:$O$5195)>0),IF(COUNTIF(B273:B282,B282)=10,B282+7,B282),\"\")","v":""},null,"","",null,null,null,0,0,0,0,{"$f":"IFERROR(VLOOKUP(G283,DropDowns!$D$2:$E$151,2,FALSE),\"\")","v":""},{"$f":"IFERROR(VLOOKUP(H283,DropDowns!$F$2:$G$7,2,FALSE),\"Residual categories\")","v":"Residual categories"},null,null,null,0,0,0]
[0,{"$f":"IF(OR(COUNTA(O254:O283)>0,COUNTA(O283:$O$5195)>0),IF(COUNTIF(B274:B283,B283)=10,B283+7,B283),\"\")","v":""},null,"","",null,null,null,0,0,0,0,{"$f":"IFERROR(VLOOKUP(G284,DropDowns!$D$2:$E$151,2,FALSE),\"\")","v":""},{"$f":"IFERROR(VLOOKUP(H284,DropDowns!$F$2:$G$7,2,FALSE),\"Residual categories\")","v":"Residual categories"},null,null,null,0,0,0]
[0,{"$f":"IF(OR(COUNTA(O255:O284)>0,COUNTA(O284:$O$5195)>0),IF(COUNTIF(B275:B284,B284)=10,B284+7,B284),\"\")","v":""},null,"","",null,null,null,0,0,0,0,{"$f":"IFERROR(VLOOKUP(G285,DropDowns!$D$2:$E$151,2,FALSE),\"\")","v":""},{"$f":"IFERROR(VLOOKUP(H285,DropDowns!$F$2:$G$7,2,FALSE),\"Residual categories\")","v":"Residual categories"},null,null,null,0,0,0]
[0,{"$f":"IF(OR(COUNTA(O256:O285)>0,COUNTA(O285:$O$5195)>0),IF(COUNTIF(B276:B285,B285)=10,B285+7,B285),\"\")","v":""},null,"","",null,null,null,0,0,0,0,{"$f":"IFERROR(VLOOKUP(G286,DropDowns!$D$2:$E$151,2,FALSE),\"\")","v":""},{"$f":"IFERROR(VLOOKUP(H286,DropDowns!$F$2:$G$7,2,FALSE),\"Residual categories\")","v":"Residual categories"},null,null,null,0,0,0]
[0,{"$f":"IF(OR(COUNTA(O257:O286)>0,COUNTA(O286:$O$5195)>0),IF(COUNTIF(B277:B286,B286)=10,B286+7,B286),\"\")","v":""},null,"","",null,null,null,0,0,0,0,{"$f":"IFERROR(VLOOKUP(G287,DropDowns!$D$2:$E$151,2,FALSE),\"\")","v":""},{"$f":"IFERROR(VLOOKUP(H287,DropDowns!$F$2:$G$7,2,FALSE),\"Residual categories\")","v":"Residual categories"},null,null,null,0,0,0]
[0,{"$f":"IF(OR(COUNTA(O258:O287)>0,COUNTA(O287:$O$5195)>0),IF(COUNTIF(B278:B287,B287)=10,B287+7,B287),\"\")","v":""},null,"","",null,null,null,0,0,0,0,{"$f":"IFERROR(VLOOKUP(G288,DropDowns!$D$2:$E$151,2,FALSE),\"\")","v":""},{"$f":"IFERROR(VLOOKUP(H288,DropDowns!$F$2:$G$7,2,FALSE),\"Residual categories\")","v":"Residual categories"},null,null,null,0,0,0]
[0,{"$f":"IF(OR(COUNTA(O259:O288)>0,COUNTA(O288:$O$5195)>0),IF(COUNTIF(B279:B288,B288)=10,B288+7,B288),\"\")","v":""},null,"","",null,null,null,0,0,0,0,{"$f":"IFERROR(VLOOKUP(G289,DropDowns!$D$2:$E$151,2,FALSE),\"\")","v":""},{"$f":"IFERROR(VLOOKUP(H289,DropDowns!$F$2:$G$7,2,FALSE),\"Residual categories\")","v":"Residual categories"},null,null,null,0,0,0]
[0,{"$f":"IF(OR(COUNTA(O260:O289)>0,COUNTA(O289:$O$5195)>0),IF(COUNTIF(B280:B289,B289)=10,B289+7,B289),\"\")","v":""},null,"","",null,null,null,0,0,0,0,{"$f":"IFERROR(VLOOKUP(G290,DropDowns!$D$2:$E$151,2,FALSE),\"\")","v":""},{"$f":"IFERROR(VLOOKUP(H290,DropDowns!$F$2:$G$7,2,FALSE),\"Residual categories\")","v":"Residual categories"},null,null,null,0,0,0]
[0,{"$f":"IF(OR(COUNTA(O261:O290)>0,COUNTA(O290:$O$5195)>0),IF(COUNTIF(B281:B290,B290)=10,B290+7,B290),\"\")","v":""},null,"","",null,null,null,0,0,0,0,{"$f":"IFERROR(VLOOKUP(G291,DropDowns!$D$2:$E$151,2,FALSE),\"\")","v":""},{"$f":"IFERROR(VLOOKUP(H291,DropDowns!$F$2:$G$7,2,FALSE),\"Residual categories\")","v":"Residual categories"},null,null,null,0,0,0]
[0,{"$f":"IF(OR(COUNTA(O262:O291)>0,COUNTA(O291:$O$5195)>0),IF(COUNTIF(B282:B291,B291)=10,B291+7,B291),\"\")","v":""},null,"","",null,null,null,0,0,0,0,{"$f":"IFERROR(VLOOKUP(G292,DropDowns!$D$2:$E$151,2,FALSE),\"\")","v":""},{"$f":"IFERROR(VLOOKUP(H292,DropDowns!$F$2:$G$7,2,FALSE),\"Residual categories\")","v":"Residual categories"},null,null,null,0,0,0]
[0,{"$f":"IF(OR(COUNTA(O263:O292)>0,COUNTA(O292:$O$5195)>0),IF(COUNTIF(B283:B292,B292)=10,B292+7,B292),\"\")","v":""},null,"","",null,null,null,0,0,0,0,{"$f":"IFERROR(VLOOKUP(G293,DropDowns!$D$2:$E$151,2,FALSE),\"\")","v":""},{"$f":"IFERROR(VLOOKUP(H293,DropDowns!$F$2:$G$7,2,FALSE),\"Residual categories\")","v":"Residual categories"},null,null,null,0,0,0]
[0,{"$f":"IF(OR(COUNTA(O264:O293)>0,COUNTA(O293:$O$5195)>0),IF(COUNTIF(B284:B293,B293)=10,B293+7,B293),\"\")","v":""},null,"","",null,null,null,0,0,0,0,{"$f":"IFERROR(VLOOKUP(G294,DropDowns!$D$2:$E$151,2,FALSE),\"\")","v":""},{"$f":"IFERROR(VLOOKUP(H294,DropDowns!$F$2:$G$7,2,FALSE),\"Residual categories\")","v":"Residual categories"},null,null,null,0,0,0]
[0,{"$f":"IF(OR(COUNTA(O265:O294)>0,COUNTA(O294:$O$5195)>0),IF(COUNTIF(B285:B294,B294)=10,B294+7,B294),\"\")","v":""},null,"","",null,null,null,0,0,0,0,{"$f":"IFERROR(VLOOKUP(G295,DropDowns!$D$2:$E$151,2,FALSE),\"\")","v":""},{"$f":"IFERROR(VLOOKUP(H295,DropDowns!$F$2:$G$7,2,FALSE),\"Residual categories\")","v":"Residual categories"},null,null,null,0,0,0]
[0,{"$f":"IF(OR(COUNTA(O266:O295)>0,COUNTA(O295:$O$5195)>0),IF(COUNTIF(B286:B295,B295)=10,B295+7,B295),\"\")","v":""},null,"","",null,null,null,0,0,0,0,{"$f":"IFERROR(VLOOKUP(G296,DropDowns!$D$2:$E$151,2,FALSE),\"\")","v":""},{"$f":"IFERROR(VLOOKUP(H296,DropDowns!$F$2:$G$7,2,FALSE),\"Residual categories\")","v":"Residual categories"},null,null,null,0,0,0]
[0,{"$f":"IF(OR(COUNTA(O267:O296)>0,COUNTA(O296:$O$5195)>0),IF(COUNTIF(B287:B296,B296)=10,B296+7,B296),\"\")","v":""},null,"","",null,null,null,0,0,0,0,{"$f":"IFERROR(VLOOKUP(G297,DropDowns!$D$2:$E$151,2,FALSE),\"\")","v":""},{"$f":"IFERROR(VLOOKUP(H297,DropDowns!$F$2:$G$7,2,FALSE),\"Residual categories\")","v":"Residual categories"},null,null,null,0,0,0]
[0,{"$f":"IF(OR(COUNTA(O268:O297)>0,COUNTA(O297:$O$5195)>0),IF(COUNTIF(B288:B297,B297)=10,B297+7,B297),\"\")","v":""},null,"","",null,null,null,0,0,0,0,{"$f":"IFERROR(VLOOKUP(G298,DropDowns!$D$2:$E$151,2,FALSE),\"\")","v":""},{"$f":"IFERROR(VLOOKUP(H298,DropDowns!$F$2:$G$7,2,FALSE),\"Residual categories\")","v":"Residual categories"},null,null,null,0,0,0]
[0,{"$f":"IF(OR(COUNTA(O269:O298)>0,COUNTA(O298:$O$5195)>0),IF(COUNTIF(B289:B298,B298)=10,B298+7,B298),\"\")","v":""},null,"","",null,null,null,0,0,0,0,{"$f":"IFERROR(VLOOKUP(G299,DropDowns!$D$2:$E$151,2,FALSE),\"\")","v":""},{"$f":"IFERROR(VLOOKUP(H299,DropDowns!$F$2:$G$7,2,FALSE),\"Residual categories\")","v":"Residual categories"},null,null,null,0,0,0]
[0,{"$f":"IF(OR(COUNTA(O270:O299)>0,COUNTA(O299:$O$5195)>0),IF(COUNTIF(B290:B299,B299)=10,B299+7,B299),\"\")","v":""},null,"","",null,null,null,0,0,0,0,{"$f":"IFERROR(VLOOKUP(G300,DropDowns!$D$2:$E$151,2,FALSE),\"\")","v":""},{"$f":"IFERROR(VLOOKUP(H300,DropDowns!$F$2:$G$7,2,FALSE),\"Residual categories\")","v":"Residual categories"},null,null,null,0,0,0]
[0,{"$f":"IF(OR(COUNTA(O271:O300)>0,COUNTA(O300:$O$5195)>0),IF(COUNTIF(B291:B300,B300)=10,B300+7,B300),\"\")","v":""},null,"","",null,null,null,0,0,0,0,{"$f":"IFERROR(VLOOKUP(G301,DropDowns!$D$2:$E$151,2,FALSE),\"\")","v":""},{"$f":"IFERROR(VLOOKUP(H301,DropDowns!$F$2:$G$7,2,FALSE),\"Residual categories\")","v":"Residual categories"},null,null,null,0,0,0]
[0,{"$f":"IF(OR(COUNTA(O272:O301)>0,COUNTA(O301:$O$5195)>0),IF(COUNTIF(B292:B301,B301)=10,B301+7,B301),\"\")","v":""},null,"","",null,null,null,0,0,0,0,{"$f":"IFERROR(VLOOKUP(G302,DropDowns!$D$2:$E$151,2,FALSE),\"\")","v":""},{"$f":"IFERROR(VLOOKUP(H302,DropDowns!$F$2:$G$7,2,FALSE),\"Residual categories\")","v":"Residual categories"},null,null,null,0,0,0]
[0,{"$f":"IF(OR(COUNTA(O273:O302)>0,COUNTA(O302:$O$5195)>0),IF(COUNTIF(B293:B302,B302)=10,B302+7,B302),\"\")","v":""},null,"","",null,null,null,0,0,0,0,{"$f":"IFERROR(VLOOKUP(G303,DropDowns!$D$2:$E$151,2,FALSE),\"\")","v":""},{"$f":"IFERROR(VLOOKUP(H303,DropDowns!$F$2:$G$7,2,FALSE),\"Residual categories\")","v":"Residual categories"},null,null,null,0,0,0]
[0,{"$f":"IF(OR(COUNTA(O274:O303)>0,COUNTA(O303:$O$5195)>0),IF(COUNTIF(B294:B303,B303)=10,B303+7,B303),\"\")","v":""},null,"","",null,null,null,0,0,0,0,{"$f":"IFERROR(VLOOKUP(G304,DropDowns!$D$2:$E$151,2,FALSE),\"\")","v":""},{"$f":"IFERROR(VLOOKUP(H304,DropDowns!$F$2:$G$7,2,FALSE),\"Residual categories\")","v":"Residual categories"},null,null,null,0,0,0]
[0,{"$f":"IF(OR(COUNTA(O275:O304)>0,COUNTA(O304:$O$5195)>0),IF(COUNTIF(B295:B304,B304)=10,B304+7,B304),\"\")","v":""},null,"","",null,null,null,0,0,0,0,{"$f":"IFERROR(VLOOKUP(G305,DropDowns!$D$2:$E$151,2,FALSE),\"\")","v":""},{"$f":"IFERROR(VLOOKUP(H305,DropDowns!$F$2:$G$7,2,FALSE),\"Residual categories\")","v":"Residual categories"},null,null,null,0,0,0]
[0,{"$f":"IF(OR(COUNTA(O276:O305)>0,COUNTA(O305:$O$5195)>0),IF(COUNTIF(B296:B305,B305)=10,B305+7,B305),\"\")","v":""},null,"","",null,null,null,0,0,0,0,{"$f":"IFERROR(VLOOKUP(G306,DropDowns!$D$2:$E$151,2,FALSE),\"\")","v":""},{"$f":"IFERROR(VLOOKUP(H306,DropDowns!$F$2:$G$7,2,FALSE),\"Residual categories\")","v":"Residual categories"},null,null,null,0,0,0]
[0,{"$f":"IF(OR(COUNTA(O277:O306)>0,COUNTA(O306:$O$5195)>0),IF(COUNTIF(B297:B306,B306)=10,B306+7,B306),\"\")","v":""},null,"","",null,null,null,0,0,0,0,{"$f":"IFERROR(VLOOKUP(G307,DropDowns!$D$2:$E$151,2,FALSE),\"\")","v":""},{"$f":"IFERROR(VLOOKUP(H307,DropDowns!$F$2:$G$7,2,FALSE),\"Residual categories\")","v":"Residual categories"},null,null,null,0,0,0]
[0,{"$f":"IF(OR(COUNTA(O278:O307)>0,COUNTA(O307:$O$5195)>0),IF(COUNTIF(B298:B307,B307)=10,B307+7,B307),\"\")","v":""},null,"","",null,null,null,0,0,0,0,{"$f":"IFERROR(VLOOKUP(G308,DropDowns!$D$2:$E$151,2,FALSE),\"\")","v":""},{"$f":"IFERROR(VLOOKUP(H308,DropDowns!$F$2:$G$7,2,FALSE),\"Residual categories\")","v":"Residual categories"},null,null,null,0,0,0]
[0,{"$f":"IF(OR(COUNTA(O279:O308)>0,COUNTA(O308:$O$5195)>0),IF(COUNTIF(B299:B308,B308)=10,B308+7,B308),\"\")","v":""},null,"","",null,null,null,0,0,0,0,{"$f":"IFERROR(VLOOKUP(G309,DropDowns!$D$2:$E$151,2,FALSE),\"\")","v":""},{"$f":"IFERROR(VLOOKUP(H309,DropDowns!$F$2:$G$7,2,FALSE),\"Residual categories\")","v":"Residual categories"},null,null,null,0,0,0]
[0,{"$f":"IF(OR(COUNTA(O280:O309)>0,COUNTA(O309:$O$5195)>0),IF(COUNTIF(B300:B309,B309)=10,B309+7,B309),\"\")","v":""},null,"","",null,null,null,0,0,0,0,{"$f":"IFERROR(VLOOKUP(G310,DropDowns!$D$2:$E$151,2,FALSE),\"\")","v":""},{"$f":"IFERROR(VLOOKUP(H310,DropDowns!$F$2:$G$7,2,FALSE),\"Residual categories\")","v":"Residual categories"},null,null,null,0,0,0]
[0,{"$f":"IF(OR(COUNTA(O281:O310)>0,COUNTA(O310:$O$5195)>0),IF(COUNTIF(B301:B310,B310)=10,B310+7,B310),\"\")","v":""},null,"","",null,null,null,0,0,0,0,{"$f":"IFERROR(VLOOKUP(G311,DropDowns!$D$2:$E$151,2,FALSE),\"\")","v":""},{"$f":"IFERROR(VLOOKUP(H311,DropDowns!$F$2:$G$7,2,FALSE),\"Residual categories\")","v":"Residual categories"},null,null,null,0,0,0]
[0,{"$f":"IF(OR(COUNTA(O282:O311)>0,COUNTA(O311:$O$5195)>0),IF(COUNTIF(B302:B311,B311)=10,B311+7,B311),\"\")","v":""},null,"","",null,null,null,0,0,0,0,{"$f":"IFERROR(VLOOKUP(G312,DropDowns!$D$2:$E$151,2,FALSE),\"\")","v":""},{"$f":"IFERROR(VLOOKUP(H312,DropDowns!$F$2:$G$7,2,FALSE),\"Residual categories\")","v":"Residual categories"},null,null,null,0,0,0]
[0,{"$f":"IF(OR(COUNTA(O283:O312)>0,COUNTA(O312:$O$5195)>0),IF(COUNTIF(B303:B312,B312)=10,B312+7,B312),\"\")","v":""},null,"","",null,null,null,0,0,0,0,{"$f":"IFERROR(VLOOKUP(G313,DropDowns!$D$2:$E$151,2,FALSE),\"\")","v":""},{"$f":"IFERROR(VLOOKUP(H313,DropDowns!$F$2:$G$7,2,FALSE),\"Residual categories\")","v":"Residual categories"},null,null,null,0,0,0]
[0,{"$f":"IF(OR(COUNTA(O284:O313)>0,COUNTA(O313:$O$5195)>0),IF(COUNTIF(B304:B313,B313)=10,B313+7,B313),\"\")","v":""},null,"","",null,null,null,0,0,0,0,{"$f":"IFERROR(VLOOKUP(G314,DropDowns!$D$2:$E$151,2,FALSE),\"\")","v":""},{"$f":"IFERROR(VLOOKUP(H314,DropDowns!$F$2:$G$7,2,FALSE),\"Residual categories\")","v":"Residual categories"},null,null,null,0,0,0]
[0,{"$f":"IF(OR(COUNTA(O285:O314)>0,COUNTA(O314:$O$5195)>0),IF(COUNTIF(B305:B314,B314)=10,B314+7,B314),\"\")","v":""},null,"","",null,null,null,0,0,0,0,{"$f":"IFERROR(VLOOKUP(G315,DropDowns!$D$2:$E$151,2,FALSE),\"\")","v":""},{"$f":"IFERROR(VLOOKUP(H315,DropDowns!$F$2:$G$7,2,FALSE),\"Residual categories\")","v":"Residual categories"},null,null,null,0,0,0]
[0,{"$f":"IF(OR(COUNTA(O286:O315)>0,COUNTA(O315:$O$5195)>0),IF(COUNTIF(B306:B315,B315)=10,B315+7,B315),\"\")","v":""},null,"","",null,null,null,0,0,0,0,{"$f":"IFERROR(VLOOKUP(G316,DropDowns!$D$2:$E$151,2,FALSE),\"\")","v":""},{"$f":"IFERROR(VLOOKUP(H316,DropDowns!$F$2:$G$7,2,FALSE),\"Residual categories\")","v":"Residual categories"},null,null,null,0,0,0]
[0,{"$f":"IF(OR(COUNTA(O287:O316)>0,COUNTA(O316:$O$5195)>0),IF(COUNTIF(B307:B316,B316)=10,B316+7,B316),\"\")","v":""},null,"","",null,null,null,0,0,0,0,{"$f":"IFERROR(VLOOKUP(G317,DropDowns!$D$2:$E$151,2,FALSE),\"\")","v":""},{"$f":"IFERROR(VLOOKUP(H317,DropDowns!$F$2:$G$7,2,FALSE),\"Residual categories\")","v":"Residual categories"},null,null,null,0,0,0]
[0,{"$f":"IF(OR(COUNTA(O288:O317)>0,COUNTA(O317:$O$5195)>0),IF(COUNTIF(B308:B317,B317)=10,B317+7,B317),\"\")","v":""},null,"","",null,null,null,0,0,0,0,{"$f":"IFERROR(VLOOKUP(G318,DropDowns!$D$2:$E$151,2,FALSE),\"\")","v":""},{"$f":"IFERROR(VLOOKUP(H318,DropDowns!$F$2:$G$7,2,FALSE),\"Residual categories\")","v":"Residual categories"},null,null,null,0,0,0]
[0,{"$f":"IF(OR(COUNTA(O289:O318)>0,COUNTA(O318:$O$5195)>0),IF(COUNTIF(B309:B318,B318)=10,B318+7,B318),\"\")","v":""},null,"","",null,null,null,0,0,0,0,{"$f":"IFERROR(VLOOKUP(G319,DropDowns!$D$2:$E$151,2,FALSE),\"\")","v":""},{"$f":"IFERROR(VLOOKUP(H319,DropDowns!$F$2:$G$7,2,FALSE),\"Residual categories\")","v":"Residual categories"},null,null,null,0,0,0]
[0,{"$f":"IF(OR(COUNTA(O290:O319)>0,COUNTA(O319:$O$5195)>0),IF(COUNTIF(B310:B319,B319)=10,B319+7,B319),\"\")","v":""},null,"","",null,null,null,0,0,0,0,{"$f":"IFERROR(VLOOKUP(G320,DropDowns!$D$2:$E$151,2,FALSE),\"\")","v":""},{"$f":"IFERROR(VLOOKUP(H320,DropDowns!$F$2:$G$7,2,FALSE),\"Residual categories\")","v":"Residual categories"},null,null,null,0,0,0]
[0,{"$f":"IF(OR(COUNTA(O291:O320)>0,COUNTA(O320:$O$5195)>0),IF(COUNTIF(B311:B320,B320)=10,B320+7,B320),\"\")","v":""},null,"","",null,null,null,0,0,0,0,{"$f":"IFERROR(VLOOKUP(G321,DropDowns!$D$2:$E$151,2,FALSE),\"\")","v":""},{"$f":"IFERROR(VLOOKUP(H321,DropDowns!$F$2:$G$7,2,FALSE),\"Residual categories\")","v":"Residual categories"},null,null,null,0,0,0]
[0,{"$f":"IF(OR(COUNTA(O292:O321)>0,COUNTA(O321:$O$5195)>0),IF(COUNTIF(B312:B321,B321)=10,B321+7,B321),\"\")","v":""},null,"","",null,null,null,0,0,0,0,{"$f":"IFERROR(VLOOKUP(G322,DropDowns!$D$2:$E$151,2,FALSE),\"\")","v":""},{"$f":"IFERROR(VLOOKUP(H322,DropDowns!$F$2:$G$7,2,FALSE),\"Residual categories\")","v":"Residual categories"},null,null,null,0,0,0]
[0,{"$f":"IF(OR(COUNTA(O293:O322)>0,COUNTA(O322:$O$5195)>0),IF(COUNTIF(B313:B322,B322)=10,B322+7,B322),\"\")","v":""},null,"","",null,null,null,0,0,0,0,{"$f":"IFERROR(VLOOKUP(G323,DropDowns!$D$2:$E$151,2,FALSE),\"\")","v":""},{"$f":"IFERROR(VLOOKUP(H323,DropDowns!$F$2:$G$7,2,FALSE),\"Residual categories\")","v":"Residual categories"},null,null,null,0,0,0]
[0,{"$f":"IF(OR(COUNTA(O294:O323)>0,COUNTA(O323:$O$5195)>0),IF(COUNTIF(B314:B323,B323)=10,B323+7,B323),\"\")","v":""},null,"","",null,null,null,0,0,0,0,{"$f":"IFERROR(VLOOKUP(G324,DropDowns!$D$2:$E$151,2,FALSE),\"\")","v":""},{"$f":"IFERROR(VLOOKUP(H324,DropDowns!$F$2:$G$7,2,FALSE),\"Residual categories\")","v":"Residual categories"},null,null,null,0,0,0]
[0,{"$f":"IF(OR(COUNTA(O295:O324)>0,COUNTA(O324:$O$5195)>0),IF(COUNTIF(B315:B324,B324)=10,B324+7,B324),\"\")","v":""},null,"","",null,null,null,0,0,0,0,{"$f":"IFERROR(VLOOKUP(G325,DropDowns!$D$2:$E$151,2,FALSE),\"\")","v":""},{"$f":"IFERROR(VLOOKUP(H325,DropDowns!$F$2:$G$7,2,FALSE),\"Residual categories\")","v":"Residual categories"},null,null,null,0,0,0]
[0,{"$f":"IF(OR(COUNTA(O296:O325)>0,COUNTA(O325:$O$5195)>0),IF(COUNTIF(B316:B325,B325)=10,B325+7,B325),\"\")","v":""},null,"","",null,null,null,0,0,0,0,{"$f":"IFERROR(VLOOKUP(G326,DropDowns!$D$2:$E$151,2,FALSE),\"\")","v":""},{"$f":"IFERROR(VLOOKUP(H326,DropDowns!$F$2:$G$7,2,FALSE),\"Residual categories\")","v":"Residual categories"},null,null,null,0,0,0]
[0,{"$f":"IF(OR(COUNTA(O297:O326)>0,COUNTA(O326:$O$5195)>0),IF(COUNTIF(B317:B326,B326)=10,B326+7,B326),\"\")","v":""},null,{"$f":"IF(E327=1,B327,\"\")","v":""},"",null,null,null,{"$f":"IF(COUNTA(O327:Q327)>0,1,0)","v":0},{"$f":"IF(O327=\"y\",1,0)","v":0},{"$f":"IF(P327=\"y\",1,0)","v":0},{"$f":"IF(Q327=\"y\",1,0)","v":0},{"$f":"IFERROR(VLOOKUP(G327,DropDowns!$D$2:$E$151,2,FALSE),\"\")","v":""},{"$f":"IFERROR(VLOOKUP(H327,DropDowns!$F$2:$G$7,2,FALSE),\"Residual categories\")","v":"Residual categories"},null,null,null,{"$f":"IF(O327=\"yes\",1,0)","v":0},{"$f":"IF(P327=\"yes\",1,0)","v":0},{"$f":"IF(Q327=\"yes\",1,0)","v":0}]
[0,{"$f":"IF(OR(COUNTA(O298:O327)>0,COUNTA(O327:$O$5195)>0),IF(COUNTIF(B318:B327,B327)=10,B327+7,B327),\"\")","v":""},null,"","",null,null,null,0,0,0,0,{"$f":"IFERROR(VLOOKUP(G328,DropDowns!$D$2:$E$151,2,FALSE),\"\")","v":""},{"$f":"IFERROR(VLOOKUP(H328,DropDowns!$F$2:$G$7,2,FALSE),\"Residual categories\")","v":"Residual categories"},null,null,null,0,0,0]
[0,{"$f":"IF(OR(COUNTA(O299:O328)>0,COUNTA(O328:$O$5195)>0),IF(COUNTIF(B319:B328,B328)=10,B328+7,B328),\"\")","v":""},null,"","",null,null,null,0,0,0,0,{"$f":"IFERROR(VLOOKUP(G329,DropDowns!$D$2:$E$151,2,FALSE),\"\")","v":""},{"$f":"IFERROR(VLOOKUP(H329,DropDowns!$F$2:$G$7,2,FALSE),\"Residual categories\")","v":"Residual categories"},null,null,null,0,0,0]
[0,{"$f":"IF(OR(COUNTA(O300:O329)>0,COUNTA(O329:$O$5195)>0),IF(COUNTIF(B320:B329,B329)=10,B329+7,B329),\"\")","v":""},null,"","",null,null,null,0,0,0,0,{"$f":"IFERROR(VLOOKUP(G330,DropDowns!$D$2:$E$151,2,FALSE),\"\")","v":""},{"$f":"IFERROR(VLOOKUP(H330,DropDowns!$F$2:$G$7,2,FALSE),\"Residual categories\")","v":"Residual categories"},null,null,null,0,0,0]
[0,{"$f":"IF(OR(COUNTA(O301:O330)>0,COUNTA(O330:$O$5195)>0),IF(COUNTIF(B321:B330,B330)=10,B330+7,B330),\"\")","v":""},null,"","",null,null,null,0,0,0,0,{"$f":"IFERROR(VLOOKUP(G331,DropDowns!$D$2:$E$151,2,FALSE),\"\")","v":""},{"$f":"IFERROR(VLOOKUP(H331,DropDowns!$F$2:$G$7,2,FALSE),\"Residual categories\")","v":"Residual categories"},null,null,null,0,0,0]
[0,{"$f":"IF(OR(COUNTA(O302:O331)>0,COUNTA(O331:$O$5195)>0),IF(COUNTIF(B322:B331,B331)=10,B331+7,B331),\"\")","v":""},null,"","",null,null,null,0,0,0,0,{"$f":"IFERROR(VLOOKUP(G332,DropDowns!$D$2:$E$151,2,FALSE),\"\")","v":""},{"$f":"IFERROR(VLOOKUP(H332,DropDowns!$F$2:$G$7,2,FALSE),\"Residual categories\")","v":"Residual categories"},null,null,null,0,0,0]
[0,{"$f":"IF(OR(COUNTA(O303:O332)>0,COUNTA(O332:$O$5195)>0),IF(COUNTIF(B323:B332,B332)=10,B332+7,B332),\"\")","v":""},null,"","",null,null,null,0,0,0,0,{"$f":"IFERROR(VLOOKUP(G333,DropDowns!$D$2:$E$151,2,FALSE),\"\")","v":""},{"$f":"IFERROR(VLOOKUP(H333,DropDowns!$F$2:$G$7,2,FALSE),\"Residual categories\")","v":"Residual categories"},null,null,null,0,0,0]
[0,{"$f":"IF(OR(COUNTA(O304:O333)>0,COUNTA(O333:$O$5195)>0),IF(COUNTIF(B324:B333,B333)=10,B333+7,B333),\"\")","v":""},null,"","",null,null,null,0,0,0,0,{"$f":"IFERROR(VLOOKUP(G334,DropDowns!$D$2:$E$151,2,FALSE),\"\")","v":""},{"$f":"IFERROR(VLOOKUP(H334,DropDowns!$F$2:$G$7,2,FALSE),\"Residual categories\")","v":"Residual categories"},null,null,null,0,0,0]
[0,{"$f":"IF(OR(COUNTA(O305:O334)>0,COUNTA(O334:$O$5195)>0),IF(COUNTIF(B325:B334,B334)=10,B334+7,B334),\"\")","v":""},null,"","",null,null,null,0,0,0,0,{"$f":"IFERROR(VLOOKUP(G335,DropDowns!$D$2:$E$151,2,FALSE),\"\")","v":""},{"$f":"IFERROR(VLOOKUP(H335,DropDowns!$F$2:$G$7,2,FALSE),\"Residual categories\")","v":"Residual categories"},null,null,null,0,0,0]
[0,{"$f":"IF(OR(COUNTA(O306:O335)>0,COUNTA(O335:$O$5195)>0),IF(COUNTIF(B326:B335,B335)=10,B335+7,B335),\"\")","v":""},null,"","",null,null,null,0,0,0,0,{"$f":"IFERROR(VLOOKUP(G336,DropDowns!$D$2:$E$151,2,FALSE),\"\")","v":""},{"$f":"IFERROR(VLOOKUP(H336,DropDowns!$F$2:$G$7,2,FALSE),\"Residual categories\")","v":"Residual categories"},null,null,null,0,0,0]
[0,{"$f":"IF(OR(COUNTA(O307:O336)>0,COUNTA(O336:$O$5195)>0),IF(COUNTIF(B327:B336,B336)=10,B336+7,B336),\"\")","v":""},null,"",{"$f":"IF(B337=\"\",\"\",COUNTIF(B328:B337,B337))","v":""},null,null,null,0,0,0,0,{"$f":"IFERROR(VLOOKUP(G337,DropDowns!$D$2:$E$151,2,FALSE),\"\")","v":""},{"$f":"IFERROR(VLOOKUP(H337,DropDowns!$F$2:$G$7,2,FALSE),\"Residual categories\")","v":"Residual categories"},null,null,null,0,0,0]
[0,{"$f":"IF(OR(COUNTA(O308:O337)>0,COUNTA(O337:$O$5195)>0),IF(COUNTIF(B328:B337,B337)=10,B337+7,B337),\"\")","v":""},null,"","",null,null,null,0,0,0,0,{"$f":"IFERROR(VLOOKUP(G338,DropDowns!$D$2:$E$151,2,FALSE),\"\")","v":""},{"$f":"IFERROR(VLOOKUP(H338,DropDowns!$F$2:$G$7,2,FALSE),\"Residual categories\")","v":"Residual categories"},null,null,null,0,0,0]
[0,{"$f":"IF(OR(COUNTA(O309:O338)>0,COUNTA(O338:$O$5195)>0),IF(COUNTIF(B329:B338,B338)=10,B338+7,B338),\"\")","v":""},null,"","",null,null,null,0,0,0,0,{"$f":"IFERROR(VLOOKUP(G339,DropDowns!$D$2:$E$151,2,FALSE),\"\")","v":""},{"$f":"IFERROR(VLOOKUP(H339,DropDowns!$F$2:$G$7,2,FALSE),\"Residual categories\")","v":"Residual categories"},null,null,null,0,0,0]
[{"$f":"$E$2","v":0},{"$f":"IF(OR(COUNTA(O310:O339)>0,COUNTA(O339:$O$5195)>0),IF(COUNTIF(B330:B339,B339)=10,B339+7,B339),\"\")","v":""},null,"","",null,null,null,0,0,0,0,{"$f":"IFERROR(VLOOKUP(G340,DropDowns!$D$2:$E$151,2,FALSE),\"\")","v":""},{"$f":"IFERROR(VLOOKUP(H340,DropDowns!$F$2:$G$7,2,FALSE),\"Residual categories\")","v":"Residual categories"},null,null,null,0,0,0]
[0,{"$f":"IF(OR(COUNTA(O311:O340)>0,COUNTA(O340:$O$5195)>0),IF(COUNTIF(B331:B340,B340)=10,B340+7,B340),\"\")","v":""},null,"","",null,null,null,0,0,0,0,{"$f":"IFERROR(VLOOKUP(G341,DropDowns!$D$2:$E$151,2,FALSE),\"\")","v":""},{"$f":"IFERROR(VLOOKUP(H341,DropDowns!$F$2:$G$7,2,FALSE),\"Residual categories\")","v":"Residual categories"},null,null,null,0,0,0]
[0,{"$f":"IF(OR(COUNTA(O312:O341)>0,COUNTA(O341:$O$5195)>0),IF(COUNTIF(B332:B341,B341)=10,B341+7,B341),\"\")","v":""},null,"","",null,null,null,0,0,0,0,{"$f":"IFERROR(VLOOKUP(G342,DropDowns!$D$2:$E$151,2,FALSE),\"\")","v":""},{"$f":"IFERROR(VLOOKUP(H342,DropDowns!$F$2:$G$7,2,FALSE),\"Residual categories\")","v":"Residual categories"},null,null,null,0,0,0]
[0,{"$f":"IF(OR(COUNTA(O313:O342)>0,COUNTA(O342:$O$5195)>0),IF(COUNTIF(B333:B342,B342)=10,B342+7,B342),\"\")","v":""},null,"","",null,null,null,0,0,0,0,{"$f":"IFERROR(VLOOKUP(G343,DropDowns!$D$2:$E$151,2,FALSE),\"\")","v":""},{"$f":"IFERROR(VLOOKUP(H343,DropDowns!$F$2:$G$7,2,FALSE),\"Residual categories\")","v":"Residual categories"},null,null,null,0,0,0]
[0,{"$f":"IF(OR(COUNTA(O314:O343)>0,COUNTA(O343:$O$5195)>0),IF(COUNTIF(B334:B343,B343)=10,B343+7,B343),\"\")","v":""},null,"","",null,null,null,0,0,0,0,{"$f":"IFERROR(VLOOKUP(G344,DropDowns!$D$2:$E$151,2,FALSE),\"\")","v":""},{"$f":"IFERROR(VLOOKUP(H344,DropDowns!$F$2:$G$7,2,FALSE),\"Residual categories\")","v":"Residual categories"},null,null,null,0,0,0]
[0,{"$f":"IF(OR(COUNTA(O315:O344)>0,COUNTA(O344:$O$5195)>0),IF(COUNTIF(B335:B344,B344)=10,B344+7,B344),\"\")","v":""},null,"","",null,null,null,0,0,0,0,{"$f":"IFERROR(VLOOKUP(G345,DropDowns!$D$2:$E$151,2,FALSE),\"\")","v":""},{"$f":"IFERROR(VLOOKUP(H345,DropDowns!$F$2:$G$7,2,FALSE),\"Residual categories\")","v":"Residual categories"},null,null,null,0,0,0]
[0,{"$f":"IF(OR(COUNTA(O316:O345)>0,COUNTA(O345:$O$5195)>0),IF(COUNTIF(B336:B345,B345)=10,B345+7,B345),\"\")","v":""},null,"","",null,null,null,0,0,0,0,{"$f":"IFERROR(VLOOKUP(G346,DropDowns!$D$2:$E$151,2,FALSE),\"\")","v":""},{"$f":"IFERROR(VLOOKUP(H346,DropDowns!$F$2:$G$7,2,FALSE),\"Residual categories\")","v":"Residual categories"},null,null,null,0,0,0]
[0,{"$f":"IF(OR(COUNTA(O317:O346)>0,COUNTA(O346:$O$5195)>0),IF(COUNTIF(B337:B346,B346)=10,B346+7,B346),\"\")","v":""},null,"","",null,null,null,0,0,0,0,{"$f":"IFERROR(VLOOKUP(G347,DropDowns!$D$2:$E$151,2,FALSE),\"\")","v":""},{"$f":"IFERROR(VLOOKUP(H347,DropDowns!$F$2:$G$7,2,FALSE),\"Residual categories\")","v":"Residual categories"},null,null,null,0,0,0]
[0,{"$f":"IF(OR(COUNTA(O318:O347)>0,COUNTA(O347:$O$5195)>0),IF(COUNTIF(B338:B347,B347)=10,B347+7,B347),\"\")","v":""},null,"","",null,null,null,0,0,0,0,{"$f":"IFERROR(VLOOKUP(G348,DropDowns!$D$2:$E$151,2,FALSE),\"\")","v":""},{"$f":"IFERROR(VLOOKUP(H348,DropDowns!$F$2:$G$7,2,FALSE),\"Residual categories\")","v":"Residual categories"},null,null,null,0,0,0]
[0,{"$f":"IF(OR(COUNTA(O319:O348)>0,COUNTA(O348:$O$5195)>0),IF(COUNTIF(B339:B348,B348)=10,B348+7,B348),\"\")","v":""},null,"","",null,null,null,0,0,0,0,{"$f":"IFERROR(VLOOKUP(G349,DropDowns!$D$2:$E$151,2,FALSE),\"\")","v":""},{"$f":"IFERROR(VLOOKUP(H349,DropDowns!$F$2:$G$7,2,FALSE),\"Residual categories\")","v":"Residual categories"},null,null,null,0,0,0]
[0,{"$f":"IF(OR(COUNTA(O320:O349)>0,COUNTA(O349:$O$5195)>0),IF(COUNTIF(B340:B349,B349)=10,B349+7,B349),\"\")","v":""},null,"","",null,null,null,0,0,0,0,{"$f":"IFERROR(VLOOKUP(G350,DropDowns!$D$2:$E$151,2,FALSE),\"\")","v":""},{"$f":"IFERROR(VLOOKUP(H350,DropDowns!$F$2:$G$7,2,FALSE),\"Residual categories\")","v":"Residual categories"},null,null,null,0,0,0]
[0,{"$f":"IF(OR(COUNTA(O321:O350)>0,COUNTA(O350:$O$5195)>0),IF(COUNTIF(B341:B350,B350)=10,B350+7,B350),\"\")","v":""},null,"","",null,null,null,0,0,0,0,{"$f":"IFERROR(VLOOKUP(G351,DropDowns!$D$2:$E$151,2,FALSE),\"\")","v":""},{"$f":"IFERROR(VLOOKUP(H351,DropDowns!$F$2:$G$7,2,FALSE),\"Residual categories\")","v":"Residual categories"},null,null,null,0,0,0]
[0,{"$f":"IF(OR(COUNTA(O322:O351)>0,COUNTA(O351:$O$5195)>0),IF(COUNTIF(B342:B351,B351)=10,B351+7,B351),\"\")","v":""},null,"","",null,null,null,0,0,0,0,{"$f":"IFERROR(VLOOKUP(G352,DropDowns!$D$2:$E$151,2,FALSE),\"\")","v":""},{"$f":"IFERROR(VLOOKUP(H352,DropDowns!$F$2:$G$7,2,FALSE),\"Residual categories\")","v":"Residual categories"},null,null,null,0,0,0]
[0,{"$f":"IF(OR(COUNTA(O323:O352)>0,COUNTA(O352:$O$5195)>0),IF(COUNTIF(B343:B352,B352)=10,B352+7,B352),\"\")","v":""},null,"","",null,null,null,0,0,0,0,{"$f":"IFERROR(VLOOKUP(G353,DropDowns!$D$2:$E$151,2,FALSE),\"\")","v":""},{"$f":"IFERROR(VLOOKUP(H353,DropDowns!$F$2:$G$7,2,FALSE),\"Residual categories\")","v":"Residual categories"},null,null,null,0,0,0]
[0,{"$f":"IF(OR(COUNTA(O324:O353)>0,COUNTA(O353:$O$5195)>0),IF(COUNTIF(B344:B353,B353)=10,B353+7,B353),\"\")","v":""},null,"","",null,null,null,0,0,0,0,{"$f":"IFERROR(VLOOKUP(G354,DropDowns!$D$2:$E$151,2,FALSE),\"\")","v":""},{"$f":"IFERROR(VLOOKUP(H354,DropDowns!$F$2:$G$7,2,FALSE),\"Residual categories\")","v":"Residual categories"},null,null,null,0,0,0]
[0,{"$f":"IF(OR(COUNTA(O325:O354)>0,COUNTA(O354:$O$5195)>0),IF(COUNTIF(B345:B354,B354)=10,B354+7,B354),\"\")","v":""},null,"","",null,null,null,0,0,0,0,{"$f":"IFERROR(VLOOKUP(G355,DropDowns!$D$2:$E$151,2,FALSE),\"\")","v":""},{"$f":"IFERROR(VLOOKUP(H355,DropDowns!$F$2:$G$7,2,FALSE),\"Residual categories\")","v":"Residual categories"},null,null,null,0,0,0]
[0,{"$f":"IF(OR(COUNTA(O326:O355)>0,COUNTA(O355:$O$5195)>0),IF(COUNTIF(B346:B355,B355)=10,B355+7,B355),\"\")","v":""},null,"","",null,null,null,0,0,0,0,{"$f":"IFERROR(VLOOKUP(G356,DropDowns!$D$2:$E$151,2,FALSE),\"\")","v":""},{"$f":"IFERROR(VLOOKUP(H356,DropDowns!$F$2:$G$7,2,FALSE),\"Residual categories\")","v":"Residual categories"},null,null,null,0,0,0]
[0,{"$f":"IF(OR(COUNTA(O327:O356)>0,COUNTA(O356:$O$5195)>0),IF(COUNTIF(B347:B356,B356)=10,B356+7,B356),\"\")","v":""},null,"","",null,null,null,0,0,0,0,{"$f":"IFERROR(VLOOKUP(G357,DropDowns!$D$2:$E$151,2,FALSE),\"\")","v":""},{"$f":"IFERROR(VLOOKUP(H357,DropDowns!$F$2:$G$7,2,FALSE),\"Residual categories\")","v":"Residual categories"},null,null,null,0,0,0]
[0,{"$f":"IF(OR(COUNTA(O328:O357)>0,COUNTA(O357:$O$5195)>0),IF(COUNTIF(B348:B357,B357)=10,B357+7,B357),\"\")","v":""},null,"","",null,null,null,0,0,0,0,{"$f":"IFERROR(VLOOKUP(G358,DropDowns!$D$2:$E$151,2,FALSE),\"\")","v":""},{"$f":"IFERROR(VLOOKUP(H358,DropDowns!$F$2:$G$7,2,FALSE),\"Residual categories\")","v":"Residual categories"},null,null,null,0,0,0]
[0,{"$f":"IF(OR(COUNTA(O329:O358)>0,COUNTA(O358:$O$5195)>0),IF(COUNTIF(B349:B358,B358)=10,B358+7,B358),\"\")","v":""},null,"","",null,null,null,0,0,0,0,{"$f":"IFERROR(VLOOKUP(G359,DropDowns!$D$2:$E$151,2,FALSE),\"\")","v":""},{"$f":"IFERROR(VLOOKUP(H359,DropDowns!$F$2:$G$7,2,FALSE),\"Residual categories\")","v":"Residual categories"},null,null,null,0,0,0]
[0,{"$f":"IF(OR(COUNTA(O330:O359)>0,COUNTA(O359:$O$5195)>0),IF(COUNTIF(B350:B359,B359)=10,B359+7,B359),\"\")","v":""},null,"","",null,null,null,0,0,0,0,{"$f":"IFERROR(VLOOKUP(G360,DropDowns!$D$2:$E$151,2,FALSE),\"\")","v":""},{"$f":"IFERROR(VLOOKUP(H360,DropDowns!$F$2:$G$7,2,FALSE),\"Residual categories\")","v":"Residual categories"},null,null,null,0,0,0]
[0,{"$f":"IF(OR(COUNTA(O331:O360)>0,COUNTA(O360:$O$5195)>0),IF(COUNTIF(B351:B360,B360)=10,B360+7,B360),\"\")","v":""},null,"","",null,null,null,0,0,0,0,{"$f":"IFERROR(VLOOKUP(G361,DropDowns!$D$2:$E$151,2,FALSE),\"\")","v":""},{"$f":"IFERROR(VLOOKUP(H361,DropDowns!$F$2:$G$7,2,FALSE),\"Residual categories\")","v":"Residual categories"},null,null,null,0,0,0]
[0,{"$f":"IF(OR(COUNTA(O332:O361)>0,COUNTA(O361:$O$5195)>0),IF(COUNTIF(B352:B361,B361)=10,B361+7,B361),\"\")","v":""},null,"","",null,null,null,0,0,0,0,{"$f":"IFERROR(VLOOKUP(G362,DropDowns!$D$2:$E$151,2,FALSE),\"\")","v":""},{"$f":"IFERROR(VLOOKUP(H362,DropDowns!$F$2:$G$7,2,FALSE),\"Residual categories\")","v":"Residual categories"},null,null,null,0,0,0]
[0,{"$f":"IF(OR(COUNTA(O333:O362)>0,COUNTA(O362:$O$5195)>0),IF(COUNTIF(B353:B362,B362)=10,B362+7,B362),\"\")","v":""},null,"","",null,null,null,0,0,0,0,{"$f":"IFERROR(VLOOKUP(G363,DropDowns!$D$2:$E$151,2,FALSE),\"\")","v":""},{"$f":"IFERROR(VLOOKUP(H363,DropDowns!$F$2:$G$7,2,FALSE),\"Residual categories\")","v":"Residual categories"},null,null,null,0,0,0]
[0,{"$f":"IF(OR(COUNTA(O334:O363)>0,COUNTA(O363:$O$5195)>0),IF(COUNTIF(B354:B363,B363)=10,B363+7,B363),\"\")","v":""},null,"","",null,null,null,0,0,0,0,{"$f":"IFERROR(VLOOKUP(G364,DropDowns!$D$2:$E$151,2,FALSE),\"\")","v":""},{"$f":"IFERROR(VLOOKUP(H364,DropDowns!$F$2:$G$7,2,FALSE),\"Residual categories\")","v":"Residual categories"},null,null,null,0,0,0]
[0,{"$f":"IF(OR(COUNTA(O335:O364)>0,COUNTA(O364:$O$5195)>0),IF(COUNTIF(B355:B364,B364)=10,B364+7,B364),\"\")","v":""},null,"","",null,null,null,0,0,0,0,{"$f":"IFERROR(VLOOKUP(G365,DropDowns!$D$2:$E$151,2,FALSE),\"\")","v":""},{"$f":"IFERROR(VLOOKUP(H365,DropDowns!$F$2:$G$7,2,FALSE),\"Residual categories\")","v":"Residual categories"},null,null,null,0,0,0]
[0,{"$f":"IF(OR(COUNTA(O336:O365)>0,COUNTA(O365:$O$5195)>0),IF(COUNTIF(B356:B365,B365)=10,B365+7,B365),\"\")","v":""},null,"","",null,null,null,0,0,0,0,{"$f":"IFERROR(VLOOKUP(G366,DropDowns!$D$2:$E$151,2,FALSE),\"\")","v":""},{"$f":"IFERROR(VLOOKUP(H366,DropDowns!$F$2:$G$7,2,FALSE),\"Residual categories\")","v":"Residual categories"},null,null,null,0,0,0]
[0,{"$f":"IF(OR(COUNTA(O337:O366)>0,COUNTA(O366:$O$5195)>0),IF(COUNTIF(B357:B366,B366)=10,B366+7,B366),\"\")","v":""},null,"","",null,null,null,0,0,0,0,{"$f":"IFERROR(VLOOKUP(G367,DropDowns!$D$2:$E$151,2,FALSE),\"\")","v":""},{"$f":"IFERROR(VLOOKUP(H367,DropDowns!$F$2:$G$7,2,FALSE),\"Residual categories\")","v":"Residual categories"},null,null,null,0,0,0]
[0,{"$f":"IF(OR(COUNTA(O338:O367)>0,COUNTA(O367:$O$5195)>0),IF(COUNTIF(B358:B367,B367)=10,B367+7,B367),\"\")","v":""},null,"","",null,null,null,0,0,0,0,{"$f":"IFERROR(VLOOKUP(G368,DropDowns!$D$2:$E$151,2,FALSE),\"\")","v":""},{"$f":"IFERROR(VLOOKUP(H368,DropDowns!$F$2:$G$7,2,FALSE),\"Residual categories\")","v":"Residual categories"},null,null,null,0,0,0]
[0,{"$f":"IF(OR(COUNTA(O339:O368)>0,COUNTA(O368:$O$5195)>0),IF(COUNTIF(B359:B368,B368)=10,B368+7,B368),\"\")","v":""},null,"","",null,null,null,0,0,0,0,{"$f":"IFERROR(VLOOKUP(G369,DropDowns!$D$2:$E$151,2,FALSE),\"\")","v":""},{"$f":"IFERROR(VLOOKUP(H369,DropDowns!$F$2:$G$7,2,FALSE),\"Residual categories\")","v":"Residual categories"},null,null,null,0,0,0]
[0,{"$f":"IF(OR(COUNTA(O340:O369)>0,COUNTA(O369:$O$5195)>0),IF(COUNTIF(B360:B369,B369)=10,B369+7,B369),\"\")","v":""},null,"","",null,null,null,0,0,0,0,{"$f":"IFERROR(VLOOKUP(G370,DropDowns!$D$2:$E$151,2,FALSE),\"\")","v":""},{"$f":"IFERROR(VLOOKUP(H370,DropDowns!$F$2:$G$7,2,FALSE),\"Residual categories\")","v":"Residual categories"},null,null,null,0,0,0]
[0,{"$f":"IF(OR(COUNTA(O341:O370)>0,COUNTA(O370:$O$5195)>0),IF(COUNTIF(B361:B370,B370)=10,B370+7,B370),\"\")","v":""},null,"","",null,null,null,0,0,0,0,{"$f":"IFERROR(VLOOKUP(G371,DropDowns!$D$2:$E$151,2,FALSE),\"\")","v":""},{"$f":"IFERROR(VLOOKUP(H371,DropDowns!$F$2:$G$7,2,FALSE),\"Residual categories\")","v":"Residual categories"},null,null,null,0,0,0]
[0,{"$f":"IF(OR(COUNTA(O342:O371)>0,COUNTA(O371:$O$5195)>0),IF(COUNTIF(B362:B371,B371)=10,B371+7,B371),\"\")","v":""},null,"","",null,null,null,0,0,0,0,{"$f":"IFERROR(VLOOKUP(G372,DropDowns!$D$2:$E$151,2,FALSE),\"\")","v":""},{"$f":"IFERROR(VLOOKUP(H372,DropDowns!$F$2:$G$7,2,FALSE),\"Residual categories\")","v":"Residual categories"},null,null,null,0,0,0]
[0,{"$f":"IF(OR(COUNTA(O343:O372)>0,COUNTA(O372:$O$5195)>0),IF(COUNTIF(B363:B372,B372)=10,B372+7,B372),\"\")","v":""},null,"","",null,null,null,0,0,0,0,{"$f":"IFERROR(VLOOKUP(G373,DropDowns!$D$2:$E$151,2,FALSE),\"\")","v":""},{"$f":"IFERROR(VLOOKUP(H373,DropDowns!$F$2:$G$7,2,FALSE),\"Residual categories\")","v":"Residual categories"},null,null,null,0,0,0]
[0,{"$f":"IF(OR(COUNTA(O344:O373)>0,COUNTA(O373:$O$5195)>0),IF(COUNTIF(B364:B373,B373)=10,B373+7,B373),\"\")","v":""},null,"","",null,null,null,0,0,0,0,{"$f":"IFERROR(VLOOKUP(G374,DropDowns!$D$2:$E$151,2,FALSE),\"\")","v":""},{"$f":"IFERROR(VLOOKUP(H374,DropDowns!$F$2:$G$7,2,FALSE),\"Residual categories\")","v":"Residual categories"},null,null,null,0,0,0]
[0,{"$f":"IF(OR(COUNTA(O345:O374)>0,COUNTA(O374:$O$5195)>0),IF(COUNTIF(B365:B374,B374)=10,B374+7,B374),\"\")","v":""},null,"","",null,null,null,0,0,0,0,{"$f":"IFERROR(VLOOKUP(G375,DropDowns!$D$2:$E$151,2,FALSE),\"\")","v":""},{"$f":"IFERROR(VLOOKUP(H375,DropDowns!$F$2:$G$7,2,FALSE),\"Residual categories\")","v":"Residual categories"},null,null,null,0,0,0]
[0,{"$f":"IF(OR(COUNTA(O346:O375)>0,COUNTA(O375:$O$5195)>0),IF(COUNTIF(B366:B375,B375)=10,B375+7,B375),\"\")","v":""},null,"","",null,null,null,0,0,0,0,{"$f":"IFERROR(VLOOKUP(G376,DropDowns!$D$2:$E$151,2,FALSE),\"\")","v":""},{"$f":"IFERROR(VLOOKUP(H376,DropDowns!$F$2:$G$7,2,FALSE),\"Residual categories\")","v":"Residual categories"},null,null,null,0,0,0]
[0,{"$f":"IF(OR(COUNTA(O347:O376)>0,COUNTA(O376:$O$5195)>0),IF(COUNTIF(B367:B376,B376)=10,B376+7,B376),\"\")","v":""},null,"","",null,null,null,0,0,0,0,{"$f":"IFERROR(VLOOKUP(G377,DropDowns!$D$2:$E$151,2,FALSE),\"\")","v":""},{"$f":"IFERROR(VLOOKUP(H377,DropDowns!$F$2:$G$7,2,FALSE),\"Residual categories\")","v":"Residual categories"},null,null,null,0,0,0]
[0,{"$f":"IF(OR(COUNTA(O348:O377)>0,COUNTA(O377:$O$5195)>0),IF(COUNTIF(B368:B377,B377)=10,B377+7,B377),\"\")","v":""},null,"","",null,null,null,0,0,0,0,{"$f":"IFERROR(VLOOKUP(G378,DropDowns!$D$2:$E$151,2,FALSE),\"\")","v":""},{"$f":"IFERROR(VLOOKUP(H378,DropDowns!$F$2:$G$7,2,FALSE),\"Residual categories\")","v":"Residual categories"},null,null,null,0,0,0]
[0,{"$f":"IF(OR(COUNTA(O349:O378)>0,COUNTA(O378:$O$5195)>0),IF(COUNTIF(B369:B378,B378)=10,B378+7,B378),\"\")","v":""},null,"","",null,null,null,0,0,0,0,{"$f":"IFERROR(VLOOKUP(G379,DropDowns!$D$2:$E$151,2,FALSE),\"\")","v":""},{"$f":"IFERROR(VLOOKUP(H379,DropDowns!$F$2:$G$7,2,FALSE),\"Residual categories\")","v":"Residual categories"},null,null,null,0,0,0]
[0,{"$f":"IF(OR(COUNTA(O350:O379)>0,COUNTA(O379:$O$5195)>0),IF(COUNTIF(B370:B379,B379)=10,B379+7,B379),\"\")","v":""},null,"","",null,null,null,0,0,0,0,{"$f":"IFERROR(VLOOKUP(G380,DropDowns!$D$2:$E$151,2,FALSE),\"\")","v":""},{"$f":"IFERROR(VLOOKUP(H380,DropDowns!$F$2:$G$7,2,FALSE),\"Residual categories\")","v":"Residual categories"},null,null,null,0,0,0]
[0,{"$f":"IF(OR(COUNTA(O351:O380)>0,COUNTA(O380:$O$5195)>0),IF(COUNTIF(B371:B380,B380)=10,B380+7,B380),\"\")","v":""},null,"","",null,null,null,0,0,0,0,{"$f":"IFERROR(VLOOKUP(G381,DropDowns!$D$2:$E$151,2,FALSE),\"\")","v":""},{"$f":"IFERROR(VLOOKUP(H381,DropDowns!$F$2:$G$7,2,FALSE),\"Residual categories\")","v":"Residual categories"},null,null,null,0,0,0]
[0,{"$f":"IF(OR(COUNTA(O352:O381)>0,COUNTA(O381:$O$5195)>0),IF(COUNTIF(B372:B381,B381)=10,B381+7,B381),\"\")","v":""},null,"","",null,null,null,0,0,0,0,{"$f":"IFERROR(VLOOKUP(G382,DropDowns!$D$2:$E$151,2,FALSE),\"\")","v":""},{"$f":"IFERROR(VLOOKUP(H382,DropDowns!$F$2:$G$7,2,FALSE),\"Residual categories\")","v":"Residual categories"},null,null,null,0,0,0]
[0,{"$f":"IF(OR(COUNTA(O353:O382)>0,COUNTA(O382:$O$5195)>0),IF(COUNTIF(B373:B382,B382)=10,B382+7,B382),\"\")","v":""},null,"","",null,null,null,0,0,0,0,{"$f":"IFERROR(VLOOKUP(G383,DropDowns!$D$2:$E$151,2,FALSE),\"\")","v":""},{"$f":"IFERROR(VLOOKUP(H383,DropDowns!$F$2:$G$7,2,FALSE),\"Residual categories\")","v":"Residual categories"},null,null,null,0,0,0]
[0,{"$f":"IF(OR(COUNTA(O354:O383)>0,COUNTA(O383:$O$5195)>0),IF(COUNTIF(B374:B383,B383)=10,B383+7,B383),\"\")","v":""},null,"","",null,null,null,0,0,0,0,{"$f":"IFERROR(VLOOKUP(G384,DropDowns!$D$2:$E$151,2,FALSE),\"\")","v":""},{"$f":"IFERROR(VLOOKUP(H384,DropDowns!$F$2:$G$7,2,FALSE),\"Residual categories\")","v":"Residual categories"},null,null,null,0,0,0]
[0,{"$f":"IF(OR(COUNTA(O355:O384)>0,COUNTA(O384:$O$5195)>0),IF(COUNTIF(B375:B384,B384)=10,B384+7,B384),\"\")","v":""},null,"","",null,null,null,0,0,0,0,{"$f":"IFERROR(VLOOKUP(G385,DropDowns!$D$2:$E$151,2,FALSE),\"\")","v":""},{"$f":"IFERROR(VLOOKUP(H385,DropDowns!$F$2:$G$7,2,FALSE),\"Residual categories\")","v":"Residual categories"},null,null,null,0,0,0]
[0,{"$f":"IF(OR(COUNTA(O356:O385)>0,COUNTA(O385:$O$5195)>0),IF(COUNTIF(B376:B385,B385)=10,B385+7,B385),\"\")","v":""},null,"","",null,null,null,0,0,0,0,{"$f":"IFERROR(VLOOKUP(G386,DropDowns!$D$2:$E$151,2,FALSE),\"\")","v":""},{"$f":"IFERROR(VLOOKUP(H386,DropDowns!$F$2:$G$7,2,FALSE),\"Residual categories\")","v":"Residual categories"},null,null,null,0,0,0]
[0,{"$f":"IF(OR(COUNTA(O357:O386)>0,COUNTA(O386:$O$5195)>0),IF(COUNTIF(B377:B386,B386)=10,B386+7,B386),\"\")","v":""},null,"","",null,null,null,0,0,0,0,{"$f":"IFERROR(VLOOKUP(G387,DropDowns!$D$2:$E$151,2,FALSE),\"\")","v":""},{"$f":"IFERROR(VLOOKUP(H387,DropDowns!$F$2:$G$7,2,FALSE),\"Residual categories\")","v":"Residual categories"},null,null,null,0,0,0]
[0,{"$f":"IF(OR(COUNTA(O358:O387)>0,COUNTA(O387:$O$5195)>0),IF(COUNTIF(B378:B387,B387)=10,B387+7,B387),\"\")","v":""},null,"","",null,null,null,0,0,0,0,{"$f":"IFERROR(VLOOKUP(G388,DropDowns!$D$2:$E$151,2,FALSE),\"\")","v":""},{"$f":"IFERROR(VLOOKUP(H388,DropDowns!$F$2:$G$7,2,FALSE),\"Residual categories\")","v":"Residual categories"},null,null,null,0,0,0]
[0,{"$f":"IF(OR(COUNTA(O359:O388)>0,COUNTA(O388:$O$5195)>0),IF(COUNTIF(B379:B388,B388)=10,B388+7,B388),\"\")","v":""},null,"","",null,null,null,0,0,0,0,{"$f":"IFERROR(VLOOKUP(G389,DropDowns!$D$2:$E$151,2,FALSE),\"\")","v":""},{"$f":"IFERROR(VLOOKUP(H389,DropDowns!$F$2:$G$7,2,FALSE),\"Residual categories\")","v":"Residual categories"},null,null,null,0,0,0]
[0,{"$f":"IF(OR(COUNTA(O360:O389)>0,COUNTA(O389:$O$5195)>0),IF(COUNTIF(B380:B389,B389)=10,B389+7,B389),\"\")","v":""},null,"","",null,null,null,0,0,0,0,{"$f":"IFERROR(VLOOKUP(G390,DropDowns!$D$2:$E$151,2,FALSE),\"\")","v":""},{"$f":"IFERROR(VLOOKUP(H390,DropDowns!$F$2:$G$7,2,FALSE),\"Residual categories\")","v":"Residual categories"},null,null,null,0,0,0]
[0,{"$f":"IF(OR(COUNTA(O361:O390)>0,COUNTA(O390:$O$5195)>0),IF(COUNTIF(B381:B390,B390)=10,B390+7,B390),\"\")","v":""},null,{"$f":"IF(E391=1,B391,\"\")","v":""},"",null,null,null,{"$f":"IF(COUNTA(O391:Q391)>0,1,0)","v":0},{"$f":"IF(O391=\"y\",1,0)","v":0},{"$f":"IF(P391=\"y\",1,0)","v":0},{"$f":"IF(Q391=\"y\",1,0)","v":0},{"$f":"IFERROR(VLOOKUP(G391,DropDowns!$D$2:$E$151,2,FALSE),\"\")","v":""},{"$f":"IFERROR(VLOOKUP(H391,DropDowns!$F$2:$G$7,2,FALSE),\"Residual categories\")","v":"Residual categories"},null,null,null,{"$f":"IF(O391=\"yes\",1,0)","v":0},{"$f":"IF(P391=\"yes\",1,0)","v":0},{"$f":"IF(Q391=\"yes\",1,0)","v":0}]
[0,{"$f":"IF(OR(COUNTA(O362:O391)>0,COUNTA(O391:$O$5195)>0),IF(COUNTIF(B382:B391,B391)=10,B391+7,B391),\"\")","v":""},null,"","",null,null,null,0,0,0,0,{"$f":"IFERROR(VLOOKUP(G392,DropDowns!$D$2:$E$151,2,FALSE),\"\")","v":""},{"$f":"IFERROR(VLOOKUP(H392,DropDowns!$F$2:$G$7,2,FALSE),\"Residual categories\")","v":"Residual categories"},null,null,null,0,0,0]
[0,{"$f":"IF(OR(COUNTA(O363:O392)>0,COUNTA(O392:$O$5195)>0),IF(COUNTIF(B383:B392,B392)=10,B392+7,B392),\"\")","v":""},null,"","",null,null,null,0,0,0,0,{"$f":"IFERROR(VLOOKUP(G393,DropDowns!$D$2:$E$151,2,FALSE),\"\")","v":""},{"$f":"IFERROR(VLOOKUP(H393,DropDowns!$F$2:$G$7,2,FALSE),\"Residual categories\")","v":"Residual categories"},null,null,null,0,0,0]
[0,{"$f":"IF(OR(COUNTA(O364:O393)>0,COUNTA(O393:$O$5195)>0),IF(COUNTIF(B384:B393,B393)=10,B393+7,B393),\"\")","v":""},null,"","",null,null,null,0,0,0,0,{"$f":"IFERROR(VLOOKUP(G394,DropDowns!$D$2:$E$151,2,FALSE),\"\")","v":""},{"$f":"IFERROR(VLOOKUP(H394,DropDowns!$F$2:$G$7,2,FALSE),\"Residual categories\")","v":"Residual categories"},null,null,null,0,0,0]
[0,{"$f":"IF(OR(COUNTA(O365:O394)>0,COUNTA(O394:$O$5195)>0),IF(COUNTIF(B385:B394,B394)=10,B394+7,B394),\"\")","v":""},null,"","",null,null,null,0,0,0,0,{"$f":"IFERROR(VLOOKUP(G395,DropDowns!$D$2:$E$151,2,FALSE),\"\")","v":""},{"$f":"IFERROR(VLOOKUP(H395,DropDowns!$F$2:$G$7,2,FALSE),\"Residual categories\")","v":"Residual categories"},null,null,null,0,0,0]
[0,{"$f":"IF(OR(COUNTA(O366:O395)>0,COUNTA(O395:$O$5195)>0),IF(COUNTIF(B386:B395,B395)=10,B395+7,B395),\"\")","v":""},null,"","",null,null,null,0,0,0,0,{"$f":"IFERROR(VLOOKUP(G396,DropDowns!$D$2:$E$151,2,FALSE),\"\")","v":""},{"$f":"IFERROR(VLOOKUP(H396,DropDowns!$F$2:$G$7,2,FALSE),\"Residual categories\")","v":"Residual categories"},null,null,null,0,0,0]
[0,{"$f":"IF(OR(COUNTA(O367:O396)>0,COUNTA(O396:$O$5195)>0),IF(COUNTIF(B387:B396,B396)=10,B396+7,B396),\"\")","v":""},null,"","",null,null,null,0,0,0,0,{"$f":"IFERROR(VLOOKUP(G397,DropDowns!$D$2:$E$151,2,FALSE),\"\")","v":""},{"$f":"IFERROR(VLOOKUP(H397,DropDowns!$F$2:$G$7,2,FALSE),\"Residual categories\")","v":"Residual categories"},null,null,null,0,0,0]
[0,{"$f":"IF(OR(COUNTA(O368:O397)>0,COUNTA(O397:$O$5195)>0),IF(COUNTIF(B388:B397,B397)=10,B397+7,B397),\"\")","v":""},null,"","",null,null,null,0,0,0,0,{"$f":"IFERROR(VLOOKUP(G398,DropDowns!$D$2:$E$151,2,FALSE),\"\")","v":""},{"$f":"IFERROR(VLOOKUP(H398,DropDowns!$F$2:$G$7,2,FALSE),\"Residual categories\")","v":"Residual categories"},null,null,null,0,0,0]
[0,{"$f":"IF(OR(COUNTA(O369:O398)>0,COUNTA(O398:$O$5195)>0),IF(COUNTIF(B389:B398,B398)=10,B398+7,B398),\"\")","v":""},null,"","",null,null,null,0,0,0,0,{"$f":"IFERROR(VLOOKUP(G399,DropDowns!$D$2:$E$151,2,FALSE),\"\")","v":""},{"$f":"IFERROR(VLOOKUP(H399,DropDowns!$F$2:$G$7,2,FALSE),\"Residual categories\")","v":"Residual categories"},null,null,null,0,0,0]
[0,{"$f":"IF(OR(COUNTA(O370:O399)>0,COUNTA(O399:$O$5195)>0),IF(COUNTIF(B390:B399,B399)=10,B399+7,B399),\"\")","v":""},null,"","",null,null,null,0,0,0,0,{"$f":"IFERROR(VLOOKUP(G400,DropDowns!$D$2:$E$151,2,FALSE),\"\")","v":""},{"$f":"IFERROR(VLOOKUP(H400,DropDowns!$F$2:$G$7,2,FALSE),\"Residual categories\")","v":"Residual categories"},null,null,null,0,0,0]
[0,{"$f":"IF(OR(COUNTA(O371:O400)>0,COUNTA(O400:$O$5195)>0),IF(COUNTIF(B391:B400,B400)=10,B400+7,B400),\"\")","v":""},null,"",{"$f":"IF(B401=\"\",\"\",COUNTIF(B392:B401,B401))","v":""},null,null,null,0,0,0,0,{"$f":"IFERROR(VLOOKUP(G401,DropDowns!$D$2:$E$151,2,FALSE),\"\")","v":""},{"$f":"IFERROR(VLOOKUP(H401,DropDowns!$F$2:$G$7,2,FALSE),\"Residual categories\")","v":"Residual categories"},null,null,null,0,0,0]
[0,{"$f":"IF(OR(COUNTA(O372:O401)>0,COUNTA(O401:$O$5195)>0),IF(COUNTIF(B392:B401,B401)=10,B401+7,B401),\"\")","v":""},null,"","",null,null,null,0,0,0,0,{"$f":"IFERROR(VLOOKUP(G402,DropDowns!$D$2:$E$151,2,FALSE),\"\")","v":""},{"$f":"IFERROR(VLOOKUP(H402,DropDowns!$F$2:$G$7,2,FALSE),\"Residual categories\")","v":"Residual categories"},null,null,null,0,0,0]
[0,{"$f":"IF(OR(COUNTA(O373:O402)>0,COUNTA(O402:$O$5195)>0),IF(COUNTIF(B393:B402,B402)=10,B402+7,B402),\"\")","v":""},null,"","",null,null,null,0,0,0,0,{"$f":"IFERROR(VLOOKUP(G403,DropDowns!$D$2:$E$151,2,FALSE),\"\")","v":""},{"$f":"IFERROR(VLOOKUP(H403,DropDowns!$F$2:$G$7,2,FALSE),\"Residual categories\")","v":"Residual categories"},null,null,null,0,0,0]
[{"$f":"$E$2","v":0},{"$f":"IF(OR(COUNTA(O374:O403)>0,COUNTA(O403:$O$5195)>0),IF(COUNTIF(B394:B403,B403)=10,B403+7,B403),\"\")","v":""},null,"","",null,null,null,0,0,0,0,{"$f":"IFERROR(VLOOKUP(G404,DropDowns!$D$2:$E$151,2,FALSE),\"\")","v":""},{"$f":"IFERROR(VLOOKUP(H404,DropDowns!$F$2:$G$7,2,FALSE),\"Residual categories\")","v":"Residual categories"},null,null,null,0,0,0]
[0,{"$f":"IF(OR(COUNTA(O375:O404)>0,COUNTA(O404:$O$5195)>0),IF(COUNTIF(B395:B404,B404)=10,B404+7,B404),\"\")","v":""},null,"","",null,null,null,0,0,0,0,{"$f":"IFERROR(VLOOKUP(G405,DropDowns!$D$2:$E$151,2,FALSE),\"\")","v":""},{"$f":"IFERROR(VLOOKUP(H405,DropDowns!$F$2:$G$7,2,FALSE),\"Residual categories\")","v":"Residual categories"},null,null,null,0,0,0]
[0,{"$f":"IF(OR(COUNTA(O376:O405)>0,COUNTA(O405:$O$5195)>0),IF(COUNTIF(B396:B405,B405)=10,B405+7,B405),\"\")","v":""},null,"","",null,null,null,0,0,0,0,{"$f":"IFERROR(VLOOKUP(G406,DropDowns!$D$2:$E$151,2,FALSE),\"\")","v":""},{"$f":"IFERROR(VLOOKUP(H406,DropDowns!$F$2:$G$7,2,FALSE),\"Residual categories\")","v":"Residual categories"},null,null,null,0,0,0]
[0,{"$f":"IF(OR(COUNTA(O377:O406)>0,COUNTA(O406:$O$5195)>0),IF(COUNTIF(B397:B406,B406)=10,B406+7,B406),\"\")","v":""},null,"","",null,null,null,0,0,0,0,{"$f":"IFERROR(VLOOKUP(G407,DropDowns!$D$2:$E$151,2,FALSE),\"\")","v":""},{"$f":"IFERROR(VLOOKUP(H407,DropDowns!$F$2:$G$7,2,FALSE),\"Residual categories\")","v":"Residual categories"},null,null,null,0,0,0]
[0,{"$f":"IF(OR(COUNTA(O378:O407)>0,COUNTA(O407:$O$5195)>0),IF(COUNTIF(B398:B407,B407)=10,B407+7,B407),\"\")","v":""},null,"","",null,null,null,0,0,0,0,{"$f":"IFERROR(VLOOKUP(G408,DropDowns!$D$2:$E$151,2,FALSE),\"\")","v":""},{"$f":"IFERROR(VLOOKUP(H408,DropDowns!$F$2:$G$7,2,FALSE),\"Residual categories\")","v":"Residual categories"},null,null,null,0,0,0]
[0,{"$f":"IF(OR(COUNTA(O379:O408)>0,COUNTA(O408:$O$5195)>0),IF(COUNTIF(B399:B408,B408)=10,B408+7,B408),\"\")","v":""},null,"","",null,null,null,0,0,0,0,{"$f":"IFERROR(VLOOKUP(G409,DropDowns!$D$2:$E$151,2,FALSE),\"\")","v":""},{"$f":"IFERROR(VLOOKUP(H409,DropDowns!$F$2:$G$7,2,FALSE),\"Residual categories\")","v":"Residual categories"},null,null,null,0,0,0]
[0,{"$f":"IF(OR(COUNTA(O380:O409)>0,COUNTA(O409:$O$5195)>0),IF(COUNTIF(B400:B409,B409)=10,B409+7,B409),\"\")","v":""},null,"","",null,null,null,0,0,0,0,{"$f":"IFERROR(VLOOKUP(G410,DropDowns!$D$2:$E$151,2,FALSE),\"\")","v":""},{"$f":"IFERROR(VLOOKUP(H410,DropDowns!$F$2:$G$7,2,FALSE),\"Residual categories\")","v":"Residual categories"},null,null,null,0,0,0]
[0,{"$f":"IF(OR(COUNTA(O381:O410)>0,COUNTA(O410:$O$5195)>0),IF(COUNTIF(B401:B410,B410)=10,B410+7,B410),\"\")","v":""},null,"","",null,null,null,0,0,0,0,{"$f":"IFERROR(VLOOKUP(G411,DropDowns!$D$2:$E$151,2,FALSE),\"\")","v":""},{"$f":"IFERROR(VLOOKUP(H411,DropDowns!$F$2:$G$7,2,FALSE),\"Residual categories\")","v":"Residual categories"},null,null,null,0,0,0]
[0,{"$f":"IF(OR(COUNTA(O382:O411)>0,COUNTA(O411:$O$5195)>0),IF(COUNTIF(B402:B411,B411)=10,B411+7,B411),\"\")","v":""},null,"","",null,null,null,0,0,0,0,{"$f":"IFERROR(VLOOKUP(G412,DropDowns!$D$2:$E$151,2,FALSE),\"\")","v":""},{"$f":"IFERROR(VLOOKUP(H412,DropDowns!$F$2:$G$7,2,FALSE),\"Residual categories\")","v":"Residual categories"},null,null,null,0,0,0]
[0,{"$f":"IF(OR(COUNTA(O383:O412)>0,COUNTA(O412:$O$5195)>0),IF(COUNTIF(B403:B412,B412)=10,B412+7,B412),\"\")","v":""},null,"","",null,null,null,0,0,0,0,{"$f":"IFERROR(VLOOKUP(G413,DropDowns!$D$2:$E$151,2,FALSE),\"\")","v":""},{"$f":"IFERROR(VLOOKUP(H413,DropDowns!$F$2:$G$7,2,FALSE),\"Residual categories\")","v":"Residual categories"},null,null,null,0,0,0]
[0,{"$f":"IF(OR(COUNTA(O384:O413)>0,COUNTA(O413:$O$5195)>0),IF(COUNTIF(B404:B413,B413)=10,B413+7,B413),\"\")","v":""},null,"","",null,null,null,0,0,0,0,{"$f":"IFERROR(VLOOKUP(G414,DropDowns!$D$2:$E$151,2,FALSE),\"\")","v":""},{"$f":"IFERROR(VLOOKUP(H414,DropDowns!$F$2:$G$7,2,FALSE),\"Residual categories\")","v":"Residual categories"},null,null,null,0,0,0]
[0,{"$f":"IF(OR(COUNTA(O385:O414)>0,COUNTA(O414:$O$5195)>0),IF(COUNTIF(B405:B414,B414)=10,B414+7,B414),\"\")","v":""},null,"","",null,null,null,0,0,0,0,{"$f":"IFERROR(VLOOKUP(G415,DropDowns!$D$2:$E$151,2,FALSE),\"\")","v":""},{"$f":"IFERROR(VLOOKUP(H415,DropDowns!$F$2:$G$7,2,FALSE),\"Residual categories\")","v":"Residual categories"},null,null,null,0,0,0]
[0,{"$f":"IF(OR(COUNTA(O386:O415)>0,COUNTA(O415:$O$5195)>0),IF(COUNTIF(B406:B415,B415)=10,B415+7,B415),\"\")","v":""},null,"","",null,null,null,0,0,0,0,{"$f":"IFERROR(VLOOKUP(G416,DropDowns!$D$2:$E$151,2,FALSE),\"\")","v":""},{"$f":"IFERROR(VLOOKUP(H416,DropDowns!$F$2:$G$7,2,FALSE),\"Residual categories\")","v":"Residual categories"},null,null,null,0,0,0]
[0,{"$f":"IF(OR(COUNTA(O387:O416)>0,COUNTA(O416:$O$5195)>0),IF(COUNTIF(B407:B416,B416)=10,B416+7,B416),\"\")","v":""},null,"","",null,null,null,0,0,0,0,{"$f":"IFERROR(VLOOKUP(G417,DropDowns!$D$2:$E$151,2,FALSE),\"\")","v":""},{"$f":"IFERROR(VLOOKUP(H417,DropDowns!$F$2:$G$7,2,FALSE),\"Residual categories\")","v":"Residual categories"},null,null,null,0,0,0]
[0,{"$f":"IF(OR(COUNTA(O388:O417)>0,COUNTA(O417:$O$5195)>0),IF(COUNTIF(B408:B417,B417)=10,B417+7,B417),\"\")","v":""},null,"","",null,null,null,0,0,0,0,{"$f":"IFERROR(VLOOKUP(G418,DropDowns!$D$2:$E$151,2,FALSE),\"\")","v":""},{"$f":"IFERROR(VLOOKUP(H418,DropDowns!$F$2:$G$7,2,FALSE),\"Residual categories\")","v":"Residual categories"},null,null,null,0,0,0]
[0,{"$f":"IF(OR(COUNTA(O389:O418)>0,COUNTA(O418:$O$5195)>0),IF(COUNTIF(B409:B418,B418)=10,B418+7,B418),\"\")","v":""},null,"","",null,null,null,0,0,0,0,{"$f":"IFERROR(VLOOKUP(G419,DropDowns!$D$2:$E$151,2,FALSE),\"\")","v":""},{"$f":"IFERROR(VLOOKUP(H419,DropDowns!$F$2:$G$7,2,FALSE),\"Residual categories\")","v":"Residual categories"},null,null,null,0,0,0]
[0,{"$f":"IF(OR(COUNTA(O390:O419)>0,COUNTA(O419:$O$5195)>0),IF(COUNTIF(B410:B419,B419)=10,B419+7,B419),\"\")","v":""},null,"","",null,null,null,0,0,0,0,{"$f":"IFERROR(VLOOKUP(G420,DropDowns!$D$2:$E$151,2,FALSE),\"\")","v":""},{"$f":"IFERROR(VLOOKUP(H420,DropDowns!$F$2:$G$7,2,FALSE),\"Residual categories\")","v":"Residual categories"},null,null,null,0,0,0]
[0,{"$f":"IF(OR(COUNTA(O391:O420)>0,COUNTA(O420:$O$5195)>0),IF(COUNTIF(B411:B420,B420)=10,B420+7,B420),\"\")","v":""},null,"","",null,null,null,0,0,0,0,{"$f":"IFERROR(VLOOKUP(G421,DropDowns!$D$2:$E$151,2,FALSE),\"\")","v":""},{"$f":"IFERROR(VLOOKUP(H421,DropDowns!$F$2:$G$7,2,FALSE),\"Residual categories\")","v":"Residual categories"},null,null,null,0,0,0]
[0,{"$f":"IF(OR(COUNTA(O392:O421)>0,COUNTA(O421:$O$5195)>0),IF(COUNTIF(B412:B421,B421)=10,B421+7,B421),\"\")","v":""},null,"","",null,null,null,0,0,0,0,{"$f":"IFERROR(VLOOKUP(G422,DropDowns!$D$2:$E$151,2,FALSE),\"\")","v":""},{"$f":"IFERROR(VLOOKUP(H422,DropDowns!$F$2:$G$7,2,FALSE),\"Residual categories\")","v":"Residual categories"},null,null,null,0,0,0]
[0,{"$f":"IF(OR(COUNTA(O393:O422)>0,COUNTA(O422:$O$5195)>0),IF(COUNTIF(B413:B422,B422)=10,B422+7,B422),\"\")","v":""},null,"","",null,null,null,0,0,0,0,{"$f":"IFERROR(VLOOKUP(G423,DropDowns!$D$2:$E$151,2,FALSE),\"\")","v":""},{"$f":"IFERROR(VLOOKUP(H423,DropDowns!$F$2:$G$7,2,FALSE),\"Residual categories\")","v":"Residual categories"},null,null,null,0,0,0]
[0,{"$f":"IF(OR(COUNTA(O394:O423)>0,COUNTA(O423:$O$5195)>0),IF(COUNTIF(B414:B423,B423)=10,B423+7,B423),\"\")","v":""},null,"","",null,null,null,0,0,0,0,{"$f":"IFERROR(VLOOKUP(G424,DropDowns!$D$2:$E$151,2,FALSE),\"\")","v":""},{"$f":"IFERROR(VLOOKUP(H424,DropDowns!$F$2:$G$7,2,FALSE),\"Residual categories\")","v":"Residual categories"},null,null,null,0,0,0]
[0,{"$f":"IF(OR(COUNTA(O395:O424)>0,COUNTA(O424:$O$5195)>0),IF(COUNTIF(B415:B424,B424)=10,B424+7,B424),\"\")","v":""},null,"","",null,null,null,0,0,0,0,{"$f":"IFERROR(VLOOKUP(G425,DropDowns!$D$2:$E$151,2,FALSE),\"\")","v":""},{"$f":"IFERROR(VLOOKUP(H425,DropDowns!$F$2:$G$7,2,FALSE),\"Residual categories\")","v":"Residual categories"},null,null,null,0,0,0]
[0,{"$f":"IF(OR(COUNTA(O396:O425)>0,COUNTA(O425:$O$5195)>0),IF(COUNTIF(B416:B425,B425)=10,B425+7,B425),\"\")","v":""},null,"","",null,null,null,0,0,0,0,{"$f":"IFERROR(VLOOKUP(G426,DropDowns!$D$2:$E$151,2,FALSE),\"\")","v":""},{"$f":"IFERROR(VLOOKUP(H426,DropDowns!$F$2:$G$7,2,FALSE),\"Residual categories\")","v":"Residual categories"},null,null,null,0,0,0]
[0,{"$f":"IF(OR(COUNTA(O397:O426)>0,COUNTA(O426:$O$5195)>0),IF(COUNTIF(B417:B426,B426)=10,B426+7,B426),\"\")","v":""},null,"","",null,null,null,0,0,0,0,{"$f":"IFERROR(VLOOKUP(G427,DropDowns!$D$2:$E$151,2,FALSE),\"\")","v":""},{"$f":"IFERROR(VLOOKUP(H427,DropDowns!$F$2:$G$7,2,FALSE),\"Residual categories\")","v":"Residual categories"},null,null,null,0,0,0]
[0,{"$f":"IF(OR(COUNTA(O398:O427)>0,COUNTA(O427:$O$5195)>0),IF(COUNTIF(B418:B427,B427)=10,B427+7,B427),\"\")","v":""},null,"","",null,null,null,0,0,0,0,{"$f":"IFERROR(VLOOKUP(G428,DropDowns!$D$2:$E$151,2,FALSE),\"\")","v":""},{"$f":"IFERROR(VLOOKUP(H428,DropDowns!$F$2:$G$7,2,FALSE),\"Residual categories\")","v":"Residual categories"},null,null,null,0,0,0]
[0,{"$f":"IF(OR(COUNTA(O399:O428)>0,COUNTA(O428:$O$5195)>0),IF(COUNTIF(B419:B428,B428)=10,B428+7,B428),\"\")","v":""},null,"","",null,null,null,0,0,0,0,{"$f":"IFERROR(VLOOKUP(G429,DropDowns!$D$2:$E$151,2,FALSE),\"\")","v":""},{"$f":"IFERROR(VLOOKUP(H429,DropDowns!$F$2:$G$7,2,FALSE),\"Residual categories\")","v":"Residual categories"},null,null,null,0,0,0]
[0,{"$f":"IF(OR(COUNTA(O400:O429)>0,COUNTA(O429:$O$5195)>0),IF(COUNTIF(B420:B429,B429)=10,B429+7,B429),\"\")","v":""},null,"","",null,null,null,0,0,0,0,{"$f":"IFERROR(VLOOKUP(G430,DropDowns!$D$2:$E$151,2,FALSE),\"\")","v":""},{"$f":"IFERROR(VLOOKUP(H430,DropDowns!$F$2:$G$7,2,FALSE),\"Residual categories\")","v":"Residual categories"},null,null,null,0,0,0]
[0,{"$f":"IF(OR(COUNTA(O401:O430)>0,COUNTA(O430:$O$5195)>0),IF(COUNTIF(B421:B430,B430)=10,B430+7,B430),\"\")","v":""},null,"","",null,null,null,0,0,0,0,{"$f":"IFERROR(VLOOKUP(G431,DropDowns!$D$2:$E$151,2,FALSE),\"\")","v":""},{"$f":"IFERROR(VLOOKUP(H431,DropDowns!$F$2:$G$7,2,FALSE),\"Residual categories\")","v":"Residual categories"},null,null,null,0,0,0]
[0,{"$f":"IF(OR(COUNTA(O402:O431)>0,COUNTA(O431:$O$5195)>0),IF(COUNTIF(B422:B431,B431)=10,B431+7,B431),\"\")","v":""},null,"","",null,null,null,0,0,0,0,{"$f":"IFERROR(VLOOKUP(G432,DropDowns!$D$2:$E$151,2,FALSE),\"\")","v":""},{"$f":"IFERROR(VLOOKUP(H432,DropDowns!$F$2:$G$7,2,FALSE),\"Residual categories\")","v":"Residual categories"},null,null,null,0,0,0]
[0,{"$f":"IF(OR(COUNTA(O403:O432)>0,COUNTA(O432:$O$5195)>0),IF(COUNTIF(B423:B432,B432)=10,B432+7,B432),\"\")","v":""},null,"","",null,null,null,0,0,0,0,{"$f":"IFERROR(VLOOKUP(G433,DropDowns!$D$2:$E$151,2,FALSE),\"\")","v":""},{"$f":"IFERROR(VLOOKUP(H433,DropDowns!$F$2:$G$7,2,FALSE),\"Residual categories\")","v":"Residual categories"},null,null,null,0,0,0]
[0,{"$f":"IF(OR(COUNTA(O404:O433)>0,COUNTA(O433:$O$5195)>0),IF(COUNTIF(B424:B433,B433)=10,B433+7,B433),\"\")","v":""},null,"","",null,null,null,0,0,0,0,{"$f":"IFERROR(VLOOKUP(G434,DropDowns!$D$2:$E$151,2,FALSE),\"\")","v":""},{"$f":"IFERROR(VLOOKUP(H434,DropDowns!$F$2:$G$7,2,FALSE),\"Residual categories\")","v":"Residual categories"},null,null,null,0,0,0]
[0,{"$f":"IF(OR(COUNTA(O405:O434)>0,COUNTA(O434:$O$5195)>0),IF(COUNTIF(B425:B434,B434)=10,B434+7,B434),\"\")","v":""},null,"","",null,null,null,0,0,0,0,{"$f":"IFERROR(VLOOKUP(G435,DropDowns!$D$2:$E$151,2,FALSE),\"\")","v":""},{"$f":"IFERROR(VLOOKUP(H435,DropDowns!$F$2:$G$7,2,FALSE),\"Residual categories\")","v":"Residual categories"},null,null,null,0,0,0]
[0,{"$f":"IF(OR(COUNTA(O406:O435)>0,COUNTA(O435:$O$5195)>0),IF(COUNTIF(B426:B435,B435)=10,B435+7,B435),\"\")","v":""},null,"","",null,null,null,0,0,0,0,{"$f":"IFERROR(VLOOKUP(G436,DropDowns!$D$2:$E$151,2,FALSE),\"\")","v":""},{"$f":"IFERROR(VLOOKUP(H436,DropDowns!$F$2:$G$7,2,FALSE),\"Residual categories\")","v":"Residual categories"},null,null,null,0,0,0]
[0,{"$f":"IF(OR(COUNTA(O407:O436)>0,COUNTA(O436:$O$5195)>0),IF(COUNTIF(B427:B436,B436)=10,B436+7,B436),\"\")","v":""},null,"","",null,null,null,0,0,0,0,{"$f":"IFERROR(VLOOKUP(G437,DropDowns!$D$2:$E$151,2,FALSE),\"\")","v":""},{"$f":"IFERROR(VLOOKUP(H437,DropDowns!$F$2:$G$7,2,FALSE),\"Residual categories\")","v":"Residual categories"},null,null,null,0,0,0]
[0,{"$f":"IF(OR(COUNTA(O408:O437)>0,COUNTA(O437:$O$5195)>0),IF(COUNTIF(B428:B437,B437)=10,B437+7,B437),\"\")","v":""},null,"","",null,null,null,0,0,0,0,{"$f":"IFERROR(VLOOKUP(G438,DropDowns!$D$2:$E$151,2,FALSE),\"\")","v":""},{"$f":"IFERROR(VLOOKUP(H438,DropDowns!$F$2:$G$7,2,FALSE),\"Residual categories\")","v":"Residual categories"},null,null,null,0,0,0]
[0,{"$f":"IF(OR(COUNTA(O409:O438)>0,COUNTA(O438:$O$5195)>0),IF(COUNTIF(B429:B438,B438)=10,B438+7,B438),\"\")","v":""},null,"","",null,null,null,0,0,0,0,{"$f":"IFERROR(VLOOKUP(G439,DropDowns!$D$2:$E$151,2,FALSE),\"\")","v":""},{"$f":"IFERROR(VLOOKUP(H439,DropDowns!$F$2:$G$7,2,FALSE),\"Residual categories\")","v":"Residual categories"},null,null,null,0,0,0]
[0,{"$f":"IF(OR(COUNTA(O410:O439)>0,COUNTA(O439:$O$5195)>0),IF(COUNTIF(B430:B439,B439)=10,B439+7,B439),\"\")","v":""},null,"","",null,null,null,0,0,0,0,{"$f":"IFERROR(VLOOKUP(G440,DropDowns!$D$2:$E$151,2,FALSE),\"\")","v":""},{"$f":"IFERROR(VLOOKUP(H440,DropDowns!$F$2:$G$7,2,FALSE),\"Residual categories\")","v":"Residual categories"},null,null,null,0,0,0]
[0,{"$f":"IF(OR(COUNTA(O411:O440)>0,COUNTA(O440:$O$5195)>0),IF(COUNTIF(B431:B440,B440)=10,B440+7,B440),\"\")","v":""},null,"","",null,null,null,0,0,0,0,{"$f":"IFERROR(VLOOKUP(G441,DropDowns!$D$2:$E$151,2,FALSE),\"\")","v":""},{"$f":"IFERROR(VLOOKUP(H441,DropDowns!$F$2:$G$7,2,FALSE),\"Residual categories\")","v":"Residual categories"},null,null,null,0,0,0]
[0,{"$f":"IF(OR(COUNTA(O412:O441)>0,COUNTA(O441:$O$5195)>0),IF(COUNTIF(B432:B441,B441)=10,B441+7,B441),\"\")","v":""},null,"","",null,null,null,0,0,0,0,{"$f":"IFERROR(VLOOKUP(G442,DropDowns!$D$2:$E$151,2,FALSE),\"\")","v":""},{"$f":"IFERROR(VLOOKUP(H442,DropDowns!$F$2:$G$7,2,FALSE),\"Residual categories\")","v":"Residual categories"},null,null,null,0,0,0]
[0,{"$f":"IF(OR(COUNTA(O413:O442)>0,COUNTA(O442:$O$5195)>0),IF(COUNTIF(B433:B442,B442)=10,B442+7,B442),\"\")","v":""},null,"","",null,null,null,0,0,0,0,{"$f":"IFERROR(VLOOKUP(G443,DropDowns!$D$2:$E$151,2,FALSE),\"\")","v":""},{"$f":"IFERROR(VLOOKUP(H443,DropDowns!$F$2:$G$7,2,FALSE),\"Residual categories\")","v":"Residual categories"},null,null,null,0,0,0]
[0,{"$f":"IF(OR(COUNTA(O414:O443)>0,COUNTA(O443:$O$5195)>0),IF(COUNTIF(B434:B443,B443)=10,B443+7,B443),\"\")","v":""},null,"","",null,null,null,0,0,0,0,{"$f":"IFERROR(VLOOKUP(G444,DropDowns!$D$2:$E$151,2,FALSE),\"\")","v":""},{"$f":"IFERROR(VLOOKUP(H444,DropDowns!$F$2:$G$7,2,FALSE),\"Residual categories\")","v":"Residual categories"},null,null,null,0,0,0]
[0,{"$f":"IF(OR(COUNTA(O415:O444)>0,COUNTA(O444:$O$5195)>0),IF(COUNTIF(B435:B444,B444)=10,B444+7,B444),\"\")","v":""},null,"","",null,null,null,0,0,0,0,{"$f":"IFERROR(VLOOKUP(G445,DropDowns!$D$2:$E$151,2,FALSE),\"\")","v":""},{"$f":"IFERROR(VLOOKUP(H445,DropDowns!$F$2:$G$7,2,FALSE),\"Residual categories\")","v":"Residual categories"},null,null,null,0,0,0]
[0,{"$f":"IF(OR(COUNTA(O416:O445)>0,COUNTA(O445:$O$5195)>0),IF(COUNTIF(B436:B445,B445)=10,B445+7,B445),\"\")","v":""},null,"","",null,null,null,0,0,0,0,{"$f":"IFERROR(VLOOKUP(G446,DropDowns!$D$2:$E$151,2,FALSE),\"\")","v":""},{"$f":"IFERROR(VLOOKUP(H446,DropDowns!$F$2:$G$7,2,FALSE),\"Residual categories\")","v":"Residual categories"},null,null,null,0,0,0]
[0,{"$f":"IF(OR(COUNTA(O417:O446)>0,COUNTA(O446:$O$5195)>0),IF(COUNTIF(B437:B446,B446)=10,B446+7,B446),\"\")","v":""},null,"","",null,null,null,0,0,0,0,{"$f":"IFERROR(VLOOKUP(G447,DropDowns!$D$2:$E$151,2,FALSE),\"\")","v":""},{"$f":"IFERROR(VLOOKUP(H447,DropDowns!$F$2:$G$7,2,FALSE),\"Residual categories\")","v":"Residual categories"},null,null,null,0,0,0]
[0,{"$f":"IF(OR(COUNTA(O418:O447)>0,COUNTA(O447:$O$5195)>0),IF(COUNTIF(B438:B447,B447)=10,B447+7,B447),\"\")","v":""},null,"","",null,null,null,0,0,0,0,{"$f":"IFERROR(VLOOKUP(G448,DropDowns!$D$2:$E$151,2,FALSE),\"\")","v":""},{"$f":"IFERROR(VLOOKUP(H448,DropDowns!$F$2:$G$7,2,FALSE),\"Residual categories\")","v":"Residual categories"},null,null,null,0,0,0]
[0,{"$f":"IF(OR(COUNTA(O419:O448)>0,COUNTA(O448:$O$5195)>0),IF(COUNTIF(B439:B448,B448)=10,B448+7,B448),\"\")","v":""},null,"","",null,null,null,0,0,0,0,{"$f":"IFERROR(VLOOKUP(G449,DropDowns!$D$2:$E$151,2,FALSE),\"\")","v":""},{"$f":"IFERROR(VLOOKUP(H449,DropDowns!$F$2:$G$7,2,FALSE),\"Residual categories\")","v":"Residual categories"},null,null,null,0,0,0]
[0,{"$f":"IF(OR(COUNTA(O420:O449)>0,COUNTA(O449:$O$5195)>0),IF(COUNTIF(B440:B449,B449)=10,B449+7,B449),\"\")","v":""},null,"","",null,null,null,0,0,0,0,{"$f":"IFERROR(VLOOKUP(G450,DropDowns!$D$2:$E$151,2,FALSE),\"\")","v":""},{"$f":"IFERROR(VLOOKUP(H450,DropDowns!$F$2:$G$7,2,FALSE),\"Residual categories\")","v":"Residual categories"},null,null,null,0,0,0]
[0,{"$f":"IF(OR(COUNTA(O421:O450)>0,COUNTA(O450:$O$5195)>0),IF(COUNTIF(B441:B450,B450)=10,B450+7,B450),\"\")","v":""},null,"","",null,null,null,0,0,0,0,{"$f":"IFERROR(VLOOKUP(G451,DropDowns!$D$2:$E$151,2,FALSE),\"\")","v":""},{"$f":"IFERROR(VLOOKUP(H451,DropDowns!$F$2:$G$7,2,FALSE),\"Residual categories\")","v":"Residual categories"},null,null,null,0,0,0]
[0,{"$f":"IF(OR(COUNTA(O422:O451)>0,COUNTA(O451:$O$5195)>0),IF(COUNTIF(B442:B451,B451)=10,B451+7,B451),\"\")","v":""},null,"","",null,null,null,0,0,0,0,{"$f":"IFERROR(VLOOKUP(G452,DropDowns!$D$2:$E$151,2,FALSE),\"\")","v":""},{"$f":"IFERROR(VLOOKUP(H452,DropDowns!$F$2:$G$7,2,FALSE),\"Residual categories\")","v":"Residual categories"},null,null,null,0,0,0]
[0,{"$f":"IF(OR(COUNTA(O423:O452)>0,COUNTA(O452:$O$5195)>0),IF(COUNTIF(B443:B452,B452)=10,B452+7,B452),\"\")","v":""},null,"","",null,null,null,0,0,0,0,{"$f":"IFERROR(VLOOKUP(G453,DropDowns!$D$2:$E$151,2,FALSE),\"\")","v":""},{"$f":"IFERROR(VLOOKUP(H453,DropDowns!$F$2:$G$7,2,FALSE),\"Residual categories\")","v":"Residual categories"},null,null,null,0,0,0]
[0,{"$f":"IF(OR(COUNTA(O424:O453)>0,COUNTA(O453:$O$5195)>0),IF(COUNTIF(B444:B453,B453)=10,B453+7,B453),\"\")","v":""},null,"","",null,null,null,0,0,0,0,{"$f":"IFERROR(VLOOKUP(G454,DropDowns!$D$2:$E$151,2,FALSE),\"\")","v":""},{"$f":"IFERROR(VLOOKUP(H454,DropDowns!$F$2:$G$7,2,FALSE),\"Residual categories\")","v":"Residual categories"},null,null,null,0,0,0]
[0,{"$f":"IF(OR(COUNTA(O425:O454)>0,COUNTA(O454:$O$5195)>0),IF(COUNTIF(B445:B454,B454)=10,B454+7,B454),\"\")","v":""},null,{"$f":"IF(E455=1,B455,\"\")","v":""},"",null,null,null,{"$f":"IF(COUNTA(O455:Q455)>0,1,0)","v":0},{"$f":"IF(O455=\"y\",1,0)","v":0},{"$f":"IF(P455=\"y\",1,0)","v":0},{"$f":"IF(Q455=\"y\",1,0)","v":0},{"$f":"IFERROR(VLOOKUP(G455,DropDowns!$D$2:$E$151,2,FALSE),\"\")","v":""},{"$f":"IFERROR(VLOOKUP(H455,DropDowns!$F$2:$G$7,2,FALSE),\"Residual categories\")","v":"Residual categories"},null,null,null,{"$f":"IF(O455=\"yes\",1,0)","v":0},{"$f":"IF(P455=\"yes\",1,0)","v":0},{"$f":"IF(Q455=\"yes\",1,0)","v":0}]
[0,{"$f":"IF(OR(COUNTA(O426:O455)>0,COUNTA(O455:$O$5195)>0),IF(COUNTIF(B446:B455,B455)=10,B455+7,B455),\"\")","v":""},null,"","",null,null,null,0,0,0,0,{"$f":"IFERROR(VLOOKUP(G456,DropDowns!$D$2:$E$151,2,FALSE),\"\")","v":""},{"$f":"IFERROR(VLOOKUP(H456,DropDowns!$F$2:$G$7,2,FALSE),\"Residual categories\")","v":"Residual categories"},null,null,null,0,0,0]
[0,{"$f":"IF(OR(COUNTA(O427:O456)>0,COUNTA(O456:$O$5195)>0),IF(COUNTIF(B447:B456,B456)=10,B456+7,B456),\"\")","v":""},null,"","",null,null,null,0,0,0,0,{"$f":"IFERROR(VLOOKUP(G457,DropDowns!$D$2:$E$151,2,FALSE),\"\")","v":""},{"$f":"IFERROR(VLOOKUP(H457,DropDowns!$F$2:$G$7,2,FALSE),\"Residual categories\")","v":"Residual categories"},null,null,null,0,0,0]
[0,{"$f":"IF(OR(COUNTA(O428:O457)>0,COUNTA(O457:$O$5195)>0),IF(COUNTIF(B448:B457,B457)=10,B457+7,B457),\"\")","v":""},null,"","",null,null,null,0,0,0,0,{"$f":"IFERROR(VLOOKUP(G458,DropDowns!$D$2:$E$151,2,FALSE),\"\")","v":""},{"$f":"IFERROR(VLOOKUP(H458,DropDowns!$F$2:$G$7,2,FALSE),\"Residual categories\")","v":"Residual categories"},null,null,null,0,0,0]
[0,{"$f":"IF(OR(COUNTA(O429:O458)>0,COUNTA(O458:$O$5195)>0),IF(COUNTIF(B449:B458,B458)=10,B458+7,B458),\"\")","v":""},null,"","",null,null,null,0,0,0,0,{"$f":"IFERROR(VLOOKUP(G459,DropDowns!$D$2:$E$151,2,FALSE),\"\")","v":""},{"$f":"IFERROR(VLOOKUP(H459,DropDowns!$F$2:$G$7,2,FALSE),\"Residual categories\")","v":"Residual categories"},null,null,null,0,0,0]
[0,{"$f":"IF(OR(COUNTA(O430:O459)>0,COUNTA(O459:$O$5195)>0),IF(COUNTIF(B450:B459,B459)=10,B459+7,B459),\"\")","v":""},null,"","",null,null,null,0,0,0,0,{"$f":"IFERROR(VLOOKUP(G460,DropDowns!$D$2:$E$151,2,FALSE),\"\")","v":""},{"$f":"IFERROR(VLOOKUP(H460,DropDowns!$F$2:$G$7,2,FALSE),\"Residual categories\")","v":"Residual categories"},null,null,null,0,0,0]
[0,{"$f":"IF(OR(COUNTA(O431:O460)>0,COUNTA(O460:$O$5195)>0),IF(COUNTIF(B451:B460,B460)=10,B460+7,B460),\"\")","v":""},null,"","",null,null,null,0,0,0,0,{"$f":"IFERROR(VLOOKUP(G461,DropDowns!$D$2:$E$151,2,FALSE),\"\")","v":""},{"$f":"IFERROR(VLOOKUP(H461,DropDowns!$F$2:$G$7,2,FALSE),\"Residual categories\")","v":"Residual categories"},null,null,null,0,0,0]
[0,{"$f":"IF(OR(COUNTA(O432:O461)>0,COUNTA(O461:$O$5195)>0),IF(COUNTIF(B452:B461,B461)=10,B461+7,B461),\"\")","v":""},null,"","",null,null,null,0,0,0,0,{"$f":"IFERROR(VLOOKUP(G462,DropDowns!$D$2:$E$151,2,FALSE),\"\")","v":""},{"$f":"IFERROR(VLOOKUP(H462,DropDowns!$F$2:$G$7,2,FALSE),\"Residual categories\")","v":"Residual categories"},null,null,null,0,0,0]
[0,{"$f":"IF(OR(COUNTA(O433:O462)>0,COUNTA(O462:$O$5195)>0),IF(COUNTIF(B453:B462,B462)=10,B462+7,B462),\"\")","v":""},null,"","",null,null,null,0,0,0,0,{"$f":"IFERROR(VLOOKUP(G463,DropDowns!$D$2:$E$151,2,FALSE),\"\")","v":""},{"$f":"IFERROR(VLOOKUP(H463,DropDowns!$F$2:$G$7,2,FALSE),\"Residual categories\")","v":"Residual categories"},null,null,null,0,0,0]
[0,{"$f":"IF(OR(COUNTA(O434:O463)>0,COUNTA(O463:$O$5195)>0),IF(COUNTIF(B454:B463,B463)=10,B463+7,B463),\"\")","v":""},null,"","",null,null,null,0,0,0,0,{"$f":"IFERROR(VLOOKUP(G464,DropDowns!$D$2:$E$151,2,FALSE),\"\")","v":""},{"$f":"IFERROR(VLOOKUP(H464,DropDowns!$F$2:$G$7,2,FALSE),\"Residual categories\")","v":"Residual categories"},null,null,null,0,0,0]
[0,{"$f":"IF(OR(COUNTA(O435:O464)>0,COUNTA(O464:$O$5195)>0),IF(COUNTIF(B455:B464,B464)=10,B464+7,B464),\"\")","v":""},null,"",{"$f":"IF(B465=\"\",\"\",COUNTIF(B456:B465,B465))","v":""},null,null,null,0,0,0,0,{"$f":"IFERROR(VLOOKUP(G465,DropDowns!$D$2:$E$151,2,FALSE),\"\")","v":""},{"$f":"IFERROR(VLOOKUP(H465,DropDowns!$F$2:$G$7,2,FALSE),\"Residual categories\")","v":"Residual categories"},null,null,null,0,0,0]
[0,{"$f":"IF(OR(COUNTA(O436:O465)>0,COUNTA(O465:$O$5195)>0),IF(COUNTIF(B456:B465,B465)=10,B465+7,B465),\"\")","v":""},null,"","",null,null,null,0,0,0,0,{"$f":"IFERROR(VLOOKUP(G466,DropDowns!$D$2:$E$151,2,FALSE),\"\")","v":""},{"$f":"IFERROR(VLOOKUP(H466,DropDowns!$F$2:$G$7,2,FALSE),\"Residual categories\")","v":"Residual categories"},null,null,null,0,0,0]
[0,{"$f":"IF(OR(COUNTA(O437:O466)>0,COUNTA(O466:$O$5195)>0),IF(COUNTIF(B457:B466,B466)=10,B466+7,B466),\"\")","v":""},null,"","",null,null,null,0,0,0,0,{"$f":"IFERROR(VLOOKUP(G467,DropDowns!$D$2:$E$151,2,FALSE),\"\")","v":""},{"$f":"IFERROR(VLOOKUP(H467,DropDowns!$F$2:$G$7,2,FALSE),\"Residual categories\")","v":"Residual categories"},null,null,null,0,0,0]
[{"$f":"$E$2","v":0},{"$f":"IF(OR(COUNTA(O438:O467)>0,COUNTA(O467:$O$5195)>0),IF(COUNTIF(B458:B467,B467)=10,B467+7,B467),\"\")","v":""},null,"","",null,null,null,0,0,0,0,{"$f":"IFERROR(VLOOKUP(G468,DropDowns!$D$2:$E$151,2,FALSE),\"\")","v":""},{"$f":"IFERROR(VLOOKUP(H468,DropDowns!$F$2:$G$7,2,FALSE),\"Residual categories\")","v":"Residual categories"},null,null,null,0,0,0]
[0,{"$f":"IF(OR(COUNTA(O439:O468)>0,COUNTA(O468:$O$5195)>0),IF(COUNTIF(B459:B468,B468)=10,B468+7,B468),\"\")","v":""},null,"","",null,null,null,0,0,0,0,{"$f":"IFERROR(VLOOKUP(G469,DropDowns!$D$2:$E$151,2,FALSE),\"\")","v":""},{"$f":"IFERROR(VLOOKUP(H469,DropDowns!$F$2:$G$7,2,FALSE),\"Residual categories\")","v":"Residual categories"},null,null,null,0,0,0]
[0,{"$f":"IF(OR(COUNTA(O440:O469)>0,COUNTA(O469:$O$5195)>0),IF(COUNTIF(B460:B469,B469)=10,B469+7,B469),\"\")","v":""},null,"","",null,null,null,0,0,0,0,{"$f":"IFERROR(VLOOKUP(G470,DropDowns!$D$2:$E$151,2,FALSE),\"\")","v":""},{"$f":"IFERROR(VLOOKUP(H470,DropDowns!$F$2:$G$7,2,FALSE),\"Residual categories\")","v":"Residual categories"},null,null,null,0,0,0]
[0,{"$f":"IF(OR(COUNTA(O441:O470)>0,COUNTA(O470:$O$5195)>0),IF(COUNTIF(B461:B470,B470)=10,B470+7,B470),\"\")","v":""},null,"","",null,null,null,0,0,0,0,{"$f":"IFERROR(VLOOKUP(G471,DropDowns!$D$2:$E$151,2,FALSE),\"\")","v":""},{"$f":"IFERROR(VLOOKUP(H471,DropDowns!$F$2:$G$7,2,FALSE),\"Residual categories\")","v":"Residual categories"},null,null,null,0,0,0]
[0,{"$f":"IF(OR(COUNTA(O442:O471)>0,COUNTA(O471:$O$5195)>0),IF(COUNTIF(B462:B471,B471)=10,B471+7,B471),\"\")","v":""},null,"","",null,null,null,0,0,0,0,{"$f":"IFERROR(VLOOKUP(G472,DropDowns!$D$2:$E$151,2,FALSE),\"\")","v":""},{"$f":"IFERROR(VLOOKUP(H472,DropDowns!$F$2:$G$7,2,FALSE),\"Residual categories\")","v":"Residual categories"},null,null,null,0,0,0]
[0,{"$f":"IF(OR(COUNTA(O443:O472)>0,COUNTA(O472:$O$5195)>0),IF(COUNTIF(B463:B472,B472)=10,B472+7,B472),\"\")","v":""},null,"","",null,null,null,0,0,0,0,{"$f":"IFERROR(VLOOKUP(G473,DropDowns!$D$2:$E$151,2,FALSE),\"\")","v":""},{"$f":"IFERROR(VLOOKUP(H473,DropDowns!$F$2:$G$7,2,FALSE),\"Residual categories\")","v":"Residual categories"},null,null,null,0,0,0]
[0,{"$f":"IF(OR(COUNTA(O444:O473)>0,COUNTA(O473:$O$5195)>0),IF(COUNTIF(B464:B473,B473)=10,B473+7,B473),\"\")","v":""},null,"","",null,null,null,0,0,0,0,{"$f":"IFERROR(VLOOKUP(G474,DropDowns!$D$2:$E$151,2,FALSE),\"\")","v":""},{"$f":"IFERROR(VLOOKUP(H474,DropDowns!$F$2:$G$7,2,FALSE),\"Residual categories\")","v":"Residual categories"},null,null,null,0,0,0]
[0,{"$f":"IF(OR(COUNTA(O445:O474)>0,COUNTA(O474:$O$5195)>0),IF(COUNTIF(B465:B474,B474)=10,B474+7,B474),\"\")","v":""},null,"","",null,null,null,0,0,0,0,{"$f":"IFERROR(VLOOKUP(G475,DropDowns!$D$2:$E$151,2,FALSE),\"\")","v":""},{"$f":"IFERROR(VLOOKUP(H475,DropDowns!$F$2:$G$7,2,FALSE),\"Residual categories\")","v":"Residual categories"},null,null,null,0,0,0]
[0,{"$f":"IF(OR(COUNTA(O446:O475)>0,COUNTA(O475:$O$5195)>0),IF(COUNTIF(B466:B475,B475)=10,B475+7,B475),\"\")","v":""},null,"","",null,null,null,0,0,0,0,{"$f":"IFERROR(VLOOKUP(G476,DropDowns!$D$2:$E$151,2,FALSE),\"\")","v":""},{"$f":"IFERROR(VLOOKUP(H476,DropDowns!$F$2:$G$7,2,FALSE),\"Residual categories\")","v":"Residual categories"},null,null,null,0,0,0]
[0,{"$f":"IF(OR(COUNTA(O447:O476)>0,COUNTA(O476:$O$5195)>0),IF(COUNTIF(B467:B476,B476)=10,B476+7,B476),\"\")","v":""},null,"","",null,null,null,0,0,0,0,{"$f":"IFERROR(VLOOKUP(G477,DropDowns!$D$2:$E$151,2,FALSE),\"\")","v":""},{"$f":"IFERROR(VLOOKUP(H477,DropDowns!$F$2:$G$7,2,FALSE),\"Residual categories\")","v":"Residual categories"},null,null,null,0,0,0]
[0,{"$f":"IF(OR(COUNTA(O448:O477)>0,COUNTA(O477:$O$5195)>0),IF(COUNTIF(B468:B477,B477)=10,B477+7,B477),\"\")","v":""},null,"","",null,null,null,0,0,0,0,{"$f":"IFERROR(VLOOKUP(G478,DropDowns!$D$2:$E$151,2,FALSE),\"\")","v":""},{"$f":"IFERROR(VLOOKUP(H478,DropDowns!$F$2:$G$7,2,FALSE),\"Residual categories\")","v":"Residual categories"},null,null,null,0,0,0]
[0,{"$f":"IF(OR(COUNTA(O449:O478)>0,COUNTA(O478:$O$5195)>0),IF(COUNTIF(B469:B478,B478)=10,B478+7,B478),\"\")","v":""},null,"","",null,null,null,0,0,0,0,{"$f":"IFERROR(VLOOKUP(G479,DropDowns!$D$2:$E$151,2,FALSE),\"\")","v":""},{"$f":"IFERROR(VLOOKUP(H479,DropDowns!$F$2:$G$7,2,FALSE),\"Residual categories\")","v":"Residual categories"},null,null,null,0,0,0]
[0,{"$f":"IF(OR(COUNTA(O450:O479)>0,COUNTA(O479:$O$5195)>0),IF(COUNTIF(B470:B479,B479)=10,B479+7,B479),\"\")","v":""},null,"","",null,null,null,0,0,0,0,{"$f":"IFERROR(VLOOKUP(G480,DropDowns!$D$2:$E$151,2,FALSE),\"\")","v":""},{"$f":"IFERROR(VLOOKUP(H480,DropDowns!$F$2:$G$7,2,FALSE),\"Residual categories\")","v":"Residual categories"},null,null,null,0,0,0]
[0,{"$f":"IF(OR(COUNTA(O451:O480)>0,COUNTA(O480:$O$5195)>0),IF(COUNTIF(B471:B480,B480)=10,B480+7,B480),\"\")","v":""},null,"","",null,null,null,0,0,0,0,{"$f":"IFERROR(VLOOKUP(G481,DropDowns!$D$2:$E$151,2,FALSE),\"\")","v":""},{"$f":"IFERROR(VLOOKUP(H481,DropDowns!$F$2:$G$7,2,FALSE),\"Residual categories\")","v":"Residual categories"},null,null,null,0,0,0]
[0,{"$f":"IF(OR(COUNTA(O452:O481)>0,COUNTA(O481:$O$5195)>0),IF(COUNTIF(B472:B481,B481)=10,B481+7,B481),\"\")","v":""},null,"","",null,null,null,0,0,0,0,{"$f":"IFERROR(VLOOKUP(G482,DropDowns!$D$2:$E$151,2,FALSE),\"\")","v":""},{"$f":"IFERROR(VLOOKUP(H482,DropDowns!$F$2:$G$7,2,FALSE),\"Residual categories\")","v":"Residual categories"},null,null,null,0,0,0]
[0,{"$f":"IF(OR(COUNTA(O453:O482)>0,COUNTA(O482:$O$5195)>0),IF(COUNTIF(B473:B482,B482)=10,B482+7,B482),\"\")","v":""},null,"","",null,null,null,0,0,0,0,{"$f":"IFERROR(VLOOKUP(G483,DropDowns!$D$2:$E$151,2,FALSE),\"\")","v":""},{"$f":"IFERROR(VLOOKUP(H483,DropDowns!$F$2:$G$7,2,FALSE),\"Residual categories\")","v":"Residual categories"},null,null,null,0,0,0]
[0,{"$f":"IF(OR(COUNTA(O454:O483)>0,COUNTA(O483:$O$5195)>0),IF(COUNTIF(B474:B483,B483)=10,B483+7,B483),\"\")","v":""},null,"","",null,null,null,0,0,0,0,{"$f":"IFERROR(VLOOKUP(G484,DropDowns!$D$2:$E$151,2,FALSE),\"\")","v":""},{"$f":"IFERROR(VLOOKUP(H484,DropDowns!$F$2:$G$7,2,FALSE),\"Residual categories\")","v":"Residual categories"},null,null,null,0,0,0]
[0,{"$f":"IF(OR(COUNTA(O455:O484)>0,COUNTA(O484:$O$5195)>0),IF(COUNTIF(B475:B484,B484)=10,B484+7,B484),\"\")","v":""},null,"","",null,null,null,0,0,0,0,{"$f":"IFERROR(VLOOKUP(G485,DropDowns!$D$2:$E$151,2,FALSE),\"\")","v":""},{"$f":"IFERROR(VLOOKUP(H485,DropDowns!$F$2:$G$7,2,FALSE),\"Residual categories\")","v":"Residual categories"},null,null,null,0,0,0]
[0,{"$f":"IF(OR(COUNTA(O456:O485)>0,COUNTA(O485:$O$5195)>0),IF(COUNTIF(B476:B485,B485)=10,B485+7,B485),\"\")","v":""},null,"","",null,null,null,0,0,0,0,{"$f":"IFERROR(VLOOKUP(G486,DropDowns!$D$2:$E$151,2,FALSE),\"\")","v":""},{"$f":"IFERROR(VLOOKUP(H486,DropDowns!$F$2:$G$7,2,FALSE),\"Residual categories\")","v":"Residual categories"},null,null,null,0,0,0]
[0,{"$f":"IF(OR(COUNTA(O457:O486)>0,COUNTA(O486:$O$5195)>0),IF(COUNTIF(B477:B486,B486)=10,B486+7,B486),\"\")","v":""},null,"","",null,null,null,0,0,0,0,{"$f":"IFERROR(VLOOKUP(G487,DropDowns!$D$2:$E$151,2,FALSE),\"\")","v":""},{"$f":"IFERROR(VLOOKUP(H487,DropDowns!$F$2:$G$7,2,FALSE),\"Residual categories\")","v":"Residual categories"},null,null,null,0,0,0]
[0,{"$f":"IF(OR(COUNTA(O458:O487)>0,COUNTA(O487:$O$5195)>0),IF(COUNTIF(B478:B487,B487)=10,B487+7,B487),\"\")","v":""},null,"","",null,null,null,0,0,0,0,{"$f":"IFERROR(VLOOKUP(G488,DropDowns!$D$2:$E$151,2,FALSE),\"\")","v":""},{"$f":"IFERROR(VLOOKUP(H488,DropDowns!$F$2:$G$7,2,FALSE),\"Residual categories\")","v":"Residual categories"},null,null,null,0,0,0]
[0,{"$f":"IF(OR(COUNTA(O459:O488)>0,COUNTA(O488:$O$5195)>0),IF(COUNTIF(B479:B488,B488)=10,B488+7,B488),\"\")","v":""},null,"","",null,null,null,0,0,0,0,{"$f":"IFERROR(VLOOKUP(G489,DropDowns!$D$2:$E$151,2,FALSE),\"\")","v":""},{"$f":"IFERROR(VLOOKUP(H489,DropDowns!$F$2:$G$7,2,FALSE),\"Residual categories\")","v":"Residual categories"},null,null,null,0,0,0]
[0,{"$f":"IF(OR(COUNTA(O460:O489)>0,COUNTA(O489:$O$5195)>0),IF(COUNTIF(B480:B489,B489)=10,B489+7,B489),\"\")","v":""},null,"","",null,null,null,0,0,0,0,{"$f":"IFERROR(VLOOKUP(G490,DropDowns!$D$2:$E$151,2,FALSE),\"\")","v":""},{"$f":"IFERROR(VLOOKUP(H490,DropDowns!$F$2:$G$7,2,FALSE),\"Residual categories\")","v":"Residual categories"},null,null,null,0,0,0]
[0,{"$f":"IF(OR(COUNTA(O461:O490)>0,COUNTA(O490:$O$5195)>0),IF(COUNTIF(B481:B490,B490)=10,B490+7,B490),\"\")","v":""},null,"","",null,null,null,0,0,0,0,{"$f":"IFERROR(VLOOKUP(G491,DropDowns!$D$2:$E$151,2,FALSE),\"\")","v":""},{"$f":"IFERROR(VLOOKUP(H491,DropDowns!$F$2:$G$7,2,FALSE),\"Residual categories\")","v":"Residual categories"},null,null,null,0,0,0]
[0,{"$f":"IF(OR(COUNTA(O462:O491)>0,COUNTA(O491:$O$5195)>0),IF(COUNTIF(B482:B491,B491)=10,B491+7,B491),\"\")","v":""},null,"","",null,null,null,0,0,0,0,{"$f":"IFERROR(VLOOKUP(G492,DropDowns!$D$2:$E$151,2,FALSE),\"\")","v":""},{"$f":"IFERROR(VLOOKUP(H492,DropDowns!$F$2:$G$7,2,FALSE),\"Residual categories\")","v":"Residual categories"},null,null,null,0,0,0]
[0,{"$f":"IF(OR(COUNTA(O463:O492)>0,COUNTA(O492:$O$5195)>0),IF(COUNTIF(B483:B492,B492)=10,B492+7,B492),\"\")","v":""},null,"","",null,null,null,0,0,0,0,{"$f":"IFERROR(VLOOKUP(G493,DropDowns!$D$2:$E$151,2,FALSE),\"\")","v":""},{"$f":"IFERROR(VLOOKUP(H493,DropDowns!$F$2:$G$7,2,FALSE),\"Residual categories\")","v":"Residual categories"},null,null,null,0,0,0]
[0,{"$f":"IF(OR(COUNTA(O464:O493)>0,COUNTA(O493:$O$5195)>0),IF(COUNTIF(B484:B493,B493)=10,B493+7,B493),\"\")","v":""},null,"","",null,null,null,0,0,0,0,{"$f":"IFERROR(VLOOKUP(G494,DropDowns!$D$2:$E$151,2,FALSE),\"\")","v":""},{"$f":"IFERROR(VLOOKUP(H494,DropDowns!$F$2:$G$7,2,FALSE),\"Residual categories\")","v":"Residual categories"},null,null,null,0,0,0]
[0,{"$f":"IF(OR(COUNTA(O465:O494)>0,COUNTA(O494:$O$5195)>0),IF(COUNTIF(B485:B494,B494)=10,B494+7,B494),\"\")","v":""},null,"","",null,null,null,0,0,0,0,{"$f":"IFERROR(VLOOKUP(G495,DropDowns!$D$2:$E$151,2,FALSE),\"\")","v":""},{"$f":"IFERROR(VLOOKUP(H495,DropDowns!$F$2:$G$7,2,FALSE),\"Residual categories\")","v":"Residual categories"},null,null,null,0,0,0]
[0,{"$f":"IF(OR(COUNTA(O466:O495)>0,COUNTA(O495:$O$5195)>0),IF(COUNTIF(B486:B495,B495)=10,B495+7,B495),\"\")","v":""},null,"","",null,null,null,0,0,0,0,{"$f":"IFERROR(VLOOKUP(G496,DropDowns!$D$2:$E$151,2,FALSE),\"\")","v":""},{"$f":"IFERROR(VLOOKUP(H496,DropDowns!$F$2:$G$7,2,FALSE),\"Residual categories\")","v":"Residual categories"},null,null,null,0,0,0]
[0,{"$f":"IF(OR(COUNTA(O467:O496)>0,COUNTA(O496:$O$5195)>0),IF(COUNTIF(B487:B496,B496)=10,B496+7,B496),\"\")","v":""},null,"","",null,null,null,0,0,0,0,{"$f":"IFERROR(VLOOKUP(G497,DropDowns!$D$2:$E$151,2,FALSE),\"\")","v":""},{"$f":"IFERROR(VLOOKUP(H497,DropDowns!$F$2:$G$7,2,FALSE),\"Residual categories\")","v":"Residual categories"},null,null,null,0,0,0]
[0,{"$f":"IF(OR(COUNTA(O468:O497)>0,COUNTA(O497:$O$5195)>0),IF(COUNTIF(B488:B497,B497)=10,B497+7,B497),\"\")","v":""},null,"","",null,null,null,0,0,0,0,{"$f":"IFERROR(VLOOKUP(G498,DropDowns!$D$2:$E$151,2,FALSE),\"\")","v":""},{"$f":"IFERROR(VLOOKUP(H498,DropDowns!$F$2:$G$7,2,FALSE),\"Residual categories\")","v":"Residual categories"},null,null,null,0,0,0]
[0,{"$f":"IF(OR(COUNTA(O469:O498)>0,COUNTA(O498:$O$5195)>0),IF(COUNTIF(B489:B498,B498)=10,B498+7,B498),\"\")","v":""},null,"","",null,null,null,0,0,0,0,{"$f":"IFERROR(VLOOKUP(G499,DropDowns!$D$2:$E$151,2,FALSE),\"\")","v":""},{"$f":"IFERROR(VLOOKUP(H499,DropDowns!$F$2:$G$7,2,FALSE),\"Residual categories\")","v":"Residual categories"},null,null,null,0,0,0]
[0,{"$f":"IF(OR(COUNTA(O470:O499)>0,COUNTA(O499:$O$5195)>0),IF(COUNTIF(B490:B499,B499)=10,B499+7,B499),\"\")","v":""},null,"","",null,null,null,0,0,0,0,{"$f":"IFERROR(VLOOKUP(G500,DropDowns!$D$2:$E$151,2,FALSE),\"\")","v":""},{"$f":"IFERROR(VLOOKUP(H500,DropDowns!$F$2:$G$7,2,FALSE),\"Residual categories\")","v":"Residual categories"},null,null,null,0,0,0]
[0,{"$f":"IF(OR(COUNTA(O471:O500)>0,COUNTA(O500:$O$5195)>0),IF(COUNTIF(B491:B500,B500)=10,B500+7,B500),\"\")","v":""},null,"","",null,null,null,0,0,0,0,{"$f":"IFERROR(VLOOKUP(G501,DropDowns!$D$2:$E$151,2,FALSE),\"\")","v":""},{"$f":"IFERROR(VLOOKUP(H501,DropDowns!$F$2:$G$7,2,FALSE),\"Residual categories\")","v":"Residual categories"},null,null,null,0,0,0]
[0,{"$f":"IF(OR(COUNTA(O472:O501)>0,COUNTA(O501:$O$5195)>0),IF(COUNTIF(B492:B501,B501)=10,B501+7,B501),\"\")","v":""},null,"","",null,null,null,0,0,0,0,{"$f":"IFERROR(VLOOKUP(G502,DropDowns!$D$2:$E$151,2,FALSE),\"\")","v":""},{"$f":"IFERROR(VLOOKUP(H502,DropDowns!$F$2:$G$7,2,FALSE),\"Residual categories\")","v":"Residual categories"},null,null,null,0,0,0]
[0,{"$f":"IF(OR(COUNTA(O473:O502)>0,COUNTA(O502:$O$5195)>0),IF(COUNTIF(B493:B502,B502)=10,B502+7,B502),\"\")","v":""},null,"","",null,null,null,0,0,0,0,{"$f":"IFERROR(VLOOKUP(G503,DropDowns!$D$2:$E$151,2,FALSE),\"\")","v":""},{"$f":"IFERROR(VLOOKUP(H503,DropDowns!$F$2:$G$7,2,FALSE),\"Residual categories\")","v":"Residual categories"},null,null,null,0,0,0]
[0,{"$f":"IF(OR(COUNTA(O474:O503)>0,COUNTA(O503:$O$5195)>0),IF(COUNTIF(B494:B503,B503)=10,B503+7,B503),\"\")","v":""},null,"","",null,null,null,0,0,0,0,{"$f":"IFERROR(VLOOKUP(G504,DropDowns!$D$2:$E$151,2,FALSE),\"\")","v":""},{"$f":"IFERROR(VLOOKUP(H504,DropDowns!$F$2:$G$7,2,FALSE),\"Residual categories\")","v":"Residual categories"},null,null,null,0,0,0]
[0,{"$f":"IF(OR(COUNTA(O475:O504)>0,COUNTA(O504:$O$5195)>0),IF(COUNTIF(B495:B504,B504)=10,B504+7,B504),\"\")","v":""},null,"","",null,null,null,0,0,0,0,{"$f":"IFERROR(VLOOKUP(G505,DropDowns!$D$2:$E$151,2,FALSE),\"\")","v":""},{"$f":"IFERROR(VLOOKUP(H505,DropDowns!$F$2:$G$7,2,FALSE),\"Residual categories\")","v":"Residual categories"},null,null,null,0,0,0]
[0,{"$f":"IF(OR(COUNTA(O476:O505)>0,COUNTA(O505:$O$5195)>0),IF(COUNTIF(B496:B505,B505)=10,B505+7,B505),\"\")","v":""},null,"","",null,null,null,0,0,0,0,{"$f":"IFERROR(VLOOKUP(G506,DropDowns!$D$2:$E$151,2,FALSE),\"\")","v":""},{"$f":"IFERROR(VLOOKUP(H506,DropDowns!$F$2:$G$7,2,FALSE),\"Residual categories\")","v":"Residual categories"},null,null,null,0,0,0]
[0,{"$f":"IF(OR(COUNTA(O477:O506)>0,COUNTA(O506:$O$5195)>0),IF(COUNTIF(B497:B506,B506)=10,B506+7,B506),\"\")","v":""},null,"","",null,null,null,0,0,0,0,{"$f":"IFERROR(VLOOKUP(G507,DropDowns!$D$2:$E$151,2,FALSE),\"\")","v":""},{"$f":"IFERROR(VLOOKUP(H507,DropDowns!$F$2:$G$7,2,FALSE),\"Residual categories\")","v":"Residual categories"},null,null,null,0,0,0]
[0,{"$f":"IF(OR(COUNTA(O478:O507)>0,COUNTA(O507:$O$5195)>0),IF(COUNTIF(B498:B507,B507)=10,B507+7,B507),\"\")","v":""},null,"","",null,null,null,0,0,0,0,{"$f":"IFERROR(VLOOKUP(G508,DropDowns!$D$2:$E$151,2,FALSE),\"\")","v":""},{"$f":"IFERROR(VLOOKUP(H508,DropDowns!$F$2:$G$7,2,FALSE),\"Residual categories\")","v":"Residual categories"},null,null,null,0,0,0]
[0,{"$f":"IF(OR(COUNTA(O479:O508)>0,COUNTA(O508:$O$5195)>0),IF(COUNTIF(B499:B508,B508)=10,B508+7,B508),\"\")","v":""},null,"","",null,null,null,0,0,0,0,{"$f":"IFERROR(VLOOKUP(G509,DropDowns!$D$2:$E$151,2,FALSE),\"\")","v":""},{"$f":"IFERROR(VLOOKUP(H509,DropDowns!$F$2:$G$7,2,FALSE),\"Residual categories\")","v":"Residual categories"},null,null,null,0,0,0]
[0,{"$f":"IF(OR(COUNTA(O480:O509)>0,COUNTA(O509:$O$5195)>0),IF(COUNTIF(B500:B509,B509)=10,B509+7,B509),\"\")","v":""},null,"","",null,null,null,0,0,0,0,{"$f":"IFERROR(VLOOKUP(G510,DropDowns!$D$2:$E$151,2,FALSE),\"\")","v":""},{"$f":"IFERROR(VLOOKUP(H510,DropDowns!$F$2:$G$7,2,FALSE),\"Residual categories\")","v":"Residual categories"},null,null,null,0,0,0]
[0,{"$f":"IF(OR(COUNTA(O481:O510)>0,COUNTA(O510:$O$5195)>0),IF(COUNTIF(B501:B510,B510)=10,B510+7,B510),\"\")","v":""},null,"","",null,null,null,0,0,0,0,{"$f":"IFERROR(VLOOKUP(G511,DropDowns!$D$2:$E$151,2,FALSE),\"\")","v":""},{"$f":"IFERROR(VLOOKUP(H511,DropDowns!$F$2:$G$7,2,FALSE),\"Residual categories\")","v":"Residual categories"},null,null,null,0,0,0]
[0,{"$f":"IF(OR(COUNTA(O482:O511)>0,COUNTA(O511:$O$5195)>0),IF(COUNTIF(B502:B511,B511)=10,B511+7,B511),\"\")","v":""},null,"","",null,null,null,0,0,0,0,{"$f":"IFERROR(VLOOKUP(G512,DropDowns!$D$2:$E$151,2,FALSE),\"\")","v":""},{"$f":"IFERROR(VLOOKUP(H512,DropDowns!$F$2:$G$7,2,FALSE),\"Residual categories\")","v":"Residual categories"},null,null,null,0,0,0]
[0,{"$f":"IF(OR(COUNTA(O483:O512)>0,COUNTA(O512:$O$5195)>0),IF(COUNTIF(B503:B512,B512)=10,B512+7,B512),\"\")","v":""},null,"","",null,null,null,0,0,0,0,{"$f":"IFERROR(VLOOKUP(G513,DropDowns!$D$2:$E$151,2,FALSE),\"\")","v":""},{"$f":"IFERROR(VLOOKUP(H513,DropDowns!$F$2:$G$7,2,FALSE),\"Residual categories\")","v":"Residual categories"},null,null,null,0,0,0]
[0,{"$f":"IF(OR(COUNTA(O484:O513)>0,COUNTA(O513:$O$5195)>0),IF(COUNTIF(B504:B513,B513)=10,B513+7,B513),\"\")","v":""},null,"","",null,null,null,0,0,0,0,{"$f":"IFERROR(VLOOKUP(G514,DropDowns!$D$2:$E$151,2,FALSE),\"\")","v":""},{"$f":"IFERROR(VLOOKUP(H514,DropDowns!$F$2:$G$7,2,FALSE),\"Residual categories\")","v":"Residual categories"},null,null,null,0,0,0]
[0,{"$f":"IF(OR(COUNTA(O485:O514)>0,COUNTA(O514:$O$5195)>0),IF(COUNTIF(B505:B514,B514)=10,B514+7,B514),\"\")","v":""},null,"","",null,null,null,0,0,0,0,{"$f":"IFERROR(VLOOKUP(G515,DropDowns!$D$2:$E$151,2,FALSE),\"\")","v":""},{"$f":"IFERROR(VLOOKUP(H515,DropDowns!$F$2:$G$7,2,FALSE),\"Residual categories\")","v":"Residual categories"},null,null,null,0,0,0]
[0,{"$f":"IF(OR(COUNTA(O486:O515)>0,COUNTA(O515:$O$5195)>0),IF(COUNTIF(B506:B515,B515)=10,B515+7,B515),\"\")","v":""},null,"","",null,null,null,0,0,0,0,{"$f":"IFERROR(VLOOKUP(G516,DropDowns!$D$2:$E$151,2,FALSE),\"\")","v":""},{"$f":"IFERROR(VLOOKUP(H516,DropDowns!$F$2:$G$7,2,FALSE),\"Residual categories\")","v":"Residual categories"},null,null,null,0,0,0]
[0,{"$f":"IF(OR(COUNTA(O487:O516)>0,COUNTA(O516:$O$5195)>0),IF(COUNTIF(B507:B516,B516)=10,B516+7,B516),\"\")","v":""},null,"","",null,null,null,0,0,0,0,{"$f":"IFERROR(VLOOKUP(G517,DropDowns!$D$2:$E$151,2,FALSE),\"\")","v":""},{"$f":"IFERROR(VLOOKUP(H517,DropDowns!$F$2:$G$7,2,FALSE),\"Residual categories\")","v":"Residual categories"},null,null,null,0,0,0]
[0,{"$f":"IF(OR(COUNTA(O488:O517)>0,COUNTA(O517:$O$5195)>0),IF(COUNTIF(B508:B517,B517)=10,B517+7,B517),\"\")","v":""},null,"","",null,null,null,0,0,0,0,{"$f":"IFERROR(VLOOKUP(G518,DropDowns!$D$2:$E$151,2,FALSE),\"\")","v":""},{"$f":"IFERROR(VLOOKUP(H518,DropDowns!$F$2:$G$7,2,FALSE),\"Residual categories\")","v":"Residual categories"},null,null,null,0,0,0]
[0,{"$f":"IF(OR(COUNTA(O489:O518)>0,COUNTA(O518:$O$5195)>0),IF(COUNTIF(B509:B518,B518)=10,B518+7,B518),\"\")","v":""},null,{"$f":"IF(E519=1,B519,\"\")","v":""},"",null,null,null,{"$f":"IF(COUNTA(O519:Q519)>0,1,0)","v":0},{"$f":"IF(O519=\"y\",1,0)","v":0},{"$f":"IF(P519=\"y\",1,0)","v":0},{"$f":"IF(Q519=\"y\",1,0)","v":0},{"$f":"IFERROR(VLOOKUP(G519,DropDowns!$D$2:$E$151,2,FALSE),\"\")","v":""},{"$f":"IFERROR(VLOOKUP(H519,DropDowns!$F$2:$G$7,2,FALSE),\"Residual categories\")","v":"Residual categories"},null,null,null,{"$f":"IF(O519=\"yes\",1,0)","v":0},{"$f":"IF(P519=\"yes\",1,0)","v":0},{"$f":"IF(Q519=\"yes\",1,0)","v":0}]
[0,{"$f":"IF(OR(COUNTA(O490:O519)>0,COUNTA(O519:$O$5195)>0),IF(COUNTIF(B510:B519,B519)=10,B519+7,B519),\"\")","v":""},null,"","",null,null,null,0,0,0,0,{"$f":"IFERROR(VLOOKUP(G520,DropDowns!$D$2:$E$151,2,FALSE),\"\")","v":""},{"$f":"IFERROR(VLOOKUP(H520,DropDowns!$F$2:$G$7,2,FALSE),\"Residual categories\")","v":"Residual categories"},null,null,null,0,0,0]
[0,{"$f":"IF(OR(COUNTA(O491:O520)>0,COUNTA(O520:$O$5195)>0),IF(COUNTIF(B511:B520,B520)=10,B520+7,B520),\"\")","v":""},null,"","",null,null,null,0,0,0,0,{"$f":"IFERROR(VLOOKUP(G521,DropDowns!$D$2:$E$151,2,FALSE),\"\")","v":""},{"$f":"IFERROR(VLOOKUP(H521,DropDowns!$F$2:$G$7,2,FALSE),\"Residual categories\")","v":"Residual categories"},null,null,null,0,0,0]
[0,{"$f":"IF(OR(COUNTA(O492:O521)>0,COUNTA(O521:$O$5195)>0),IF(COUNTIF(B512:B521,B521)=10,B521+7,B521),\"\")","v":""},null,"","",null,null,null,0,0,0,0,{"$f":"IFERROR(VLOOKUP(G522,DropDowns!$D$2:$E$151,2,FALSE),\"\")","v":""},{"$f":"IFERROR(VLOOKUP(H522,DropDowns!$F$2:$G$7,2,FALSE),\"Residual categories\")","v":"Residual categories"},null,null,null,0,0,0]
[0,{"$f":"IF(OR(COUNTA(O493:O522)>0,COUNTA(O522:$O$5195)>0),IF(COUNTIF(B513:B522,B522)=10,B522+7,B522),\"\")","v":""},null,"","",null,null,null,0,0,0,0,{"$f":"IFERROR(VLOOKUP(G523,DropDowns!$D$2:$E$151,2,FALSE),\"\")","v":""},{"$f":"IFERROR(VLOOKUP(H523,DropDowns!$F$2:$G$7,2,FALSE),\"Residual categories\")","v":"Residual categories"},null,null,null,0,0,0]
[0,{"$f":"IF(OR(COUNTA(O494:O523)>0,COUNTA(O523:$O$5195)>0),IF(COUNTIF(B514:B523,B523)=10,B523+7,B523),\"\")","v":""},null,"","",null,null,null,0,0,0,0,{"$f":"IFERROR(VLOOKUP(G524,DropDowns!$D$2:$E$151,2,FALSE),\"\")","v":""},{"$f":"IFERROR(VLOOKUP(H524,DropDowns!$F$2:$G$7,2,FALSE),\"Residual categories\")","v":"Residual categories"},null,null,null,0,0,0]
[0,{"$f":"IF(OR(COUNTA(O495:O524)>0,COUNTA(O524:$O$5195)>0),IF(COUNTIF(B515:B524,B524)=10,B524+7,B524),\"\")","v":""},null,"","",null,null,null,0,0,0,0,{"$f":"IFERROR(VLOOKUP(G525,DropDowns!$D$2:$E$151,2,FALSE),\"\")","v":""},{"$f":"IFERROR(VLOOKUP(H525,DropDowns!$F$2:$G$7,2,FALSE),\"Residual categories\")","v":"Residual categories"},null,null,null,0,0,0]
[0,{"$f":"IF(OR(COUNTA(O496:O525)>0,COUNTA(O525:$O$5195)>0),IF(COUNTIF(B516:B525,B525)=10,B525+7,B525),\"\")","v":""},null,"","",null,null,null,0,0,0,0,{"$f":"IFERROR(VLOOKUP(G526,DropDowns!$D$2:$E$151,2,FALSE),\"\")","v":""},{"$f":"IFERROR(VLOOKUP(H526,DropDowns!$F$2:$G$7,2,FALSE),\"Residual categories\")","v":"Residual categories"},null,null,null,0,0,0]
[0,{"$f":"IF(OR(COUNTA(O497:O526)>0,COUNTA(O526:$O$5195)>0),IF(COUNTIF(B517:B526,B526)=10,B526+7,B526),\"\")","v":""},null,"","",null,null,null,0,0,0,0,{"$f":"IFERROR(VLOOKUP(G527,DropDowns!$D$2:$E$151,2,FALSE),\"\")","v":""},{"$f":"IFERROR(VLOOKUP(H527,DropDowns!$F$2:$G$7,2,FALSE),\"Residual categories\")","v":"Residual categories"},null,null,null,0,0,0]
[0,{"$f":"IF(OR(COUNTA(O498:O527)>0,COUNTA(O527:$O$5195)>0),IF(COUNTIF(B518:B527,B527)=10,B527+7,B527),\"\")","v":""},null,"","",null,null,null,0,0,0,0,{"$f":"IFERROR(VLOOKUP(G528,DropDowns!$D$2:$E$151,2,FALSE),\"\")","v":""},{"$f":"IFERROR(VLOOKUP(H528,DropDowns!$F$2:$G$7,2,FALSE),\"Residual categories\")","v":"Residual categories"},null,null,null,0,0,0]
[0,{"$f":"IF(OR(COUNTA(O499:O528)>0,COUNTA(O528:$O$5195)>0),IF(COUNTIF(B519:B528,B528)=10,B528+7,B528),\"\")","v":""},null,"",{"$f":"IF(B529=\"\",\"\",COUNTIF(B520:B529,B529))","v":""},null,null,null,0,0,0,0,{"$f":"IFERROR(VLOOKUP(G529,DropDowns!$D$2:$E$151,2,FALSE),\"\")","v":""},{"$f":"IFERROR(VLOOKUP(H529,DropDowns!$F$2:$G$7,2,FALSE),\"Residual categories\")","v":"Residual categories"},null,null,null,0,0,0]
[0,{"$f":"IF(OR(COUNTA(O500:O529)>0,COUNTA(O529:$O$5195)>0),IF(COUNTIF(B520:B529,B529)=10,B529+7,B529),\"\")","v":""},null,"","",null,null,null,0,0,0,0,{"$f":"IFERROR(VLOOKUP(G530,DropDowns!$D$2:$E$151,2,FALSE),\"\")","v":""},{"$f":"IFERROR(VLOOKUP(H530,DropDowns!$F$2:$G$7,2,FALSE),\"Residual categories\")","v":"Residual categories"},null,null,null,0,0,0]
[0,{"$f":"IF(OR(COUNTA(O501:O530)>0,COUNTA(O530:$O$5195)>0),IF(COUNTIF(B521:B530,B530)=10,B530+7,B530),\"\")","v":""},null,"","",null,null,null,0,0,0,0,{"$f":"IFERROR(VLOOKUP(G531,DropDowns!$D$2:$E$151,2,FALSE),\"\")","v":""},{"$f":"IFERROR(VLOOKUP(H531,DropDowns!$F$2:$G$7,2,FALSE),\"Residual categories\")","v":"Residual categories"},null,null,null,0,0,0]
[{"$f":"$E$2","v":0},{"$f":"IF(OR(COUNTA(O502:O531)>0,COUNTA(O531:$O$5195)>0),IF(COUNTIF(B522:B531,B531)=10,B531+7,B531),\"\")","v":""},null,"","",null,null,null,0,0,0,0,{"$f":"IFERROR(VLOOKUP(G532,DropDowns!$D$2:$E$151,2,FALSE),\"\")","v":""},{"$f":"IFERROR(VLOOKUP(H532,DropDowns!$F$2:$G$7,2,FALSE),\"Residual categories\")","v":"Residual categories"},null,null,null,0,0,0]
[0,{"$f":"IF(OR(COUNTA(O503:O532)>0,COUNTA(O532:$O$5195)>0),IF(COUNTIF(B523:B532,B532)=10,B532+7,B532),\"\")","v":""},null,"","",null,null,null,0,0,0,0,{"$f":"IFERROR(VLOOKUP(G533,DropDowns!$D$2:$E$151,2,FALSE),\"\")","v":""},{"$f":"IFERROR(VLOOKUP(H533,DropDowns!$F$2:$G$7,2,FALSE),\"Residual categories\")","v":"Residual categories"},null,null,null,0,0,0]
[0,{"$f":"IF(OR(COUNTA(O504:O533)>0,COUNTA(O533:$O$5195)>0),IF(COUNTIF(B524:B533,B533)=10,B533+7,B533),\"\")","v":""},null,"","",null,null,null,0,0,0,0,{"$f":"IFERROR(VLOOKUP(G534,DropDowns!$D$2:$E$151,2,FALSE),\"\")","v":""},{"$f":"IFERROR(VLOOKUP(H534,DropDowns!$F$2:$G$7,2,FALSE),\"Residual categories\")","v":"Residual categories"},null,null,null,0,0,0]
[0,{"$f":"IF(OR(COUNTA(O505:O534)>0,COUNTA(O534:$O$5195)>0),IF(COUNTIF(B525:B534,B534)=10,B534+7,B534),\"\")","v":""},null,"","",null,null,null,0,0,0,0,{"$f":"IFERROR(VLOOKUP(G535,DropDowns!$D$2:$E$151,2,FALSE),\"\")","v":""},{"$f":"IFERROR(VLOOKUP(H535,DropDowns!$F$2:$G$7,2,FALSE),\"Residual categories\")","v":"Residual categories"},null,null,null,0,0,0]
[0,{"$f":"IF(OR(COUNTA(O506:O535)>0,COUNTA(O535:$O$5195)>0),IF(COUNTIF(B526:B535,B535)=10,B535+7,B535),\"\")","v":""},null,"","",null,null,null,0,0,0,0,{"$f":"IFERROR(VLOOKUP(G536,DropDowns!$D$2:$E$151,2,FALSE),\"\")","v":""},{"$f":"IFERROR(VLOOKUP(H536,DropDowns!$F$2:$G$7,2,FALSE),\"Residual categories\")","v":"Residual categories"},null,null,null,0,0,0]
[0,{"$f":"IF(OR(COUNTA(O507:O536)>0,COUNTA(O536:$O$5195)>0),IF(COUNTIF(B527:B536,B536)=10,B536+7,B536),\"\")","v":""},null,"","",null,null,null,0,0,0,0,{"$f":"IFERROR(VLOOKUP(G537,DropDowns!$D$2:$E$151,2,FALSE),\"\")","v":""},{"$f":"IFERROR(VLOOKUP(H537,DropDowns!$F$2:$G$7,2,FALSE),\"Residual categories\")","v":"Residual categories"},null,null,null,0,0,0]
[0,{"$f":"IF(OR(COUNTA(O508:O537)>0,COUNTA(O537:$O$5195)>0),IF(COUNTIF(B528:B537,B537)=10,B537+7,B537),\"\")","v":""},null,"","",null,null,null,0,0,0,0,{"$f":"IFERROR(VLOOKUP(G538,DropDowns!$D$2:$E$151,2,FALSE),\"\")","v":""},{"$f":"IFERROR(VLOOKUP(H538,DropDowns!$F$2:$G$7,2,FALSE),\"Residual categories\")","v":"Residual categories"},null,null,null,0,0,0]
[0,{"$f":"IF(OR(COUNTA(O509:O538)>0,COUNTA(O538:$O$5195)>0),IF(COUNTIF(B529:B538,B538)=10,B538+7,B538),\"\")","v":""},null,"","",null,null,null,0,0,0,0,{"$f":"IFERROR(VLOOKUP(G539,DropDowns!$D$2:$E$151,2,FALSE),\"\")","v":""},{"$f":"IFERROR(VLOOKUP(H539,DropDowns!$F$2:$G$7,2,FALSE),\"Residual categories\")","v":"Residual categories"},null,null,null,0,0,0]
[0,{"$f":"IF(OR(COUNTA(O510:O539)>0,COUNTA(O539:$O$5195)>0),IF(COUNTIF(B530:B539,B539)=10,B539+7,B539),\"\")","v":""},null,"","",null,null,null,0,0,0,0,{"$f":"IFERROR(VLOOKUP(G540,DropDowns!$D$2:$E$151,2,FALSE),\"\")","v":""},{"$f":"IFERROR(VLOOKUP(H540,DropDowns!$F$2:$G$7,2,FALSE),\"Residual categories\")","v":"Residual categories"},null,null,null,0,0,0]
[0,{"$f":"IF(OR(COUNTA(O511:O540)>0,COUNTA(O540:$O$5195)>0),IF(COUNTIF(B531:B540,B540)=10,B540+7,B540),\"\")","v":""},null,"","",null,null,null,0,0,0,0,{"$f":"IFERROR(VLOOKUP(G541,DropDowns!$D$2:$E$151,2,FALSE),\"\")","v":""},{"$f":"IFERROR(VLOOKUP(H541,DropDowns!$F$2:$G$7,2,FALSE),\"Residual categories\")","v":"Residual categories"},null,null,null,0,0,0]
[0,{"$f":"IF(OR(COUNTA(O512:O541)>0,COUNTA(O541:$O$5195)>0),IF(COUNTIF(B532:B541,B541)=10,B541+7,B541),\"\")","v":""},null,"","",null,null,null,0,0,0,0,{"$f":"IFERROR(VLOOKUP(G542,DropDowns!$D$2:$E$151,2,FALSE),\"\")","v":""},{"$f":"IFERROR(VLOOKUP(H542,DropDowns!$F$2:$G$7,2,FALSE),\"Residual categories\")","v":"Residual categories"},null,null,null,0,0,0]
[0,{"$f":"IF(OR(COUNTA(O513:O542)>0,COUNTA(O542:$O$5195)>0),IF(COUNTIF(B533:B542,B542)=10,B542+7,B542),\"\")","v":""},null,"","",null,null,null,0,0,0,0,{"$f":"IFERROR(VLOOKUP(G543,DropDowns!$D$2:$E$151,2,FALSE),\"\")","v":""},{"$f":"IFERROR(VLOOKUP(H543,DropDowns!$F$2:$G$7,2,FALSE),\"Residual categories\")","v":"Residual categories"},null,null,null,0,0,0]
[0,{"$f":"IF(OR(COUNTA(O514:O543)>0,COUNTA(O543:$O$5195)>0),IF(COUNTIF(B534:B543,B543)=10,B543+7,B543),\"\")","v":""},null,"","",null,null,null,0,0,0,0,{"$f":"IFERROR(VLOOKUP(G544,DropDowns!$D$2:$E$151,2,FALSE),\"\")","v":""},{"$f":"IFERROR(VLOOKUP(H544,DropDowns!$F$2:$G$7,2,FALSE),\"Residual categories\")","v":"Residual categories"},null,null,null,0,0,0]
[0,{"$f":"IF(OR(COUNTA(O515:O544)>0,COUNTA(O544:$O$5195)>0),IF(COUNTIF(B535:B544,B544)=10,B544+7,B544),\"\")","v":""},null,"","",null,null,null,0,0,0,0,{"$f":"IFERROR(VLOOKUP(G545,DropDowns!$D$2:$E$151,2,FALSE),\"\")","v":""},{"$f":"IFERROR(VLOOKUP(H545,DropDowns!$F$2:$G$7,2,FALSE),\"Residual categories\")","v":"Residual categories"},null,null,null,0,0,0]
[0,{"$f":"IF(OR(COUNTA(O516:O545)>0,COUNTA(O545:$O$5195)>0),IF(COUNTIF(B536:B545,B545)=10,B545+7,B545),\"\")","v":""},null,"","",null,null,null,0,0,0,0,{"$f":"IFERROR(VLOOKUP(G546,DropDowns!$D$2:$E$151,2,FALSE),\"\")","v":""},{"$f":"IFERROR(VLOOKUP(H546,DropDowns!$F$2:$G$7,2,FALSE),\"Residual categories\")","v":"Residual categories"},null,null,null,0,0,0]
[0,{"$f":"IF(OR(COUNTA(O517:O546)>0,COUNTA(O546:$O$5195)>0),IF(COUNTIF(B537:B546,B546)=10,B546+7,B546),\"\")","v":""},null,"","",null,null,null,0,0,0,0,{"$f":"IFERROR(VLOOKUP(G547,DropDowns!$D$2:$E$151,2,FALSE),\"\")","v":""},{"$f":"IFERROR(VLOOKUP(H547,DropDowns!$F$2:$G$7,2,FALSE),\"Residual categories\")","v":"Residual categories"},null,null,null,0,0,0]
[0,{"$f":"IF(OR(COUNTA(O518:O547)>0,COUNTA(O547:$O$5195)>0),IF(COUNTIF(B538:B547,B547)=10,B547+7,B547),\"\")","v":""},null,"","",null,null,null,0,0,0,0,{"$f":"IFERROR(VLOOKUP(G548,DropDowns!$D$2:$E$151,2,FALSE),\"\")","v":""},{"$f":"IFERROR(VLOOKUP(H548,DropDowns!$F$2:$G$7,2,FALSE),\"Residual categories\")","v":"Residual categories"},null,null,null,0,0,0]
[0,{"$f":"IF(OR(COUNTA(O519:O548)>0,COUNTA(O548:$O$5195)>0),IF(COUNTIF(B539:B548,B548)=10,B548+7,B548),\"\")","v":""},null,"","",null,null,null,0,0,0,0,{"$f":"IFERROR(VLOOKUP(G549,DropDowns!$D$2:$E$151,2,FALSE),\"\")","v":""},{"$f":"IFERROR(VLOOKUP(H549,DropDowns!$F$2:$G$7,2,FALSE),\"Residual categories\")","v":"Residual categories"},null,null,null,0,0,0]
[0,{"$f":"IF(OR(COUNTA(O520:O549)>0,COUNTA(O549:$O$5195)>0),IF(COUNTIF(B540:B549,B549)=10,B549+7,B549),\"\")","v":""},null,"","",null,null,null,0,0,0,0,{"$f":"IFERROR(VLOOKUP(G550,DropDowns!$D$2:$E$151,2,FALSE),\"\")","v":""},{"$f":"IFERROR(VLOOKUP(H550,DropDowns!$F$2:$G$7,2,FALSE),\"Residual categories\")","v":"Residual categories"},null,null,null,0,0,0]
[0,{"$f":"IF(OR(COUNTA(O521:O550)>0,COUNTA(O550:$O$5195)>0),IF(COUNTIF(B541:B550,B550)=10,B550+7,B550),\"\")","v":""},null,"","",null,null,null,0,0,0,0,{"$f":"IFERROR(VLOOKUP(G551,DropDowns!$D$2:$E$151,2,FALSE),\"\")","v":""},{"$f":"IFERROR(VLOOKUP(H551,DropDowns!$F$2:$G$7,2,FALSE),\"Residual categories\")","v":"Residual categories"},null,null,null,0,0,0]
[0,{"$f":"IF(OR(COUNTA(O522:O551)>0,COUNTA(O551:$O$5195)>0),IF(COUNTIF(B542:B551,B551)=10,B551+7,B551),\"\")","v":""},null,"","",null,null,null,0,0,0,0,{"$f":"IFERROR(VLOOKUP(G552,DropDowns!$D$2:$E$151,2,FALSE),\"\")","v":""},{"$f":"IFERROR(VLOOKUP(H552,DropDowns!$F$2:$G$7,2,FALSE),\"Residual categories\")","v":"Residual categories"},null,null,null,0,0,0]
[0,{"$f":"IF(OR(COUNTA(O523:O552)>0,COUNTA(O552:$O$5195)>0),IF(COUNTIF(B543:B552,B552)=10,B552+7,B552),\"\")","v":""},null,"","",null,null,null,0,0,0,0,{"$f":"IFERROR(VLOOKUP(G553,DropDowns!$D$2:$E$151,2,FALSE),\"\")","v":""},{"$f":"IFERROR(VLOOKUP(H553,DropDowns!$F$2:$G$7,2,FALSE),\"Residual categories\")","v":"Residual categories"},null,null,null,0,0,0]
[0,{"$f":"IF(OR(COUNTA(O524:O553)>0,COUNTA(O553:$O$5195)>0),IF(COUNTIF(B544:B553,B553)=10,B553+7,B553),\"\")","v":""},null,"","",null,null,null,0,0,0,0,{"$f":"IFERROR(VLOOKUP(G554,DropDowns!$D$2:$E$151,2,FALSE),\"\")","v":""},{"$f":"IFERROR(VLOOKUP(H554,DropDowns!$F$2:$G$7,2,FALSE),\"Residual categories\")","v":"Residual categories"},null,null,null,0,0,0]
[0,{"$f":"IF(OR(COUNTA(O525:O554)>0,COUNTA(O554:$O$5195)>0),IF(COUNTIF(B545:B554,B554)=10,B554+7,B554),\"\")","v":""},null,"","",null,null,null,0,0,0,0,{"$f":"IFERROR(VLOOKUP(G555,DropDowns!$D$2:$E$151,2,FALSE),\"\")","v":""},{"$f":"IFERROR(VLOOKUP(H555,DropDowns!$F$2:$G$7,2,FALSE),\"Residual categories\")","v":"Residual categories"},null,null,null,0,0,0]
[0,{"$f":"IF(OR(COUNTA(O526:O555)>0,COUNTA(O555:$O$5195)>0),IF(COUNTIF(B546:B555,B555)=10,B555+7,B555),\"\")","v":""},null,"","",null,null,null,0,0,0,0,{"$f":"IFERROR(VLOOKUP(G556,DropDowns!$D$2:$E$151,2,FALSE),\"\")","v":""},{"$f":"IFERROR(VLOOKUP(H556,DropDowns!$F$2:$G$7,2,FALSE),\"Residual categories\")","v":"Residual categories"},null,null,null,0,0,0]
[0,{"$f":"IF(OR(COUNTA(O527:O556)>0,COUNTA(O556:$O$5195)>0),IF(COUNTIF(B547:B556,B556)=10,B556+7,B556),\"\")","v":""},null,"","",null,null,null,0,0,0,0,{"$f":"IFERROR(VLOOKUP(G557,DropDowns!$D$2:$E$151,2,FALSE),\"\")","v":""},{"$f":"IFERROR(VLOOKUP(H557,DropDowns!$F$2:$G$7,2,FALSE),\"Residual categories\")","v":"Residual categories"},null,null,null,0,0,0]
[0,{"$f":"IF(OR(COUNTA(O528:O557)>0,COUNTA(O557:$O$5195)>0),IF(COUNTIF(B548:B557,B557)=10,B557+7,B557),\"\")","v":""},null,"","",null,null,null,0,0,0,0,{"$f":"IFERROR(VLOOKUP(G558,DropDowns!$D$2:$E$151,2,FALSE),\"\")","v":""},{"$f":"IFERROR(VLOOKUP(H558,DropDowns!$F$2:$G$7,2,FALSE),\"Residual categories\")","v":"Residual categories"},null,null,null,0,0,0]
[0,{"$f":"IF(OR(COUNTA(O529:O558)>0,COUNTA(O558:$O$5195)>0),IF(COUNTIF(B549:B558,B558)=10,B558+7,B558),\"\")","v":""},null,"","",null,null,null,0,0,0,0,{"$f":"IFERROR(VLOOKUP(G559,DropDowns!$D$2:$E$151,2,FALSE),\"\")","v":""},{"$f":"IFERROR(VLOOKUP(H559,DropDowns!$F$2:$G$7,2,FALSE),\"Residual categories\")","v":"Residual categories"},null,null,null,0,0,0]
[0,{"$f":"IF(OR(COUNTA(O530:O559)>0,COUNTA(O559:$O$5195)>0),IF(COUNTIF(B550:B559,B559)=10,B559+7,B559),\"\")","v":""},null,"","",null,null,null,0,0,0,0,{"$f":"IFERROR(VLOOKUP(G560,DropDowns!$D$2:$E$151,2,FALSE),\"\")","v":""},{"$f":"IFERROR(VLOOKUP(H560,DropDowns!$F$2:$G$7,2,FALSE),\"Residual categories\")","v":"Residual categories"},null,null,null,0,0,0]
[0,{"$f":"IF(OR(COUNTA(O531:O560)>0,COUNTA(O560:$O$5195)>0),IF(COUNTIF(B551:B560,B560)=10,B560+7,B560),\"\")","v":""},null,"","",null,null,null,0,0,0,0,{"$f":"IFERROR(VLOOKUP(G561,DropDowns!$D$2:$E$151,2,FALSE),\"\")","v":""},{"$f":"IFERROR(VLOOKUP(H561,DropDowns!$F$2:$G$7,2,FALSE),\"Residual categories\")","v":"Residual categories"},null,null,null,0,0,0]
[0,{"$f":"IF(OR(COUNTA(O532:O561)>0,COUNTA(O561:$O$5195)>0),IF(COUNTIF(B552:B561,B561)=10,B561+7,B561),\"\")","v":""},null,"","",null,null,null,0,0,0,0,{"$f":"IFERROR(VLOOKUP(G562,DropDowns!$D$2:$E$151,2,FALSE),\"\")","v":""},{"$f":"IFERROR(VLOOKUP(H562,DropDowns!$F$2:$G$7,2,FALSE),\"Residual categories\")","v":"Residual categories"},null,null,null,0,0,0]
[0,{"$f":"IF(OR(COUNTA(O533:O562)>0,COUNTA(O562:$O$5195)>0),IF(COUNTIF(B553:B562,B562)=10,B562+7,B562),\"\")","v":""},null,"","",null,null,null,0,0,0,0,{"$f":"IFERROR(VLOOKUP(G563,DropDowns!$D$2:$E$151,2,FALSE),\"\")","v":""},{"$f":"IFERROR(VLOOKUP(H563,DropDowns!$F$2:$G$7,2,FALSE),\"Residual categories\")","v":"Residual categories"},null,null,null,0,0,0]
[0,{"$f":"IF(OR(COUNTA(O534:O563)>0,COUNTA(O563:$O$5195)>0),IF(COUNTIF(B554:B563,B563)=10,B563+7,B563),\"\")","v":""},null,"","",null,null,null,0,0,0,0,{"$f":"IFERROR(VLOOKUP(G564,DropDowns!$D$2:$E$151,2,FALSE),\"\")","v":""},{"$f":"IFERROR(VLOOKUP(H564,DropDowns!$F$2:$G$7,2,FALSE),\"Residual categories\")","v":"Residual categories"},null,null,null,0,0,0]
[0,{"$f":"IF(OR(COUNTA(O535:O564)>0,COUNTA(O564:$O$5195)>0),IF(COUNTIF(B555:B564,B564)=10,B564+7,B564),\"\")","v":""},null,"","",null,null,null,0,0,0,0,{"$f":"IFERROR(VLOOKUP(G565,DropDowns!$D$2:$E$151,2,FALSE),\"\")","v":""},{"$f":"IFERROR(VLOOKUP(H565,DropDowns!$F$2:$G$7,2,FALSE),\"Residual categories\")","v":"Residual categories"},null,null,null,0,0,0]
[0,{"$f":"IF(OR(COUNTA(O536:O565)>0,COUNTA(O565:$O$5195)>0),IF(COUNTIF(B556:B565,B565)=10,B565+7,B565),\"\")","v":""},null,"","",null,null,null,0,0,0,0,{"$f":"IFERROR(VLOOKUP(G566,DropDowns!$D$2:$E$151,2,FALSE),\"\")","v":""},{"$f":"IFERROR(VLOOKUP(H566,DropDowns!$F$2:$G$7,2,FALSE),\"Residual categories\")","v":"Residual categories"},null,null,null,0,0,0]
[0,{"$f":"IF(OR(COUNTA(O537:O566)>0,COUNTA(O566:$O$5195)>0),IF(COUNTIF(B557:B566,B566)=10,B566+7,B566),\"\")","v":""},null,"","",null,null,null,0,0,0,0,{"$f":"IFERROR(VLOOKUP(G567,DropDowns!$D$2:$E$151,2,FALSE),\"\")","v":""},{"$f":"IFERROR(VLOOKUP(H567,DropDowns!$F$2:$G$7,2,FALSE),\"Residual categories\")","v":"Residual categories"},null,null,null,0,0,0]
[0,{"$f":"IF(OR(COUNTA(O538:O567)>0,COUNTA(O567:$O$5195)>0),IF(COUNTIF(B558:B567,B567)=10,B567+7,B567),\"\")","v":""},null,"","",null,null,null,0,0,0,0,{"$f":"IFERROR(VLOOKUP(G568,DropDowns!$D$2:$E$151,2,FALSE),\"\")","v":""},{"$f":"IFERROR(VLOOKUP(H568,DropDowns!$F$2:$G$7,2,FALSE),\"Residual categories\")","v":"Residual categories"},null,null,null,0,0,0]
[0,{"$f":"IF(OR(COUNTA(O539:O568)>0,COUNTA(O568:$O$5195)>0),IF(COUNTIF(B559:B568,B568)=10,B568+7,B568),\"\")","v":""},null,"","",null,null,null,0,0,0,0,{"$f":"IFERROR(VLOOKUP(G569,DropDowns!$D$2:$E$151,2,FALSE),\"\")","v":""},{"$f":"IFERROR(VLOOKUP(H569,DropDowns!$F$2:$G$7,2,FALSE),\"Residual categories\")","v":"Residual categories"},null,null,null,0,0,0]
[0,{"$f":"IF(OR(COUNTA(O540:O569)>0,COUNTA(O569:$O$5195)>0),IF(COUNTIF(B560:B569,B569)=10,B569+7,B569),\"\")","v":""},null,"","",null,null,null,0,0,0,0,{"$f":"IFERROR(VLOOKUP(G570,DropDowns!$D$2:$E$151,2,FALSE),\"\")","v":""},{"$f":"IFERROR(VLOOKUP(H570,DropDowns!$F$2:$G$7,2,FALSE),\"Residual categories\")","v":"Residual categories"},null,null,null,0,0,0]
[0,{"$f":"IF(OR(COUNTA(O541:O570)>0,COUNTA(O570:$O$5195)>0),IF(COUNTIF(B561:B570,B570)=10,B570+7,B570),\"\")","v":""},null,"","",null,null,null,0,0,0,0,{"$f":"IFERROR(VLOOKUP(G571,DropDowns!$D$2:$E$151,2,FALSE),\"\")","v":""},{"$f":"IFERROR(VLOOKUP(H571,DropDowns!$F$2:$G$7,2,FALSE),\"Residual categories\")","v":"Residual categories"},null,null,null,0,0,0]
[0,{"$f":"IF(OR(COUNTA(O542:O571)>0,COUNTA(O571:$O$5195)>0),IF(COUNTIF(B562:B571,B571)=10,B571+7,B571),\"\")","v":""},null,"","",null,null,null,0,0,0,0,{"$f":"IFERROR(VLOOKUP(G572,DropDowns!$D$2:$E$151,2,FALSE),\"\")","v":""},{"$f":"IFERROR(VLOOKUP(H572,DropDowns!$F$2:$G$7,2,FALSE),\"Residual categories\")","v":"Residual categories"},null,null,null,0,0,0]
[0,{"$f":"IF(OR(COUNTA(O543:O572)>0,COUNTA(O572:$O$5195)>0),IF(COUNTIF(B563:B572,B572)=10,B572+7,B572),\"\")","v":""},null,"","",null,null,null,0,0,0,0,{"$f":"IFERROR(VLOOKUP(G573,DropDowns!$D$2:$E$151,2,FALSE),\"\")","v":""},{"$f":"IFERROR(VLOOKUP(H573,DropDowns!$F$2:$G$7,2,FALSE),\"Residual categories\")","v":"Residual categories"},null,null,null,0,0,0]
[0,{"$f":"IF(OR(COUNTA(O544:O573)>0,COUNTA(O573:$O$5195)>0),IF(COUNTIF(B564:B573,B573)=10,B573+7,B573),\"\")","v":""},null,"","",null,null,null,0,0,0,0,{"$f":"IFERROR(VLOOKUP(G574,DropDowns!$D$2:$E$151,2,FALSE),\"\")","v":""},{"$f":"IFERROR(VLOOKUP(H574,DropDowns!$F$2:$G$7,2,FALSE),\"Residual categories\")","v":"Residual categories"},null,null,null,0,0,0]
[0,{"$f":"IF(OR(COUNTA(O545:O574)>0,COUNTA(O574:$O$5195)>0),IF(COUNTIF(B565:B574,B574)=10,B574+7,B574),\"\")","v":""},null,"","",null,null,null,0,0,0,0,{"$f":"IFERROR(VLOOKUP(G575,DropDowns!$D$2:$E$151,2,FALSE),\"\")","v":""},{"$f":"IFERROR(VLOOKUP(H575,DropDowns!$F$2:$G$7,2,FALSE),\"Residual categories\")","v":"Residual categories"},null,null,null,0,0,0]
[0,{"$f":"IF(OR(COUNTA(O546:O575)>0,COUNTA(O575:$O$5195)>0),IF(COUNTIF(B566:B575,B575)=10,B575+7,B575),\"\")","v":""},null,"","",null,null,null,0,0,0,0,{"$f":"IFERROR(VLOOKUP(G576,DropDowns!$D$2:$E$151,2,FALSE),\"\")","v":""},{"$f":"IFERROR(VLOOKUP(H576,DropDowns!$F$2:$G$7,2,FALSE),\"Residual categories\")","v":"Residual categories"},null,null,null,0,0,0]
[0,{"$f":"IF(OR(COUNTA(O547:O576)>0,COUNTA(O576:$O$5195)>0),IF(COUNTIF(B567:B576,B576)=10,B576+7,B576),\"\")","v":""},null,"","",null,null,null,0,0,0,0,{"$f":"IFERROR(VLOOKUP(G577,DropDowns!$D$2:$E$151,2,FALSE),\"\")","v":""},{"$f":"IFERROR(VLOOKUP(H577,DropDowns!$F$2:$G$7,2,FALSE),\"Residual categories\")","v":"Residual categories"},null,null,null,0,0,0]
[0,{"$f":"IF(OR(COUNTA(O548:O577)>0,COUNTA(O577:$O$5195)>0),IF(COUNTIF(B568:B577,B577)=10,B577+7,B577),\"\")","v":""},null,"","",null,null,null,0,0,0,0,{"$f":"IFERROR(VLOOKUP(G578,DropDowns!$D$2:$E$151,2,FALSE),\"\")","v":""},{"$f":"IFERROR(VLOOKUP(H578,DropDowns!$F$2:$G$7,2,FALSE),\"Residual categories\")","v":"Residual categories"},null,null,null,0,0,0]
[0,{"$f":"IF(OR(COUNTA(O549:O578)>0,COUNTA(O578:$O$5195)>0),IF(COUNTIF(B569:B578,B578)=10,B578+7,B578),\"\")","v":""},null,"","",null,null,null,0,0,0,0,{"$f":"IFERROR(VLOOKUP(G579,DropDowns!$D$2:$E$151,2,FALSE),\"\")","v":""},{"$f":"IFERROR(VLOOKUP(H579,DropDowns!$F$2:$G$7,2,FALSE),\"Residual categories\")","v":"Residual categories"},null,null,null,0,0,0]
[0,{"$f":"IF(OR(COUNTA(O550:O579)>0,COUNTA(O579:$O$5195)>0),IF(COUNTIF(B570:B579,B579)=10,B579+7,B579),\"\")","v":""},null,"","",null,null,null,0,0,0,0,{"$f":"IFERROR(VLOOKUP(G580,DropDowns!$D$2:$E$151,2,FALSE),\"\")","v":""},{"$f":"IFERROR(VLOOKUP(H580,DropDowns!$F$2:$G$7,2,FALSE),\"Residual categories\")","v":"Residual categories"},null,null,null,0,0,0]
[0,{"$f":"IF(OR(COUNTA(O551:O580)>0,COUNTA(O580:$O$5195)>0),IF(COUNTIF(B571:B580,B580)=10,B580+7,B580),\"\")","v":""},null,"","",null,null,null,0,0,0,0,{"$f":"IFERROR(VLOOKUP(G581,DropDowns!$D$2:$E$151,2,FALSE),\"\")","v":""},{"$f":"IFERROR(VLOOKUP(H581,DropDowns!$F$2:$G$7,2,FALSE),\"Residual categories\")","v":"Residual categories"},null,null,null,0,0,0]
[0,{"$f":"IF(OR(COUNTA(O552:O581)>0,COUNTA(O581:$O$5195)>0),IF(COUNTIF(B572:B581,B581)=10,B581+7,B581),\"\")","v":""},null,"","",null,null,null,0,0,0,0,{"$f":"IFERROR(VLOOKUP(G582,DropDowns!$D$2:$E$151,2,FALSE),\"\")","v":""},{"$f":"IFERROR(VLOOKUP(H582,DropDowns!$F$2:$G$7,2,FALSE),\"Residual categories\")","v":"Residual categories"},null,null,null,0,0,0]
[0,{"$f":"IF(OR(COUNTA(O553:O582)>0,COUNTA(O582:$O$5195)>0),IF(COUNTIF(B573:B582,B582)=10,B582+7,B582),\"\")","v":""},null,{"$f":"IF(E583=1,B583,\"\")","v":""},"",null,null,null,{"$f":"IF(COUNTA(O583:Q583)>0,1,0)","v":0},{"$f":"IF(O583=\"y\",1,0)","v":0},{"$f":"IF(P583=\"y\",1,0)","v":0},{"$f":"IF(Q583=\"y\",1,0)","v":0},{"$f":"IFERROR(VLOOKUP(G583,DropDowns!$D$2:$E$151,2,FALSE),\"\")","v":""},{"$f":"IFERROR(VLOOKUP(H583,DropDowns!$F$2:$G$7,2,FALSE),\"Residual categories\")","v":"Residual categories"},null,null,null,{"$f":"IF(O583=\"yes\",1,0)","v":0},{"$f":"IF(P583=\"yes\",1,0)","v":0},{"$f":"IF(Q583=\"yes\",1,0)","v":0}]
[0,{"$f":"IF(OR(COUNTA(O554:O583)>0,COUNTA(O583:$O$5195)>0),IF(COUNTIF(B574:B583,B583)=10,B583+7,B583),\"\")","v":""},null,"","",null,null,null,0,0,0,0,{"$f":"IFERROR(VLOOKUP(G584,DropDowns!$D$2:$E$151,2,FALSE),\"\")","v":""},{"$f":"IFERROR(VLOOKUP(H584,DropDowns!$F$2:$G$7,2,FALSE),\"Residual categories\")","v":"Residual categories"},null,null,null,0,0,0]
[0,{"$f":"IF(OR(COUNTA(O555:O584)>0,COUNTA(O584:$O$5195)>0),IF(COUNTIF(B575:B584,B584)=10,B584+7,B584),\"\")","v":""},null,"","",null,null,null,0,0,0,0,{"$f":"IFERROR(VLOOKUP(G585,DropDowns!$D$2:$E$151,2,FALSE),\"\")","v":""},{"$f":"IFERROR(VLOOKUP(H585,DropDowns!$F$2:$G$7,2,FALSE),\"Residual categories\")","v":"Residual categories"},null,null,null,0,0,0]
[0,{"$f":"IF(OR(COUNTA(O556:O585)>0,COUNTA(O585:$O$5195)>0),IF(COUNTIF(B576:B585,B585)=10,B585+7,B585),\"\")","v":""},null,"","",null,null,null,0,0,0,0,{"$f":"IFERROR(VLOOKUP(G586,DropDowns!$D$2:$E$151,2,FALSE),\"\")","v":""},{"$f":"IFERROR(VLOOKUP(H586,DropDowns!$F$2:$G$7,2,FALSE),\"Residual categories\")","v":"Residual categories"},null,null,null,0,0,0]
[0,{"$f":"IF(OR(COUNTA(O557:O586)>0,COUNTA(O586:$O$5195)>0),IF(COUNTIF(B577:B586,B586)=10,B586+7,B586),\"\")","v":""},null,"","",null,null,null,0,0,0,0,{"$f":"IFERROR(VLOOKUP(G587,DropDowns!$D$2:$E$151,2,FALSE),\"\")","v":""},{"$f":"IFERROR(VLOOKUP(H587,DropDowns!$F$2:$G$7,2,FALSE),\"Residual categories\")","v":"Residual categories"},null,null,null,0,0,0]
[0,{"$f":"IF(OR(COUNTA(O558:O587)>0,COUNTA(O587:$O$5195)>0),IF(COUNTIF(B578:B587,B587)=10,B587+7,B587),\"\")","v":""},null,"","",null,null,null,0,0,0,0,{"$f":"IFERROR(VLOOKUP(G588,DropDowns!$D$2:$E$151,2,FALSE),\"\")","v":""},{"$f":"IFERROR(VLOOKUP(H588,DropDowns!$F$2:$G$7,2,FALSE),\"Residual categories\")","v":"Residual categories"},null,null,null,0,0,0]
[0,{"$f":"IF(OR(COUNTA(O559:O588)>0,COUNTA(O588:$O$5195)>0),IF(COUNTIF(B579:B588,B588)=10,B588+7,B588),\"\")","v":""},null,"","",null,null,null,0,0,0,0,{"$f":"IFERROR(VLOOKUP(G589,DropDowns!$D$2:$E$151,2,FALSE),\"\")","v":""},{"$f":"IFERROR(VLOOKUP(H589,DropDowns!$F$2:$G$7,2,FALSE),\"Residual categories\")","v":"Residual categories"},null,null,null,0,0,0]
[0,{"$f":"IF(OR(COUNTA(O560:O589)>0,COUNTA(O589:$O$5195)>0),IF(COUNTIF(B580:B589,B589)=10,B589+7,B589),\"\")","v":""},null,"","",null,null,null,0,0,0,0,{"$f":"IFERROR(VLOOKUP(G590,DropDowns!$D$2:$E$151,2,FALSE),\"\")","v":""},{"$f":"IFERROR(VLOOKUP(H590,DropDowns!$F$2:$G$7,2,FALSE),\"Residual categories\")","v":"Residual categories"},null,null,null,0,0,0]
[0,{"$f":"IF(OR(COUNTA(O561:O590)>0,COUNTA(O590:$O$5195)>0),IF(COUNTIF(B581:B590,B590)=10,B590+7,B590),\"\")","v":""},null,"","",null,null,null,0,0,0,0,{"$f":"IFERROR(VLOOKUP(G591,DropDowns!$D$2:$E$151,2,FALSE),\"\")","v":""},{"$f":"IFERROR(VLOOKUP(H591,DropDowns!$F$2:$G$7,2,FALSE),\"Residual categories\")","v":"Residual categories"},null,null,null,0,0,0]
[0,{"$f":"IF(OR(COUNTA(O562:O591)>0,COUNTA(O591:$O$5195)>0),IF(COUNTIF(B582:B591,B591)=10,B591+7,B591),\"\")","v":""},null,"","",null,null,null,0,0,0,0,{"$f":"IFERROR(VLOOKUP(G592,DropDowns!$D$2:$E$151,2,FALSE),\"\")","v":""},{"$f":"IFERROR(VLOOKUP(H592,DropDowns!$F$2:$G$7,2,FALSE),\"Residual categories\")","v":"Residual categories"},null,null,null,0,0,0]
[0,{"$f":"IF(OR(COUNTA(O563:O592)>0,COUNTA(O592:$O$5195)>0),IF(COUNTIF(B583:B592,B592)=10,B592+7,B592),\"\")","v":""},null,"",{"$f":"IF(B593=\"\",\"\",COUNTIF(B584:B593,B593))","v":""},null,null,null,0,0,0,0,{"$f":"IFERROR(VLOOKUP(G593,DropDowns!$D$2:$E$151,2,FALSE),\"\")","v":""},{"$f":"IFERROR(VLOOKUP(H593,DropDowns!$F$2:$G$7,2,FALSE),\"Residual categories\")","v":"Residual categories"},null,null,null,0,0,0]
[0,{"$f":"IF(OR(COUNTA(O564:O593)>0,COUNTA(O593:$O$5195)>0),IF(COUNTIF(B584:B593,B593)=10,B593+7,B593),\"\")","v":""},null,"","",null,null,null,0,0,0,0,{"$f":"IFERROR(VLOOKUP(G594,DropDowns!$D$2:$E$151,2,FALSE),\"\")","v":""},{"$f":"IFERROR(VLOOKUP(H594,DropDowns!$F$2:$G$7,2,FALSE),\"Residual categories\")","v":"Residual categories"},null,null,null,0,0,0]
[0,{"$f":"IF(OR(COUNTA(O565:O594)>0,COUNTA(O594:$O$5195)>0),IF(COUNTIF(B585:B594,B594)=10,B594+7,B594),\"\")","v":""},null,"","",null,null,null,0,0,0,0,{"$f":"IFERROR(VLOOKUP(G595,DropDowns!$D$2:$E$151,2,FALSE),\"\")","v":""},{"$f":"IFERROR(VLOOKUP(H595,DropDowns!$F$2:$G$7,2,FALSE),\"Residual categories\")","v":"Residual categories"},null,null,null,0,0,0]
[{"$f":"$E$2","v":0},{"$f":"IF(OR(COUNTA(O566:O595)>0,COUNTA(O595:$O$5195)>0),IF(COUNTIF(B586:B595,B595)=10,B595+7,B595),\"\")","v":""},null,"","",null,null,null,0,0,0,0,{"$f":"IFERROR(VLOOKUP(G596,DropDowns!$D$2:$E$151,2,FALSE),\"\")","v":""},{"$f":"IFERROR(VLOOKUP(H596,DropDowns!$F$2:$G$7,2,FALSE),\"Residual categories\")","v":"Residual categories"},null,null,null,0,0,0]
[0,{"$f":"IF(OR(COUNTA(O567:O596)>0,COUNTA(O596:$O$5195)>0),IF(COUNTIF(B587:B596,B596)=10,B596+7,B596),\"\")","v":""},null,"","",null,null,null,0,0,0,0,{"$f":"IFERROR(VLOOKUP(G597,DropDowns!$D$2:$E$151,2,FALSE),\"\")","v":""},{"$f":"IFERROR(VLOOKUP(H597,DropDowns!$F$2:$G$7,2,FALSE),\"Residual categories\")","v":"Residual categories"},null,null,null,0,0,0]
[0,{"$f":"IF(OR(COUNTA(O568:O597)>0,COUNTA(O597:$O$5195)>0),IF(COUNTIF(B588:B597,B597)=10,B597+7,B597),\"\")","v":""},null,"","",null,null,null,0,0,0,0,{"$f":"IFERROR(VLOOKUP(G598,DropDowns!$D$2:$E$151,2,FALSE),\"\")","v":""},{"$f":"IFERROR(VLOOKUP(H598,DropDowns!$F$2:$G$7,2,FALSE),\"Residual categories\")","v":"Residual categories"},null,null,null,0,0,0]
[0,{"$f":"IF(OR(COUNTA(O569:O598)>0,COUNTA(O598:$O$5195)>0),IF(COUNTIF(B589:B598,B598)=10,B598+7,B598),\"\")","v":""},null,"","",null,null,null,0,0,0,0,{"$f":"IFERROR(VLOOKUP(G599,DropDowns!$D$2:$E$151,2,FALSE),\"\")","v":""},{"$f":"IFERROR(VLOOKUP(H599,DropDowns!$F$2:$G$7,2,FALSE),\"Residual categories\")","v":"Residual categories"},null,null,null,0,0,0]
[0,{"$f":"IF(OR(COUNTA(O570:O599)>0,COUNTA(O599:$O$5195)>0),IF(COUNTIF(B590:B599,B599)=10,B599+7,B599),\"\")","v":""},null,"","",null,null,null,0,0,0,0,{"$f":"IFERROR(VLOOKUP(G600,DropDowns!$D$2:$E$151,2,FALSE),\"\")","v":""},{"$f":"IFERROR(VLOOKUP(H600,DropDowns!$F$2:$G$7,2,FALSE),\"Residual categories\")","v":"Residual categories"},null,null,null,0,0,0]
[0,{"$f":"IF(OR(COUNTA(O571:O600)>0,COUNTA(O600:$O$5195)>0),IF(COUNTIF(B591:B600,B600)=10,B600+7,B600),\"\")","v":""},null,"","",null,null,null,0,0,0,0,{"$f":"IFERROR(VLOOKUP(G601,DropDowns!$D$2:$E$151,2,FALSE),\"\")","v":""},{"$f":"IFERROR(VLOOKUP(H601,DropDowns!$F$2:$G$7,2,FALSE),\"Residual categories\")","v":"Residual categories"},null,null,null,0,0,0]
[0,{"$f":"IF(OR(COUNTA(O572:O601)>0,COUNTA(O601:$O$5195)>0),IF(COUNTIF(B592:B601,B601)=10,B601+7,B601),\"\")","v":""},null,"","",null,null,null,0,0,0,0,{"$f":"IFERROR(VLOOKUP(G602,DropDowns!$D$2:$E$151,2,FALSE),\"\")","v":""},{"$f":"IFERROR(VLOOKUP(H602,DropDowns!$F$2:$G$7,2,FALSE),\"Residual categories\")","v":"Residual categories"},null,null,null,0,0,0]
[0,{"$f":"IF(OR(COUNTA(O573:O602)>0,COUNTA(O602:$O$5195)>0),IF(COUNTIF(B593:B602,B602)=10,B602+7,B602),\"\")","v":""},null,"","",null,null,null,0,0,0,0,{"$f":"IFERROR(VLOOKUP(G603,DropDowns!$D$2:$E$151,2,FALSE),\"\")","v":""},{"$f":"IFERROR(VLOOKUP(H603,DropDowns!$F$2:$G$7,2,FALSE),\"Residual categories\")","v":"Residual categories"},null,null,null,0,0,0]
[0,{"$f":"IF(OR(COUNTA(O574:O603)>0,COUNTA(O603:$O$5195)>0),IF(COUNTIF(B594:B603,B603)=10,B603+7,B603),\"\")","v":""},null,"","",null,null,null,0,0,0,0,{"$f":"IFERROR(VLOOKUP(G604,DropDowns!$D$2:$E$151,2,FALSE),\"\")","v":""},{"$f":"IFERROR(VLOOKUP(H604,DropDowns!$F$2:$G$7,2,FALSE),\"Residual categories\")","v":"Residual categories"},null,null,null,0,0,0]
[0,{"$f":"IF(OR(COUNTA(O575:O604)>0,COUNTA(O604:$O$5195)>0),IF(COUNTIF(B595:B604,B604)=10,B604+7,B604),\"\")","v":""},null,"","",null,null,null,0,0,0,0,{"$f":"IFERROR(VLOOKUP(G605,DropDowns!$D$2:$E$151,2,FALSE),\"\")","v":""},{"$f":"IFERROR(VLOOKUP(H605,DropDowns!$F$2:$G$7,2,FALSE),\"Residual categories\")","v":"Residual categories"},null,null,null,0,0,0]
[0,{"$f":"IF(OR(COUNTA(O576:O605)>0,COUNTA(O605:$O$5195)>0),IF(COUNTIF(B596:B605,B605)=10,B605+7,B605),\"\")","v":""},null,"","",null,null,null,0,0,0,0,{"$f":"IFERROR(VLOOKUP(G606,DropDowns!$D$2:$E$151,2,FALSE),\"\")","v":""},{"$f":"IFERROR(VLOOKUP(H606,DropDowns!$F$2:$G$7,2,FALSE),\"Residual categories\")","v":"Residual categories"},null,null,null,0,0,0]
[0,{"$f":"IF(OR(COUNTA(O577:O606)>0,COUNTA(O606:$O$5195)>0),IF(COUNTIF(B597:B606,B606)=10,B606+7,B606),\"\")","v":""},null,"","",null,null,null,0,0,0,0,{"$f":"IFERROR(VLOOKUP(G607,DropDowns!$D$2:$E$151,2,FALSE),\"\")","v":""},{"$f":"IFERROR(VLOOKUP(H607,DropDowns!$F$2:$G$7,2,FALSE),\"Residual categories\")","v":"Residual categories"},null,null,null,0,0,0]
[0,{"$f":"IF(OR(COUNTA(O578:O607)>0,COUNTA(O607:$O$5195)>0),IF(COUNTIF(B598:B607,B607)=10,B607+7,B607),\"\")","v":""},null,"","",null,null,null,0,0,0,0,{"$f":"IFERROR(VLOOKUP(G608,DropDowns!$D$2:$E$151,2,FALSE),\"\")","v":""},{"$f":"IFERROR(VLOOKUP(H608,DropDowns!$F$2:$G$7,2,FALSE),\"Residual categories\")","v":"Residual categories"},null,null,null,0,0,0]
[0,{"$f":"IF(OR(COUNTA(O579:O608)>0,COUNTA(O608:$O$5195)>0),IF(COUNTIF(B599:B608,B608)=10,B608+7,B608),\"\")","v":""},null,"","",null,null,null,0,0,0,0,{"$f":"IFERROR(VLOOKUP(G609,DropDowns!$D$2:$E$151,2,FALSE),\"\")","v":""},{"$f":"IFERROR(VLOOKUP(H609,DropDowns!$F$2:$G$7,2,FALSE),\"Residual categories\")","v":"Residual categories"},null,null,null,0,0,0]
[0,{"$f":"IF(OR(COUNTA(O580:O609)>0,COUNTA(O609:$O$5195)>0),IF(COUNTIF(B600:B609,B609)=10,B609+7,B609),\"\")","v":""},null,"","",null,null,null,0,0,0,0,{"$f":"IFERROR(VLOOKUP(G610,DropDowns!$D$2:$E$151,2,FALSE),\"\")","v":""},{"$f":"IFERROR(VLOOKUP(H610,DropDowns!$F$2:$G$7,2,FALSE),\"Residual categories\")","v":"Residual categories"},null,null,null,0,0,0]
[0,{"$f":"IF(OR(COUNTA(O581:O610)>0,COUNTA(O610:$O$5195)>0),IF(COUNTIF(B601:B610,B610)=10,B610+7,B610),\"\")","v":""},null,"","",null,null,null,0,0,0,0,{"$f":"IFERROR(VLOOKUP(G611,DropDowns!$D$2:$E$151,2,FALSE),\"\")","v":""},{"$f":"IFERROR(VLOOKUP(H611,DropDowns!$F$2:$G$7,2,FALSE),\"Residual categories\")","v":"Residual categories"},null,null,null,0,0,0]
[0,{"$f":"IF(OR(COUNTA(O582:O611)>0,COUNTA(O611:$O$5195)>0),IF(COUNTIF(B602:B611,B611)=10,B611+7,B611),\"\")","v":""},null,"","",null,null,null,0,0,0,0,{"$f":"IFERROR(VLOOKUP(G612,DropDowns!$D$2:$E$151,2,FALSE),\"\")","v":""},{"$f":"IFERROR(VLOOKUP(H612,DropDowns!$F$2:$G$7,2,FALSE),\"Residual categories\")","v":"Residual categories"},null,null,null,0,0,0]
[0,{"$f":"IF(OR(COUNTA(O583:O612)>0,COUNTA(O612:$O$5195)>0),IF(COUNTIF(B603:B612,B612)=10,B612+7,B612),\"\")","v":""},null,"","",null,null,null,0,0,0,0,{"$f":"IFERROR(VLOOKUP(G613,DropDowns!$D$2:$E$151,2,FALSE),\"\")","v":""},{"$f":"IFERROR(VLOOKUP(H613,DropDowns!$F$2:$G$7,2,FALSE),\"Residual categories\")","v":"Residual categories"},null,null,null,0,0,0]
[0,{"$f":"IF(OR(COUNTA(O584:O613)>0,COUNTA(O613:$O$5195)>0),IF(COUNTIF(B604:B613,B613)=10,B613+7,B613),\"\")","v":""},null,"","",null,null,null,0,0,0,0,{"$f":"IFERROR(VLOOKUP(G614,DropDowns!$D$2:$E$151,2,FALSE),\"\")","v":""},{"$f":"IFERROR(VLOOKUP(H614,DropDowns!$F$2:$G$7,2,FALSE),\"Residual categories\")","v":"Residual categories"},null,null,null,0,0,0]
[0,{"$f":"IF(OR(COUNTA(O585:O614)>0,COUNTA(O614:$O$5195)>0),IF(COUNTIF(B605:B614,B614)=10,B614+7,B614),\"\")","v":""},null,"","",null,null,null,0,0,0,0,{"$f":"IFERROR(VLOOKUP(G615,DropDowns!$D$2:$E$151,2,FALSE),\"\")","v":""},{"$f":"IFERROR(VLOOKUP(H615,DropDowns!$F$2:$G$7,2,FALSE),\"Residual categories\")","v":"Residual categories"},null,null,null,0,0,0]
[0,{"$f":"IF(OR(COUNTA(O586:O615)>0,COUNTA(O615:$O$5195)>0),IF(COUNTIF(B606:B615,B615)=10,B615+7,B615),\"\")","v":""},null,"","",null,null,null,0,0,0,0,{"$f":"IFERROR(VLOOKUP(G616,DropDowns!$D$2:$E$151,2,FALSE),\"\")","v":""},{"$f":"IFERROR(VLOOKUP(H616,DropDowns!$F$2:$G$7,2,FALSE),\"Residual categories\")","v":"Residual categories"},null,null,null,0,0,0]
[0,{"$f":"IF(OR(COUNTA(O587:O616)>0,COUNTA(O616:$O$5195)>0),IF(COUNTIF(B607:B616,B616)=10,B616+7,B616),\"\")","v":""},null,"","",null,null,null,0,0,0,0,{"$f":"IFERROR(VLOOKUP(G617,DropDowns!$D$2:$E$151,2,FALSE),\"\")","v":""},{"$f":"IFERROR(VLOOKUP(H617,DropDowns!$F$2:$G$7,2,FALSE),\"Residual categories\")","v":"Residual categories"},null,null,null,0,0,0]
[0,{"$f":"IF(OR(COUNTA(O588:O617)>0,COUNTA(O617:$O$5195)>0),IF(COUNTIF(B608:B617,B617)=10,B617+7,B617),\"\")","v":""},null,"","",null,null,null,0,0,0,0,{"$f":"IFERROR(VLOOKUP(G618,DropDowns!$D$2:$E$151,2,FALSE),\"\")","v":""},{"$f":"IFERROR(VLOOKUP(H618,DropDowns!$F$2:$G$7,2,FALSE),\"Residual categories\")","v":"Residual categories"},null,null,null,0,0,0]
[0,{"$f":"IF(OR(COUNTA(O589:O618)>0,COUNTA(O618:$O$5195)>0),IF(COUNTIF(B609:B618,B618)=10,B618+7,B618),\"\")","v":""},null,"","",null,null,null,0,0,0,0,{"$f":"IFERROR(VLOOKUP(G619,DropDowns!$D$2:$E$151,2,FALSE),\"\")","v":""},{"$f":"IFERROR(VLOOKUP(H619,DropDowns!$F$2:$G$7,2,FALSE),\"Residual categories\")","v":"Residual categories"},null,null,null,0,0,0]
[0,{"$f":"IF(OR(COUNTA(O590:O619)>0,COUNTA(O619:$O$5195)>0),IF(COUNTIF(B610:B619,B619)=10,B619+7,B619),\"\")","v":""},null,"","",null,null,null,0,0,0,0,{"$f":"IFERROR(VLOOKUP(G620,DropDowns!$D$2:$E$151,2,FALSE),\"\")","v":""},{"$f":"IFERROR(VLOOKUP(H620,DropDowns!$F$2:$G$7,2,FALSE),\"Residual categories\")","v":"Residual categories"},null,null,null,0,0,0]
[0,{"$f":"IF(OR(COUNTA(O591:O620)>0,COUNTA(O620:$O$5195)>0),IF(COUNTIF(B611:B620,B620)=10,B620+7,B620),\"\")","v":""},null,"","",null,null,null,0,0,0,0,{"$f":"IFERROR(VLOOKUP(G621,DropDowns!$D$2:$E$151,2,FALSE),\"\")","v":""},{"$f":"IFERROR(VLOOKUP(H621,DropDowns!$F$2:$G$7,2,FALSE),\"Residual categories\")","v":"Residual categories"},null,null,null,0,0,0]
[0,{"$f":"IF(OR(COUNTA(O592:O621)>0,COUNTA(O621:$O$5195)>0),IF(COUNTIF(B612:B621,B621)=10,B621+7,B621),\"\")","v":""},null,"","",null,null,null,0,0,0,0,{"$f":"IFERROR(VLOOKUP(G622,DropDowns!$D$2:$E$151,2,FALSE),\"\")","v":""},{"$f":"IFERROR(VLOOKUP(H622,DropDowns!$F$2:$G$7,2,FALSE),\"Residual categories\")","v":"Residual categories"},null,null,null,0,0,0]
[0,{"$f":"IF(OR(COUNTA(O593:O622)>0,COUNTA(O622:$O$5195)>0),IF(COUNTIF(B613:B622,B622)=10,B622+7,B622),\"\")","v":""},null,"","",null,null,null,0,0,0,0,{"$f":"IFERROR(VLOOKUP(G623,DropDowns!$D$2:$E$151,2,FALSE),\"\")","v":""},{"$f":"IFERROR(VLOOKUP(H623,DropDowns!$F$2:$G$7,2,FALSE),\"Residual categories\")","v":"Residual categories"},null,null,null,0,0,0]
[0,{"$f":"IF(OR(COUNTA(O594:O623)>0,COUNTA(O623:$O$5195)>0),IF(COUNTIF(B614:B623,B623)=10,B623+7,B623),\"\")","v":""},null,"","",null,null,null,0,0,0,0,{"$f":"IFERROR(VLOOKUP(G624,DropDowns!$D$2:$E$151,2,FALSE),\"\")","v":""},{"$f":"IFERROR(VLOOKUP(H624,DropDowns!$F$2:$G$7,2,FALSE),\"Residual categories\")","v":"Residual categories"},null,null,null,0,0,0]
[0,{"$f":"IF(OR(COUNTA(O595:O624)>0,COUNTA(O624:$O$5195)>0),IF(COUNTIF(B615:B624,B624)=10,B624+7,B624),\"\")","v":""},null,"","",null,null,null,0,0,0,0,{"$f":"IFERROR(VLOOKUP(G625,DropDowns!$D$2:$E$151,2,FALSE),\"\")","v":""},{"$f":"IFERROR(VLOOKUP(H625,DropDowns!$F$2:$G$7,2,FALSE),\"Residual categories\")","v":"Residual categories"},null,null,null,0,0,0]
[0,{"$f":"IF(OR(COUNTA(O596:O625)>0,COUNTA(O625:$O$5195)>0),IF(COUNTIF(B616:B625,B625)=10,B625+7,B625),\"\")","v":""},null,"","",null,null,null,0,0,0,0,{"$f":"IFERROR(VLOOKUP(G626,DropDowns!$D$2:$E$151,2,FALSE),\"\")","v":""},{"$f":"IFERROR(VLOOKUP(H626,DropDowns!$F$2:$G$7,2,FALSE),\"Residual categories\")","v":"Residual categories"},null,null,null,0,0,0]
[0,{"$f":"IF(OR(COUNTA(O597:O626)>0,COUNTA(O626:$O$5195)>0),IF(COUNTIF(B617:B626,B626)=10,B626+7,B626),\"\")","v":""},null,"","",null,null,null,0,0,0,0,{"$f":"IFERROR(VLOOKUP(G627,DropDowns!$D$2:$E$151,2,FALSE),\"\")","v":""},{"$f":"IFERROR(VLOOKUP(H627,DropDowns!$F$2:$G$7,2,FALSE),\"Residual categories\")","v":"Residual categories"},null,null,null,0,0,0]
[0,{"$f":"IF(OR(COUNTA(O598:O627)>0,COUNTA(O627:$O$5195)>0),IF(COUNTIF(B618:B627,B627)=10,B627+7,B627),\"\")","v":""},null,"","",null,null,null,0,0,0,0,{"$f":"IFERROR(VLOOKUP(G628,DropDowns!$D$2:$E$151,2,FALSE),\"\")","v":""},{"$f":"IFERROR(VLOOKUP(H628,DropDowns!$F$2:$G$7,2,FALSE),\"Residual categories\")","v":"Residual categories"},null,null,null,0,0,0]
[0,{"$f":"IF(OR(COUNTA(O599:O628)>0,COUNTA(O628:$O$5195)>0),IF(COUNTIF(B619:B628,B628)=10,B628+7,B628),\"\")","v":""},null,"","",null,null,null,0,0,0,0,{"$f":"IFERROR(VLOOKUP(G629,DropDowns!$D$2:$E$151,2,FALSE),\"\")","v":""},{"$f":"IFERROR(VLOOKUP(H629,DropDowns!$F$2:$G$7,2,FALSE),\"Residual categories\")","v":"Residual categories"},null,null,null,0,0,0]
[0,{"$f":"IF(OR(COUNTA(O600:O629)>0,COUNTA(O629:$O$5195)>0),IF(COUNTIF(B620:B629,B629)=10,B629+7,B629),\"\")","v":""},null,"","",null,null,null,0,0,0,0,{"$f":"IFERROR(VLOOKUP(G630,DropDowns!$D$2:$E$151,2,FALSE),\"\")","v":""},{"$f":"IFERROR(VLOOKUP(H630,DropDowns!$F$2:$G$7,2,FALSE),\"Residual categories\")","v":"Residual categories"},null,null,null,0,0,0]
[0,{"$f":"IF(OR(COUNTA(O601:O630)>0,COUNTA(O630:$O$5195)>0),IF(COUNTIF(B621:B630,B630)=10,B630+7,B630),\"\")","v":""},null,"","",null,null,null,0,0,0,0,{"$f":"IFERROR(VLOOKUP(G631,DropDowns!$D$2:$E$151,2,FALSE),\"\")","v":""},{"$f":"IFERROR(VLOOKUP(H631,DropDowns!$F$2:$G$7,2,FALSE),\"Residual categories\")","v":"Residual categories"},null,null,null,0,0,0]
[0,{"$f":"IF(OR(COUNTA(O602:O631)>0,COUNTA(O631:$O$5195)>0),IF(COUNTIF(B622:B631,B631)=10,B631+7,B631),\"\")","v":""},null,"","",null,null,null,0,0,0,0,{"$f":"IFERROR(VLOOKUP(G632,DropDowns!$D$2:$E$151,2,FALSE),\"\")","v":""},{"$f":"IFERROR(VLOOKUP(H632,DropDowns!$F$2:$G$7,2,FALSE),\"Residual categories\")","v":"Residual categories"},null,null,null,0,0,0]
[0,{"$f":"IF(OR(COUNTA(O603:O632)>0,COUNTA(O632:$O$5195)>0),IF(COUNTIF(B623:B632,B632)=10,B632+7,B632),\"\")","v":""},null,"","",null,null,null,0,0,0,0,{"$f":"IFERROR(VLOOKUP(G633,DropDowns!$D$2:$E$151,2,FALSE),\"\")","v":""},{"$f":"IFERROR(VLOOKUP(H633,DropDowns!$F$2:$G$7,2,FALSE),\"Residual categories\")","v":"Residual categories"},null,null,null,0,0,0]
[0,{"$f":"IF(OR(COUNTA(O604:O633)>0,COUNTA(O633:$O$5195)>0),IF(COUNTIF(B624:B633,B633)=10,B633+7,B633),\"\")","v":""},null,"","",null,null,null,0,0,0,0,{"$f":"IFERROR(VLOOKUP(G634,DropDowns!$D$2:$E$151,2,FALSE),\"\")","v":""},{"$f":"IFERROR(VLOOKUP(H634,DropDowns!$F$2:$G$7,2,FALSE),\"Residual categories\")","v":"Residual categories"},null,null,null,0,0,0]
[0,{"$f":"IF(OR(COUNTA(O605:O634)>0,COUNTA(O634:$O$5195)>0),IF(COUNTIF(B625:B634,B634)=10,B634+7,B634),\"\")","v":""},null,"","",null,null,null,0,0,0,0,{"$f":"IFERROR(VLOOKUP(G635,DropDowns!$D$2:$E$151,2,FALSE),\"\")","v":""},{"$f":"IFERROR(VLOOKUP(H635,DropDowns!$F$2:$G$7,2,FALSE),\"Residual categories\")","v":"Residual categories"},null,null,null,0,0,0]
[0,{"$f":"IF(OR(COUNTA(O606:O635)>0,COUNTA(O635:$O$5195)>0),IF(COUNTIF(B626:B635,B635)=10,B635+7,B635),\"\")","v":""},null,"","",null,null,null,0,0,0,0,{"$f":"IFERROR(VLOOKUP(G636,DropDowns!$D$2:$E$151,2,FALSE),\"\")","v":""},{"$f":"IFERROR(VLOOKUP(H636,DropDowns!$F$2:$G$7,2,FALSE),\"Residual categories\")","v":"Residual categories"},null,null,null,0,0,0]
[0,{"$f":"IF(OR(COUNTA(O607:O636)>0,COUNTA(O636:$O$5195)>0),IF(COUNTIF(B627:B636,B636)=10,B636+7,B636),\"\")","v":""},null,"","",null,null,null,0,0,0,0,{"$f":"IFERROR(VLOOKUP(G637,DropDowns!$D$2:$E$151,2,FALSE),\"\")","v":""},{"$f":"IFERROR(VLOOKUP(H637,DropDowns!$F$2:$G$7,2,FALSE),\"Residual categories\")","v":"Residual categories"},null,null,null,0,0,0]
[0,{"$f":"IF(OR(COUNTA(O608:O637)>0,COUNTA(O637:$O$5195)>0),IF(COUNTIF(B628:B637,B637)=10,B637+7,B637),\"\")","v":""},null,"","",null,null,null,0,0,0,0,{"$f":"IFERROR(VLOOKUP(G638,DropDowns!$D$2:$E$151,2,FALSE),\"\")","v":""},{"$f":"IFERROR(VLOOKUP(H638,DropDowns!$F$2:$G$7,2,FALSE),\"Residual categories\")","v":"Residual categories"},null,null,null,0,0,0]
[0,{"$f":"IF(OR(COUNTA(O609:O638)>0,COUNTA(O638:$O$5195)>0),IF(COUNTIF(B629:B638,B638)=10,B638+7,B638),\"\")","v":""},null,"","",null,null,null,0,0,0,0,{"$f":"IFERROR(VLOOKUP(G639,DropDowns!$D$2:$E$151,2,FALSE),\"\")","v":""},{"$f":"IFERROR(VLOOKUP(H639,DropDowns!$F$2:$G$7,2,FALSE),\"Residual categories\")","v":"Residual categories"},null,null,null,0,0,0]
[0,{"$f":"IF(OR(COUNTA(O610:O639)>0,COUNTA(O639:$O$5195)>0),IF(COUNTIF(B630:B639,B639)=10,B639+7,B639),\"\")","v":""},null,"","",null,null,null,0,0,0,0,{"$f":"IFERROR(VLOOKUP(G640,DropDowns!$D$2:$E$151,2,FALSE),\"\")","v":""},{"$f":"IFERROR(VLOOKUP(H640,DropDowns!$F$2:$G$7,2,FALSE),\"Residual categories\")","v":"Residual categories"},null,null,null,0,0,0]
[0,{"$f":"IF(OR(COUNTA(O611:O640)>0,COUNTA(O640:$O$5195)>0),IF(COUNTIF(B631:B640,B640)=10,B640+7,B640),\"\")","v":""},null,"","",null,null,null,0,0,0,0,{"$f":"IFERROR(VLOOKUP(G641,DropDowns!$D$2:$E$151,2,FALSE),\"\")","v":""},{"$f":"IFERROR(VLOOKUP(H641,DropDowns!$F$2:$G$7,2,FALSE),\"Residual categories\")","v":"Residual categories"},null,null,null,0,0,0]
[0,{"$f":"IF(OR(COUNTA(O612:O641)>0,COUNTA(O641:$O$5195)>0),IF(COUNTIF(B632:B641,B641)=10,B641+7,B641),\"\")","v":""},null,"","",null,null,null,0,0,0,0,{"$f":"IFERROR(VLOOKUP(G642,DropDowns!$D$2:$E$151,2,FALSE),\"\")","v":""},{"$f":"IFERROR(VLOOKUP(H642,DropDowns!$F$2:$G$7,2,FALSE),\"Residual categories\")","v":"Residual categories"},null,null,null,0,0,0]
[0,{"$f":"IF(OR(COUNTA(O613:O642)>0,COUNTA(O642:$O$5195)>0),IF(COUNTIF(B633:B642,B642)=10,B642+7,B642),\"\")","v":""},null,"","",null,null,null,0,0,0,0,{"$f":"IFERROR(VLOOKUP(G643,DropDowns!$D$2:$E$151,2,FALSE),\"\")","v":""},{"$f":"IFERROR(VLOOKUP(H643,DropDowns!$F$2:$G$7,2,FALSE),\"Residual categories\")","v":"Residual categories"},null,null,null,0,0,0]
[0,{"$f":"IF(OR(COUNTA(O614:O643)>0,COUNTA(O643:$O$5195)>0),IF(COUNTIF(B634:B643,B643)=10,B643+7,B643),\"\")","v":""},null,"","",null,null,null,0,0,0,0,{"$f":"IFERROR(VLOOKUP(G644,DropDowns!$D$2:$E$151,2,FALSE),\"\")","v":""},{"$f":"IFERROR(VLOOKUP(H644,DropDowns!$F$2:$G$7,2,FALSE),\"Residual categories\")","v":"Residual categories"},null,null,null,0,0,0]
[0,{"$f":"IF(OR(COUNTA(O615:O644)>0,COUNTA(O644:$O$5195)>0),IF(COUNTIF(B635:B644,B644)=10,B644+7,B644),\"\")","v":""},null,"","",null,null,null,0,0,0,0,{"$f":"IFERROR(VLOOKUP(G645,DropDowns!$D$2:$E$151,2,FALSE),\"\")","v":""},{"$f":"IFERROR(VLOOKUP(H645,DropDowns!$F$2:$G$7,2,FALSE),\"Residual categories\")","v":"Residual categories"},null,null,null,0,0,0]
[0,{"$f":"IF(OR(COUNTA(O616:O645)>0,COUNTA(O645:$O$5195)>0),IF(COUNTIF(B636:B645,B645)=10,B645+7,B645),\"\")","v":""},null,"","",null,null,null,0,0,0,0,{"$f":"IFERROR(VLOOKUP(G646,DropDowns!$D$2:$E$151,2,FALSE),\"\")","v":""},{"$f":"IFERROR(VLOOKUP(H646,DropDowns!$F$2:$G$7,2,FALSE),\"Residual categories\")","v":"Residual categories"},null,null,null,0,0,0]
[0,{"$f":"IF(OR(COUNTA(O617:O646)>0,COUNTA(O646:$O$5195)>0),IF(COUNTIF(B637:B646,B646)=10,B646+7,B646),\"\")","v":""},null,{"$f":"IF(E647=1,B647,\"\")","v":""},"",null,null,null,{"$f":"IF(COUNTA(O647:Q647)>0,1,0)","v":0},{"$f":"IF(O647=\"y\",1,0)","v":0},{"$f":"IF(P647=\"y\",1,0)","v":0},{"$f":"IF(Q647=\"y\",1,0)","v":0},{"$f":"IFERROR(VLOOKUP(G647,DropDowns!$D$2:$E$151,2,FALSE),\"\")","v":""},{"$f":"IFERROR(VLOOKUP(H647,DropDowns!$F$2:$G$7,2,FALSE),\"Residual categories\")","v":"Residual categories"},null,null,null,{"$f":"IF(O647=\"yes\",1,0)","v":0},{"$f":"IF(P647=\"yes\",1,0)","v":0},{"$f":"IF(Q647=\"yes\",1,0)","v":0}]
[0,{"$f":"IF(OR(COUNTA(O618:O647)>0,COUNTA(O647:$O$5195)>0),IF(COUNTIF(B638:B647,B647)=10,B647+7,B647),\"\")","v":""},null,"","",null,null,null,0,0,0,0,{"$f":"IFERROR(VLOOKUP(G648,DropDowns!$D$2:$E$151,2,FALSE),\"\")","v":""},{"$f":"IFERROR(VLOOKUP(H648,DropDowns!$F$2:$G$7,2,FALSE),\"Residual categories\")","v":"Residual categories"},null,null,null,0,0,0]
[0,{"$f":"IF(OR(COUNTA(O619:O648)>0,COUNTA(O648:$O$5195)>0),IF(COUNTIF(B639:B648,B648)=10,B648+7,B648),\"\")","v":""},null,"","",null,null,null,0,0,0,0,{"$f":"IFERROR(VLOOKUP(G649,DropDowns!$D$2:$E$151,2,FALSE),\"\")","v":""},{"$f":"IFERROR(VLOOKUP(H649,DropDowns!$F$2:$G$7,2,FALSE),\"Residual categories\")","v":"Residual categories"},null,null,null,0,0,0]
[0,{"$f":"IF(OR(COUNTA(O620:O649)>0,COUNTA(O649:$O$5195)>0),IF(COUNTIF(B640:B649,B649)=10,B649+7,B649),\"\")","v":""},null,"","",null,null,null,0,0,0,0,{"$f":"IFERROR(VLOOKUP(G650,DropDowns!$D$2:$E$151,2,FALSE),\"\")","v":""},{"$f":"IFERROR(VLOOKUP(H650,DropDowns!$F$2:$G$7,2,FALSE),\"Residual categories\")","v":"Residual categories"},null,null,null,0,0,0]
[0,{"$f":"IF(OR(COUNTA(O621:O650)>0,COUNTA(O650:$O$5195)>0),IF(COUNTIF(B641:B650,B650)=10,B650+7,B650),\"\")","v":""},null,"","",null,null,null,0,0,0,0,{"$f":"IFERROR(VLOOKUP(G651,DropDowns!$D$2:$E$151,2,FALSE),\"\")","v":""},{"$f":"IFERROR(VLOOKUP(H651,DropDowns!$F$2:$G$7,2,FALSE),\"Residual categories\")","v":"Residual categories"},null,null,null,0,0,0]
[0,{"$f":"IF(OR(COUNTA(O622:O651)>0,COUNTA(O651:$O$5195)>0),IF(COUNTIF(B642:B651,B651)=10,B651+7,B651),\"\")","v":""},null,"","",null,null,null,0,0,0,0,{"$f":"IFERROR(VLOOKUP(G652,DropDowns!$D$2:$E$151,2,FALSE),\"\")","v":""},{"$f":"IFERROR(VLOOKUP(H652,DropDowns!$F$2:$G$7,2,FALSE),\"Residual categories\")","v":"Residual categories"},null,null,null,0,0,0]
[0,{"$f":"IF(OR(COUNTA(O623:O652)>0,COUNTA(O652:$O$5195)>0),IF(COUNTIF(B643:B652,B652)=10,B652+7,B652),\"\")","v":""},null,"","",null,null,null,0,0,0,0,{"$f":"IFERROR(VLOOKUP(G653,DropDowns!$D$2:$E$151,2,FALSE),\"\")","v":""},{"$f":"IFERROR(VLOOKUP(H653,DropDowns!$F$2:$G$7,2,FALSE),\"Residual categories\")","v":"Residual categories"},null,null,null,0,0,0]
[0,{"$f":"IF(OR(COUNTA(O624:O653)>0,COUNTA(O653:$O$5195)>0),IF(COUNTIF(B644:B653,B653)=10,B653+7,B653),\"\")","v":""},null,"","",null,null,null,0,0,0,0,{"$f":"IFERROR(VLOOKUP(G654,DropDowns!$D$2:$E$151,2,FALSE),\"\")","v":""},{"$f":"IFERROR(VLOOKUP(H654,DropDowns!$F$2:$G$7,2,FALSE),\"Residual categories\")","v":"Residual categories"},null,null,null,0,0,0]
[0,{"$f":"IF(OR(COUNTA(O625:O654)>0,COUNTA(O654:$O$5195)>0),IF(COUNTIF(B645:B654,B654)=10,B654+7,B654),\"\")","v":""},null,"","",null,null,null,0,0,0,0,{"$f":"IFERROR(VLOOKUP(G655,DropDowns!$D$2:$E$151,2,FALSE),\"\")","v":""},{"$f":"IFERROR(VLOOKUP(H655,DropDowns!$F$2:$G$7,2,FALSE),\"Residual categories\")","v":"Residual categories"},null,null,null,0,0,0]
[0,{"$f":"IF(OR(COUNTA(O626:O655)>0,COUNTA(O655:$O$5195)>0),IF(COUNTIF(B646:B655,B655)=10,B655+7,B655),\"\")","v":""},null,"","",null,null,null,0,0,0,0,{"$f":"IFERROR(VLOOKUP(G656,DropDowns!$D$2:$E$151,2,FALSE),\"\")","v":""},{"$f":"IFERROR(VLOOKUP(H656,DropDowns!$F$2:$G$7,2,FALSE),\"Residual categories\")","v":"Residual categories"},null,null,null,0,0,0]
[0,{"$f":"IF(OR(COUNTA(O627:O656)>0,COUNTA(O656:$O$5195)>0),IF(COUNTIF(B647:B656,B656)=10,B656+7,B656),\"\")","v":""},null,"",{"$f":"IF(B657=\"\",\"\",COUNTIF(B648:B657,B657))","v":""},null,null,null,0,0,0,0,{"$f":"IFERROR(VLOOKUP(G657,DropDowns!$D$2:$E$151,2,FALSE),\"\")","v":""},{"$f":"IFERROR(VLOOKUP(H657,DropDowns!$F$2:$G$7,2,FALSE),\"Residual categories\")","v":"Residual categories"},null,null,null,0,0,0]
[0,{"$f":"IF(OR(COUNTA(O628:O657)>0,COUNTA(O657:$O$5195)>0),IF(COUNTIF(B648:B657,B657)=10,B657+7,B657),\"\")","v":""},null,"","",null,null,null,0,0,0,0,{"$f":"IFERROR(VLOOKUP(G658,DropDowns!$D$2:$E$151,2,FALSE),\"\")","v":""},{"$f":"IFERROR(VLOOKUP(H658,DropDowns!$F$2:$G$7,2,FALSE),\"Residual categories\")","v":"Residual categories"},null,null,null,0,0,0]
[0,{"$f":"IF(OR(COUNTA(O629:O658)>0,COUNTA(O658:$O$5195)>0),IF(COUNTIF(B649:B658,B658)=10,B658+7,B658),\"\")","v":""},null,"","",null,null,null,0,0,0,0,{"$f":"IFERROR(VLOOKUP(G659,DropDowns!$D$2:$E$151,2,FALSE),\"\")","v":""},{"$f":"IFERROR(VLOOKUP(H659,DropDowns!$F$2:$G$7,2,FALSE),\"Residual categories\")","v":"Residual categories"},null,null,null,0,0,0]
[{"$f":"$E$2","v":0},{"$f":"IF(OR(COUNTA(O630:O659)>0,COUNTA(O659:$O$5195)>0),IF(COUNTIF(B650:B659,B659)=10,B659+7,B659),\"\")","v":""},null,"","",null,null,null,0,0,0,0,{"$f":"IFERROR(VLOOKUP(G660,DropDowns!$D$2:$E$151,2,FALSE),\"\")","v":""},{"$f":"IFERROR(VLOOKUP(H660,DropDowns!$F$2:$G$7,2,FALSE),\"Residual categories\")","v":"Residual categories"},null,null,null,0,0,0]
[0,{"$f":"IF(OR(COUNTA(O631:O660)>0,COUNTA(O660:$O$5195)>0),IF(COUNTIF(B651:B660,B660)=10,B660+7,B660),\"\")","v":""},null,"","",null,null,null,0,0,0,0,{"$f":"IFERROR(VLOOKUP(G661,DropDowns!$D$2:$E$151,2,FALSE),\"\")","v":""},{"$f":"IFERROR(VLOOKUP(H661,DropDowns!$F$2:$G$7,2,FALSE),\"Residual categories\")","v":"Residual categories"},null,null,null,0,0,0]
[0,{"$f":"IF(OR(COUNTA(O632:O661)>0,COUNTA(O661:$O$5195)>0),IF(COUNTIF(B652:B661,B661)=10,B661+7,B661),\"\")","v":""},null,"","",null,null,null,0,0,0,0,{"$f":"IFERROR(VLOOKUP(G662,DropDowns!$D$2:$E$151,2,FALSE),\"\")","v":""},{"$f":"IFERROR(VLOOKUP(H662,DropDowns!$F$2:$G$7,2,FALSE),\"Residual categories\")","v":"Residual categories"},null,null,null,0,0,0]
[0,{"$f":"IF(OR(COUNTA(O633:O662)>0,COUNTA(O662:$O$5195)>0),IF(COUNTIF(B653:B662,B662)=10,B662+7,B662),\"\")","v":""},null,"","",null,null,null,0,0,0,0,{"$f":"IFERROR(VLOOKUP(G663,DropDowns!$D$2:$E$151,2,FALSE),\"\")","v":""},{"$f":"IFERROR(VLOOKUP(H663,DropDowns!$F$2:$G$7,2,FALSE),\"Residual categories\")","v":"Residual categories"},null,null,null,0,0,0]
[0,{"$f":"IF(OR(COUNTA(O634:O663)>0,COUNTA(O663:$O$5195)>0),IF(COUNTIF(B654:B663,B663)=10,B663+7,B663),\"\")","v":""},null,"","",null,null,null,0,0,0,0,{"$f":"IFERROR(VLOOKUP(G664,DropDowns!$D$2:$E$151,2,FALSE),\"\")","v":""},{"$f":"IFERROR(VLOOKUP(H664,DropDowns!$F$2:$G$7,2,FALSE),\"Residual categories\")","v":"Residual categories"},null,null,null,0,0,0]
[0,{"$f":"IF(OR(COUNTA(O635:O664)>0,COUNTA(O664:$O$5195)>0),IF(COUNTIF(B655:B664,B664)=10,B664+7,B664),\"\")","v":""},null,"","",null,null,null,0,0,0,0,{"$f":"IFERROR(VLOOKUP(G665,DropDowns!$D$2:$E$151,2,FALSE),\"\")","v":""},{"$f":"IFERROR(VLOOKUP(H665,DropDowns!$F$2:$G$7,2,FALSE),\"Residual categories\")","v":"Residual categories"},null,null,null,0,0,0]
[0,{"$f":"IF(OR(COUNTA(O636:O665)>0,COUNTA(O665:$O$5195)>0),IF(COUNTIF(B656:B665,B665)=10,B665+7,B665),\"\")","v":""},null,"","",null,null,null,0,0,0,0,{"$f":"IFERROR(VLOOKUP(G666,DropDowns!$D$2:$E$151,2,FALSE),\"\")","v":""},{"$f":"IFERROR(VLOOKUP(H666,DropDowns!$F$2:$G$7,2,FALSE),\"Residual categories\")","v":"Residual categories"},null,null,null,0,0,0]
[0,{"$f":"IF(OR(COUNTA(O637:O666)>0,COUNTA(O666:$O$5195)>0),IF(COUNTIF(B657:B666,B666)=10,B666+7,B666),\"\")","v":""},null,"","",null,null,null,0,0,0,0,{"$f":"IFERROR(VLOOKUP(G667,DropDowns!$D$2:$E$151,2,FALSE),\"\")","v":""},{"$f":"IFERROR(VLOOKUP(H667,DropDowns!$F$2:$G$7,2,FALSE),\"Residual categories\")","v":"Residual categories"},null,null,null,0,0,0]
[0,{"$f":"IF(OR(COUNTA(O638:O667)>0,COUNTA(O667:$O$5195)>0),IF(COUNTIF(B658:B667,B667)=10,B667+7,B667),\"\")","v":""},null,"","",null,null,null,0,0,0,0,{"$f":"IFERROR(VLOOKUP(G668,DropDowns!$D$2:$E$151,2,FALSE),\"\")","v":""},{"$f":"IFERROR(VLOOKUP(H668,DropDowns!$F$2:$G$7,2,FALSE),\"Residual categories\")","v":"Residual categories"},null,null,null,0,0,0]
[0,{"$f":"IF(OR(COUNTA(O639:O668)>0,COUNTA(O668:$O$5195)>0),IF(COUNTIF(B659:B668,B668)=10,B668+7,B668),\"\")","v":""},null,"","",null,null,null,0,0,0,0,{"$f":"IFERROR(VLOOKUP(G669,DropDowns!$D$2:$E$151,2,FALSE),\"\")","v":""},{"$f":"IFERROR(VLOOKUP(H669,DropDowns!$F$2:$G$7,2,FALSE),\"Residual categories\")","v":"Residual categories"},null,null,null,0,0,0]
[0,{"$f":"IF(OR(COUNTA(O640:O669)>0,COUNTA(O669:$O$5195)>0),IF(COUNTIF(B660:B669,B669)=10,B669+7,B669),\"\")","v":""},null,"","",null,null,null,0,0,0,0,{"$f":"IFERROR(VLOOKUP(G670,DropDowns!$D$2:$E$151,2,FALSE),\"\")","v":""},{"$f":"IFERROR(VLOOKUP(H670,DropDowns!$F$2:$G$7,2,FALSE),\"Residual categories\")","v":"Residual categories"},null,null,null,0,0,0]
[0,{"$f":"IF(OR(COUNTA(O641:O670)>0,COUNTA(O670:$O$5195)>0),IF(COUNTIF(B661:B670,B670)=10,B670+7,B670),\"\")","v":""},null,"","",null,null,null,0,0,0,0,{"$f":"IFERROR(VLOOKUP(G671,DropDowns!$D$2:$E$151,2,FALSE),\"\")","v":""},{"$f":"IFERROR(VLOOKUP(H671,DropDowns!$F$2:$G$7,2,FALSE),\"Residual categories\")","v":"Residual categories"},null,null,null,0,0,0]
[0,{"$f":"IF(OR(COUNTA(O642:O671)>0,COUNTA(O671:$O$5195)>0),IF(COUNTIF(B662:B671,B671)=10,B671+7,B671),\"\")","v":""},null,"","",null,null,null,0,0,0,0,{"$f":"IFERROR(VLOOKUP(G672,DropDowns!$D$2:$E$151,2,FALSE),\"\")","v":""},{"$f":"IFERROR(VLOOKUP(H672,DropDowns!$F$2:$G$7,2,FALSE),\"Residual categories\")","v":"Residual categories"},null,null,null,0,0,0]
[0,{"$f":"IF(OR(COUNTA(O643:O672)>0,COUNTA(O672:$O$5195)>0),IF(COUNTIF(B663:B672,B672)=10,B672+7,B672),\"\")","v":""},null,"","",null,null,null,0,0,0,0,{"$f":"IFERROR(VLOOKUP(G673,DropDowns!$D$2:$E$151,2,FALSE),\"\")","v":""},{"$f":"IFERROR(VLOOKUP(H673,DropDowns!$F$2:$G$7,2,FALSE),\"Residual categories\")","v":"Residual categories"},null,null,null,0,0,0]
[0,{"$f":"IF(OR(COUNTA(O644:O673)>0,COUNTA(O673:$O$5195)>0),IF(COUNTIF(B664:B673,B673)=10,B673+7,B673),\"\")","v":""},null,"","",null,null,null,0,0,0,0,{"$f":"IFERROR(VLOOKUP(G674,DropDowns!$D$2:$E$151,2,FALSE),\"\")","v":""},{"$f":"IFERROR(VLOOKUP(H674,DropDowns!$F$2:$G$7,2,FALSE),\"Residual categories\")","v":"Residual categories"},null,null,null,0,0,0]
[0,{"$f":"IF(OR(COUNTA(O645:O674)>0,COUNTA(O674:$O$5195)>0),IF(COUNTIF(B665:B674,B674)=10,B674+7,B674),\"\")","v":""},null,"","",null,null,null,0,0,0,0,{"$f":"IFERROR(VLOOKUP(G675,DropDowns!$D$2:$E$151,2,FALSE),\"\")","v":""},{"$f":"IFERROR(VLOOKUP(H675,DropDowns!$F$2:$G$7,2,FALSE),\"Residual categories\")","v":"Residual categories"},null,null,null,0,0,0]
[0,{"$f":"IF(OR(COUNTA(O646:O675)>0,COUNTA(O675:$O$5195)>0),IF(COUNTIF(B666:B675,B675)=10,B675+7,B675),\"\")","v":""},null,"","",null,null,null,0,0,0,0,{"$f":"IFERROR(VLOOKUP(G676,DropDowns!$D$2:$E$151,2,FALSE),\"\")","v":""},{"$f":"IFERROR(VLOOKUP(H676,DropDowns!$F$2:$G$7,2,FALSE),\"Residual categories\")","v":"Residual categories"},null,null,null,0,0,0]
[0,{"$f":"IF(OR(COUNTA(O647:O676)>0,COUNTA(O676:$O$5195)>0),IF(COUNTIF(B667:B676,B676)=10,B676+7,B676),\"\")","v":""},null,"","",null,null,null,0,0,0,0,{"$f":"IFERROR(VLOOKUP(G677,DropDowns!$D$2:$E$151,2,FALSE),\"\")","v":""},{"$f":"IFERROR(VLOOKUP(H677,DropDowns!$F$2:$G$7,2,FALSE),\"Residual categories\")","v":"Residual categories"},null,null,null,0,0,0]
[0,{"$f":"IF(OR(COUNTA(O648:O677)>0,COUNTA(O677:$O$5195)>0),IF(COUNTIF(B668:B677,B677)=10,B677+7,B677),\"\")","v":""},null,"","",null,null,null,0,0,0,0,{"$f":"IFERROR(VLOOKUP(G678,DropDowns!$D$2:$E$151,2,FALSE),\"\")","v":""},{"$f":"IFERROR(VLOOKUP(H678,DropDowns!$F$2:$G$7,2,FALSE),\"Residual categories\")","v":"Residual categories"},null,null,null,0,0,0]
[0,{"$f":"IF(OR(COUNTA(O649:O678)>0,COUNTA(O678:$O$5195)>0),IF(COUNTIF(B669:B678,B678)=10,B678+7,B678),\"\")","v":""},null,"","",null,null,null,0,0,0,0,{"$f":"IFERROR(VLOOKUP(G679,DropDowns!$D$2:$E$151,2,FALSE),\"\")","v":""},{"$f":"IFERROR(VLOOKUP(H679,DropDowns!$F$2:$G$7,2,FALSE),\"Residual categories\")","v":"Residual categories"},null,null,null,0,0,0]
[0,{"$f":"IF(OR(COUNTA(O650:O679)>0,COUNTA(O679:$O$5195)>0),IF(COUNTIF(B670:B679,B679)=10,B679+7,B679),\"\")","v":""},null,"","",null,null,null,0,0,0,0,{"$f":"IFERROR(VLOOKUP(G680,DropDowns!$D$2:$E$151,2,FALSE),\"\")","v":""},{"$f":"IFERROR(VLOOKUP(H680,DropDowns!$F$2:$G$7,2,FALSE),\"Residual categories\")","v":"Residual categories"},null,null,null,0,0,0]
[0,{"$f":"IF(OR(COUNTA(O651:O680)>0,COUNTA(O680:$O$5195)>0),IF(COUNTIF(B671:B680,B680)=10,B680+7,B680),\"\")","v":""},null,"","",null,null,null,0,0,0,0,{"$f":"IFERROR(VLOOKUP(G681,DropDowns!$D$2:$E$151,2,FALSE),\"\")","v":""},{"$f":"IFERROR(VLOOKUP(H681,DropDowns!$F$2:$G$7,2,FALSE),\"Residual categories\")","v":"Residual categories"},null,null,null,0,0,0]
[0,{"$f":"IF(OR(COUNTA(O652:O681)>0,COUNTA(O681:$O$5195)>0),IF(COUNTIF(B672:B681,B681)=10,B681+7,B681),\"\")","v":""},null,"","",null,null,null,0,0,0,0,{"$f":"IFERROR(VLOOKUP(G682,DropDowns!$D$2:$E$151,2,FALSE),\"\")","v":""},{"$f":"IFERROR(VLOOKUP(H682,DropDowns!$F$2:$G$7,2,FALSE),\"Residual categories\")","v":"Residual categories"},null,null,null,0,0,0]
[0,{"$f":"IF(OR(COUNTA(O653:O682)>0,COUNTA(O682:$O$5195)>0),IF(COUNTIF(B673:B682,B682)=10,B682+7,B682),\"\")","v":""},null,"","",null,null,null,0,0,0,0,{"$f":"IFERROR(VLOOKUP(G683,DropDowns!$D$2:$E$151,2,FALSE),\"\")","v":""},{"$f":"IFERROR(VLOOKUP(H683,DropDowns!$F$2:$G$7,2,FALSE),\"Residual categories\")","v":"Residual categories"},null,null,null,0,0,0]
[0,{"$f":"IF(OR(COUNTA(O654:O683)>0,COUNTA(O683:$O$5195)>0),IF(COUNTIF(B674:B683,B683)=10,B683+7,B683),\"\")","v":""},null,"","",null,null,null,0,0,0,0,{"$f":"IFERROR(VLOOKUP(G684,DropDowns!$D$2:$E$151,2,FALSE),\"\")","v":""},{"$f":"IFERROR(VLOOKUP(H684,DropDowns!$F$2:$G$7,2,FALSE),\"Residual categories\")","v":"Residual categories"},null,null,null,0,0,0]
[0,{"$f":"IF(OR(COUNTA(O655:O684)>0,COUNTA(O684:$O$5195)>0),IF(COUNTIF(B675:B684,B684)=10,B684+7,B684),\"\")","v":""},null,"","",null,null,null,0,0,0,0,{"$f":"IFERROR(VLOOKUP(G685,DropDowns!$D$2:$E$151,2,FALSE),\"\")","v":""},{"$f":"IFERROR(VLOOKUP(H685,DropDowns!$F$2:$G$7,2,FALSE),\"Residual categories\")","v":"Residual categories"},null,null,null,0,0,0]
[0,{"$f":"IF(OR(COUNTA(O656:O685)>0,COUNTA(O685:$O$5195)>0),IF(COUNTIF(B676:B685,B685)=10,B685+7,B685),\"\")","v":""},null,"","",null,null,null,0,0,0,0,{"$f":"IFERROR(VLOOKUP(G686,DropDowns!$D$2:$E$151,2,FALSE),\"\")","v":""},{"$f":"IFERROR(VLOOKUP(H686,DropDowns!$F$2:$G$7,2,FALSE),\"Residual categories\")","v":"Residual categories"},null,null,null,0,0,0]
[0,{"$f":"IF(OR(COUNTA(O657:O686)>0,COUNTA(O686:$O$5195)>0),IF(COUNTIF(B677:B686,B686)=10,B686+7,B686),\"\")","v":""},null,"","",null,null,null,0,0,0,0,{"$f":"IFERROR(VLOOKUP(G687,DropDowns!$D$2:$E$151,2,FALSE),\"\")","v":""},{"$f":"IFERROR(VLOOKUP(H687,DropDowns!$F$2:$G$7,2,FALSE),\"Residual categories\")","v":"Residual categories"},null,null,null,0,0,0]
[0,{"$f":"IF(OR(COUNTA(O658:O687)>0,COUNTA(O687:$O$5195)>0),IF(COUNTIF(B678:B687,B687)=10,B687+7,B687),\"\")","v":""},null,"","",null,null,null,0,0,0,0,{"$f":"IFERROR(VLOOKUP(G688,DropDowns!$D$2:$E$151,2,FALSE),\"\")","v":""},{"$f":"IFERROR(VLOOKUP(H688,DropDowns!$F$2:$G$7,2,FALSE),\"Residual categories\")","v":"Residual categories"},null,null,null,0,0,0]
[0,{"$f":"IF(OR(COUNTA(O659:O688)>0,COUNTA(O688:$O$5195)>0),IF(COUNTIF(B679:B688,B688)=10,B688+7,B688),\"\")","v":""},null,"","",null,null,null,0,0,0,0,{"$f":"IFERROR(VLOOKUP(G689,DropDowns!$D$2:$E$151,2,FALSE),\"\")","v":""},{"$f":"IFERROR(VLOOKUP(H689,DropDowns!$F$2:$G$7,2,FALSE),\"Residual categories\")","v":"Residual categories"},null,null,null,0,0,0]
[0,{"$f":"IF(OR(COUNTA(O660:O689)>0,COUNTA(O689:$O$5195)>0),IF(COUNTIF(B680:B689,B689)=10,B689+7,B689),\"\")","v":""},null,"","",null,null,null,0,0,0,0,{"$f":"IFERROR(VLOOKUP(G690,DropDowns!$D$2:$E$151,2,FALSE),\"\")","v":""},{"$f":"IFERROR(VLOOKUP(H690,DropDowns!$F$2:$G$7,2,FALSE),\"Residual categories\")","v":"Residual categories"},null,null,null,0,0,0]
[0,{"$f":"IF(OR(COUNTA(O661:O690)>0,COUNTA(O690:$O$5195)>0),IF(COUNTIF(B681:B690,B690)=10,B690+7,B690),\"\")","v":""},null,"","",null,null,null,0,0,0,0,{"$f":"IFERROR(VLOOKUP(G691,DropDowns!$D$2:$E$151,2,FALSE),\"\")","v":""},{"$f":"IFERROR(VLOOKUP(H691,DropDowns!$F$2:$G$7,2,FALSE),\"Residual categories\")","v":"Residual categories"},null,null,null,0,0,0]
[0,{"$f":"IF(OR(COUNTA(O662:O691)>0,COUNTA(O691:$O$5195)>0),IF(COUNTIF(B682:B691,B691)=10,B691+7,B691),\"\")","v":""},null,"","",null,null,null,0,0,0,0,{"$f":"IFERROR(VLOOKUP(G692,DropDowns!$D$2:$E$151,2,FALSE),\"\")","v":""},{"$f":"IFERROR(VLOOKUP(H692,DropDowns!$F$2:$G$7,2,FALSE),\"Residual categories\")","v":"Residual categories"},null,null,null,0,0,0]
[0,{"$f":"IF(OR(COUNTA(O663:O692)>0,COUNTA(O692:$O$5195)>0),IF(COUNTIF(B683:B692,B692)=10,B692+7,B692),\"\")","v":""},null,"","",null,null,null,0,0,0,0,{"$f":"IFERROR(VLOOKUP(G693,DropDowns!$D$2:$E$151,2,FALSE),\"\")","v":""},{"$f":"IFERROR(VLOOKUP(H693,DropDowns!$F$2:$G$7,2,FALSE),\"Residual categories\")","v":"Residual categories"},null,null,null,0,0,0]
[0,{"$f":"IF(OR(COUNTA(O664:O693)>0,COUNTA(O693:$O$5195)>0),IF(COUNTIF(B684:B693,B693)=10,B693+7,B693),\"\")","v":""},null,"","",null,null,null,0,0,0,0,{"$f":"IFERROR(VLOOKUP(G694,DropDowns!$D$2:$E$151,2,FALSE),\"\")","v":""},{"$f":"IFERROR(VLOOKUP(H694,DropDowns!$F$2:$G$7,2,FALSE),\"Residual categories\")","v":"Residual categories"},null,null,null,0,0,0]
[0,{"$f":"IF(OR(COUNTA(O665:O694)>0,COUNTA(O694:$O$5195)>0),IF(COUNTIF(B685:B694,B694)=10,B694+7,B694),\"\")","v":""},null,"","",null,null,null,0,0,0,0,{"$f":"IFERROR(VLOOKUP(G695,DropDowns!$D$2:$E$151,2,FALSE),\"\")","v":""},{"$f":"IFERROR(VLOOKUP(H695,DropDowns!$F$2:$G$7,2,FALSE),\"Residual categories\")","v":"Residual categories"},null,null,null,0,0,0]
[0,{"$f":"IF(OR(COUNTA(O666:O695)>0,COUNTA(O695:$O$5195)>0),IF(COUNTIF(B686:B695,B695)=10,B695+7,B695),\"\")","v":""},null,"","",null,null,null,0,0,0,0,{"$f":"IFERROR(VLOOKUP(G696,DropDowns!$D$2:$E$151,2,FALSE),\"\")","v":""},{"$f":"IFERROR(VLOOKUP(H696,DropDowns!$F$2:$G$7,2,FALSE),\"Residual categories\")","v":"Residual categories"},null,null,null,0,0,0]
[0,{"$f":"IF(OR(COUNTA(O667:O696)>0,COUNTA(O696:$O$5195)>0),IF(COUNTIF(B687:B696,B696)=10,B696+7,B696),\"\")","v":""},null,"","",null,null,null,0,0,0,0,{"$f":"IFERROR(VLOOKUP(G697,DropDowns!$D$2:$E$151,2,FALSE),\"\")","v":""},{"$f":"IFERROR(VLOOKUP(H697,DropDowns!$F$2:$G$7,2,FALSE),\"Residual categories\")","v":"Residual categories"},null,null,null,0,0,0]
[0,{"$f":"IF(OR(COUNTA(O668:O697)>0,COUNTA(O697:$O$5195)>0),IF(COUNTIF(B688:B697,B697)=10,B697+7,B697),\"\")","v":""},null,"","",null,null,null,0,0,0,0,{"$f":"IFERROR(VLOOKUP(G698,DropDowns!$D$2:$E$151,2,FALSE),\"\")","v":""},{"$f":"IFERROR(VLOOKUP(H698,DropDowns!$F$2:$G$7,2,FALSE),\"Residual categories\")","v":"Residual categories"},null,null,null,0,0,0]
[0,{"$f":"IF(OR(COUNTA(O669:O698)>0,COUNTA(O698:$O$5195)>0),IF(COUNTIF(B689:B698,B698)=10,B698+7,B698),\"\")","v":""},null,"","",null,null,null,0,0,0,0,{"$f":"IFERROR(VLOOKUP(G699,DropDowns!$D$2:$E$151,2,FALSE),\"\")","v":""},{"$f":"IFERROR(VLOOKUP(H699,DropDowns!$F$2:$G$7,2,FALSE),\"Residual categories\")","v":"Residual categories"},null,null,null,0,0,0]
[0,{"$f":"IF(OR(COUNTA(O670:O699)>0,COUNTA(O699:$O$5195)>0),IF(COUNTIF(B690:B699,B699)=10,B699+7,B699),\"\")","v":""},null,"","",null,null,null,0,0,0,0,{"$f":"IFERROR(VLOOKUP(G700,DropDowns!$D$2:$E$151,2,FALSE),\"\")","v":""},{"$f":"IFERROR(VLOOKUP(H700,DropDowns!$F$2:$G$7,2,FALSE),\"Residual categories\")","v":"Residual categories"},null,null,null,0,0,0]
[0,{"$f":"IF(OR(COUNTA(O671:O700)>0,COUNTA(O700:$O$5195)>0),IF(COUNTIF(B691:B700,B700)=10,B700+7,B700),\"\")","v":""},null,"","",null,null,null,0,0,0,0,{"$f":"IFERROR(VLOOKUP(G701,DropDowns!$D$2:$E$151,2,FALSE),\"\")","v":""},{"$f":"IFERROR(VLOOKUP(H701,DropDowns!$F$2:$G$7,2,FALSE),\"Residual categories\")","v":"Residual categories"},null,null,null,0,0,0]
[0,{"$f":"IF(OR(COUNTA(O672:O701)>0,COUNTA(O701:$O$5195)>0),IF(COUNTIF(B692:B701,B701)=10,B701+7,B701),\"\")","v":""},null,"","",null,null,null,0,0,0,0,{"$f":"IFERROR(VLOOKUP(G702,DropDowns!$D$2:$E$151,2,FALSE),\"\")","v":""},{"$f":"IFERROR(VLOOKUP(H702,DropDowns!$F$2:$G$7,2,FALSE),\"Residual categories\")","v":"Residual categories"},null,null,null,0,0,0]
[0,{"$f":"IF(OR(COUNTA(O673:O702)>0,COUNTA(O702:$O$5195)>0),IF(COUNTIF(B693:B702,B702)=10,B702+7,B702),\"\")","v":""},null,"","",null,null,null,0,0,0,0,{"$f":"IFERROR(VLOOKUP(G703,DropDowns!$D$2:$E$151,2,FALSE),\"\")","v":""},{"$f":"IFERROR(VLOOKUP(H703,DropDowns!$F$2:$G$7,2,FALSE),\"Residual categories\")","v":"Residual categories"},null,null,null,0,0,0]
[0,{"$f":"IF(OR(COUNTA(O674:O703)>0,COUNTA(O703:$O$5195)>0),IF(COUNTIF(B694:B703,B703)=10,B703+7,B703),\"\")","v":""},null,"","",null,null,null,0,0,0,0,{"$f":"IFERROR(VLOOKUP(G704,DropDowns!$D$2:$E$151,2,FALSE),\"\")","v":""},{"$f":"IFERROR(VLOOKUP(H704,DropDowns!$F$2:$G$7,2,FALSE),\"Residual categories\")","v":"Residual categories"},null,null,null,0,0,0]
[0,{"$f":"IF(OR(COUNTA(O675:O704)>0,COUNTA(O704:$O$5195)>0),IF(COUNTIF(B695:B704,B704)=10,B704+7,B704),\"\")","v":""},null,"","",null,null,null,0,0,0,0,{"$f":"IFERROR(VLOOKUP(G705,DropDowns!$D$2:$E$151,2,FALSE),\"\")","v":""},{"$f":"IFERROR(VLOOKUP(H705,DropDowns!$F$2:$G$7,2,FALSE),\"Residual categories\")","v":"Residual categories"},null,null,null,0,0,0]
[0,{"$f":"IF(OR(COUNTA(O676:O705)>0,COUNTA(O705:$O$5195)>0),IF(COUNTIF(B696:B705,B705)=10,B705+7,B705),\"\")","v":""},null,"","",null,null,null,0,0,0,0,{"$f":"IFERROR(VLOOKUP(G706,DropDowns!$D$2:$E$151,2,FALSE),\"\")","v":""},{"$f":"IFERROR(VLOOKUP(H706,DropDowns!$F$2:$G$7,2,FALSE),\"Residual categories\")","v":"Residual categories"},null,null,null,0,0,0]
[0,{"$f":"IF(OR(COUNTA(O677:O706)>0,COUNTA(O706:$O$5195)>0),IF(COUNTIF(B697:B706,B706)=10,B706+7,B706),\"\")","v":""},null,"","",null,null,null,0,0,0,0,{"$f":"IFERROR(VLOOKUP(G707,DropDowns!$D$2:$E$151,2,FALSE),\"\")","v":""},{"$f":"IFERROR(VLOOKUP(H707,DropDowns!$F$2:$G$7,2,FALSE),\"Residual categories\")","v":"Residual categories"},null,null,null,0,0,0]
[0,{"$f":"IF(OR(COUNTA(O678:O707)>0,COUNTA(O707:$O$5195)>0),IF(COUNTIF(B698:B707,B707)=10,B707+7,B707),\"\")","v":""},null,"","",null,null,null,0,0,0,0,{"$f":"IFERROR(VLOOKUP(G708,DropDowns!$D$2:$E$151,2,FALSE),\"\")","v":""},{"$f":"IFERROR(VLOOKUP(H708,DropDowns!$F$2:$G$7,2,FALSE),\"Residual categories\")","v":"Residual categories"},null,null,null,0,0,0]
[0,{"$f":"IF(OR(COUNTA(O679:O708)>0,COUNTA(O708:$O$5195)>0),IF(COUNTIF(B699:B708,B708)=10,B708+7,B708),\"\")","v":""},null,"","",null,null,null,0,0,0,0,{"$f":"IFERROR(VLOOKUP(G709,DropDowns!$D$2:$E$151,2,FALSE),\"\")","v":""},{"$f":"IFERROR(VLOOKUP(H709,DropDowns!$F$2:$G$7,2,FALSE),\"Residual categories\")","v":"Residual categories"},null,null,null,0,0,0]
[0,{"$f":"IF(OR(COUNTA(O680:O709)>0,COUNTA(O709:$O$5195)>0),IF(COUNTIF(B700:B709,B709)=10,B709+7,B709),\"\")","v":""},null,"","",null,null,null,0,0,0,0,{"$f":"IFERROR(VLOOKUP(G710,DropDowns!$D$2:$E$151,2,FALSE),\"\")","v":""},{"$f":"IFERROR(VLOOKUP(H710,DropDowns!$F$2:$G$7,2,FALSE),\"Residual categories\")","v":"Residual categories"},null,null,null,0,0,0]
[0,{"$f":"IF(OR(COUNTA(O681:O710)>0,COUNTA(O710:$O$5195)>0),IF(COUNTIF(B701:B710,B710)=10,B710+7,B710),\"\")","v":""},null,{"$f":"IF(E711=1,B711,\"\")","v":""},"",null,null,null,{"$f":"IF(COUNTA(O711:Q711)>0,1,0)","v":0},{"$f":"IF(O711=\"y\",1,0)","v":0},{"$f":"IF(P711=\"y\",1,0)","v":0},{"$f":"IF(Q711=\"y\",1,0)","v":0},{"$f":"IFERROR(VLOOKUP(G711,DropDowns!$D$2:$E$151,2,FALSE),\"\")","v":""},{"$f":"IFERROR(VLOOKUP(H711,DropDowns!$F$2:$G$7,2,FALSE),\"Residual categories\")","v":"Residual categories"},null,null,null,{"$f":"IF(O711=\"yes\",1,0)","v":0},{"$f":"IF(P711=\"yes\",1,0)","v":0},{"$f":"IF(Q711=\"yes\",1,0)","v":0}]
[0,{"$f":"IF(OR(COUNTA(O682:O711)>0,COUNTA(O711:$O$5195)>0),IF(COUNTIF(B702:B711,B711)=10,B711+7,B711),\"\")","v":""},null,"","",null,null,null,0,0,0,0,{"$f":"IFERROR(VLOOKUP(G712,DropDowns!$D$2:$E$151,2,FALSE),\"\")","v":""},{"$f":"IFERROR(VLOOKUP(H712,DropDowns!$F$2:$G$7,2,FALSE),\"Residual categories\")","v":"Residual categories"},null,null,null,0,0,0]
[0,{"$f":"IF(OR(COUNTA(O683:O712)>0,COUNTA(O712:$O$5195)>0),IF(COUNTIF(B703:B712,B712)=10,B712+7,B712),\"\")","v":""},null,"","",null,null,null,0,0,0,0,{"$f":"IFERROR(VLOOKUP(G713,DropDowns!$D$2:$E$151,2,FALSE),\"\")","v":""},{"$f":"IFERROR(VLOOKUP(H713,DropDowns!$F$2:$G$7,2,FALSE),\"Residual categories\")","v":"Residual categories"},null,null,null,0,0,0]
[0,{"$f":"IF(OR(COUNTA(O684:O713)>0,COUNTA(O713:$O$5195)>0),IF(COUNTIF(B704:B713,B713)=10,B713+7,B713),\"\")","v":""},null,"","",null,null,null,0,0,0,0,{"$f":"IFERROR(VLOOKUP(G714,DropDowns!$D$2:$E$151,2,FALSE),\"\")","v":""},{"$f":"IFERROR(VLOOKUP(H714,DropDowns!$F$2:$G$7,2,FALSE),\"Residual categories\")","v":"Residual categories"},null,null,null,0,0,0]
[0,{"$f":"IF(OR(COUNTA(O685:O714)>0,COUNTA(O714:$O$5195)>0),IF(COUNTIF(B705:B714,B714)=10,B714+7,B714),\"\")","v":""},null,"","",null,null,null,0,0,0,0,{"$f":"IFERROR(VLOOKUP(G715,DropDowns!$D$2:$E$151,2,FALSE),\"\")","v":""},{"$f":"IFERROR(VLOOKUP(H715,DropDowns!$F$2:$G$7,2,FALSE),\"Residual categories\")","v":"Residual categories"},null,null,null,0,0,0]
[0,{"$f":"IF(OR(COUNTA(O686:O715)>0,COUNTA(O715:$O$5195)>0),IF(COUNTIF(B706:B715,B715)=10,B715+7,B715),\"\")","v":""},null,"","",null,null,null,0,0,0,0,{"$f":"IFERROR(VLOOKUP(G716,DropDowns!$D$2:$E$151,2,FALSE),\"\")","v":""},{"$f":"IFERROR(VLOOKUP(H716,DropDowns!$F$2:$G$7,2,FALSE),\"Residual categories\")","v":"Residual categories"},null,null,null,0,0,0]
[0,{"$f":"IF(OR(COUNTA(O687:O716)>0,COUNTA(O716:$O$5195)>0),IF(COUNTIF(B707:B716,B716)=10,B716+7,B716),\"\")","v":""},null,"","",null,null,null,0,0,0,0,{"$f":"IFERROR(VLOOKUP(G717,DropDowns!$D$2:$E$151,2,FALSE),\"\")","v":""},{"$f":"IFERROR(VLOOKUP(H717,DropDowns!$F$2:$G$7,2,FALSE),\"Residual categories\")","v":"Residual categories"},null,null,null,0,0,0]
[0,{"$f":"IF(OR(COUNTA(O688:O717)>0,COUNTA(O717:$O$5195)>0),IF(COUNTIF(B708:B717,B717)=10,B717+7,B717),\"\")","v":""},null,"","",null,null,null,0,0,0,0,{"$f":"IFERROR(VLOOKUP(G718,DropDowns!$D$2:$E$151,2,FALSE),\"\")","v":""},{"$f":"IFERROR(VLOOKUP(H718,DropDowns!$F$2:$G$7,2,FALSE),\"Residual categories\")","v":"Residual categories"},null,null,null,0,0,0]
[0,{"$f":"IF(OR(COUNTA(O689:O718)>0,COUNTA(O718:$O$5195)>0),IF(COUNTIF(B709:B718,B718)=10,B718+7,B718),\"\")","v":""},null,"","",null,null,null,0,0,0,0,{"$f":"IFERROR(VLOOKUP(G719,DropDowns!$D$2:$E$151,2,FALSE),\"\")","v":""},{"$f":"IFERROR(VLOOKUP(H719,DropDowns!$F$2:$G$7,2,FALSE),\"Residual categories\")","v":"Residual categories"},null,null,null,0,0,0]
[0,{"$f":"IF(OR(COUNTA(O690:O719)>0,COUNTA(O719:$O$5195)>0),IF(COUNTIF(B710:B719,B719)=10,B719+7,B719),\"\")","v":""},null,"","",null,null,null,0,0,0,0,{"$f":"IFERROR(VLOOKUP(G720,DropDowns!$D$2:$E$151,2,FALSE),\"\")","v":""},{"$f":"IFERROR(VLOOKUP(H720,DropDowns!$F$2:$G$7,2,FALSE),\"Residual categories\")","v":"Residual categories"},null,null,null,0,0,0]
[0,{"$f":"IF(OR(COUNTA(O691:O720)>0,COUNTA(O720:$O$5195)>0),IF(COUNTIF(B711:B720,B720)=10,B720+7,B720),\"\")","v":""},null,"",{"$f":"IF(B721=\"\",\"\",COUNTIF(B712:B721,B721))","v":""},null,null,null,0,0,0,0,{"$f":"IFERROR(VLOOKUP(G721,DropDowns!$D$2:$E$151,2,FALSE),\"\")","v":""},{"$f":"IFERROR(VLOOKUP(H721,DropDowns!$F$2:$G$7,2,FALSE),\"Residual categories\")","v":"Residual categories"},null,null,null,0,0,0]
[0,{"$f":"IF(OR(COUNTA(O692:O721)>0,COUNTA(O721:$O$5195)>0),IF(COUNTIF(B712:B721,B721)=10,B721+7,B721),\"\")","v":""},null,"","",null,null,null,0,0,0,0,{"$f":"IFERROR(VLOOKUP(G722,DropDowns!$D$2:$E$151,2,FALSE),\"\")","v":""},{"$f":"IFERROR(VLOOKUP(H722,DropDowns!$F$2:$G$7,2,FALSE),\"Residual categories\")","v":"Residual categories"},null,null,null,0,0,0]
[0,{"$f":"IF(OR(COUNTA(O693:O722)>0,COUNTA(O722:$O$5195)>0),IF(COUNTIF(B713:B722,B722)=10,B722+7,B722),\"\")","v":""},null,"","",null,null,null,0,0,0,0,{"$f":"IFERROR(VLOOKUP(G723,DropDowns!$D$2:$E$151,2,FALSE),\"\")","v":""},{"$f":"IFERROR(VLOOKUP(H723,DropDowns!$F$2:$G$7,2,FALSE),\"Residual categories\")","v":"Residual categories"},null,null,null,0,0,0]
[{"$f":"$E$2","v":0},{"$f":"IF(OR(COUNTA(O694:O723)>0,COUNTA(O723:$O$5195)>0),IF(COUNTIF(B714:B723,B723)=10,B723+7,B723),\"\")","v":""},null,"","",null,null,null,0,0,0,0,{"$f":"IFERROR(VLOOKUP(G724,DropDowns!$D$2:$E$151,2,FALSE),\"\")","v":""},{"$f":"IFERROR(VLOOKUP(H724,DropDowns!$F$2:$G$7,2,FALSE),\"Residual categories\")","v":"Residual categories"},null,null,null,0,0,0]
[0,{"$f":"IF(OR(COUNTA(O695:O724)>0,COUNTA(O724:$O$5195)>0),IF(COUNTIF(B715:B724,B724)=10,B724+7,B724),\"\")","v":""},null,"","",null,null,null,0,0,0,0,{"$f":"IFERROR(VLOOKUP(G725,DropDowns!$D$2:$E$151,2,FALSE),\"\")","v":""},{"$f":"IFERROR(VLOOKUP(H725,DropDowns!$F$2:$G$7,2,FALSE),\"Residual categories\")","v":"Residual categories"},null,null,null,0,0,0]
[0,{"$f":"IF(OR(COUNTA(O696:O725)>0,COUNTA(O725:$O$5195)>0),IF(COUNTIF(B716:B725,B725)=10,B725+7,B725),\"\")","v":""},null,"","",null,null,null,0,0,0,0,{"$f":"IFERROR(VLOOKUP(G726,DropDowns!$D$2:$E$151,2,FALSE),\"\")","v":""},{"$f":"IFERROR(VLOOKUP(H726,DropDowns!$F$2:$G$7,2,FALSE),\"Residual categories\")","v":"Residual categories"},null,null,null,0,0,0]
[0,{"$f":"IF(OR(COUNTA(O697:O726)>0,COUNTA(O726:$O$5195)>0),IF(COUNTIF(B717:B726,B726)=10,B726+7,B726),\"\")","v":""},null,"","",null,null,null,0,0,0,0,{"$f":"IFERROR(VLOOKUP(G727,DropDowns!$D$2:$E$151,2,FALSE),\"\")","v":""},{"$f":"IFERROR(VLOOKUP(H727,DropDowns!$F$2:$G$7,2,FALSE),\"Residual categories\")","v":"Residual categories"},null,null,null,0,0,0]
[0,{"$f":"IF(OR(COUNTA(O698:O727)>0,COUNTA(O727:$O$5195)>0),IF(COUNTIF(B718:B727,B727)=10,B727+7,B727),\"\")","v":""},null,"","",null,null,null,0,0,0,0,{"$f":"IFERROR(VLOOKUP(G728,DropDowns!$D$2:$E$151,2,FALSE),\"\")","v":""},{"$f":"IFERROR(VLOOKUP(H728,DropDowns!$F$2:$G$7,2,FALSE),\"Residual categories\")","v":"Residual categories"},null,null,null,0,0,0]
[0,{"$f":"IF(OR(COUNTA(O699:O728)>0,COUNTA(O728:$O$5195)>0),IF(COUNTIF(B719:B728,B728)=10,B728+7,B728),\"\")","v":""},null,"","",null,null,null,0,0,0,0,{"$f":"IFERROR(VLOOKUP(G729,DropDowns!$D$2:$E$151,2,FALSE),\"\")","v":""},{"$f":"IFERROR(VLOOKUP(H729,DropDowns!$F$2:$G$7,2,FALSE),\"Residual categories\")","v":"Residual categories"},null,null,null,0,0,0]
[0,{"$f":"IF(OR(COUNTA(O700:O729)>0,COUNTA(O729:$O$5195)>0),IF(COUNTIF(B720:B729,B729)=10,B729+7,B729),\"\")","v":""},null,"","",null,null,null,0,0,0,0,{"$f":"IFERROR(VLOOKUP(G730,DropDowns!$D$2:$E$151,2,FALSE),\"\")","v":""},{"$f":"IFERROR(VLOOKUP(H730,DropDowns!$F$2:$G$7,2,FALSE),\"Residual categories\")","v":"Residual categories"},null,null,null,0,0,0]
[0,{"$f":"IF(OR(COUNTA(O701:O730)>0,COUNTA(O730:$O$5195)>0),IF(COUNTIF(B721:B730,B730)=10,B730+7,B730),\"\")","v":""},null,"","",null,null,null,0,0,0,0,{"$f":"IFERROR(VLOOKUP(G731,DropDowns!$D$2:$E$151,2,FALSE),\"\")","v":""},{"$f":"IFERROR(VLOOKUP(H731,DropDowns!$F$2:$G$7,2,FALSE),\"Residual categories\")","v":"Residual categories"},null,null,null,0,0,0]
[0,{"$f":"IF(OR(COUNTA(O702:O731)>0,COUNTA(O731:$O$5195)>0),IF(COUNTIF(B722:B731,B731)=10,B731+7,B731),\"\")","v":""},null,"","",null,null,null,0,0,0,0,{"$f":"IFERROR(VLOOKUP(G732,DropDowns!$D$2:$E$151,2,FALSE),\"\")","v":""},{"$f":"IFERROR(VLOOKUP(H732,DropDowns!$F$2:$G$7,2,FALSE),\"Residual categories\")","v":"Residual categories"},null,null,null,0,0,0]
[0,{"$f":"IF(OR(COUNTA(O703:O732)>0,COUNTA(O732:$O$5195)>0),IF(COUNTIF(B723:B732,B732)=10,B732+7,B732),\"\")","v":""},null,"","",null,null,null,0,0,0,0,{"$f":"IFERROR(VLOOKUP(G733,DropDowns!$D$2:$E$151,2,FALSE),\"\")","v":""},{"$f":"IFERROR(VLOOKUP(H733,DropDowns!$F$2:$G$7,2,FALSE),\"Residual categories\")","v":"Residual categories"},null,null,null,0,0,0]
[0,{"$f":"IF(OR(COUNTA(O704:O733)>0,COUNTA(O733:$O$5195)>0),IF(COUNTIF(B724:B733,B733)=10,B733+7,B733),\"\")","v":""},null,"","",null,null,null,0,0,0,0,{"$f":"IFERROR(VLOOKUP(G734,DropDowns!$D$2:$E$151,2,FALSE),\"\")","v":""},{"$f":"IFERROR(VLOOKUP(H734,DropDowns!$F$2:$G$7,2,FALSE),\"Residual categories\")","v":"Residual categories"},null,null,null,0,0,0]
[0,{"$f":"IF(OR(COUNTA(O705:O734)>0,COUNTA(O734:$O$5195)>0),IF(COUNTIF(B725:B734,B734)=10,B734+7,B734),\"\")","v":""},null,"","",null,null,null,0,0,0,0,{"$f":"IFERROR(VLOOKUP(G735,DropDowns!$D$2:$E$151,2,FALSE),\"\")","v":""},{"$f":"IFERROR(VLOOKUP(H735,DropDowns!$F$2:$G$7,2,FALSE),\"Residual categories\")","v":"Residual categories"},null,null,null,0,0,0]
[0,{"$f":"IF(OR(COUNTA(O706:O735)>0,COUNTA(O735:$O$5195)>0),IF(COUNTIF(B726:B735,B735)=10,B735+7,B735),\"\")","v":""},null,"","",null,null,null,0,0,0,0,{"$f":"IFERROR(VLOOKUP(G736,DropDowns!$D$2:$E$151,2,FALSE),\"\")","v":""},{"$f":"IFERROR(VLOOKUP(H736,DropDowns!$F$2:$G$7,2,FALSE),\"Residual categories\")","v":"Residual categories"},null,null,null,0,0,0]
[0,{"$f":"IF(OR(COUNTA(O707:O736)>0,COUNTA(O736:$O$5195)>0),IF(COUNTIF(B727:B736,B736)=10,B736+7,B736),\"\")","v":""},null,"","",null,null,null,0,0,0,0,{"$f":"IFERROR(VLOOKUP(G737,DropDowns!$D$2:$E$151,2,FALSE),\"\")","v":""},{"$f":"IFERROR(VLOOKUP(H737,DropDowns!$F$2:$G$7,2,FALSE),\"Residual categories\")","v":"Residual categories"},null,null,null,0,0,0]
[0,{"$f":"IF(OR(COUNTA(O708:O737)>0,COUNTA(O737:$O$5195)>0),IF(COUNTIF(B728:B737,B737)=10,B737+7,B737),\"\")","v":""},null,"","",null,null,null,0,0,0,0,{"$f":"IFERROR(VLOOKUP(G738,DropDowns!$D$2:$E$151,2,FALSE),\"\")","v":""},{"$f":"IFERROR(VLOOKUP(H738,DropDowns!$F$2:$G$7,2,FALSE),\"Residual categories\")","v":"Residual categories"},null,null,null,0,0,0]
[0,{"$f":"IF(OR(COUNTA(O709:O738)>0,COUNTA(O738:$O$5195)>0),IF(COUNTIF(B729:B738,B738)=10,B738+7,B738),\"\")","v":""},null,"","",null,null,null,0,0,0,0,{"$f":"IFERROR(VLOOKUP(G739,DropDowns!$D$2:$E$151,2,FALSE),\"\")","v":""},{"$f":"IFERROR(VLOOKUP(H739,DropDowns!$F$2:$G$7,2,FALSE),\"Residual categories\")","v":"Residual categories"},null,null,null,0,0,0]
[0,{"$f":"IF(OR(COUNTA(O710:O739)>0,COUNTA(O739:$O$5195)>0),IF(COUNTIF(B730:B739,B739)=10,B739+7,B739),\"\")","v":""},null,"","",null,null,null,0,0,0,0,{"$f":"IFERROR(VLOOKUP(G740,DropDowns!$D$2:$E$151,2,FALSE),\"\")","v":""},{"$f":"IFERROR(VLOOKUP(H740,DropDowns!$F$2:$G$7,2,FALSE),\"Residual categories\")","v":"Residual categories"},null,null,null,0,0,0]
[0,{"$f":"IF(OR(COUNTA(O711:O740)>0,COUNTA(O740:$O$5195)>0),IF(COUNTIF(B731:B740,B740)=10,B740+7,B740),\"\")","v":""},null,"","",null,null,null,0,0,0,0,{"$f":"IFERROR(VLOOKUP(G741,DropDowns!$D$2:$E$151,2,FALSE),\"\")","v":""},{"$f":"IFERROR(VLOOKUP(H741,DropDowns!$F$2:$G$7,2,FALSE),\"Residual categories\")","v":"Residual categories"},null,null,null,0,0,0]
[0,{"$f":"IF(OR(COUNTA(O712:O741)>0,COUNTA(O741:$O$5195)>0),IF(COUNTIF(B732:B741,B741)=10,B741+7,B741),\"\")","v":""},null,"","",null,null,null,0,0,0,0,{"$f":"IFERROR(VLOOKUP(G742,DropDowns!$D$2:$E$151,2,FALSE),\"\")","v":""},{"$f":"IFERROR(VLOOKUP(H742,DropDowns!$F$2:$G$7,2,FALSE),\"Residual categories\")","v":"Residual categories"},null,null,null,0,0,0]
[0,{"$f":"IF(OR(COUNTA(O713:O742)>0,COUNTA(O742:$O$5195)>0),IF(COUNTIF(B733:B742,B742)=10,B742+7,B742),\"\")","v":""},null,"","",null,null,null,0,0,0,0,{"$f":"IFERROR(VLOOKUP(G743,DropDowns!$D$2:$E$151,2,FALSE),\"\")","v":""},{"$f":"IFERROR(VLOOKUP(H743,DropDowns!$F$2:$G$7,2,FALSE),\"Residual categories\")","v":"Residual categories"},null,null,null,0,0,0]
[0,{"$f":"IF(OR(COUNTA(O714:O743)>0,COUNTA(O743:$O$5195)>0),IF(COUNTIF(B734:B743,B743)=10,B743+7,B743),\"\")","v":""},null,"","",null,null,null,0,0,0,0,{"$f":"IFERROR(VLOOKUP(G744,DropDowns!$D$2:$E$151,2,FALSE),\"\")","v":""},{"$f":"IFERROR(VLOOKUP(H744,DropDowns!$F$2:$G$7,2,FALSE),\"Residual categories\")","v":"Residual categories"},null,null,null,0,0,0]
[0,{"$f":"IF(OR(COUNTA(O715:O744)>0,COUNTA(O744:$O$5195)>0),IF(COUNTIF(B735:B744,B744)=10,B744+7,B744),\"\")","v":""},null,"","",null,null,null,0,0,0,0,{"$f":"IFERROR(VLOOKUP(G745,DropDowns!$D$2:$E$151,2,FALSE),\"\")","v":""},{"$f":"IFERROR(VLOOKUP(H745,DropDowns!$F$2:$G$7,2,FALSE),\"Residual categories\")","v":"Residual categories"},null,null,null,0,0,0]
[0,{"$f":"IF(OR(COUNTA(O716:O745)>0,COUNTA(O745:$O$5195)>0),IF(COUNTIF(B736:B745,B745)=10,B745+7,B745),\"\")","v":""},null,"","",null,null,null,0,0,0,0,{"$f":"IFERROR(VLOOKUP(G746,DropDowns!$D$2:$E$151,2,FALSE),\"\")","v":""},{"$f":"IFERROR(VLOOKUP(H746,DropDowns!$F$2:$G$7,2,FALSE),\"Residual categories\")","v":"Residual categories"},null,null,null,0,0,0]
[0,{"$f":"IF(OR(COUNTA(O717:O746)>0,COUNTA(O746:$O$5195)>0),IF(COUNTIF(B737:B746,B746)=10,B746+7,B746),\"\")","v":""},null,"","",null,null,null,0,0,0,0,{"$f":"IFERROR(VLOOKUP(G747,DropDowns!$D$2:$E$151,2,FALSE),\"\")","v":""},{"$f":"IFERROR(VLOOKUP(H747,DropDowns!$F$2:$G$7,2,FALSE),\"Residual categories\")","v":"Residual categories"},null,null,null,0,0,0]
[0,{"$f":"IF(OR(COUNTA(O718:O747)>0,COUNTA(O747:$O$5195)>0),IF(COUNTIF(B738:B747,B747)=10,B747+7,B747),\"\")","v":""},null,"","",null,null,null,0,0,0,0,{"$f":"IFERROR(VLOOKUP(G748,DropDowns!$D$2:$E$151,2,FALSE),\"\")","v":""},{"$f":"IFERROR(VLOOKUP(H748,DropDowns!$F$2:$G$7,2,FALSE),\"Residual categories\")","v":"Residual categories"},null,null,null,0,0,0]
[0,{"$f":"IF(OR(COUNTA(O719:O748)>0,COUNTA(O748:$O$5195)>0),IF(COUNTIF(B739:B748,B748)=10,B748+7,B748),\"\")","v":""},null,"","",null,null,null,0,0,0,0,{"$f":"IFERROR(VLOOKUP(G749,DropDowns!$D$2:$E$151,2,FALSE),\"\")","v":""},{"$f":"IFERROR(VLOOKUP(H749,DropDowns!$F$2:$G$7,2,FALSE),\"Residual categories\")","v":"Residual categories"},null,null,null,0,0,0]
[0,{"$f":"IF(OR(COUNTA(O720:O749)>0,COUNTA(O749:$O$5195)>0),IF(COUNTIF(B740:B749,B749)=10,B749+7,B749),\"\")","v":""},null,"","",null,null,null,0,0,0,0,{"$f":"IFERROR(VLOOKUP(G750,DropDowns!$D$2:$E$151,2,FALSE),\"\")","v":""},{"$f":"IFERROR(VLOOKUP(H750,DropDowns!$F$2:$G$7,2,FALSE),\"Residual categories\")","v":"Residual categories"},null,null,null,0,0,0]
[0,{"$f":"IF(OR(COUNTA(O721:O750)>0,COUNTA(O750:$O$5195)>0),IF(COUNTIF(B741:B750,B750)=10,B750+7,B750),\"\")","v":""},null,"","",null,null,null,0,0,0,0,{"$f":"IFERROR(VLOOKUP(G751,DropDowns!$D$2:$E$151,2,FALSE),\"\")","v":""},{"$f":"IFERROR(VLOOKUP(H751,DropDowns!$F$2:$G$7,2,FALSE),\"Residual categories\")","v":"Residual categories"},null,null,null,0,0,0]
[0,{"$f":"IF(OR(COUNTA(O722:O751)>0,COUNTA(O751:$O$5195)>0),IF(COUNTIF(B742:B751,B751)=10,B751+7,B751),\"\")","v":""},null,"","",null,null,null,0,0,0,0,{"$f":"IFERROR(VLOOKUP(G752,DropDowns!$D$2:$E$151,2,FALSE),\"\")","v":""},{"$f":"IFERROR(VLOOKUP(H752,DropDowns!$F$2:$G$7,2,FALSE),\"Residual categories\")","v":"Residual categories"},null,null,null,0,0,0]
[0,{"$f":"IF(OR(COUNTA(O723:O752)>0,COUNTA(O752:$O$5195)>0),IF(COUNTIF(B743:B752,B752)=10,B752+7,B752),\"\")","v":""},null,"","",null,null,null,0,0,0,0,{"$f":"IFERROR(VLOOKUP(G753,DropDowns!$D$2:$E$151,2,FALSE),\"\")","v":""},{"$f":"IFERROR(VLOOKUP(H753,DropDowns!$F$2:$G$7,2,FALSE),\"Residual categories\")","v":"Residual categories"},null,null,null,0,0,0]
[0,{"$f":"IF(OR(COUNTA(O724:O753)>0,COUNTA(O753:$O$5195)>0),IF(COUNTIF(B744:B753,B753)=10,B753+7,B753),\"\")","v":""},null,"","",null,null,null,0,0,0,0,{"$f":"IFERROR(VLOOKUP(G754,DropDowns!$D$2:$E$151,2,FALSE),\"\")","v":""},{"$f":"IFERROR(VLOOKUP(H754,DropDowns!$F$2:$G$7,2,FALSE),\"Residual categories\")","v":"Residual categories"},null,null,null,0,0,0]
[0,{"$f":"IF(OR(COUNTA(O725:O754)>0,COUNTA(O754:$O$5195)>0),IF(COUNTIF(B745:B754,B754)=10,B754+7,B754),\"\")","v":""},null,"","",null,null,null,0,0,0,0,{"$f":"IFERROR(VLOOKUP(G755,DropDowns!$D$2:$E$151,2,FALSE),\"\")","v":""},{"$f":"IFERROR(VLOOKUP(H755,DropDowns!$F$2:$G$7,2,FALSE),\"Residual categories\")","v":"Residual categories"},null,null,null,0,0,0]
[0,{"$f":"IF(OR(COUNTA(O726:O755)>0,COUNTA(O755:$O$5195)>0),IF(COUNTIF(B746:B755,B755)=10,B755+7,B755),\"\")","v":""},null,"","",null,null,null,0,0,0,0,{"$f":"IFERROR(VLOOKUP(G756,DropDowns!$D$2:$E$151,2,FALSE),\"\")","v":""},{"$f":"IFERROR(VLOOKUP(H756,DropDowns!$F$2:$G$7,2,FALSE),\"Residual categories\")","v":"Residual categories"},null,null,null,0,0,0]
[0,{"$f":"IF(OR(COUNTA(O727:O756)>0,COUNTA(O756:$O$5195)>0),IF(COUNTIF(B747:B756,B756)=10,B756+7,B756),\"\")","v":""},null,"","",null,null,null,0,0,0,0,{"$f":"IFERROR(VLOOKUP(G757,DropDowns!$D$2:$E$151,2,FALSE),\"\")","v":""},{"$f":"IFERROR(VLOOKUP(H757,DropDowns!$F$2:$G$7,2,FALSE),\"Residual categories\")","v":"Residual categories"},null,null,null,0,0,0]
[0,{"$f":"IF(OR(COUNTA(O728:O757)>0,COUNTA(O757:$O$5195)>0),IF(COUNTIF(B748:B757,B757)=10,B757+7,B757),\"\")","v":""},null,"","",null,null,null,0,0,0,0,{"$f":"IFERROR(VLOOKUP(G758,DropDowns!$D$2:$E$151,2,FALSE),\"\")","v":""},{"$f":"IFERROR(VLOOKUP(H758,DropDowns!$F$2:$G$7,2,FALSE),\"Residual categories\")","v":"Residual categories"},null,null,null,0,0,0]
[0,{"$f":"IF(OR(COUNTA(O729:O758)>0,COUNTA(O758:$O$5195)>0),IF(COUNTIF(B749:B758,B758)=10,B758+7,B758),\"\")","v":""},null,"","",null,null,null,0,0,0,0,{"$f":"IFERROR(VLOOKUP(G759,DropDowns!$D$2:$E$151,2,FALSE),\"\")","v":""},{"$f":"IFERROR(VLOOKUP(H759,DropDowns!$F$2:$G$7,2,FALSE),\"Residual categories\")","v":"Residual categories"},null,null,null,0,0,0]
[0,{"$f":"IF(OR(COUNTA(O730:O759)>0,COUNTA(O759:$O$5195)>0),IF(COUNTIF(B750:B759,B759)=10,B759+7,B759),\"\")","v":""},null,"","",null,null,null,0,0,0,0,{"$f":"IFERROR(VLOOKUP(G760,DropDowns!$D$2:$E$151,2,FALSE),\"\")","v":""},{"$f":"IFERROR(VLOOKUP(H760,DropDowns!$F$2:$G$7,2,FALSE),\"Residual categories\")","v":"Residual categories"},null,null,null,0,0,0]
[0,{"$f":"IF(OR(COUNTA(O731:O760)>0,COUNTA(O760:$O$5195)>0),IF(COUNTIF(B751:B760,B760)=10,B760+7,B760),\"\")","v":""},null,"","",null,null,null,0,0,0,0,{"$f":"IFERROR(VLOOKUP(G761,DropDowns!$D$2:$E$151,2,FALSE),\"\")","v":""},{"$f":"IFERROR(VLOOKUP(H761,DropDowns!$F$2:$G$7,2,FALSE),\"Residual categories\")","v":"Residual categories"},null,null,null,0,0,0]
[0,{"$f":"IF(OR(COUNTA(O732:O761)>0,COUNTA(O761:$O$5195)>0),IF(COUNTIF(B752:B761,B761)=10,B761+7,B761),\"\")","v":""},null,"","",null,null,null,0,0,0,0,{"$f":"IFERROR(VLOOKUP(G762,DropDowns!$D$2:$E$151,2,FALSE),\"\")","v":""},{"$f":"IFERROR(VLOOKUP(H762,DropDowns!$F$2:$G$7,2,FALSE),\"Residual categories\")","v":"Residual categories"},null,null,null,0,0,0]
[0,{"$f":"IF(OR(COUNTA(O733:O762)>0,COUNTA(O762:$O$5195)>0),IF(COUNTIF(B753:B762,B762)=10,B762+7,B762),\"\")","v":""},null,"","",null,null,null,0,0,0,0,{"$f":"IFERROR(VLOOKUP(G763,DropDowns!$D$2:$E$151,2,FALSE),\"\")","v":""},{"$f":"IFERROR(VLOOKUP(H763,DropDowns!$F$2:$G$7,2,FALSE),\"Residual categories\")","v":"Residual categories"},null,null,null,0,0,0]
[0,{"$f":"IF(OR(COUNTA(O734:O763)>0,COUNTA(O763:$O$5195)>0),IF(COUNTIF(B754:B763,B763)=10,B763+7,B763),\"\")","v":""},null,"","",null,null,null,0,0,0,0,{"$f":"IFERROR(VLOOKUP(G764,DropDowns!$D$2:$E$151,2,FALSE),\"\")","v":""},{"$f":"IFERROR(VLOOKUP(H764,DropDowns!$F$2:$G$7,2,FALSE),\"Residual categories\")","v":"Residual categories"},null,null,null,0,0,0]
[0,{"$f":"IF(OR(COUNTA(O735:O764)>0,COUNTA(O764:$O$5195)>0),IF(COUNTIF(B755:B764,B764)=10,B764+7,B764),\"\")","v":""},null,"","",null,null,null,0,0,0,0,{"$f":"IFERROR(VLOOKUP(G765,DropDowns!$D$2:$E$151,2,FALSE),\"\")","v":""},{"$f":"IFERROR(VLOOKUP(H765,DropDowns!$F$2:$G$7,2,FALSE),\"Residual categories\")","v":"Residual categories"},null,null,null,0,0,0]
[0,{"$f":"IF(OR(COUNTA(O736:O765)>0,COUNTA(O765:$O$5195)>0),IF(COUNTIF(B756:B765,B765)=10,B765+7,B765),\"\")","v":""},null,"","",null,null,null,0,0,0,0,{"$f":"IFERROR(VLOOKUP(G766,DropDowns!$D$2:$E$151,2,FALSE),\"\")","v":""},{"$f":"IFERROR(VLOOKUP(H766,DropDowns!$F$2:$G$7,2,FALSE),\"Residual categories\")","v":"Residual categories"},null,null,null,0,0,0]
[0,{"$f":"IF(OR(COUNTA(O737:O766)>0,COUNTA(O766:$O$5195)>0),IF(COUNTIF(B757:B766,B766)=10,B766+7,B766),\"\")","v":""},null,"","",null,null,null,0,0,0,0,{"$f":"IFERROR(VLOOKUP(G767,DropDowns!$D$2:$E$151,2,FALSE),\"\")","v":""},{"$f":"IFERROR(VLOOKUP(H767,DropDowns!$F$2:$G$7,2,FALSE),\"Residual categories\")","v":"Residual categories"},null,null,null,0,0,0]
[0,{"$f":"IF(OR(COUNTA(O738:O767)>0,COUNTA(O767:$O$5195)>0),IF(COUNTIF(B758:B767,B767)=10,B767+7,B767),\"\")","v":""},null,"","",null,null,null,0,0,0,0,{"$f":"IFERROR(VLOOKUP(G768,DropDowns!$D$2:$E$151,2,FALSE),\"\")","v":""},{"$f":"IFERROR(VLOOKUP(H768,DropDowns!$F$2:$G$7,2,FALSE),\"Residual categories\")","v":"Residual categories"},null,null,null,0,0,0]
[0,{"$f":"IF(OR(COUNTA(O739:O768)>0,COUNTA(O768:$O$5195)>0),IF(COUNTIF(B759:B768,B768)=10,B768+7,B768),\"\")","v":""},null,"","",null,null,null,0,0,0,0,{"$f":"IFERROR(VLOOKUP(G769,DropDowns!$D$2:$E$151,2,FALSE),\"\")","v":""},{"$f":"IFERROR(VLOOKUP(H769,DropDowns!$F$2:$G$7,2,FALSE),\"Residual categories\")","v":"Residual categories"},null,null,null,0,0,0]
[0,{"$f":"IF(OR(COUNTA(O740:O769)>0,COUNTA(O769:$O$5195)>0),IF(COUNTIF(B760:B769,B769)=10,B769+7,B769),\"\")","v":""},null,"","",null,null,null,0,0,0,0,{"$f":"IFERROR(VLOOKUP(G770,DropDowns!$D$2:$E$151,2,FALSE),\"\")","v":""},{"$f":"IFERROR(VLOOKUP(H770,DropDowns!$F$2:$G$7,2,FALSE),\"Residual categories\")","v":"Residual categories"},null,null,null,0,0,0]
[0,{"$f":"IF(OR(COUNTA(O741:O770)>0,COUNTA(O770:$O$5195)>0),IF(COUNTIF(B761:B770,B770)=10,B770+7,B770),\"\")","v":""},null,"","",null,null,null,0,0,0,0,{"$f":"IFERROR(VLOOKUP(G771,DropDowns!$D$2:$E$151,2,FALSE),\"\")","v":""},{"$f":"IFERROR(VLOOKUP(H771,DropDowns!$F$2:$G$7,2,FALSE),\"Residual categories\")","v":"Residual categories"},null,null,null,0,0,0]
[0,{"$f":"IF(OR(COUNTA(O742:O771)>0,COUNTA(O771:$O$5195)>0),IF(COUNTIF(B762:B771,B771)=10,B771+7,B771),\"\")","v":""},null,"","",null,null,null,0,0,0,0,{"$f":"IFERROR(VLOOKUP(G772,DropDowns!$D$2:$E$151,2,FALSE),\"\")","v":""},{"$f":"IFERROR(VLOOKUP(H772,DropDowns!$F$2:$G$7,2,FALSE),\"Residual categories\")","v":"Residual categories"},null,null,null,0,0,0]
[0,{"$f":"IF(OR(COUNTA(O743:O772)>0,COUNTA(O772:$O$5195)>0),IF(COUNTIF(B763:B772,B772)=10,B772+7,B772),\"\")","v":""},null,"","",null,null,null,0,0,0,0,{"$f":"IFERROR(VLOOKUP(G773,DropDowns!$D$2:$E$151,2,FALSE),\"\")","v":""},{"$f":"IFERROR(VLOOKUP(H773,DropDowns!$F$2:$G$7,2,FALSE),\"Residual categories\")","v":"Residual categories"},null,null,null,0,0,0]
[0,{"$f":"IF(OR(COUNTA(O744:O773)>0,COUNTA(O773:$O$5195)>0),IF(COUNTIF(B764:B773,B773)=10,B773+7,B773),\"\")","v":""},null,"","",null,null,null,0,0,0,0,{"$f":"IFERROR(VLOOKUP(G774,DropDowns!$D$2:$E$151,2,FALSE),\"\")","v":""},{"$f":"IFERROR(VLOOKUP(H774,DropDowns!$F$2:$G$7,2,FALSE),\"Residual categories\")","v":"Residual categories"},null,null,null,0,0,0]
[0,{"$f":"IF(OR(COUNTA(O745:O774)>0,COUNTA(O774:$O$5195)>0),IF(COUNTIF(B765:B774,B774)=10,B774+7,B774),\"\")","v":""},null,{"$f":"IF(E775=1,B775,\"\")","v":""},"",null,null,null,{"$f":"IF(COUNTA(O775:Q775)>0,1,0)","v":0},{"$f":"IF(O775=\"y\",1,0)","v":0},{"$f":"IF(P775=\"y\",1,0)","v":0},{"$f":"IF(Q775=\"y\",1,0)","v":0},{"$f":"IFERROR(VLOOKUP(G775,DropDowns!$D$2:$E$151,2,FALSE),\"\")","v":""},{"$f":"IFERROR(VLOOKUP(H775,DropDowns!$F$2:$G$7,2,FALSE),\"Residual categories\")","v":"Residual categories"},null,null,null,{"$f":"IF(O775=\"yes\",1,0)","v":0},{"$f":"IF(P775=\"yes\",1,0)","v":0},{"$f":"IF(Q775=\"yes\",1,0)","v":0}]
[0,{"$f":"IF(OR(COUNTA(O746:O775)>0,COUNTA(O775:$O$5195)>0),IF(COUNTIF(B766:B775,B775)=10,B775+7,B775),\"\")","v":""},null,"","",null,null,null,0,0,0,0,{"$f":"IFERROR(VLOOKUP(G776,DropDowns!$D$2:$E$151,2,FALSE),\"\")","v":""},{"$f":"IFERROR(VLOOKUP(H776,DropDowns!$F$2:$G$7,2,FALSE),\"Residual categories\")","v":"Residual categories"},null,null,null,0,0,0]
[0,{"$f":"IF(OR(COUNTA(O747:O776)>0,COUNTA(O776:$O$5195)>0),IF(COUNTIF(B767:B776,B776)=10,B776+7,B776),\"\")","v":""},null,"","",null,null,null,0,0,0,0,{"$f":"IFERROR(VLOOKUP(G777,DropDowns!$D$2:$E$151,2,FALSE),\"\")","v":""},{"$f":"IFERROR(VLOOKUP(H777,DropDowns!$F$2:$G$7,2,FALSE),\"Residual categories\")","v":"Residual categories"},null,null,null,0,0,0]
[0,{"$f":"IF(OR(COUNTA(O748:O777)>0,COUNTA(O777:$O$5195)>0),IF(COUNTIF(B768:B777,B777)=10,B777+7,B777),\"\")","v":""},null,"","",null,null,null,0,0,0,0,{"$f":"IFERROR(VLOOKUP(G778,DropDowns!$D$2:$E$151,2,FALSE),\"\")","v":""},{"$f":"IFERROR(VLOOKUP(H778,DropDowns!$F$2:$G$7,2,FALSE),\"Residual categories\")","v":"Residual categories"},null,null,null,0,0,0]
[0,{"$f":"IF(OR(COUNTA(O749:O778)>0,COUNTA(O778:$O$5195)>0),IF(COUNTIF(B769:B778,B778)=10,B778+7,B778),\"\")","v":""},null,"","",null,null,null,0,0,0,0,{"$f":"IFERROR(VLOOKUP(G779,DropDowns!$D$2:$E$151,2,FALSE),\"\")","v":""},{"$f":"IFERROR(VLOOKUP(H779,DropDowns!$F$2:$G$7,2,FALSE),\"Residual categories\")","v":"Residual categories"},null,null,null,0,0,0]
[0,{"$f":"IF(OR(COUNTA(O750:O779)>0,COUNTA(O779:$O$5195)>0),IF(COUNTIF(B770:B779,B779)=10,B779+7,B779),\"\")","v":""},null,"","",null,null,null,0,0,0,0,{"$f":"IFERROR(VLOOKUP(G780,DropDowns!$D$2:$E$151,2,FALSE),\"\")","v":""},{"$f":"IFERROR(VLOOKUP(H780,DropDowns!$F$2:$G$7,2,FALSE),\"Residual categories\")","v":"Residual categories"},null,null,null,0,0,0]
[0,{"$f":"IF(OR(COUNTA(O751:O780)>0,COUNTA(O780:$O$5195)>0),IF(COUNTIF(B771:B780,B780)=10,B780+7,B780),\"\")","v":""},null,"","",null,null,null,0,0,0,0,{"$f":"IFERROR(VLOOKUP(G781,DropDowns!$D$2:$E$151,2,FALSE),\"\")","v":""},{"$f":"IFERROR(VLOOKUP(H781,DropDowns!$F$2:$G$7,2,FALSE),\"Residual categories\")","v":"Residual categories"},null,null,null,0,0,0]
[0,{"$f":"IF(OR(COUNTA(O752:O781)>0,COUNTA(O781:$O$5195)>0),IF(COUNTIF(B772:B781,B781)=10,B781+7,B781),\"\")","v":""},null,"","",null,null,null,0,0,0,0,{"$f":"IFERROR(VLOOKUP(G782,DropDowns!$D$2:$E$151,2,FALSE),\"\")","v":""},{"$f":"IFERROR(VLOOKUP(H782,DropDowns!$F$2:$G$7,2,FALSE),\"Residual categories\")","v":"Residual categories"},null,null,null,0,0,0]
[0,{"$f":"IF(OR(COUNTA(O753:O782)>0,COUNTA(O782:$O$5195)>0),IF(COUNTIF(B773:B782,B782)=10,B782+7,B782),\"\")","v":""},null,"","",null,null,null,0,0,0,0,{"$f":"IFERROR(VLOOKUP(G783,DropDowns!$D$2:$E$151,2,FALSE),\"\")","v":""},{"$f":"IFERROR(VLOOKUP(H783,DropDowns!$F$2:$G$7,2,FALSE),\"Residual categories\")","v":"Residual categories"},null,null,null,0,0,0]
[0,{"$f":"IF(OR(COUNTA(O754:O783)>0,COUNTA(O783:$O$5195)>0),IF(COUNTIF(B774:B783,B783)=10,B783+7,B783),\"\")","v":""},null,"","",null,null,null,0,0,0,0,{"$f":"IFERROR(VLOOKUP(G784,DropDowns!$D$2:$E$151,2,FALSE),\"\")","v":""},{"$f":"IFERROR(VLOOKUP(H784,DropDowns!$F$2:$G$7,2,FALSE),\"Residual categories\")","v":"Residual categories"},null,null,null,0,0,0]
[0,{"$f":"IF(OR(COUNTA(O755:O784)>0,COUNTA(O784:$O$5195)>0),IF(COUNTIF(B775:B784,B784)=10,B784+7,B784),\"\")","v":""},null,"",{"$f":"IF(B785=\"\",\"\",COUNTIF(B776:B785,B785))","v":""},null,null,null,0,0,0,0,{"$f":"IFERROR(VLOOKUP(G785,DropDowns!$D$2:$E$151,2,FALSE),\"\")","v":""},{"$f":"IFERROR(VLOOKUP(H785,DropDowns!$F$2:$G$7,2,FALSE),\"Residual categories\")","v":"Residual categories"},null,null,null,0,0,0]
[0,{"$f":"IF(OR(COUNTA(O756:O785)>0,COUNTA(O785:$O$5195)>0),IF(COUNTIF(B776:B785,B785)=10,B785+7,B785),\"\")","v":""},null,"","",null,null,null,0,0,0,0,{"$f":"IFERROR(VLOOKUP(G786,DropDowns!$D$2:$E$151,2,FALSE),\"\")","v":""},{"$f":"IFERROR(VLOOKUP(H786,DropDowns!$F$2:$G$7,2,FALSE),\"Residual categories\")","v":"Residual categories"},null,null,null,0,0,0]
[0,{"$f":"IF(OR(COUNTA(O757:O786)>0,COUNTA(O786:$O$5195)>0),IF(COUNTIF(B777:B786,B786)=10,B786+7,B786),\"\")","v":""},null,"","",null,null,null,0,0,0,0,{"$f":"IFERROR(VLOOKUP(G787,DropDowns!$D$2:$E$151,2,FALSE),\"\")","v":""},{"$f":"IFERROR(VLOOKUP(H787,DropDowns!$F$2:$G$7,2,FALSE),\"Residual categories\")","v":"Residual categories"},null,null,null,0,0,0]
[{"$f":"$E$2","v":0},{"$f":"IF(OR(COUNTA(O758:O787)>0,COUNTA(O787:$O$5195)>0),IF(COUNTIF(B778:B787,B787)=10,B787+7,B787),\"\")","v":""},null,"","",null,null,null,0,0,0,0,{"$f":"IFERROR(VLOOKUP(G788,DropDowns!$D$2:$E$151,2,FALSE),\"\")","v":""},{"$f":"IFERROR(VLOOKUP(H788,DropDowns!$F$2:$G$7,2,FALSE),\"Residual categories\")","v":"Residual categories"},null,null,null,0,0,0]
[0,{"$f":"IF(OR(COUNTA(O759:O788)>0,COUNTA(O788:$O$5195)>0),IF(COUNTIF(B779:B788,B788)=10,B788+7,B788),\"\")","v":""},null,"","",null,null,null,0,0,0,0,{"$f":"IFERROR(VLOOKUP(G789,DropDowns!$D$2:$E$151,2,FALSE),\"\")","v":""},{"$f":"IFERROR(VLOOKUP(H789,DropDowns!$F$2:$G$7,2,FALSE),\"Residual categories\")","v":"Residual categories"},null,null,null,0,0,0]
[0,{"$f":"IF(OR(COUNTA(O760:O789)>0,COUNTA(O789:$O$5195)>0),IF(COUNTIF(B780:B789,B789)=10,B789+7,B789),\"\")","v":""},null,"","",null,null,null,0,0,0,0,{"$f":"IFERROR(VLOOKUP(G790,DropDowns!$D$2:$E$151,2,FALSE),\"\")","v":""},{"$f":"IFERROR(VLOOKUP(H790,DropDowns!$F$2:$G$7,2,FALSE),\"Residual categories\")","v":"Residual categories"},null,null,null,0,0,0]
[0,{"$f":"IF(OR(COUNTA(O761:O790)>0,COUNTA(O790:$O$5195)>0),IF(COUNTIF(B781:B790,B790)=10,B790+7,B790),\"\")","v":""},null,"","",null,null,null,0,0,0,0,{"$f":"IFERROR(VLOOKUP(G791,DropDowns!$D$2:$E$151,2,FALSE),\"\")","v":""},{"$f":"IFERROR(VLOOKUP(H791,DropDowns!$F$2:$G$7,2,FALSE),\"Residual categories\")","v":"Residual categories"},null,null,null,0,0,0]
[0,{"$f":"IF(OR(COUNTA(O762:O791)>0,COUNTA(O791:$O$5195)>0),IF(COUNTIF(B782:B791,B791)=10,B791+7,B791),\"\")","v":""},null,"","",null,null,null,0,0,0,0,{"$f":"IFERROR(VLOOKUP(G792,DropDowns!$D$2:$E$151,2,FALSE),\"\")","v":""},{"$f":"IFERROR(VLOOKUP(H792,DropDowns!$F$2:$G$7,2,FALSE),\"Residual categories\")","v":"Residual categories"},null,null,null,0,0,0]
[0,{"$f":"IF(OR(COUNTA(O763:O792)>0,COUNTA(O792:$O$5195)>0),IF(COUNTIF(B783:B792,B792)=10,B792+7,B792),\"\")","v":""},null,"","",null,null,null,0,0,0,0,{"$f":"IFERROR(VLOOKUP(G793,DropDowns!$D$2:$E$151,2,FALSE),\"\")","v":""},{"$f":"IFERROR(VLOOKUP(H793,DropDowns!$F$2:$G$7,2,FALSE),\"Residual categories\")","v":"Residual categories"},null,null,null,0,0,0]
[0,{"$f":"IF(OR(COUNTA(O764:O793)>0,COUNTA(O793:$O$5195)>0),IF(COUNTIF(B784:B793,B793)=10,B793+7,B793),\"\")","v":""},null,"","",null,null,null,0,0,0,0,{"$f":"IFERROR(VLOOKUP(G794,DropDowns!$D$2:$E$151,2,FALSE),\"\")","v":""},{"$f":"IFERROR(VLOOKUP(H794,DropDowns!$F$2:$G$7,2,FALSE),\"Residual categories\")","v":"Residual categories"},null,null,null,0,0,0]
[0,{"$f":"IF(OR(COUNTA(O765:O794)>0,COUNTA(O794:$O$5195)>0),IF(COUNTIF(B785:B794,B794)=10,B794+7,B794),\"\")","v":""},null,"","",null,null,null,0,0,0,0,{"$f":"IFERROR(VLOOKUP(G795,DropDowns!$D$2:$E$151,2,FALSE),\"\")","v":""},{"$f":"IFERROR(VLOOKUP(H795,DropDowns!$F$2:$G$7,2,FALSE),\"Residual categories\")","v":"Residual categories"},null,null,null,0,0,0]
[0,{"$f":"IF(OR(COUNTA(O766:O795)>0,COUNTA(O795:$O$5195)>0),IF(COUNTIF(B786:B795,B795)=10,B795+7,B795),\"\")","v":""},null,"","",null,null,null,0,0,0,0,{"$f":"IFERROR(VLOOKUP(G796,DropDowns!$D$2:$E$151,2,FALSE),\"\")","v":""},{"$f":"IFERROR(VLOOKUP(H796,DropDowns!$F$2:$G$7,2,FALSE),\"Residual categories\")","v":"Residual categories"},null,null,null,0,0,0]
[0,{"$f":"IF(OR(COUNTA(O767:O796)>0,COUNTA(O796:$O$5195)>0),IF(COUNTIF(B787:B796,B796)=10,B796+7,B796),\"\")","v":""},null,"","",null,null,null,0,0,0,0,{"$f":"IFERROR(VLOOKUP(G797,DropDowns!$D$2:$E$151,2,FALSE),\"\")","v":""},{"$f":"IFERROR(VLOOKUP(H797,DropDowns!$F$2:$G$7,2,FALSE),\"Residual categories\")","v":"Residual categories"},null,null,null,0,0,0]
[0,{"$f":"IF(OR(COUNTA(O768:O797)>0,COUNTA(O797:$O$5195)>0),IF(COUNTIF(B788:B797,B797)=10,B797+7,B797),\"\")","v":""},null,"","",null,null,null,0,0,0,0,{"$f":"IFERROR(VLOOKUP(G798,DropDowns!$D$2:$E$151,2,FALSE),\"\")","v":""},{"$f":"IFERROR(VLOOKUP(H798,DropDowns!$F$2:$G$7,2,FALSE),\"Residual categories\")","v":"Residual categories"},null,null,null,0,0,0]
[0,{"$f":"IF(OR(COUNTA(O769:O798)>0,COUNTA(O798:$O$5195)>0),IF(COUNTIF(B789:B798,B798)=10,B798+7,B798),\"\")","v":""},null,"","",null,null,null,0,0,0,0,{"$f":"IFERROR(VLOOKUP(G799,DropDowns!$D$2:$E$151,2,FALSE),\"\")","v":""},{"$f":"IFERROR(VLOOKUP(H799,DropDowns!$F$2:$G$7,2,FALSE),\"Residual categories\")","v":"Residual categories"},null,null,null,0,0,0]
[0,{"$f":"IF(OR(COUNTA(O770:O799)>0,COUNTA(O799:$O$5195)>0),IF(COUNTIF(B790:B799,B799)=10,B799+7,B799),\"\")","v":""},null,"","",null,null,null,0,0,0,0,{"$f":"IFERROR(VLOOKUP(G800,DropDowns!$D$2:$E$151,2,FALSE),\"\")","v":""},{"$f":"IFERROR(VLOOKUP(H800,DropDowns!$F$2:$G$7,2,FALSE),\"Residual categories\")","v":"Residual categories"},null,null,null,0,0,0]
[0,{"$f":"IF(OR(COUNTA(O771:O800)>0,COUNTA(O800:$O$5195)>0),IF(COUNTIF(B791:B800,B800)=10,B800+7,B800),\"\")","v":""},null,"","",null,null,null,0,0,0,0,{"$f":"IFERROR(VLOOKUP(G801,DropDowns!$D$2:$E$151,2,FALSE),\"\")","v":""},{"$f":"IFERROR(VLOOKUP(H801,DropDowns!$F$2:$G$7,2,FALSE),\"Residual categories\")","v":"Residual categories"},null,null,null,0,0,0]
[0,{"$f":"IF(OR(COUNTA(O772:O801)>0,COUNTA(O801:$O$5195)>0),IF(COUNTIF(B792:B801,B801)=10,B801+7,B801),\"\")","v":""},null,"","",null,null,null,0,0,0,0,{"$f":"IFERROR(VLOOKUP(G802,DropDowns!$D$2:$E$151,2,FALSE),\"\")","v":""},{"$f":"IFERROR(VLOOKUP(H802,DropDowns!$F$2:$G$7,2,FALSE),\"Residual categories\")","v":"Residual categories"},null,null,null,0,0,0]
[0,{"$f":"IF(OR(COUNTA(O773:O802)>0,COUNTA(O802:$O$5195)>0),IF(COUNTIF(B793:B802,B802)=10,B802+7,B802),\"\")","v":""},null,"","",null,null,null,0,0,0,0,{"$f":"IFERROR(VLOOKUP(G803,DropDowns!$D$2:$E$151,2,FALSE),\"\")","v":""},{"$f":"IFERROR(VLOOKUP(H803,DropDowns!$F$2:$G$7,2,FALSE),\"Residual categories\")","v":"Residual categories"},null,null,null,0,0,0]
[0,{"$f":"IF(OR(COUNTA(O774:O803)>0,COUNTA(O803:$O$5195)>0),IF(COUNTIF(B794:B803,B803)=10,B803+7,B803),\"\")","v":""},null,"","",null,null,null,0,0,0,0,{"$f":"IFERROR(VLOOKUP(G804,DropDowns!$D$2:$E$151,2,FALSE),\"\")","v":""},{"$f":"IFERROR(VLOOKUP(H804,DropDowns!$F$2:$G$7,2,FALSE),\"Residual categories\")","v":"Residual categories"},null,null,null,0,0,0]
[0,{"$f":"IF(OR(COUNTA(O775:O804)>0,COUNTA(O804:$O$5195)>0),IF(COUNTIF(B795:B804,B804)=10,B804+7,B804),\"\")","v":""},null,"","",null,null,null,0,0,0,0,{"$f":"IFERROR(VLOOKUP(G805,DropDowns!$D$2:$E$151,2,FALSE),\"\")","v":""},{"$f":"IFERROR(VLOOKUP(H805,DropDowns!$F$2:$G$7,2,FALSE),\"Residual categories\")","v":"Residual categories"},null,null,null,0,0,0]
[0,{"$f":"IF(OR(COUNTA(O776:O805)>0,COUNTA(O805:$O$5195)>0),IF(COUNTIF(B796:B805,B805)=10,B805+7,B805),\"\")","v":""},null,"","",null,null,null,0,0,0,0,{"$f":"IFERROR(VLOOKUP(G806,DropDowns!$D$2:$E$151,2,FALSE),\"\")","v":""},{"$f":"IFERROR(VLOOKUP(H806,DropDowns!$F$2:$G$7,2,FALSE),\"Residual categories\")","v":"Residual categories"},null,null,null,0,0,0]
[0,{"$f":"IF(OR(COUNTA(O777:O806)>0,COUNTA(O806:$O$5195)>0),IF(COUNTIF(B797:B806,B806)=10,B806+7,B806),\"\")","v":""},null,"","",null,null,null,0,0,0,0,{"$f":"IFERROR(VLOOKUP(G807,DropDowns!$D$2:$E$151,2,FALSE),\"\")","v":""},{"$f":"IFERROR(VLOOKUP(H807,DropDowns!$F$2:$G$7,2,FALSE),\"Residual categories\")","v":"Residual categories"},null,null,null,0,0,0]
[0,{"$f":"IF(OR(COUNTA(O778:O807)>0,COUNTA(O807:$O$5195)>0),IF(COUNTIF(B798:B807,B807)=10,B807+7,B807),\"\")","v":""},null,"","",null,null,null,0,0,0,0,{"$f":"IFERROR(VLOOKUP(G808,DropDowns!$D$2:$E$151,2,FALSE),\"\")","v":""},{"$f":"IFERROR(VLOOKUP(H808,DropDowns!$F$2:$G$7,2,FALSE),\"Residual categories\")","v":"Residual categories"},null,null,null,0,0,0]
[0,{"$f":"IF(OR(COUNTA(O779:O808)>0,COUNTA(O808:$O$5195)>0),IF(COUNTIF(B799:B808,B808)=10,B808+7,B808),\"\")","v":""},null,"","",null,null,null,0,0,0,0,{"$f":"IFERROR(VLOOKUP(G809,DropDowns!$D$2:$E$151,2,FALSE),\"\")","v":""},{"$f":"IFERROR(VLOOKUP(H809,DropDowns!$F$2:$G$7,2,FALSE),\"Residual categories\")","v":"Residual categories"},null,null,null,0,0,0]
[0,{"$f":"IF(OR(COUNTA(O780:O809)>0,COUNTA(O809:$O$5195)>0),IF(COUNTIF(B800:B809,B809)=10,B809+7,B809),\"\")","v":""},null,"","",null,null,null,0,0,0,0,{"$f":"IFERROR(VLOOKUP(G810,DropDowns!$D$2:$E$151,2,FALSE),\"\")","v":""},{"$f":"IFERROR(VLOOKUP(H810,DropDowns!$F$2:$G$7,2,FALSE),\"Residual categories\")","v":"Residual categories"},null,null,null,0,0,0]
[0,{"$f":"IF(OR(COUNTA(O781:O810)>0,COUNTA(O810:$O$5195)>0),IF(COUNTIF(B801:B810,B810)=10,B810+7,B810),\"\")","v":""},null,"","",null,null,null,0,0,0,0,{"$f":"IFERROR(VLOOKUP(G811,DropDowns!$D$2:$E$151,2,FALSE),\"\")","v":""},{"$f":"IFERROR(VLOOKUP(H811,DropDowns!$F$2:$G$7,2,FALSE),\"Residual categories\")","v":"Residual categories"},null,null,null,0,0,0]
[0,{"$f":"IF(OR(COUNTA(O782:O811)>0,COUNTA(O811:$O$5195)>0),IF(COUNTIF(B802:B811,B811)=10,B811+7,B811),\"\")","v":""},null,"","",null,null,null,0,0,0,0,{"$f":"IFERROR(VLOOKUP(G812,DropDowns!$D$2:$E$151,2,FALSE),\"\")","v":""},{"$f":"IFERROR(VLOOKUP(H812,DropDowns!$F$2:$G$7,2,FALSE),\"Residual categories\")","v":"Residual categories"},null,null,null,0,0,0]
[0,{"$f":"IF(OR(COUNTA(O783:O812)>0,COUNTA(O812:$O$5195)>0),IF(COUNTIF(B803:B812,B812)=10,B812+7,B812),\"\")","v":""},null,"","",null,null,null,0,0,0,0,{"$f":"IFERROR(VLOOKUP(G813,DropDowns!$D$2:$E$151,2,FALSE),\"\")","v":""},{"$f":"IFERROR(VLOOKUP(H813,DropDowns!$F$2:$G$7,2,FALSE),\"Residual categories\")","v":"Residual categories"},null,null,null,0,0,0]
[0,{"$f":"IF(OR(COUNTA(O784:O813)>0,COUNTA(O813:$O$5195)>0),IF(COUNTIF(B804:B813,B813)=10,B813+7,B813),\"\")","v":""},null,"","",null,null,null,0,0,0,0,{"$f":"IFERROR(VLOOKUP(G814,DropDowns!$D$2:$E$151,2,FALSE),\"\")","v":""},{"$f":"IFERROR(VLOOKUP(H814,DropDowns!$F$2:$G$7,2,FALSE),\"Residual categories\")","v":"Residual categories"},null,null,null,0,0,0]
[0,{"$f":"IF(OR(COUNTA(O785:O814)>0,COUNTA(O814:$O$5195)>0),IF(COUNTIF(B805:B814,B814)=10,B814+7,B814),\"\")","v":""},null,"","",null,null,null,0,0,0,0,{"$f":"IFERROR(VLOOKUP(G815,DropDowns!$D$2:$E$151,2,FALSE),\"\")","v":""},{"$f":"IFERROR(VLOOKUP(H815,DropDowns!$F$2:$G$7,2,FALSE),\"Residual categories\")","v":"Residual categories"},null,null,null,0,0,0]
[0,{"$f":"IF(OR(COUNTA(O786:O815)>0,COUNTA(O815:$O$5195)>0),IF(COUNTIF(B806:B815,B815)=10,B815+7,B815),\"\")","v":""},null,"","",null,null,null,0,0,0,0,{"$f":"IFERROR(VLOOKUP(G816,DropDowns!$D$2:$E$151,2,FALSE),\"\")","v":""},{"$f":"IFERROR(VLOOKUP(H816,DropDowns!$F$2:$G$7,2,FALSE),\"Residual categories\")","v":"Residual categories"},null,null,null,0,0,0]
[0,{"$f":"IF(OR(COUNTA(O787:O816)>0,COUNTA(O816:$O$5195)>0),IF(COUNTIF(B807:B816,B816)=10,B816+7,B816),\"\")","v":""},null,"","",null,null,null,0,0,0,0,{"$f":"IFERROR(VLOOKUP(G817,DropDowns!$D$2:$E$151,2,FALSE),\"\")","v":""},{"$f":"IFERROR(VLOOKUP(H817,DropDowns!$F$2:$G$7,2,FALSE),\"Residual categories\")","v":"Residual categories"},null,null,null,0,0,0]
[0,{"$f":"IF(OR(COUNTA(O788:O817)>0,COUNTA(O817:$O$5195)>0),IF(COUNTIF(B808:B817,B817)=10,B817+7,B817),\"\")","v":""},null,"","",null,null,null,0,0,0,0,{"$f":"IFERROR(VLOOKUP(G818,DropDowns!$D$2:$E$151,2,FALSE),\"\")","v":""},{"$f":"IFERROR(VLOOKUP(H818,DropDowns!$F$2:$G$7,2,FALSE),\"Residual categories\")","v":"Residual categories"},null,null,null,0,0,0]
[0,{"$f":"IF(OR(COUNTA(O789:O818)>0,COUNTA(O818:$O$5195)>0),IF(COUNTIF(B809:B818,B818)=10,B818+7,B818),\"\")","v":""},null,"","",null,null,null,0,0,0,0,{"$f":"IFERROR(VLOOKUP(G819,DropDowns!$D$2:$E$151,2,FALSE),\"\")","v":""},{"$f":"IFERROR(VLOOKUP(H819,DropDowns!$F$2:$G$7,2,FALSE),\"Residual categories\")","v":"Residual categories"},null,null,null,0,0,0]
[0,{"$f":"IF(OR(COUNTA(O790:O819)>0,COUNTA(O819:$O$5195)>0),IF(COUNTIF(B810:B819,B819)=10,B819+7,B819),\"\")","v":""},null,"","",null,null,null,0,0,0,0,{"$f":"IFERROR(VLOOKUP(G820,DropDowns!$D$2:$E$151,2,FALSE),\"\")","v":""},{"$f":"IFERROR(VLOOKUP(H820,DropDowns!$F$2:$G$7,2,FALSE),\"Residual categories\")","v":"Residual categories"},null,null,null,0,0,0]
[0,{"$f":"IF(OR(COUNTA(O791:O820)>0,COUNTA(O820:$O$5195)>0),IF(COUNTIF(B811:B820,B820)=10,B820+7,B820),\"\")","v":""},null,"","",null,null,null,0,0,0,0,{"$f":"IFERROR(VLOOKUP(G821,DropDowns!$D$2:$E$151,2,FALSE),\"\")","v":""},{"$f":"IFERROR(VLOOKUP(H821,DropDowns!$F$2:$G$7,2,FALSE),\"Residual categories\")","v":"Residual categories"},null,null,null,0,0,0]
[0,{"$f":"IF(OR(COUNTA(O792:O821)>0,COUNTA(O821:$O$5195)>0),IF(COUNTIF(B812:B821,B821)=10,B821+7,B821),\"\")","v":""},null,"","",null,null,null,0,0,0,0,{"$f":"IFERROR(VLOOKUP(G822,DropDowns!$D$2:$E$151,2,FALSE),\"\")","v":""},{"$f":"IFERROR(VLOOKUP(H822,DropDowns!$F$2:$G$7,2,FALSE),\"Residual categories\")","v":"Residual categories"},null,null,null,0,0,0]
[0,{"$f":"IF(OR(COUNTA(O793:O822)>0,COUNTA(O822:$O$5195)>0),IF(COUNTIF(B813:B822,B822)=10,B822+7,B822),\"\")","v":""},null,"","",null,null,null,0,0,0,0,{"$f":"IFERROR(VLOOKUP(G823,DropDowns!$D$2:$E$151,2,FALSE),\"\")","v":""},{"$f":"IFERROR(VLOOKUP(H823,DropDowns!$F$2:$G$7,2,FALSE),\"Residual categories\")","v":"Residual categories"},null,null,null,0,0,0]
[0,{"$f":"IF(OR(COUNTA(O794:O823)>0,COUNTA(O823:$O$5195)>0),IF(COUNTIF(B814:B823,B823)=10,B823+7,B823),\"\")","v":""},null,"","",null,null,null,0,0,0,0,{"$f":"IFERROR(VLOOKUP(G824,DropDowns!$D$2:$E$151,2,FALSE),\"\")","v":""},{"$f":"IFERROR(VLOOKUP(H824,DropDowns!$F$2:$G$7,2,FALSE),\"Residual categories\")","v":"Residual categories"},null,null,null,0,0,0]
[0,{"$f":"IF(OR(COUNTA(O795:O824)>0,COUNTA(O824:$O$5195)>0),IF(COUNTIF(B815:B824,B824)=10,B824+7,B824),\"\")","v":""},null,"","",null,null,null,0,0,0,0,{"$f":"IFERROR(VLOOKUP(G825,DropDowns!$D$2:$E$151,2,FALSE),\"\")","v":""},{"$f":"IFERROR(VLOOKUP(H825,DropDowns!$F$2:$G$7,2,FALSE),\"Residual categories\")","v":"Residual categories"},null,null,null,0,0,0]
[0,{"$f":"IF(OR(COUNTA(O796:O825)>0,COUNTA(O825:$O$5195)>0),IF(COUNTIF(B816:B825,B825)=10,B825+7,B825),\"\")","v":""},null,"","",null,null,null,0,0,0,0,{"$f":"IFERROR(VLOOKUP(G826,DropDowns!$D$2:$E$151,2,FALSE),\"\")","v":""},{"$f":"IFERROR(VLOOKUP(H826,DropDowns!$F$2:$G$7,2,FALSE),\"Residual categories\")","v":"Residual categories"},null,null,null,0,0,0]
[0,{"$f":"IF(OR(COUNTA(O797:O826)>0,COUNTA(O826:$O$5195)>0),IF(COUNTIF(B817:B826,B826)=10,B826+7,B826),\"\")","v":""},null,"","",null,null,null,0,0,0,0,{"$f":"IFERROR(VLOOKUP(G827,DropDowns!$D$2:$E$151,2,FALSE),\"\")","v":""},{"$f":"IFERROR(VLOOKUP(H827,DropDowns!$F$2:$G$7,2,FALSE),\"Residual categories\")","v":"Residual categories"},null,null,null,0,0,0]
[0,{"$f":"IF(OR(COUNTA(O798:O827)>0,COUNTA(O827:$O$5195)>0),IF(COUNTIF(B818:B827,B827)=10,B827+7,B827),\"\")","v":""},null,"","",null,null,null,0,0,0,0,{"$f":"IFERROR(VLOOKUP(G828,DropDowns!$D$2:$E$151,2,FALSE),\"\")","v":""},{"$f":"IFERROR(VLOOKUP(H828,DropDowns!$F$2:$G$7,2,FALSE),\"Residual categories\")","v":"Residual categories"},null,null,null,0,0,0]
[0,{"$f":"IF(OR(COUNTA(O799:O828)>0,COUNTA(O828:$O$5195)>0),IF(COUNTIF(B819:B828,B828)=10,B828+7,B828),\"\")","v":""},null,"","",null,null,null,0,0,0,0,{"$f":"IFERROR(VLOOKUP(G829,DropDowns!$D$2:$E$151,2,FALSE),\"\")","v":""},{"$f":"IFERROR(VLOOKUP(H829,DropDowns!$F$2:$G$7,2,FALSE),\"Residual categories\")","v":"Residual categories"},null,null,null,0,0,0]
[0,{"$f":"IF(OR(COUNTA(O800:O829)>0,COUNTA(O829:$O$5195)>0),IF(COUNTIF(B820:B829,B829)=10,B829+7,B829),\"\")","v":""},null,"","",null,null,null,0,0,0,0,{"$f":"IFERROR(VLOOKUP(G830,DropDowns!$D$2:$E$151,2,FALSE),\"\")","v":""},{"$f":"IFERROR(VLOOKUP(H830,DropDowns!$F$2:$G$7,2,FALSE),\"Residual categories\")","v":"Residual categories"},null,null,null,0,0,0]
[0,{"$f":"IF(OR(COUNTA(O801:O830)>0,COUNTA(O830:$O$5195)>0),IF(COUNTIF(B821:B830,B830)=10,B830+7,B830),\"\")","v":""},null,"","",null,null,null,0,0,0,0,{"$f":"IFERROR(VLOOKUP(G831,DropDowns!$D$2:$E$151,2,FALSE),\"\")","v":""},{"$f":"IFERROR(VLOOKUP(H831,DropDowns!$F$2:$G$7,2,FALSE),\"Residual categories\")","v":"Residual categories"},null,null,null,0,0,0]
[0,{"$f":"IF(OR(COUNTA(O802:O831)>0,COUNTA(O831:$O$5195)>0),IF(COUNTIF(B822:B831,B831)=10,B831+7,B831),\"\")","v":""},null,"","",null,null,null,0,0,0,0,{"$f":"IFERROR(VLOOKUP(G832,DropDowns!$D$2:$E$151,2,FALSE),\"\")","v":""},{"$f":"IFERROR(VLOOKUP(H832,DropDowns!$F$2:$G$7,2,FALSE),\"Residual categories\")","v":"Residual categories"},null,null,null,0,0,0]
[0,{"$f":"IF(OR(COUNTA(O803:O832)>0,COUNTA(O832:$O$5195)>0),IF(COUNTIF(B823:B832,B832)=10,B832+7,B832),\"\")","v":""},null,"","",null,null,null,0,0,0,0,{"$f":"IFERROR(VLOOKUP(G833,DropDowns!$D$2:$E$151,2,FALSE),\"\")","v":""},{"$f":"IFERROR(VLOOKUP(H833,DropDowns!$F$2:$G$7,2,FALSE),\"Residual categories\")","v":"Residual categories"},null,null,null,0,0,0]
[0,{"$f":"IF(OR(COUNTA(O804:O833)>0,COUNTA(O833:$O$5195)>0),IF(COUNTIF(B824:B833,B833)=10,B833+7,B833),\"\")","v":""},null,"","",null,null,null,0,0,0,0,{"$f":"IFERROR(VLOOKUP(G834,DropDowns!$D$2:$E$151,2,FALSE),\"\")","v":""},{"$f":"IFERROR(VLOOKUP(H834,DropDowns!$F$2:$G$7,2,FALSE),\"Residual categories\")","v":"Residual categories"},null,null,null,0,0,0]
[0,{"$f":"IF(OR(COUNTA(O805:O834)>0,COUNTA(O834:$O$5195)>0),IF(COUNTIF(B825:B834,B834)=10,B834+7,B834),\"\")","v":""},null,"","",null,null,null,0,0,0,0,{"$f":"IFERROR(VLOOKUP(G835,DropDowns!$D$2:$E$151,2,FALSE),\"\")","v":""},{"$f":"IFERROR(VLOOKUP(H835,DropDowns!$F$2:$G$7,2,FALSE),\"Residual categories\")","v":"Residual categories"},null,null,null,0,0,0]
[0,{"$f":"IF(OR(COUNTA(O806:O835)>0,COUNTA(O835:$O$5195)>0),IF(COUNTIF(B826:B835,B835)=10,B835+7,B835),\"\")","v":""},null,"","",null,null,null,0,0,0,0,{"$f":"IFERROR(VLOOKUP(G836,DropDowns!$D$2:$E$151,2,FALSE),\"\")","v":""},{"$f":"IFERROR(VLOOKUP(H836,DropDowns!$F$2:$G$7,2,FALSE),\"Residual categories\")","v":"Residual categories"},null,null,null,0,0,0]
[0,{"$f":"IF(OR(COUNTA(O807:O836)>0,COUNTA(O836:$O$5195)>0),IF(COUNTIF(B827:B836,B836)=10,B836+7,B836),\"\")","v":""},null,"","",null,null,null,0,0,0,0,{"$f":"IFERROR(VLOOKUP(G837,DropDowns!$D$2:$E$151,2,FALSE),\"\")","v":""},{"$f":"IFERROR(VLOOKUP(H837,DropDowns!$F$2:$G$7,2,FALSE),\"Residual categories\")","v":"Residual categories"},null,null,null,0,0,0]
[0,{"$f":"IF(OR(COUNTA(O808:O837)>0,COUNTA(O837:$O$5195)>0),IF(COUNTIF(B828:B837,B837)=10,B837+7,B837),\"\")","v":""},null,"","",null,null,null,0,0,0,0,{"$f":"IFERROR(VLOOKUP(G838,DropDowns!$D$2:$E$151,2,FALSE),\"\")","v":""},{"$f":"IFERROR(VLOOKUP(H838,DropDowns!$F$2:$G$7,2,FALSE),\"Residual categories\")","v":"Residual categories"},null,null,null,0,0,0]
[0,{"$f":"IF(OR(COUNTA(O809:O838)>0,COUNTA(O838:$O$5195)>0),IF(COUNTIF(B829:B838,B838)=10,B838+7,B838),\"\")","v":""},null,{"$f":"IF(E839=1,B839,\"\")","v":""},"",null,null,null,{"$f":"IF(COUNTA(O839:Q839)>0,1,0)","v":0},{"$f":"IF(O839=\"y\",1,0)","v":0},{"$f":"IF(P839=\"y\",1,0)","v":0},{"$f":"IF(Q839=\"y\",1,0)","v":0},{"$f":"IFERROR(VLOOKUP(G839,DropDowns!$D$2:$E$151,2,FALSE),\"\")","v":""},{"$f":"IFERROR(VLOOKUP(H839,DropDowns!$F$2:$G$7,2,FALSE),\"Residual categories\")","v":"Residual categories"},null,null,null,{"$f":"IF(O839=\"yes\",1,0)","v":0},{"$f":"IF(P839=\"yes\",1,0)","v":0},{"$f":"IF(Q839=\"yes\",1,0)","v":0}]
[0,{"$f":"IF(OR(COUNTA(O810:O839)>0,COUNTA(O839:$O$5195)>0),IF(COUNTIF(B830:B839,B839)=10,B839+7,B839),\"\")","v":""},null,"","",null,null,null,0,0,0,0,{"$f":"IFERROR(VLOOKUP(G840,DropDowns!$D$2:$E$151,2,FALSE),\"\")","v":""},{"$f":"IFERROR(VLOOKUP(H840,DropDowns!$F$2:$G$7,2,FALSE),\"Residual categories\")","v":"Residual categories"},null,null,null,0,0,0]
[0,{"$f":"IF(OR(COUNTA(O811:O840)>0,COUNTA(O840:$O$5195)>0),IF(COUNTIF(B831:B840,B840)=10,B840+7,B840),\"\")","v":""},null,"","",null,null,null,0,0,0,0,{"$f":"IFERROR(VLOOKUP(G841,DropDowns!$D$2:$E$151,2,FALSE),\"\")","v":""},{"$f":"IFERROR(VLOOKUP(H841,DropDowns!$F$2:$G$7,2,FALSE),\"Residual categories\")","v":"Residual categories"},null,null,null,0,0,0]
[0,{"$f":"IF(OR(COUNTA(O812:O841)>0,COUNTA(O841:$O$5195)>0),IF(COUNTIF(B832:B841,B841)=10,B841+7,B841),\"\")","v":""},null,"","",null,null,null,0,0,0,0,{"$f":"IFERROR(VLOOKUP(G842,DropDowns!$D$2:$E$151,2,FALSE),\"\")","v":""},{"$f":"IFERROR(VLOOKUP(H842,DropDowns!$F$2:$G$7,2,FALSE),\"Residual categories\")","v":"Residual categories"},null,null,null,0,0,0]
[0,{"$f":"IF(OR(COUNTA(O813:O842)>0,COUNTA(O842:$O$5195)>0),IF(COUNTIF(B833:B842,B842)=10,B842+7,B842),\"\")","v":""},null,"","",null,null,null,0,0,0,0,{"$f":"IFERROR(VLOOKUP(G843,DropDowns!$D$2:$E$151,2,FALSE),\"\")","v":""},{"$f":"IFERROR(VLOOKUP(H843,DropDowns!$F$2:$G$7,2,FALSE),\"Residual categories\")","v":"Residual categories"},null,null,null,0,0,0]
[0,{"$f":"IF(OR(COUNTA(O814:O843)>0,COUNTA(O843:$O$5195)>0),IF(COUNTIF(B834:B843,B843)=10,B843+7,B843),\"\")","v":""},null,"","",null,null,null,0,0,0,0,{"$f":"IFERROR(VLOOKUP(G844,DropDowns!$D$2:$E$151,2,FALSE),\"\")","v":""},{"$f":"IFERROR(VLOOKUP(H844,DropDowns!$F$2:$G$7,2,FALSE),\"Residual categories\")","v":"Residual categories"},null,null,null,0,0,0]
[0,{"$f":"IF(OR(COUNTA(O815:O844)>0,COUNTA(O844:$O$5195)>0),IF(COUNTIF(B835:B844,B844)=10,B844+7,B844),\"\")","v":""},null,"","",null,null,null,0,0,0,0,{"$f":"IFERROR(VLOOKUP(G845,DropDowns!$D$2:$E$151,2,FALSE),\"\")","v":""},{"$f":"IFERROR(VLOOKUP(H845,DropDowns!$F$2:$G$7,2,FALSE),\"Residual categories\")","v":"Residual categories"},null,null,null,0,0,0]
[0,{"$f":"IF(OR(COUNTA(O816:O845)>0,COUNTA(O845:$O$5195)>0),IF(COUNTIF(B836:B845,B845)=10,B845+7,B845),\"\")","v":""},null,"","",null,null,null,0,0,0,0,{"$f":"IFERROR(VLOOKUP(G846,DropDowns!$D$2:$E$151,2,FALSE),\"\")","v":""},{"$f":"IFERROR(VLOOKUP(H846,DropDowns!$F$2:$G$7,2,FALSE),\"Residual categories\")","v":"Residual categories"},null,null,null,0,0,0]
[0,{"$f":"IF(OR(COUNTA(O817:O846)>0,COUNTA(O846:$O$5195)>0),IF(COUNTIF(B837:B846,B846)=10,B846+7,B846),\"\")","v":""},null,"","",null,null,null,0,0,0,0,{"$f":"IFERROR(VLOOKUP(G847,DropDowns!$D$2:$E$151,2,FALSE),\"\")","v":""},{"$f":"IFERROR(VLOOKUP(H847,DropDowns!$F$2:$G$7,2,FALSE),\"Residual categories\")","v":"Residual categories"},null,null,null,0,0,0]
[0,{"$f":"IF(OR(COUNTA(O818:O847)>0,COUNTA(O847:$O$5195)>0),IF(COUNTIF(B838:B847,B847)=10,B847+7,B847),\"\")","v":""},null,"","",null,null,null,0,0,0,0,{"$f":"IFERROR(VLOOKUP(G848,DropDowns!$D$2:$E$151,2,FALSE),\"\")","v":""},{"$f":"IFERROR(VLOOKUP(H848,DropDowns!$F$2:$G$7,2,FALSE),\"Residual categories\")","v":"Residual categories"},null,null,null,0,0,0]
[0,{"$f":"IF(OR(COUNTA(O819:O848)>0,COUNTA(O848:$O$5195)>0),IF(COUNTIF(B839:B848,B848)=10,B848+7,B848),\"\")","v":""},null,"",{"$f":"IF(B849=\"\",\"\",COUNTIF(B840:B849,B849))","v":""},null,null,null,0,0,0,0,{"$f":"IFERROR(VLOOKUP(G849,DropDowns!$D$2:$E$151,2,FALSE),\"\")","v":""},{"$f":"IFERROR(VLOOKUP(H849,DropDowns!$F$2:$G$7,2,FALSE),\"Residual categories\")","v":"Residual categories"},null,null,null,0,0,0]
[0,{"$f":"IF(OR(COUNTA(O820:O849)>0,COUNTA(O849:$O$5195)>0),IF(COUNTIF(B840:B849,B849)=10,B849+7,B849),\"\")","v":""},null,"","",null,null,null,0,0,0,0,{"$f":"IFERROR(VLOOKUP(G850,DropDowns!$D$2:$E$151,2,FALSE),\"\")","v":""},{"$f":"IFERROR(VLOOKUP(H850,DropDowns!$F$2:$G$7,2,FALSE),\"Residual categories\")","v":"Residual categories"},null,null,null,0,0,0]
[0,{"$f":"IF(OR(COUNTA(O821:O850)>0,COUNTA(O850:$O$5195)>0),IF(COUNTIF(B841:B850,B850)=10,B850+7,B850),\"\")","v":""},null,"","",null,null,null,0,0,0,0,{"$f":"IFERROR(VLOOKUP(G851,DropDowns!$D$2:$E$151,2,FALSE),\"\")","v":""},{"$f":"IFERROR(VLOOKUP(H851,DropDowns!$F$2:$G$7,2,FALSE),\"Residual categories\")","v":"Residual categories"},null,null,null,0,0,0]
[{"$f":"$E$2","v":0},{"$f":"IF(OR(COUNTA(O822:O851)>0,COUNTA(O851:$O$5195)>0),IF(COUNTIF(B842:B851,B851)=10,B851+7,B851),\"\")","v":""},null,"","",null,null,null,0,0,0,0,{"$f":"IFERROR(VLOOKUP(G852,DropDowns!$D$2:$E$151,2,FALSE),\"\")","v":""},{"$f":"IFERROR(VLOOKUP(H852,DropDowns!$F$2:$G$7,2,FALSE),\"Residual categories\")","v":"Residual categories"},null,null,null,0,0,0]
[0,{"$f":"IF(OR(COUNTA(O823:O852)>0,COUNTA(O852:$O$5195)>0),IF(COUNTIF(B843:B852,B852)=10,B852+7,B852),\"\")","v":""},null,"","",null,null,null,0,0,0,0,{"$f":"IFERROR(VLOOKUP(G853,DropDowns!$D$2:$E$151,2,FALSE),\"\")","v":""},{"$f":"IFERROR(VLOOKUP(H853,DropDowns!$F$2:$G$7,2,FALSE),\"Residual categories\")","v":"Residual categories"},null,null,null,0,0,0]
[0,{"$f":"IF(OR(COUNTA(O824:O853)>0,COUNTA(O853:$O$5195)>0),IF(COUNTIF(B844:B853,B853)=10,B853+7,B853),\"\")","v":""},null,"","",null,null,null,0,0,0,0,{"$f":"IFERROR(VLOOKUP(G854,DropDowns!$D$2:$E$151,2,FALSE),\"\")","v":""},{"$f":"IFERROR(VLOOKUP(H854,DropDowns!$F$2:$G$7,2,FALSE),\"Residual categories\")","v":"Residual categories"},null,null,null,0,0,0]
[0,{"$f":"IF(OR(COUNTA(O825:O854)>0,COUNTA(O854:$O$5195)>0),IF(COUNTIF(B845:B854,B854)=10,B854+7,B854),\"\")","v":""},null,"","",null,null,null,0,0,0,0,{"$f":"IFERROR(VLOOKUP(G855,DropDowns!$D$2:$E$151,2,FALSE),\"\")","v":""},{"$f":"IFERROR(VLOOKUP(H855,DropDowns!$F$2:$G$7,2,FALSE),\"Residual categories\")","v":"Residual categories"},null,null,null,0,0,0]
[0,{"$f":"IF(OR(COUNTA(O826:O855)>0,COUNTA(O855:$O$5195)>0),IF(COUNTIF(B846:B855,B855)=10,B855+7,B855),\"\")","v":""},null,"","",null,null,null,0,0,0,0,{"$f":"IFERROR(VLOOKUP(G856,DropDowns!$D$2:$E$151,2,FALSE),\"\")","v":""},{"$f":"IFERROR(VLOOKUP(H856,DropDowns!$F$2:$G$7,2,FALSE),\"Residual categories\")","v":"Residual categories"},null,null,null,0,0,0]
[0,{"$f":"IF(OR(COUNTA(O827:O856)>0,COUNTA(O856:$O$5195)>0),IF(COUNTIF(B847:B856,B856)=10,B856+7,B856),\"\")","v":""},null,"","",null,null,null,0,0,0,0,{"$f":"IFERROR(VLOOKUP(G857,DropDowns!$D$2:$E$151,2,FALSE),\"\")","v":""},{"$f":"IFERROR(VLOOKUP(H857,DropDowns!$F$2:$G$7,2,FALSE),\"Residual categories\")","v":"Residual categories"},null,null,null,0,0,0]
[0,{"$f":"IF(OR(COUNTA(O828:O857)>0,COUNTA(O857:$O$5195)>0),IF(COUNTIF(B848:B857,B857)=10,B857+7,B857),\"\")","v":""},null,"","",null,null,null,0,0,0,0,{"$f":"IFERROR(VLOOKUP(G858,DropDowns!$D$2:$E$151,2,FALSE),\"\")","v":""},{"$f":"IFERROR(VLOOKUP(H858,DropDowns!$F$2:$G$7,2,FALSE),\"Residual categories\")","v":"Residual categories"},null,null,null,0,0,0]
[0,{"$f":"IF(OR(COUNTA(O829:O858)>0,COUNTA(O858:$O$5195)>0),IF(COUNTIF(B849:B858,B858)=10,B858+7,B858),\"\")","v":""},null,"","",null,null,null,0,0,0,0,{"$f":"IFERROR(VLOOKUP(G859,DropDowns!$D$2:$E$151,2,FALSE),\"\")","v":""},{"$f":"IFERROR(VLOOKUP(H859,DropDowns!$F$2:$G$7,2,FALSE),\"Residual categories\")","v":"Residual categories"},null,null,null,0,0,0]
[0,{"$f":"IF(OR(COUNTA(O830:O859)>0,COUNTA(O859:$O$5195)>0),IF(COUNTIF(B850:B859,B859)=10,B859+7,B859),\"\")","v":""},null,"","",null,null,null,0,0,0,0,{"$f":"IFERROR(VLOOKUP(G860,DropDowns!$D$2:$E$151,2,FALSE),\"\")","v":""},{"$f":"IFERROR(VLOOKUP(H860,DropDowns!$F$2:$G$7,2,FALSE),\"Residual categories\")","v":"Residual categories"},null,null,null,0,0,0]
[0,{"$f":"IF(OR(COUNTA(O831:O860)>0,COUNTA(O860:$O$5195)>0),IF(COUNTIF(B851:B860,B860)=10,B860+7,B860),\"\")","v":""},null,"","",null,null,null,0,0,0,0,{"$f":"IFERROR(VLOOKUP(G861,DropDowns!$D$2:$E$151,2,FALSE),\"\")","v":""},{"$f":"IFERROR(VLOOKUP(H861,DropDowns!$F$2:$G$7,2,FALSE),\"Residual categories\")","v":"Residual categories"},null,null,null,0,0,0]
[0,{"$f":"IF(OR(COUNTA(O832:O861)>0,COUNTA(O861:$O$5195)>0),IF(COUNTIF(B852:B861,B861)=10,B861+7,B861),\"\")","v":""},null,"","",null,null,null,0,0,0,0,{"$f":"IFERROR(VLOOKUP(G862,DropDowns!$D$2:$E$151,2,FALSE),\"\")","v":""},{"$f":"IFERROR(VLOOKUP(H862,DropDowns!$F$2:$G$7,2,FALSE),\"Residual categories\")","v":"Residual categories"},null,null,null,0,0,0]
[0,{"$f":"IF(OR(COUNTA(O833:O862)>0,COUNTA(O862:$O$5195)>0),IF(COUNTIF(B853:B862,B862)=10,B862+7,B862),\"\")","v":""},null,"","",null,null,null,0,0,0,0,{"$f":"IFERROR(VLOOKUP(G863,DropDowns!$D$2:$E$151,2,FALSE),\"\")","v":""},{"$f":"IFERROR(VLOOKUP(H863,DropDowns!$F$2:$G$7,2,FALSE),\"Residual categories\")","v":"Residual categories"},null,null,null,0,0,0]
[0,{"$f":"IF(OR(COUNTA(O834:O863)>0,COUNTA(O863:$O$5195)>0),IF(COUNTIF(B854:B863,B863)=10,B863+7,B863),\"\")","v":""},null,"","",null,null,null,0,0,0,0,{"$f":"IFERROR(VLOOKUP(G864,DropDowns!$D$2:$E$151,2,FALSE),\"\")","v":""},{"$f":"IFERROR(VLOOKUP(H864,DropDowns!$F$2:$G$7,2,FALSE),\"Residual categories\")","v":"Residual categories"},null,null,null,0,0,0]
[0,{"$f":"IF(OR(COUNTA(O835:O864)>0,COUNTA(O864:$O$5195)>0),IF(COUNTIF(B855:B864,B864)=10,B864+7,B864),\"\")","v":""},null,"","",null,null,null,0,0,0,0,{"$f":"IFERROR(VLOOKUP(G865,DropDowns!$D$2:$E$151,2,FALSE),\"\")","v":""},{"$f":"IFERROR(VLOOKUP(H865,DropDowns!$F$2:$G$7,2,FALSE),\"Residual categories\")","v":"Residual categories"},null,null,null,0,0,0]
[0,{"$f":"IF(OR(COUNTA(O836:O865)>0,COUNTA(O865:$O$5195)>0),IF(COUNTIF(B856:B865,B865)=10,B865+7,B865),\"\")","v":""},null,"","",null,null,null,0,0,0,0,{"$f":"IFERROR(VLOOKUP(G866,DropDowns!$D$2:$E$151,2,FALSE),\"\")","v":""},{"$f":"IFERROR(VLOOKUP(H866,DropDowns!$F$2:$G$7,2,FALSE),\"Residual categories\")","v":"Residual categories"},null,null,null,0,0,0]
[0,{"$f":"IF(OR(COUNTA(O837:O866)>0,COUNTA(O866:$O$5195)>0),IF(COUNTIF(B857:B866,B866)=10,B866+7,B866),\"\")","v":""},null,"","",null,null,null,0,0,0,0,{"$f":"IFERROR(VLOOKUP(G867,DropDowns!$D$2:$E$151,2,FALSE),\"\")","v":""},{"$f":"IFERROR(VLOOKUP(H867,DropDowns!$F$2:$G$7,2,FALSE),\"Residual categories\")","v":"Residual categories"},null,null,null,0,0,0]
[0,{"$f":"IF(OR(COUNTA(O838:O867)>0,COUNTA(O867:$O$5195)>0),IF(COUNTIF(B858:B867,B867)=10,B867+7,B867),\"\")","v":""},null,"","",null,null,null,0,0,0,0,{"$f":"IFERROR(VLOOKUP(G868,DropDowns!$D$2:$E$151,2,FALSE),\"\")","v":""},{"$f":"IFERROR(VLOOKUP(H868,DropDowns!$F$2:$G$7,2,FALSE),\"Residual categories\")","v":"Residual categories"},null,null,null,0,0,0]
[0,{"$f":"IF(OR(COUNTA(O839:O868)>0,COUNTA(O868:$O$5195)>0),IF(COUNTIF(B859:B868,B868)=10,B868+7,B868),\"\")","v":""},null,"","",null,null,null,0,0,0,0,{"$f":"IFERROR(VLOOKUP(G869,DropDowns!$D$2:$E$151,2,FALSE),\"\")","v":""},{"$f":"IFERROR(VLOOKUP(H869,DropDowns!$F$2:$G$7,2,FALSE),\"Residual categories\")","v":"Residual categories"},null,null,null,0,0,0]
[0,{"$f":"IF(OR(COUNTA(O840:O869)>0,COUNTA(O869:$O$5195)>0),IF(COUNTIF(B860:B869,B869)=10,B869+7,B869),\"\")","v":""},null,"","",null,null,null,0,0,0,0,{"$f":"IFERROR(VLOOKUP(G870,DropDowns!$D$2:$E$151,2,FALSE),\"\")","v":""},{"$f":"IFERROR(VLOOKUP(H870,DropDowns!$F$2:$G$7,2,FALSE),\"Residual categories\")","v":"Residual categories"},null,null,null,0,0,0]
[0,{"$f":"IF(OR(COUNTA(O841:O870)>0,COUNTA(O870:$O$5195)>0),IF(COUNTIF(B861:B870,B870)=10,B870+7,B870),\"\")","v":""},null,"","",null,null,null,0,0,0,0,{"$f":"IFERROR(VLOOKUP(G871,DropDowns!$D$2:$E$151,2,FALSE),\"\")","v":""},{"$f":"IFERROR(VLOOKUP(H871,DropDowns!$F$2:$G$7,2,FALSE),\"Residual categories\")","v":"Residual categories"},null,null,null,0,0,0]
[0,{"$f":"IF(OR(COUNTA(O842:O871)>0,COUNTA(O871:$O$5195)>0),IF(COUNTIF(B862:B871,B871)=10,B871+7,B871),\"\")","v":""},null,"","",null,null,null,0,0,0,0,{"$f":"IFERROR(VLOOKUP(G872,DropDowns!$D$2:$E$151,2,FALSE),\"\")","v":""},{"$f":"IFERROR(VLOOKUP(H872,DropDowns!$F$2:$G$7,2,FALSE),\"Residual categories\")","v":"Residual categories"},null,null,null,0,0,0]
[0,{"$f":"IF(OR(COUNTA(O843:O872)>0,COUNTA(O872:$O$5195)>0),IF(COUNTIF(B863:B872,B872)=10,B872+7,B872),\"\")","v":""},null,"","",null,null,null,0,0,0,0,{"$f":"IFERROR(VLOOKUP(G873,DropDowns!$D$2:$E$151,2,FALSE),\"\")","v":""},{"$f":"IFERROR(VLOOKUP(H873,DropDowns!$F$2:$G$7,2,FALSE),\"Residual categories\")","v":"Residual categories"},null,null,null,0,0,0]
[0,{"$f":"IF(OR(COUNTA(O844:O873)>0,COUNTA(O873:$O$5195)>0),IF(COUNTIF(B864:B873,B873)=10,B873+7,B873),\"\")","v":""},null,"","",null,null,null,0,0,0,0,{"$f":"IFERROR(VLOOKUP(G874,DropDowns!$D$2:$E$151,2,FALSE),\"\")","v":""},{"$f":"IFERROR(VLOOKUP(H874,DropDowns!$F$2:$G$7,2,FALSE),\"Residual categories\")","v":"Residual categories"},null,null,null,0,0,0]
[0,{"$f":"IF(OR(COUNTA(O845:O874)>0,COUNTA(O874:$O$5195)>0),IF(COUNTIF(B865:B874,B874)=10,B874+7,B874),\"\")","v":""},null,"","",null,null,null,0,0,0,0,{"$f":"IFERROR(VLOOKUP(G875,DropDowns!$D$2:$E$151,2,FALSE),\"\")","v":""},{"$f":"IFERROR(VLOOKUP(H875,DropDowns!$F$2:$G$7,2,FALSE),\"Residual categories\")","v":"Residual categories"},null,null,null,0,0,0]
[0,{"$f":"IF(OR(COUNTA(O846:O875)>0,COUNTA(O875:$O$5195)>0),IF(COUNTIF(B866:B875,B875)=10,B875+7,B875),\"\")","v":""},null,"","",null,null,null,0,0,0,0,{"$f":"IFERROR(VLOOKUP(G876,DropDowns!$D$2:$E$151,2,FALSE),\"\")","v":""},{"$f":"IFERROR(VLOOKUP(H876,DropDowns!$F$2:$G$7,2,FALSE),\"Residual categories\")","v":"Residual categories"},null,null,null,0,0,0]
[0,{"$f":"IF(OR(COUNTA(O847:O876)>0,COUNTA(O876:$O$5195)>0),IF(COUNTIF(B867:B876,B876)=10,B876+7,B876),\"\")","v":""},null,"","",null,null,null,0,0,0,0,{"$f":"IFERROR(VLOOKUP(G877,DropDowns!$D$2:$E$151,2,FALSE),\"\")","v":""},{"$f":"IFERROR(VLOOKUP(H877,DropDowns!$F$2:$G$7,2,FALSE),\"Residual categories\")","v":"Residual categories"},null,null,null,0,0,0]
[0,{"$f":"IF(OR(COUNTA(O848:O877)>0,COUNTA(O877:$O$5195)>0),IF(COUNTIF(B868:B877,B877)=10,B877+7,B877),\"\")","v":""},null,"","",null,null,null,0,0,0,0,{"$f":"IFERROR(VLOOKUP(G878,DropDowns!$D$2:$E$151,2,FALSE),\"\")","v":""},{"$f":"IFERROR(VLOOKUP(H878,DropDowns!$F$2:$G$7,2,FALSE),\"Residual categories\")","v":"Residual categories"},null,null,null,0,0,0]
[0,{"$f":"IF(OR(COUNTA(O849:O878)>0,COUNTA(O878:$O$5195)>0),IF(COUNTIF(B869:B878,B878)=10,B878+7,B878),\"\")","v":""},null,"","",null,null,null,0,0,0,0,{"$f":"IFERROR(VLOOKUP(G879,DropDowns!$D$2:$E$151,2,FALSE),\"\")","v":""},{"$f":"IFERROR(VLOOKUP(H879,DropDowns!$F$2:$G$7,2,FALSE),\"Residual categories\")","v":"Residual categories"},null,null,null,0,0,0]
[0,{"$f":"IF(OR(COUNTA(O850:O879)>0,COUNTA(O879:$O$5195)>0),IF(COUNTIF(B870:B879,B879)=10,B879+7,B879),\"\")","v":""},null,"","",null,null,null,0,0,0,0,{"$f":"IFERROR(VLOOKUP(G880,DropDowns!$D$2:$E$151,2,FALSE),\"\")","v":""},{"$f":"IFERROR(VLOOKUP(H880,DropDowns!$F$2:$G$7,2,FALSE),\"Residual categories\")","v":"Residual categories"},null,null,null,0,0,0]
[0,{"$f":"IF(OR(COUNTA(O851:O880)>0,COUNTA(O880:$O$5195)>0),IF(COUNTIF(B871:B880,B880)=10,B880+7,B880),\"\")","v":""},null,"","",null,null,null,0,0,0,0,{"$f":"IFERROR(VLOOKUP(G881,DropDowns!$D$2:$E$151,2,FALSE),\"\")","v":""},{"$f":"IFERROR(VLOOKUP(H881,DropDowns!$F$2:$G$7,2,FALSE),\"Residual categories\")","v":"Residual categories"},null,null,null,0,0,0]
[0,{"$f":"IF(OR(COUNTA(O852:O881)>0,COUNTA(O881:$O$5195)>0),IF(COUNTIF(B872:B881,B881)=10,B881+7,B881),\"\")","v":""},null,"","",null,null,null,0,0,0,0,{"$f":"IFERROR(VLOOKUP(G882,DropDowns!$D$2:$E$151,2,FALSE),\"\")","v":""},{"$f":"IFERROR(VLOOKUP(H882,DropDowns!$F$2:$G$7,2,FALSE),\"Residual categories\")","v":"Residual categories"},null,null,null,0,0,0]
[0,{"$f":"IF(OR(COUNTA(O853:O882)>0,COUNTA(O882:$O$5195)>0),IF(COUNTIF(B873:B882,B882)=10,B882+7,B882),\"\")","v":""},null,"","",null,null,null,0,0,0,0,{"$f":"IFERROR(VLOOKUP(G883,DropDowns!$D$2:$E$151,2,FALSE),\"\")","v":""},{"$f":"IFERROR(VLOOKUP(H883,DropDowns!$F$2:$G$7,2,FALSE),\"Residual categories\")","v":"Residual categories"},null,null,null,0,0,0]
[0,{"$f":"IF(OR(COUNTA(O854:O883)>0,COUNTA(O883:$O$5195)>0),IF(COUNTIF(B874:B883,B883)=10,B883+7,B883),\"\")","v":""},null,"","",null,null,null,0,0,0,0,{"$f":"IFERROR(VLOOKUP(G884,DropDowns!$D$2:$E$151,2,FALSE),\"\")","v":""},{"$f":"IFERROR(VLOOKUP(H884,DropDowns!$F$2:$G$7,2,FALSE),\"Residual categories\")","v":"Residual categories"},null,null,null,0,0,0]
[0,{"$f":"IF(OR(COUNTA(O855:O884)>0,COUNTA(O884:$O$5195)>0),IF(COUNTIF(B875:B884,B884)=10,B884+7,B884),\"\")","v":""},null,"","",null,null,null,0,0,0,0,{"$f":"IFERROR(VLOOKUP(G885,DropDowns!$D$2:$E$151,2,FALSE),\"\")","v":""},{"$f":"IFERROR(VLOOKUP(H885,DropDowns!$F$2:$G$7,2,FALSE),\"Residual categories\")","v":"Residual categories"},null,null,null,0,0,0]
[0,{"$f":"IF(OR(COUNTA(O856:O885)>0,COUNTA(O885:$O$5195)>0),IF(COUNTIF(B876:B885,B885)=10,B885+7,B885),\"\")","v":""},null,"","",null,null,null,0,0,0,0,{"$f":"IFERROR(VLOOKUP(G886,DropDowns!$D$2:$E$151,2,FALSE),\"\")","v":""},{"$f":"IFERROR(VLOOKUP(H886,DropDowns!$F$2:$G$7,2,FALSE),\"Residual categories\")","v":"Residual categories"},null,null,null,0,0,0]
[0,{"$f":"IF(OR(COUNTA(O857:O886)>0,COUNTA(O886:$O$5195)>0),IF(COUNTIF(B877:B886,B886)=10,B886+7,B886),\"\")","v":""},null,"","",null,null,null,0,0,0,0,{"$f":"IFERROR(VLOOKUP(G887,DropDowns!$D$2:$E$151,2,FALSE),\"\")","v":""},{"$f":"IFERROR(VLOOKUP(H887,DropDowns!$F$2:$G$7,2,FALSE),\"Residual categories\")","v":"Residual categories"},null,null,null,0,0,0]
[0,{"$f":"IF(OR(COUNTA(O858:O887)>0,COUNTA(O887:$O$5195)>0),IF(COUNTIF(B878:B887,B887)=10,B887+7,B887),\"\")","v":""},null,"","",null,null,null,0,0,0,0,{"$f":"IFERROR(VLOOKUP(G888,DropDowns!$D$2:$E$151,2,FALSE),\"\")","v":""},{"$f":"IFERROR(VLOOKUP(H888,DropDowns!$F$2:$G$7,2,FALSE),\"Residual categories\")","v":"Residual categories"},null,null,null,0,0,0]
[0,{"$f":"IF(OR(COUNTA(O859:O888)>0,COUNTA(O888:$O$5195)>0),IF(COUNTIF(B879:B888,B888)=10,B888+7,B888),\"\")","v":""},null,"","",null,null,null,0,0,0,0,{"$f":"IFERROR(VLOOKUP(G889,DropDowns!$D$2:$E$151,2,FALSE),\"\")","v":""},{"$f":"IFERROR(VLOOKUP(H889,DropDowns!$F$2:$G$7,2,FALSE),\"Residual categories\")","v":"Residual categories"},null,null,null,0,0,0]
[0,{"$f":"IF(OR(COUNTA(O860:O889)>0,COUNTA(O889:$O$5195)>0),IF(COUNTIF(B880:B889,B889)=10,B889+7,B889),\"\")","v":""},null,"","",null,null,null,0,0,0,0,{"$f":"IFERROR(VLOOKUP(G890,DropDowns!$D$2:$E$151,2,FALSE),\"\")","v":""},{"$f":"IFERROR(VLOOKUP(H890,DropDowns!$F$2:$G$7,2,FALSE),\"Residual categories\")","v":"Residual categories"},null,null,null,0,0,0]
[0,{"$f":"IF(OR(COUNTA(O861:O890)>0,COUNTA(O890:$O$5195)>0),IF(COUNTIF(B881:B890,B890)=10,B890+7,B890),\"\")","v":""},null,"","",null,null,null,0,0,0,0,{"$f":"IFERROR(VLOOKUP(G891,DropDowns!$D$2:$E$151,2,FALSE),\"\")","v":""},{"$f":"IFERROR(VLOOKUP(H891,DropDowns!$F$2:$G$7,2,FALSE),\"Residual categories\")","v":"Residual categories"},null,null,null,0,0,0]
[0,{"$f":"IF(OR(COUNTA(O862:O891)>0,COUNTA(O891:$O$5195)>0),IF(COUNTIF(B882:B891,B891)=10,B891+7,B891),\"\")","v":""},null,"","",null,null,null,0,0,0,0,{"$f":"IFERROR(VLOOKUP(G892,DropDowns!$D$2:$E$151,2,FALSE),\"\")","v":""},{"$f":"IFERROR(VLOOKUP(H892,DropDowns!$F$2:$G$7,2,FALSE),\"Residual categories\")","v":"Residual categories"},null,null,null,0,0,0]
[0,{"$f":"IF(OR(COUNTA(O863:O892)>0,COUNTA(O892:$O$5195)>0),IF(COUNTIF(B883:B892,B892)=10,B892+7,B892),\"\")","v":""},null,"","",null,null,null,0,0,0,0,{"$f":"IFERROR(VLOOKUP(G893,DropDowns!$D$2:$E$151,2,FALSE),\"\")","v":""},{"$f":"IFERROR(VLOOKUP(H893,DropDowns!$F$2:$G$7,2,FALSE),\"Residual categories\")","v":"Residual categories"},null,null,null,0,0,0]
[0,{"$f":"IF(OR(COUNTA(O864:O893)>0,COUNTA(O893:$O$5195)>0),IF(COUNTIF(B884:B893,B893)=10,B893+7,B893),\"\")","v":""},null,"","",null,null,null,0,0,0,0,{"$f":"IFERROR(VLOOKUP(G894,DropDowns!$D$2:$E$151,2,FALSE),\"\")","v":""},{"$f":"IFERROR(VLOOKUP(H894,DropDowns!$F$2:$G$7,2,FALSE),\"Residual categories\")","v":"Residual categories"},null,null,null,0,0,0]
[0,{"$f":"IF(OR(COUNTA(O865:O894)>0,COUNTA(O894:$O$5195)>0),IF(COUNTIF(B885:B894,B894)=10,B894+7,B894),\"\")","v":""},null,"","",null,null,null,0,0,0,0,{"$f":"IFERROR(VLOOKUP(G895,DropDowns!$D$2:$E$151,2,FALSE),\"\")","v":""},{"$f":"IFERROR(VLOOKUP(H895,DropDowns!$F$2:$G$7,2,FALSE),\"Residual categories\")","v":"Residual categories"},null,null,null,0,0,0]
[0,{"$f":"IF(OR(COUNTA(O866:O895)>0,COUNTA(O895:$O$5195)>0),IF(COUNTIF(B886:B895,B895)=10,B895+7,B895),\"\")","v":""},null,"","",null,null,null,0,0,0,0,{"$f":"IFERROR(VLOOKUP(G896,DropDowns!$D$2:$E$151,2,FALSE),\"\")","v":""},{"$f":"IFERROR(VLOOKUP(H896,DropDowns!$F$2:$G$7,2,FALSE),\"Residual categories\")","v":"Residual categories"},null,null,null,0,0,0]
[0,{"$f":"IF(OR(COUNTA(O867:O896)>0,COUNTA(O896:$O$5195)>0),IF(COUNTIF(B887:B896,B896)=10,B896+7,B896),\"\")","v":""},null,"","",null,null,null,0,0,0,0,{"$f":"IFERROR(VLOOKUP(G897,DropDowns!$D$2:$E$151,2,FALSE),\"\")","v":""},{"$f":"IFERROR(VLOOKUP(H897,DropDowns!$F$2:$G$7,2,FALSE),\"Residual categories\")","v":"Residual categories"},null,null,null,0,0,0]
[0,{"$f":"IF(OR(COUNTA(O868:O897)>0,COUNTA(O897:$O$5195)>0),IF(COUNTIF(B888:B897,B897)=10,B897+7,B897),\"\")","v":""},null,"","",null,null,null,0,0,0,0,{"$f":"IFERROR(VLOOKUP(G898,DropDowns!$D$2:$E$151,2,FALSE),\"\")","v":""},{"$f":"IFERROR(VLOOKUP(H898,DropDowns!$F$2:$G$7,2,FALSE),\"Residual categories\")","v":"Residual categories"},null,null,null,0,0,0]
[0,{"$f":"IF(OR(COUNTA(O869:O898)>0,COUNTA(O898:$O$5195)>0),IF(COUNTIF(B889:B898,B898)=10,B898+7,B898),\"\")","v":""},null,"","",null,null,null,0,0,0,0,{"$f":"IFERROR(VLOOKUP(G899,DropDowns!$D$2:$E$151,2,FALSE),\"\")","v":""},{"$f":"IFERROR(VLOOKUP(H899,DropDowns!$F$2:$G$7,2,FALSE),\"Residual categories\")","v":"Residual categories"},null,null,null,0,0,0]
[0,{"$f":"IF(OR(COUNTA(O870:O899)>0,COUNTA(O899:$O$5195)>0),IF(COUNTIF(B890:B899,B899)=10,B899+7,B899),\"\")","v":""},null,"","",null,null,null,0,0,0,0,{"$f":"IFERROR(VLOOKUP(G900,DropDowns!$D$2:$E$151,2,FALSE),\"\")","v":""},{"$f":"IFERROR(VLOOKUP(H900,DropDowns!$F$2:$G$7,2,FALSE),\"Residual categories\")","v":"Residual categories"},null,null,null,0,0,0]
[0,{"$f":"IF(OR(COUNTA(O871:O900)>0,COUNTA(O900:$O$5195)>0),IF(COUNTIF(B891:B900,B900)=10,B900+7,B900),\"\")","v":""},null,"","",null,null,null,0,0,0,0,{"$f":"IFERROR(VLOOKUP(G901,DropDowns!$D$2:$E$151,2,FALSE),\"\")","v":""},{"$f":"IFERROR(VLOOKUP(H901,DropDowns!$F$2:$G$7,2,FALSE),\"Residual categories\")","v":"Residual categories"},null,null,null,0,0,0]
[0,{"$f":"IF(OR(COUNTA(O872:O901)>0,COUNTA(O901:$O$5195)>0),IF(COUNTIF(B892:B901,B901)=10,B901+7,B901),\"\")","v":""},null,"","",null,null,null,0,0,0,0,{"$f":"IFERROR(VLOOKUP(G902,DropDowns!$D$2:$E$151,2,FALSE),\"\")","v":""},{"$f":"IFERROR(VLOOKUP(H902,DropDowns!$F$2:$G$7,2,FALSE),\"Residual categories\")","v":"Residual categories"},null,null,null,0,0,0]
[0,{"$f":"IF(OR(COUNTA(O873:O902)>0,COUNTA(O902:$O$5195)>0),IF(COUNTIF(B893:B902,B902)=10,B902+7,B902),\"\")","v":""},null,{"$f":"IF(E903=1,B903,\"\")","v":""},"",null,null,null,{"$f":"IF(COUNTA(O903:Q903)>0,1,0)","v":0},{"$f":"IF(O903=\"y\",1,0)","v":0},{"$f":"IF(P903=\"y\",1,0)","v":0},{"$f":"IF(Q903=\"y\",1,0)","v":0},{"$f":"IFERROR(VLOOKUP(G903,DropDowns!$D$2:$E$151,2,FALSE),\"\")","v":""},{"$f":"IFERROR(VLOOKUP(H903,DropDowns!$F$2:$G$7,2,FALSE),\"Residual categories\")","v":"Residual categories"},null,null,null,{"$f":"IF(O903=\"yes\",1,0)","v":0},{"$f":"IF(P903=\"yes\",1,0)","v":0},{"$f":"IF(Q903=\"yes\",1,0)","v":0}]
[0,{"$f":"IF(OR(COUNTA(O874:O903)>0,COUNTA(O903:$O$5195)>0),IF(COUNTIF(B894:B903,B903)=10,B903+7,B903),\"\")","v":""},null,"","",null,null,null,0,0,0,0,{"$f":"IFERROR(VLOOKUP(G904,DropDowns!$D$2:$E$151,2,FALSE),\"\")","v":""},{"$f":"IFERROR(VLOOKUP(H904,DropDowns!$F$2:$G$7,2,FALSE),\"Residual categories\")","v":"Residual categories"},null,null,null,0,0,0]
[0,{"$f":"IF(OR(COUNTA(O875:O904)>0,COUNTA(O904:$O$5195)>0),IF(COUNTIF(B895:B904,B904)=10,B904+7,B904),\"\")","v":""},null,"","",null,null,null,0,0,0,0,{"$f":"IFERROR(VLOOKUP(G905,DropDowns!$D$2:$E$151,2,FALSE),\"\")","v":""},{"$f":"IFERROR(VLOOKUP(H905,DropDowns!$F$2:$G$7,2,FALSE),\"Residual categories\")","v":"Residual categories"},null,null,null,0,0,0]
[0,{"$f":"IF(OR(COUNTA(O876:O905)>0,COUNTA(O905:$O$5195)>0),IF(COUNTIF(B896:B905,B905)=10,B905+7,B905),\"\")","v":""},null,"","",null,null,null,0,0,0,0,{"$f":"IFERROR(VLOOKUP(G906,DropDowns!$D$2:$E$151,2,FALSE),\"\")","v":""},{"$f":"IFERROR(VLOOKUP(H906,DropDowns!$F$2:$G$7,2,FALSE),\"Residual categories\")","v":"Residual categories"},null,null,null,0,0,0]
[0,{"$f":"IF(OR(COUNTA(O877:O906)>0,COUNTA(O906:$O$5195)>0),IF(COUNTIF(B897:B906,B906)=10,B906+7,B906),\"\")","v":""},null,"","",null,null,null,0,0,0,0,{"$f":"IFERROR(VLOOKUP(G907,DropDowns!$D$2:$E$151,2,FALSE),\"\")","v":""},{"$f":"IFERROR(VLOOKUP(H907,DropDowns!$F$2:$G$7,2,FALSE),\"Residual categories\")","v":"Residual categories"},null,null,null,0,0,0]
[0,{"$f":"IF(OR(COUNTA(O878:O907)>0,COUNTA(O907:$O$5195)>0),IF(COUNTIF(B898:B907,B907)=10,B907+7,B907),\"\")","v":""},null,"","",null,null,null,0,0,0,0,{"$f":"IFERROR(VLOOKUP(G908,DropDowns!$D$2:$E$151,2,FALSE),\"\")","v":""},{"$f":"IFERROR(VLOOKUP(H908,DropDowns!$F$2:$G$7,2,FALSE),\"Residual categories\")","v":"Residual categories"},null,null,null,0,0,0]
[0,{"$f":"IF(OR(COUNTA(O879:O908)>0,COUNTA(O908:$O$5195)>0),IF(COUNTIF(B899:B908,B908)=10,B908+7,B908),\"\")","v":""},null,"","",null,null,null,0,0,0,0,{"$f":"IFERROR(VLOOKUP(G909,DropDowns!$D$2:$E$151,2,FALSE),\"\")","v":""},{"$f":"IFERROR(VLOOKUP(H909,DropDowns!$F$2:$G$7,2,FALSE),\"Residual categories\")","v":"Residual categories"},null,null,null,0,0,0]
[0,{"$f":"IF(OR(COUNTA(O880:O909)>0,COUNTA(O909:$O$5195)>0),IF(COUNTIF(B900:B909,B909)=10,B909+7,B909),\"\")","v":""},null,"","",null,null,null,0,0,0,0,{"$f":"IFERROR(VLOOKUP(G910,DropDowns!$D$2:$E$151,2,FALSE),\"\")","v":""},{"$f":"IFERROR(VLOOKUP(H910,DropDowns!$F$2:$G$7,2,FALSE),\"Residual categories\")","v":"Residual categories"},null,null,null,0,0,0]
[0,{"$f":"IF(OR(COUNTA(O881:O910)>0,COUNTA(O910:$O$5195)>0),IF(COUNTIF(B901:B910,B910)=10,B910+7,B910),\"\")","v":""},null,"","",null,null,null,0,0,0,0,{"$f":"IFERROR(VLOOKUP(G911,DropDowns!$D$2:$E$151,2,FALSE),\"\")","v":""},{"$f":"IFERROR(VLOOKUP(H911,DropDowns!$F$2:$G$7,2,FALSE),\"Residual categories\")","v":"Residual categories"},null,null,null,0,0,0]
[0,{"$f":"IF(OR(COUNTA(O882:O911)>0,COUNTA(O911:$O$5195)>0),IF(COUNTIF(B902:B911,B911)=10,B911+7,B911),\"\")","v":""},null,"","",null,null,null,0,0,0,0,{"$f":"IFERROR(VLOOKUP(G912,DropDowns!$D$2:$E$151,2,FALSE),\"\")","v":""},{"$f":"IFERROR(VLOOKUP(H912,DropDowns!$F$2:$G$7,2,FALSE),\"Residual categories\")","v":"Residual categories"},null,null,null,0,0,0]
[0,{"$f":"IF(OR(COUNTA(O883:O912)>0,COUNTA(O912:$O$5195)>0),IF(COUNTIF(B903:B912,B912)=10,B912+7,B912),\"\")","v":""},null,"",{"$f":"IF(B913=\"\",\"\",COUNTIF(B904:B913,B913))","v":""},null,null,null,0,0,0,0,{"$f":"IFERROR(VLOOKUP(G913,DropDowns!$D$2:$E$151,2,FALSE),\"\")","v":""},{"$f":"IFERROR(VLOOKUP(H913,DropDowns!$F$2:$G$7,2,FALSE),\"Residual categories\")","v":"Residual categories"},null,null,null,0,0,0]
[0,{"$f":"IF(OR(COUNTA(O884:O913)>0,COUNTA(O913:$O$5195)>0),IF(COUNTIF(B904:B913,B913)=10,B913+7,B913),\"\")","v":""},null,"","",null,null,null,0,0,0,0,{"$f":"IFERROR(VLOOKUP(G914,DropDowns!$D$2:$E$151,2,FALSE),\"\")","v":""},{"$f":"IFERROR(VLOOKUP(H914,DropDowns!$F$2:$G$7,2,FALSE),\"Residual categories\")","v":"Residual categories"},null,null,null,0,0,0]
[0,{"$f":"IF(OR(COUNTA(O885:O914)>0,COUNTA(O914:$O$5195)>0),IF(COUNTIF(B905:B914,B914)=10,B914+7,B914),\"\")","v":""},null,"","",null,null,null,0,0,0,0,{"$f":"IFERROR(VLOOKUP(G915,DropDowns!$D$2:$E$151,2,FALSE),\"\")","v":""},{"$f":"IFERROR(VLOOKUP(H915,DropDowns!$F$2:$G$7,2,FALSE),\"Residual categories\")","v":"Residual categories"},null,null,null,0,0,0]
[{"$f":"$E$2","v":0},{"$f":"IF(OR(COUNTA(O886:O915)>0,COUNTA(O915:$O$5195)>0),IF(COUNTIF(B906:B915,B915)=10,B915+7,B915),\"\")","v":""},null,"","",null,null,null,0,0,0,0,{"$f":"IFERROR(VLOOKUP(G916,DropDowns!$D$2:$E$151,2,FALSE),\"\")","v":""},{"$f":"IFERROR(VLOOKUP(H916,DropDowns!$F$2:$G$7,2,FALSE),\"Residual categories\")","v":"Residual categories"},null,null,null,0,0,0]
[0,{"$f":"IF(OR(COUNTA(O887:O916)>0,COUNTA(O916:$O$5195)>0),IF(COUNTIF(B907:B916,B916)=10,B916+7,B916),\"\")","v":""},null,"","",null,null,null,0,0,0,0,{"$f":"IFERROR(VLOOKUP(G917,DropDowns!$D$2:$E$151,2,FALSE),\"\")","v":""},{"$f":"IFERROR(VLOOKUP(H917,DropDowns!$F$2:$G$7,2,FALSE),\"Residual categories\")","v":"Residual categories"},null,null,null,0,0,0]
[0,{"$f":"IF(OR(COUNTA(O888:O917)>0,COUNTA(O917:$O$5195)>0),IF(COUNTIF(B908:B917,B917)=10,B917+7,B917),\"\")","v":""},null,"","",null,null,null,0,0,0,0,{"$f":"IFERROR(VLOOKUP(G918,DropDowns!$D$2:$E$151,2,FALSE),\"\")","v":""},{"$f":"IFERROR(VLOOKUP(H918,DropDowns!$F$2:$G$7,2,FALSE),\"Residual categories\")","v":"Residual categories"},null,null,null,0,0,0]
[0,{"$f":"IF(OR(COUNTA(O889:O918)>0,COUNTA(O918:$O$5195)>0),IF(COUNTIF(B909:B918,B918)=10,B918+7,B918),\"\")","v":""},null,"","",null,null,null,0,0,0,0,{"$f":"IFERROR(VLOOKUP(G919,DropDowns!$D$2:$E$151,2,FALSE),\"\")","v":""},{"$f":"IFERROR(VLOOKUP(H919,DropDowns!$F$2:$G$7,2,FALSE),\"Residual categories\")","v":"Residual categories"},null,null,null,0,0,0]
[0,{"$f":"IF(OR(COUNTA(O890:O919)>0,COUNTA(O919:$O$5195)>0),IF(COUNTIF(B910:B919,B919)=10,B919+7,B919),\"\")","v":""},null,"","",null,null,null,0,0,0,0,{"$f":"IFERROR(VLOOKUP(G920,DropDowns!$D$2:$E$151,2,FALSE),\"\")","v":""},{"$f":"IFERROR(VLOOKUP(H920,DropDowns!$F$2:$G$7,2,FALSE),\"Residual categories\")","v":"Residual categories"},null,null,null,0,0,0]
[0,{"$f":"IF(OR(COUNTA(O891:O920)>0,COUNTA(O920:$O$5195)>0),IF(COUNTIF(B911:B920,B920)=10,B920+7,B920),\"\")","v":""},null,"","",null,null,null,0,0,0,0,{"$f":"IFERROR(VLOOKUP(G921,DropDowns!$D$2:$E$151,2,FALSE),\"\")","v":""},{"$f":"IFERROR(VLOOKUP(H921,DropDowns!$F$2:$G$7,2,FALSE),\"Residual categories\")","v":"Residual categories"},null,null,null,0,0,0]
[0,{"$f":"IF(OR(COUNTA(O892:O921)>0,COUNTA(O921:$O$5195)>0),IF(COUNTIF(B912:B921,B921)=10,B921+7,B921),\"\")","v":""},null,"","",null,null,null,0,0,0,0,{"$f":"IFERROR(VLOOKUP(G922,DropDowns!$D$2:$E$151,2,FALSE),\"\")","v":""},{"$f":"IFERROR(VLOOKUP(H922,DropDowns!$F$2:$G$7,2,FALSE),\"Residual categories\")","v":"Residual categories"},null,null,null,0,0,0]
[0,{"$f":"IF(OR(COUNTA(O893:O922)>0,COUNTA(O922:$O$5195)>0),IF(COUNTIF(B913:B922,B922)=10,B922+7,B922),\"\")","v":""},null,"","",null,null,null,0,0,0,0,{"$f":"IFERROR(VLOOKUP(G923,DropDowns!$D$2:$E$151,2,FALSE),\"\")","v":""},{"$f":"IFERROR(VLOOKUP(H923,DropDowns!$F$2:$G$7,2,FALSE),\"Residual categories\")","v":"Residual categories"},null,null,null,0,0,0]
[0,{"$f":"IF(OR(COUNTA(O894:O923)>0,COUNTA(O923:$O$5195)>0),IF(COUNTIF(B914:B923,B923)=10,B923+7,B923),\"\")","v":""},null,"","",null,null,null,0,0,0,0,{"$f":"IFERROR(VLOOKUP(G924,DropDowns!$D$2:$E$151,2,FALSE),\"\")","v":""},{"$f":"IFERROR(VLOOKUP(H924,DropDowns!$F$2:$G$7,2,FALSE),\"Residual categories\")","v":"Residual categories"},null,null,null,0,0,0]
[0,{"$f":"IF(OR(COUNTA(O895:O924)>0,COUNTA(O924:$O$5195)>0),IF(COUNTIF(B915:B924,B924)=10,B924+7,B924),\"\")","v":""},null,"","",null,null,null,0,0,0,0,{"$f":"IFERROR(VLOOKUP(G925,DropDowns!$D$2:$E$151,2,FALSE),\"\")","v":""},{"$f":"IFERROR(VLOOKUP(H925,DropDowns!$F$2:$G$7,2,FALSE),\"Residual categories\")","v":"Residual categories"},null,null,null,0,0,0]
[0,{"$f":"IF(OR(COUNTA(O896:O925)>0,COUNTA(O925:$O$5195)>0),IF(COUNTIF(B916:B925,B925)=10,B925+7,B925),\"\")","v":""},null,"","",null,null,null,0,0,0,0,{"$f":"IFERROR(VLOOKUP(G926,DropDowns!$D$2:$E$151,2,FALSE),\"\")","v":""},{"$f":"IFERROR(VLOOKUP(H926,DropDowns!$F$2:$G$7,2,FALSE),\"Residual categories\")","v":"Residual categories"},null,null,null,0,0,0]
[0,{"$f":"IF(OR(COUNTA(O897:O926)>0,COUNTA(O926:$O$5195)>0),IF(COUNTIF(B917:B926,B926)=10,B926+7,B926),\"\")","v":""},null,"","",null,null,null,0,0,0,0,{"$f":"IFERROR(VLOOKUP(G927,DropDowns!$D$2:$E$151,2,FALSE),\"\")","v":""},{"$f":"IFERROR(VLOOKUP(H927,DropDowns!$F$2:$G$7,2,FALSE),\"Residual categories\")","v":"Residual categories"},null,null,null,0,0,0]
[0,{"$f":"IF(OR(COUNTA(O898:O927)>0,COUNTA(O927:$O$5195)>0),IF(COUNTIF(B918:B927,B927)=10,B927+7,B927),\"\")","v":""},null,"","",null,null,null,0,0,0,0,{"$f":"IFERROR(VLOOKUP(G928,DropDowns!$D$2:$E$151,2,FALSE),\"\")","v":""},{"$f":"IFERROR(VLOOKUP(H928,DropDowns!$F$2:$G$7,2,FALSE),\"Residual categories\")","v":"Residual categories"},null,null,null,0,0,0]
[0,{"$f":"IF(OR(COUNTA(O899:O928)>0,COUNTA(O928:$O$5195)>0),IF(COUNTIF(B919:B928,B928)=10,B928+7,B928),\"\")","v":""},null,"","",null,null,null,0,0,0,0,{"$f":"IFERROR(VLOOKUP(G929,DropDowns!$D$2:$E$151,2,FALSE),\"\")","v":""},{"$f":"IFERROR(VLOOKUP(H929,DropDowns!$F$2:$G$7,2,FALSE),\"Residual categories\")","v":"Residual categories"},null,null,null,0,0,0]
[0,{"$f":"IF(OR(COUNTA(O900:O929)>0,COUNTA(O929:$O$5195)>0),IF(COUNTIF(B920:B929,B929)=10,B929+7,B929),\"\")","v":""},null,"","",null,null,null,0,0,0,0,{"$f":"IFERROR(VLOOKUP(G930,DropDowns!$D$2:$E$151,2,FALSE),\"\")","v":""},{"$f":"IFERROR(VLOOKUP(H930,DropDowns!$F$2:$G$7,2,FALSE),\"Residual categories\")","v":"Residual categories"},null,null,null,0,0,0]
[0,{"$f":"IF(OR(COUNTA(O901:O930)>0,COUNTA(O930:$O$5195)>0),IF(COUNTIF(B921:B930,B930)=10,B930+7,B930),\"\")","v":""},null,"","",null,null,null,0,0,0,0,{"$f":"IFERROR(VLOOKUP(G931,DropDowns!$D$2:$E$151,2,FALSE),\"\")","v":""},{"$f":"IFERROR(VLOOKUP(H931,DropDowns!$F$2:$G$7,2,FALSE),\"Residual categories\")","v":"Residual categories"},null,null,null,0,0,0]
[0,{"$f":"IF(OR(COUNTA(O902:O931)>0,COUNTA(O931:$O$5195)>0),IF(COUNTIF(B922:B931,B931)=10,B931+7,B931),\"\")","v":""},null,"","",null,null,null,0,0,0,0,{"$f":"IFERROR(VLOOKUP(G932,DropDowns!$D$2:$E$151,2,FALSE),\"\")","v":""},{"$f":"IFERROR(VLOOKUP(H932,DropDowns!$F$2:$G$7,2,FALSE),\"Residual categories\")","v":"Residual categories"},null,null,null,0,0,0]
[0,{"$f":"IF(OR(COUNTA(O903:O932)>0,COUNTA(O932:$O$5195)>0),IF(COUNTIF(B923:B932,B932)=10,B932+7,B932),\"\")","v":""},null,"","",null,null,null,0,0,0,0,{"$f":"IFERROR(VLOOKUP(G933,DropDowns!$D$2:$E$151,2,FALSE),\"\")","v":""},{"$f":"IFERROR(VLOOKUP(H933,DropDowns!$F$2:$G$7,2,FALSE),\"Residual categories\")","v":"Residual categories"},null,null,null,0,0,0]
[0,{"$f":"IF(OR(COUNTA(O904:O933)>0,COUNTA(O933:$O$5195)>0),IF(COUNTIF(B924:B933,B933)=10,B933+7,B933),\"\")","v":""},null,"","",null,null,null,0,0,0,0,{"$f":"IFERROR(VLOOKUP(G934,DropDowns!$D$2:$E$151,2,FALSE),\"\")","v":""},{"$f":"IFERROR(VLOOKUP(H934,DropDowns!$F$2:$G$7,2,FALSE),\"Residual categories\")","v":"Residual categories"},null,null,null,0,0,0]
[0,{"$f":"IF(OR(COUNTA(O905:O934)>0,COUNTA(O934:$O$5195)>0),IF(COUNTIF(B925:B934,B934)=10,B934+7,B934),\"\")","v":""},null,"","",null,null,null,0,0,0,0,{"$f":"IFERROR(VLOOKUP(G935,DropDowns!$D$2:$E$151,2,FALSE),\"\")","v":""},{"$f":"IFERROR(VLOOKUP(H935,DropDowns!$F$2:$G$7,2,FALSE),\"Residual categories\")","v":"Residual categories"},null,null,null,0,0,0]
[0,{"$f":"IF(OR(COUNTA(O906:O935)>0,COUNTA(O935:$O$5195)>0),IF(COUNTIF(B926:B935,B935)=10,B935+7,B935),\"\")","v":""},null,"","",null,null,null,0,0,0,0,{"$f":"IFERROR(VLOOKUP(G936,DropDowns!$D$2:$E$151,2,FALSE),\"\")","v":""},{"$f":"IFERROR(VLOOKUP(H936,DropDowns!$F$2:$G$7,2,FALSE),\"Residual categories\")","v":"Residual categories"},null,null,null,0,0,0]
[0,{"$f":"IF(OR(COUNTA(O907:O936)>0,COUNTA(O936:$O$5195)>0),IF(COUNTIF(B927:B936,B936)=10,B936+7,B936),\"\")","v":""},null,"","",null,null,null,0,0,0,0,{"$f":"IFERROR(VLOOKUP(G937,DropDowns!$D$2:$E$151,2,FALSE),\"\")","v":""},{"$f":"IFERROR(VLOOKUP(H937,DropDowns!$F$2:$G$7,2,FALSE),\"Residual categories\")","v":"Residual categories"},null,null,null,0,0,0]
[0,{"$f":"IF(OR(COUNTA(O908:O937)>0,COUNTA(O937:$O$5195)>0),IF(COUNTIF(B928:B937,B937)=10,B937+7,B937),\"\")","v":""},null,"","",null,null,null,0,0,0,0,{"$f":"IFERROR(VLOOKUP(G938,DropDowns!$D$2:$E$151,2,FALSE),\"\")","v":""},{"$f":"IFERROR(VLOOKUP(H938,DropDowns!$F$2:$G$7,2,FALSE),\"Residual categories\")","v":"Residual categories"},null,null,null,0,0,0]
[0,{"$f":"IF(OR(COUNTA(O909:O938)>0,COUNTA(O938:$O$5195)>0),IF(COUNTIF(B929:B938,B938)=10,B938+7,B938),\"\")","v":""},null,"","",null,null,null,0,0,0,0,{"$f":"IFERROR(VLOOKUP(G939,DropDowns!$D$2:$E$151,2,FALSE),\"\")","v":""},{"$f":"IFERROR(VLOOKUP(H939,DropDowns!$F$2:$G$7,2,FALSE),\"Residual categories\")","v":"Residual categories"},null,null,null,0,0,0]
[0,{"$f":"IF(OR(COUNTA(O910:O939)>0,COUNTA(O939:$O$5195)>0),IF(COUNTIF(B930:B939,B939)=10,B939+7,B939),\"\")","v":""},null,"","",null,null,null,0,0,0,0,{"$f":"IFERROR(VLOOKUP(G940,DropDowns!$D$2:$E$151,2,FALSE),\"\")","v":""},{"$f":"IFERROR(VLOOKUP(H940,DropDowns!$F$2:$G$7,2,FALSE),\"Residual categories\")","v":"Residual categories"},null,null,null,0,0,0]
[0,{"$f":"IF(OR(COUNTA(O911:O940)>0,COUNTA(O940:$O$5195)>0),IF(COUNTIF(B931:B940,B940)=10,B940+7,B940),\"\")","v":""},null,"","",null,null,null,0,0,0,0,{"$f":"IFERROR(VLOOKUP(G941,DropDowns!$D$2:$E$151,2,FALSE),\"\")","v":""},{"$f":"IFERROR(VLOOKUP(H941,DropDowns!$F$2:$G$7,2,FALSE),\"Residual categories\")","v":"Residual categories"},null,null,null,0,0,0]
[0,{"$f":"IF(OR(COUNTA(O912:O941)>0,COUNTA(O941:$O$5195)>0),IF(COUNTIF(B932:B941,B941)=10,B941+7,B941),\"\")","v":""},null,"","",null,null,null,0,0,0,0,{"$f":"IFERROR(VLOOKUP(G942,DropDowns!$D$2:$E$151,2,FALSE),\"\")","v":""},{"$f":"IFERROR(VLOOKUP(H942,DropDowns!$F$2:$G$7,2,FALSE),\"Residual categories\")","v":"Residual categories"},null,null,null,0,0,0]
[0,{"$f":"IF(OR(COUNTA(O913:O942)>0,COUNTA(O942:$O$5195)>0),IF(COUNTIF(B933:B942,B942)=10,B942+7,B942),\"\")","v":""},null,"","",null,null,null,0,0,0,0,{"$f":"IFERROR(VLOOKUP(G943,DropDowns!$D$2:$E$151,2,FALSE),\"\")","v":""},{"$f":"IFERROR(VLOOKUP(H943,DropDowns!$F$2:$G$7,2,FALSE),\"Residual categories\")","v":"Residual categories"},null,null,null,0,0,0]
[0,{"$f":"IF(OR(COUNTA(O914:O943)>0,COUNTA(O943:$O$5195)>0),IF(COUNTIF(B934:B943,B943)=10,B943+7,B943),\"\")","v":""},null,"","",null,null,null,0,0,0,0,{"$f":"IFERROR(VLOOKUP(G944,DropDowns!$D$2:$E$151,2,FALSE),\"\")","v":""},{"$f":"IFERROR(VLOOKUP(H944,DropDowns!$F$2:$G$7,2,FALSE),\"Residual categories\")","v":"Residual categories"},null,null,null,0,0,0]
[0,{"$f":"IF(OR(COUNTA(O915:O944)>0,COUNTA(O944:$O$5195)>0),IF(COUNTIF(B935:B944,B944)=10,B944+7,B944),\"\")","v":""},null,"","",null,null,null,0,0,0,0,{"$f":"IFERROR(VLOOKUP(G945,DropDowns!$D$2:$E$151,2,FALSE),\"\")","v":""},{"$f":"IFERROR(VLOOKUP(H945,DropDowns!$F$2:$G$7,2,FALSE),\"Residual categories\")","v":"Residual categories"},null,null,null,0,0,0]
[0,{"$f":"IF(OR(COUNTA(O916:O945)>0,COUNTA(O945:$O$5195)>0),IF(COUNTIF(B936:B945,B945)=10,B945+7,B945),\"\")","v":""},null,"","",null,null,null,0,0,0,0,{"$f":"IFERROR(VLOOKUP(G946,DropDowns!$D$2:$E$151,2,FALSE),\"\")","v":""},{"$f":"IFERROR(VLOOKUP(H946,DropDowns!$F$2:$G$7,2,FALSE),\"Residual categories\")","v":"Residual categories"},null,null,null,0,0,0]
[0,{"$f":"IF(OR(COUNTA(O917:O946)>0,COUNTA(O946:$O$5195)>0),IF(COUNTIF(B937:B946,B946)=10,B946+7,B946),\"\")","v":""},null,"","",null,null,null,0,0,0,0,{"$f":"IFERROR(VLOOKUP(G947,DropDowns!$D$2:$E$151,2,FALSE),\"\")","v":""},{"$f":"IFERROR(VLOOKUP(H947,DropDowns!$F$2:$G$7,2,FALSE),\"Residual categories\")","v":"Residual categories"},null,null,null,0,0,0]
[0,{"$f":"IF(OR(COUNTA(O918:O947)>0,COUNTA(O947:$O$5195)>0),IF(COUNTIF(B938:B947,B947)=10,B947+7,B947),\"\")","v":""},null,"","",null,null,null,0,0,0,0,{"$f":"IFERROR(VLOOKUP(G948,DropDowns!$D$2:$E$151,2,FALSE),\"\")","v":""},{"$f":"IFERROR(VLOOKUP(H948,DropDowns!$F$2:$G$7,2,FALSE),\"Residual categories\")","v":"Residual categories"},null,null,null,0,0,0]
[0,{"$f":"IF(OR(COUNTA(O919:O948)>0,COUNTA(O948:$O$5195)>0),IF(COUNTIF(B939:B948,B948)=10,B948+7,B948),\"\")","v":""},null,"","",null,null,null,0,0,0,0,{"$f":"IFERROR(VLOOKUP(G949,DropDowns!$D$2:$E$151,2,FALSE),\"\")","v":""},{"$f":"IFERROR(VLOOKUP(H949,DropDowns!$F$2:$G$7,2,FALSE),\"Residual categories\")","v":"Residual categories"},null,null,null,0,0,0]
[0,{"$f":"IF(OR(COUNTA(O920:O949)>0,COUNTA(O949:$O$5195)>0),IF(COUNTIF(B940:B949,B949)=10,B949+7,B949),\"\")","v":""},null,"","",null,null,null,0,0,0,0,{"$f":"IFERROR(VLOOKUP(G950,DropDowns!$D$2:$E$151,2,FALSE),\"\")","v":""},{"$f":"IFERROR(VLOOKUP(H950,DropDowns!$F$2:$G$7,2,FALSE),\"Residual categories\")","v":"Residual categories"},null,null,null,0,0,0]
[0,{"$f":"IF(OR(COUNTA(O921:O950)>0,COUNTA(O950:$O$5195)>0),IF(COUNTIF(B941:B950,B950)=10,B950+7,B950),\"\")","v":""},null,"","",null,null,null,0,0,0,0,{"$f":"IFERROR(VLOOKUP(G951,DropDowns!$D$2:$E$151,2,FALSE),\"\")","v":""},{"$f":"IFERROR(VLOOKUP(H951,DropDowns!$F$2:$G$7,2,FALSE),\"Residual categories\")","v":"Residual categories"},null,null,null,0,0,0]
[0,{"$f":"IF(OR(COUNTA(O922:O951)>0,COUNTA(O951:$O$5195)>0),IF(COUNTIF(B942:B951,B951)=10,B951+7,B951),\"\")","v":""},null,"","",null,null,null,0,0,0,0,{"$f":"IFERROR(VLOOKUP(G952,DropDowns!$D$2:$E$151,2,FALSE),\"\")","v":""},{"$f":"IFERROR(VLOOKUP(H952,DropDowns!$F$2:$G$7,2,FALSE),\"Residual categories\")","v":"Residual categories"},null,null,null,0,0,0]
[0,{"$f":"IF(OR(COUNTA(O923:O952)>0,COUNTA(O952:$O$5195)>0),IF(COUNTIF(B943:B952,B952)=10,B952+7,B952),\"\")","v":""},null,"","",null,null,null,0,0,0,0,{"$f":"IFERROR(VLOOKUP(G953,DropDowns!$D$2:$E$151,2,FALSE),\"\")","v":""},{"$f":"IFERROR(VLOOKUP(H953,DropDowns!$F$2:$G$7,2,FALSE),\"Residual categories\")","v":"Residual categories"},null,null,null,0,0,0]
[0,{"$f":"IF(OR(COUNTA(O924:O953)>0,COUNTA(O953:$O$5195)>0),IF(COUNTIF(B944:B953,B953)=10,B953+7,B953),\"\")","v":""},null,"","",null,null,null,0,0,0,0,{"$f":"IFERROR(VLOOKUP(G954,DropDowns!$D$2:$E$151,2,FALSE),\"\")","v":""},{"$f":"IFERROR(VLOOKUP(H954,DropDowns!$F$2:$G$7,2,FALSE),\"Residual categories\")","v":"Residual categories"},null,null,null,0,0,0]
[0,{"$f":"IF(OR(COUNTA(O925:O954)>0,COUNTA(O954:$O$5195)>0),IF(COUNTIF(B945:B954,B954)=10,B954+7,B954),\"\")","v":""},null,"","",null,null,null,0,0,0,0,{"$f":"IFERROR(VLOOKUP(G955,DropDowns!$D$2:$E$151,2,FALSE),\"\")","v":""},{"$f":"IFERROR(VLOOKUP(H955,DropDowns!$F$2:$G$7,2,FALSE),\"Residual categories\")","v":"Residual categories"},null,null,null,0,0,0]
[0,{"$f":"IF(OR(COUNTA(O926:O955)>0,COUNTA(O955:$O$5195)>0),IF(COUNTIF(B946:B955,B955)=10,B955+7,B955),\"\")","v":""},null,"","",null,null,null,0,0,0,0,{"$f":"IFERROR(VLOOKUP(G956,DropDowns!$D$2:$E$151,2,FALSE),\"\")","v":""},{"$f":"IFERROR(VLOOKUP(H956,DropDowns!$F$2:$G$7,2,FALSE),\"Residual categories\")","v":"Residual categories"},null,null,null,0,0,0]
[0,{"$f":"IF(OR(COUNTA(O927:O956)>0,COUNTA(O956:$O$5195)>0),IF(COUNTIF(B947:B956,B956)=10,B956+7,B956),\"\")","v":""},null,"","",null,null,null,0,0,0,0,{"$f":"IFERROR(VLOOKUP(G957,DropDowns!$D$2:$E$151,2,FALSE),\"\")","v":""},{"$f":"IFERROR(VLOOKUP(H957,DropDowns!$F$2:$G$7,2,FALSE),\"Residual categories\")","v":"Residual categories"},null,null,null,0,0,0]
[0,{"$f":"IF(OR(COUNTA(O928:O957)>0,COUNTA(O957:$O$5195)>0),IF(COUNTIF(B948:B957,B957)=10,B957+7,B957),\"\")","v":""},null,"","",null,null,null,0,0,0,0,{"$f":"IFERROR(VLOOKUP(G958,DropDowns!$D$2:$E$151,2,FALSE),\"\")","v":""},{"$f":"IFERROR(VLOOKUP(H958,DropDowns!$F$2:$G$7,2,FALSE),\"Residual categories\")","v":"Residual categories"},null,null,null,0,0,0]
[0,{"$f":"IF(OR(COUNTA(O929:O958)>0,COUNTA(O958:$O$5195)>0),IF(COUNTIF(B949:B958,B958)=10,B958+7,B958),\"\")","v":""},null,"","",null,null,null,0,0,0,0,{"$f":"IFERROR(VLOOKUP(G959,DropDowns!$D$2:$E$151,2,FALSE),\"\")","v":""},{"$f":"IFERROR(VLOOKUP(H959,DropDowns!$F$2:$G$7,2,FALSE),\"Residual categories\")","v":"Residual categories"},null,null,null,0,0,0]
[0,{"$f":"IF(OR(COUNTA(O930:O959)>0,COUNTA(O959:$O$5195)>0),IF(COUNTIF(B950:B959,B959)=10,B959+7,B959),\"\")","v":""},null,"","",null,null,null,0,0,0,0,{"$f":"IFERROR(VLOOKUP(G960,DropDowns!$D$2:$E$151,2,FALSE),\"\")","v":""},{"$f":"IFERROR(VLOOKUP(H960,DropDowns!$F$2:$G$7,2,FALSE),\"Residual categories\")","v":"Residual categories"},null,null,null,0,0,0]
[0,{"$f":"IF(OR(COUNTA(O931:O960)>0,COUNTA(O960:$O$5195)>0),IF(COUNTIF(B951:B960,B960)=10,B960+7,B960),\"\")","v":""},null,"","",null,null,null,0,0,0,0,{"$f":"IFERROR(VLOOKUP(G961,DropDowns!$D$2:$E$151,2,FALSE),\"\")","v":""},{"$f":"IFERROR(VLOOKUP(H961,DropDowns!$F$2:$G$7,2,FALSE),\"Residual categories\")","v":"Residual categories"},null,null,null,0,0,0]
[0,{"$f":"IF(OR(COUNTA(O932:O961)>0,COUNTA(O961:$O$5195)>0),IF(COUNTIF(B952:B961,B961)=10,B961+7,B961),\"\")","v":""},null,"","",null,null,null,0,0,0,0,{"$f":"IFERROR(VLOOKUP(G962,DropDowns!$D$2:$E$151,2,FALSE),\"\")","v":""},{"$f":"IFERROR(VLOOKUP(H962,DropDowns!$F$2:$G$7,2,FALSE),\"Residual categories\")","v":"Residual categories"},null,null,null,0,0,0]
[0,{"$f":"IF(OR(COUNTA(O933:O962)>0,COUNTA(O962:$O$5195)>0),IF(COUNTIF(B953:B962,B962)=10,B962+7,B962),\"\")","v":""},null,"","",null,null,null,0,0,0,0,{"$f":"IFERROR(VLOOKUP(G963,DropDowns!$D$2:$E$151,2,FALSE),\"\")","v":""},{"$f":"IFERROR(VLOOKUP(H963,DropDowns!$F$2:$G$7,2,FALSE),\"Residual categories\")","v":"Residual categories"},null,null,null,0,0,0]
[0,{"$f":"IF(OR(COUNTA(O934:O963)>0,COUNTA(O963:$O$5195)>0),IF(COUNTIF(B954:B963,B963)=10,B963+7,B963),\"\")","v":""},null,"","",null,null,null,0,0,0,0,{"$f":"IFERROR(VLOOKUP(G964,DropDowns!$D$2:$E$151,2,FALSE),\"\")","v":""},{"$f":"IFERROR(VLOOKUP(H964,DropDowns!$F$2:$G$7,2,FALSE),\"Residual categories\")","v":"Residual categories"},null,null,null,0,0,0]
[0,{"$f":"IF(OR(COUNTA(O935:O964)>0,COUNTA(O964:$O$5195)>0),IF(COUNTIF(B955:B964,B964)=10,B964+7,B964),\"\")","v":""},null,"","",null,null,null,0,0,0,0,{"$f":"IFERROR(VLOOKUP(G965,DropDowns!$D$2:$E$151,2,FALSE),\"\")","v":""},{"$f":"IFERROR(VLOOKUP(H965,DropDowns!$F$2:$G$7,2,FALSE),\"Residual categories\")","v":"Residual categories"},null,null,null,0,0,0]
[0,{"$f":"IF(OR(COUNTA(O936:O965)>0,COUNTA(O965:$O$5195)>0),IF(COUNTIF(B956:B965,B965)=10,B965+7,B965),\"\")","v":""},null,"","",null,null,null,0,0,0,0,{"$f":"IFERROR(VLOOKUP(G966,DropDowns!$D$2:$E$151,2,FALSE),\"\")","v":""},{"$f":"IFERROR(VLOOKUP(H966,DropDowns!$F$2:$G$7,2,FALSE),\"Residual categories\")","v":"Residual categories"},null,null,null,0,0,0]
[0,{"$f":"IF(OR(COUNTA(O937:O966)>0,COUNTA(O966:$O$5195)>0),IF(COUNTIF(B957:B966,B966)=10,B966+7,B966),\"\")","v":""},null,{"$f":"IF(E967=1,B967,\"\")","v":""},"",null,null,null,{"$f":"IF(COUNTA(O967:Q967)>0,1,0)","v":0},{"$f":"IF(O967=\"y\",1,0)","v":0},{"$f":"IF(P967=\"y\",1,0)","v":0},{"$f":"IF(Q967=\"y\",1,0)","v":0},{"$f":"IFERROR(VLOOKUP(G967,DropDowns!$D$2:$E$151,2,FALSE),\"\")","v":""},{"$f":"IFERROR(VLOOKUP(H967,DropDowns!$F$2:$G$7,2,FALSE),\"Residual categories\")","v":"Residual categories"},null,null,null,{"$f":"IF(O967=\"yes\",1,0)","v":0},{"$f":"IF(P967=\"yes\",1,0)","v":0},{"$f":"IF(Q967=\"yes\",1,0)","v":0}]
[0,{"$f":"IF(OR(COUNTA(O938:O967)>0,COUNTA(O967:$O$5195)>0),IF(COUNTIF(B958:B967,B967)=10,B967+7,B967),\"\")","v":""},null,"","",null,null,null,0,0,0,0,{"$f":"IFERROR(VLOOKUP(G968,DropDowns!$D$2:$E$151,2,FALSE),\"\")","v":""},{"$f":"IFERROR(VLOOKUP(H968,DropDowns!$F$2:$G$7,2,FALSE),\"Residual categories\")","v":"Residual categories"},null,null,null,0,0,0]
[0,{"$f":"IF(OR(COUNTA(O939:O968)>0,COUNTA(O968:$O$5195)>0),IF(COUNTIF(B959:B968,B968)=10,B968+7,B968),\"\")","v":""},null,"","",null,null,null,0,0,0,0,{"$f":"IFERROR(VLOOKUP(G969,DropDowns!$D$2:$E$151,2,FALSE),\"\")","v":""},{"$f":"IFERROR(VLOOKUP(H969,DropDowns!$F$2:$G$7,2,FALSE),\"Residual categories\")","v":"Residual categories"},null,null,null,0,0,0]
[0,{"$f":"IF(OR(COUNTA(O940:O969)>0,COUNTA(O969:$O$5195)>0),IF(COUNTIF(B960:B969,B969)=10,B969+7,B969),\"\")","v":""},null,"","",null,null,null,0,0,0,0,{"$f":"IFERROR(VLOOKUP(G970,DropDowns!$D$2:$E$151,2,FALSE),\"\")","v":""},{"$f":"IFERROR(VLOOKUP(H970,DropDowns!$F$2:$G$7,2,FALSE),\"Residual categories\")","v":"Residual categories"},null,null,null,0,0,0]
[0,{"$f":"IF(OR(COUNTA(O941:O970)>0,COUNTA(O970:$O$5195)>0),IF(COUNTIF(B961:B970,B970)=10,B970+7,B970),\"\")","v":""},null,"","",null,null,null,0,0,0,0,{"$f":"IFERROR(VLOOKUP(G971,DropDowns!$D$2:$E$151,2,FALSE),\"\")","v":""},{"$f":"IFERROR(VLOOKUP(H971,DropDowns!$F$2:$G$7,2,FALSE),\"Residual categories\")","v":"Residual categories"},null,null,null,0,0,0]
[0,{"$f":"IF(OR(COUNTA(O942:O971)>0,COUNTA(O971:$O$5195)>0),IF(COUNTIF(B962:B971,B971)=10,B971+7,B971),\"\")","v":""},null,"","",null,null,null,0,0,0,0,{"$f":"IFERROR(VLOOKUP(G972,DropDowns!$D$2:$E$151,2,FALSE),\"\")","v":""},{"$f":"IFERROR(VLOOKUP(H972,DropDowns!$F$2:$G$7,2,FALSE),\"Residual categories\")","v":"Residual categories"},null,null,null,0,0,0]
[0,{"$f":"IF(OR(COUNTA(O943:O972)>0,COUNTA(O972:$O$5195)>0),IF(COUNTIF(B963:B972,B972)=10,B972+7,B972),\"\")","v":""},null,"","",null,null,null,0,0,0,0,{"$f":"IFERROR(VLOOKUP(G973,DropDowns!$D$2:$E$151,2,FALSE),\"\")","v":""},{"$f":"IFERROR(VLOOKUP(H973,DropDowns!$F$2:$G$7,2,FALSE),\"Residual categories\")","v":"Residual categories"},null,null,null,0,0,0]
[0,{"$f":"IF(OR(COUNTA(O944:O973)>0,COUNTA(O973:$O$5195)>0),IF(COUNTIF(B964:B973,B973)=10,B973+7,B973),\"\")","v":""},null,"","",null,null,null,0,0,0,0,{"$f":"IFERROR(VLOOKUP(G974,DropDowns!$D$2:$E$151,2,FALSE),\"\")","v":""},{"$f":"IFERROR(VLOOKUP(H974,DropDowns!$F$2:$G$7,2,FALSE),\"Residual categories\")","v":"Residual categories"},null,null,null,0,0,0]
[0,{"$f":"IF(OR(COUNTA(O945:O974)>0,COUNTA(O974:$O$5195)>0),IF(COUNTIF(B965:B974,B974)=10,B974+7,B974),\"\")","v":""},null,"","",null,null,null,0,0,0,0,{"$f":"IFERROR(VLOOKUP(G975,DropDowns!$D$2:$E$151,2,FALSE),\"\")","v":""},{"$f":"IFERROR(VLOOKUP(H975,DropDowns!$F$2:$G$7,2,FALSE),\"Residual categories\")","v":"Residual categories"},null,null,null,0,0,0]
[0,{"$f":"IF(OR(COUNTA(O946:O975)>0,COUNTA(O975:$O$5195)>0),IF(COUNTIF(B966:B975,B975)=10,B975+7,B975),\"\")","v":""},null,"","",null,null,null,0,0,0,0,{"$f":"IFERROR(VLOOKUP(G976,DropDowns!$D$2:$E$151,2,FALSE),\"\")","v":""},{"$f":"IFERROR(VLOOKUP(H976,DropDowns!$F$2:$G$7,2,FALSE),\"Residual categories\")","v":"Residual categories"},null,null,null,0,0,0]
[0,{"$f":"IF(OR(COUNTA(O947:O976)>0,COUNTA(O976:$O$5195)>0),IF(COUNTIF(B967:B976,B976)=10,B976+7,B976),\"\")","v":""},null,"",{"$f":"IF(B977=\"\",\"\",COUNTIF(B968:B977,B977))","v":""},null,null,null,0,0,0,0,{"$f":"IFERROR(VLOOKUP(G977,DropDowns!$D$2:$E$151,2,FALSE),\"\")","v":""},{"$f":"IFERROR(VLOOKUP(H977,DropDowns!$F$2:$G$7,2,FALSE),\"Residual categories\")","v":"Residual categories"},null,null,null,0,0,0]
[0,{"$f":"IF(OR(COUNTA(O948:O977)>0,COUNTA(O977:$O$5195)>0),IF(COUNTIF(B968:B977,B977)=10,B977+7,B977),\"\")","v":""},null,"","",null,null,null,0,0,0,0,{"$f":"IFERROR(VLOOKUP(G978,DropDowns!$D$2:$E$151,2,FALSE),\"\")","v":""},{"$f":"IFERROR(VLOOKUP(H978,DropDowns!$F$2:$G$7,2,FALSE),\"Residual categories\")","v":"Residual categories"},null,null,null,0,0,0]
[0,{"$f":"IF(OR(COUNTA(O949:O978)>0,COUNTA(O978:$O$5195)>0),IF(COUNTIF(B969:B978,B978)=10,B978+7,B978),\"\")","v":""},null,"","",null,null,null,0,0,0,0,{"$f":"IFERROR(VLOOKUP(G979,DropDowns!$D$2:$E$151,2,FALSE),\"\")","v":""},{"$f":"IFERROR(VLOOKUP(H979,DropDowns!$F$2:$G$7,2,FALSE),\"Residual categories\")","v":"Residual categories"},null,null,null,0,0,0]
[{"$f":"$E$2","v":0},{"$f":"IF(OR(COUNTA(O950:O979)>0,COUNTA(O979:$O$5195)>0),IF(COUNTIF(B970:B979,B979)=10,B979+7,B979),\"\")","v":""},null,"","",null,null,null,0,0,0,0,{"$f":"IFERROR(VLOOKUP(G980,DropDowns!$D$2:$E$151,2,FALSE),\"\")","v":""},{"$f":"IFERROR(VLOOKUP(H980,DropDowns!$F$2:$G$7,2,FALSE),\"Residual categories\")","v":"Residual categories"},null,null,null,0,0,0]
[0,{"$f":"IF(OR(COUNTA(O951:O980)>0,COUNTA(O980:$O$5195)>0),IF(COUNTIF(B971:B980,B980)=10,B980+7,B980),\"\")","v":""},null,"","",null,null,null,0,0,0,0,{"$f":"IFERROR(VLOOKUP(G981,DropDowns!$D$2:$E$151,2,FALSE),\"\")","v":""},{"$f":"IFERROR(VLOOKUP(H981,DropDowns!$F$2:$G$7,2,FALSE),\"Residual categories\")","v":"Residual categories"},null,null,null,0,0,0]
[0,{"$f":"IF(OR(COUNTA(O952:O981)>0,COUNTA(O981:$O$5195)>0),IF(COUNTIF(B972:B981,B981)=10,B981+7,B981),\"\")","v":""},null,"","",null,null,null,0,0,0,0,{"$f":"IFERROR(VLOOKUP(G982,DropDowns!$D$2:$E$151,2,FALSE),\"\")","v":""},{"$f":"IFERROR(VLOOKUP(H982,DropDowns!$F$2:$G$7,2,FALSE),\"Residual categories\")","v":"Residual categories"},null,null,null,0,0,0]
[0,{"$f":"IF(OR(COUNTA(O953:O982)>0,COUNTA(O982:$O$5195)>0),IF(COUNTIF(B973:B982,B982)=10,B982+7,B982),\"\")","v":""},null,"","",null,null,null,0,0,0,0,{"$f":"IFERROR(VLOOKUP(G983,DropDowns!$D$2:$E$151,2,FALSE),\"\")","v":""},{"$f":"IFERROR(VLOOKUP(H983,DropDowns!$F$2:$G$7,2,FALSE),\"Residual categories\")","v":"Residual categories"},null,null,null,0,0,0]
[0,{"$f":"IF(OR(COUNTA(O954:O983)>0,COUNTA(O983:$O$5195)>0),IF(COUNTIF(B974:B983,B983)=10,B983+7,B983),\"\")","v":""},null,"","",null,null,null,0,0,0,0,{"$f":"IFERROR(VLOOKUP(G984,DropDowns!$D$2:$E$151,2,FALSE),\"\")","v":""},{"$f":"IFERROR(VLOOKUP(H984,DropDowns!$F$2:$G$7,2,FALSE),\"Residual categories\")","v":"Residual categories"},null,null,null,0,0,0]
[0,{"$f":"IF(OR(COUNTA(O955:O984)>0,COUNTA(O984:$O$5195)>0),IF(COUNTIF(B975:B984,B984)=10,B984+7,B984),\"\")","v":""},null,"","",null,null,null,0,0,0,0,{"$f":"IFERROR(VLOOKUP(G985,DropDowns!$D$2:$E$151,2,FALSE),\"\")","v":""},{"$f":"IFERROR(VLOOKUP(H985,DropDowns!$F$2:$G$7,2,FALSE),\"Residual categories\")","v":"Residual categories"},null,null,null,0,0,0]
[0,{"$f":"IF(OR(COUNTA(O956:O985)>0,COUNTA(O985:$O$5195)>0),IF(COUNTIF(B976:B985,B985)=10,B985+7,B985),\"\")","v":""},null,"","",null,null,null,0,0,0,0,{"$f":"IFERROR(VLOOKUP(G986,DropDowns!$D$2:$E$151,2,FALSE),\"\")","v":""},{"$f":"IFERROR(VLOOKUP(H986,DropDowns!$F$2:$G$7,2,FALSE),\"Residual categories\")","v":"Residual categories"},null,null,null,0,0,0]
[0,{"$f":"IF(OR(COUNTA(O957:O986)>0,COUNTA(O986:$O$5195)>0),IF(COUNTIF(B977:B986,B986)=10,B986+7,B986),\"\")","v":""},null,"","",null,null,null,0,0,0,0,{"$f":"IFERROR(VLOOKUP(G987,DropDowns!$D$2:$E$151,2,FALSE),\"\")","v":""},{"$f":"IFERROR(VLOOKUP(H987,DropDowns!$F$2:$G$7,2,FALSE),\"Residual categories\")","v":"Residual categories"},null,null,null,0,0,0]
[0,{"$f":"IF(OR(COUNTA(O958:O987)>0,COUNTA(O987:$O$5195)>0),IF(COUNTIF(B978:B987,B987)=10,B987+7,B987),\"\")","v":""},null,"","",null,null,null,0,0,0,0,{"$f":"IFERROR(VLOOKUP(G988,DropDowns!$D$2:$E$151,2,FALSE),\"\")","v":""},{"$f":"IFERROR(VLOOKUP(H988,DropDowns!$F$2:$G$7,2,FALSE),\"Residual categories\")","v":"Residual categories"},null,null,null,0,0,0]
[0,{"$f":"IF(OR(COUNTA(O959:O988)>0,COUNTA(O988:$O$5195)>0),IF(COUNTIF(B979:B988,B988)=10,B988+7,B988),\"\")","v":""},null,"","",null,null,null,0,0,0,0,{"$f":"IFERROR(VLOOKUP(G989,DropDowns!$D$2:$E$151,2,FALSE),\"\")","v":""},{"$f":"IFERROR(VLOOKUP(H989,DropDowns!$F$2:$G$7,2,FALSE),\"Residual categories\")","v":"Residual categories"},null,null,null,0,0,0]
[0,{"$f":"IF(OR(COUNTA(O960:O989)>0,COUNTA(O989:$O$5195)>0),IF(COUNTIF(B980:B989,B989)=10,B989+7,B989),\"\")","v":""},null,"","",null,null,null,0,0,0,0,{"$f":"IFERROR(VLOOKUP(G990,DropDowns!$D$2:$E$151,2,FALSE),\"\")","v":""},{"$f":"IFERROR(VLOOKUP(H990,DropDowns!$F$2:$G$7,2,FALSE),\"Residual categories\")","v":"Residual categories"},null,null,null,0,0,0]
[0,{"$f":"IF(OR(COUNTA(O961:O990)>0,COUNTA(O990:$O$5195)>0),IF(COUNTIF(B981:B990,B990)=10,B990+7,B990),\"\")","v":""},null,"","",null,null,null,0,0,0,0,{"$f":"IFERROR(VLOOKUP(G991,DropDowns!$D$2:$E$151,2,FALSE),\"\")","v":""},{"$f":"IFERROR(VLOOKUP(H991,DropDowns!$F$2:$G$7,2,FALSE),\"Residual categories\")","v":"Residual categories"},null,null,null,0,0,0]
[0,{"$f":"IF(OR(COUNTA(O962:O991)>0,COUNTA(O991:$O$5195)>0),IF(COUNTIF(B982:B991,B991)=10,B991+7,B991),\"\")","v":""},null,"","",null,null,null,0,0,0,0,{"$f":"IFERROR(VLOOKUP(G992,DropDowns!$D$2:$E$151,2,FALSE),\"\")","v":""},{"$f":"IFERROR(VLOOKUP(H992,DropDowns!$F$2:$G$7,2,FALSE),\"Residual categories\")","v":"Residual categories"},null,null,null,0,0,0]
[0,{"$f":"IF(OR(COUNTA(O963:O992)>0,COUNTA(O992:$O$5195)>0),IF(COUNTIF(B983:B992,B992)=10,B992+7,B992),\"\")","v":""},null,"","",null,null,null,0,0,0,0,{"$f":"IFERROR(VLOOKUP(G993,DropDowns!$D$2:$E$151,2,FALSE),\"\")","v":""},{"$f":"IFERROR(VLOOKUP(H993,DropDowns!$F$2:$G$7,2,FALSE),\"Residual categories\")","v":"Residual categories"},null,null,null,0,0,0]
[0,{"$f":"IF(OR(COUNTA(O964:O993)>0,COUNTA(O993:$O$5195)>0),IF(COUNTIF(B984:B993,B993)=10,B993+7,B993),\"\")","v":""},null,"","",null,null,null,0,0,0,0,{"$f":"IFERROR(VLOOKUP(G994,DropDowns!$D$2:$E$151,2,FALSE),\"\")","v":""},{"$f":"IFERROR(VLOOKUP(H994,DropDowns!$F$2:$G$7,2,FALSE),\"Residual categories\")","v":"Residual categories"},null,null,null,0,0,0]
[0,{"$f":"IF(OR(COUNTA(O965:O994)>0,COUNTA(O994:$O$5195)>0),IF(COUNTIF(B985:B994,B994)=10,B994+7,B994),\"\")","v":""},null,"","",null,null,null,0,0,0,0,{"$f":"IFERROR(VLOOKUP(G995,DropDowns!$D$2:$E$151,2,FALSE),\"\")","v":""},{"$f":"IFERROR(VLOOKUP(H995,DropDowns!$F$2:$G$7,2,FALSE),\"Residual categories\")","v":"Residual categories"},null,null,null,0,0,0]
[0,{"$f":"IF(OR(COUNTA(O966:O995)>0,COUNTA(O995:$O$5195)>0),IF(COUNTIF(B986:B995,B995)=10,B995+7,B995),\"\")","v":""},null,"","",null,null,null,0,0,0,0,{"$f":"IFERROR(VLOOKUP(G996,DropDowns!$D$2:$E$151,2,FALSE),\"\")","v":""},{"$f":"IFERROR(VLOOKUP(H996,DropDowns!$F$2:$G$7,2,FALSE),\"Residual categories\")","v":"Residual categories"},null,null,null,0,0,0]
[0,{"$f":"IF(OR(COUNTA(O967:O996)>0,COUNTA(O996:$O$5195)>0),IF(COUNTIF(B987:B996,B996)=10,B996+7,B996),\"\")","v":""},null,"","",null,null,null,0,0,0,0,{"$f":"IFERROR(VLOOKUP(G997,DropDowns!$D$2:$E$151,2,FALSE),\"\")","v":""},{"$f":"IFERROR(VLOOKUP(H997,DropDowns!$F$2:$G$7,2,FALSE),\"Residual categories\")","v":"Residual categories"},null,null,null,0,0,0]
[0,{"$f":"IF(OR(COUNTA(O968:O997)>0,COUNTA(O997:$O$5195)>0),IF(COUNTIF(B988:B997,B997)=10,B997+7,B997),\"\")","v":""},null,"","",null,null,null,0,0,0,0,{"$f":"IFERROR(VLOOKUP(G998,DropDowns!$D$2:$E$151,2,FALSE),\"\")","v":""},{"$f":"IFERROR(VLOOKUP(H998,DropDowns!$F$2:$G$7,2,FALSE),\"Residual categories\")","v":"Residual categories"},null,null,null,0,0,0]
[0,{"$f":"IF(OR(COUNTA(O969:O998)>0,COUNTA(O998:$O$5195)>0),IF(COUNTIF(B989:B998,B998)=10,B998+7,B998),\"\")","v":""},null,"","",null,null,null,0,0,0,0,{"$f":"IFERROR(VLOOKUP(G999,DropDowns!$D$2:$E$151,2,FALSE),\"\")","v":""},{"$f":"IFERROR(VLOOKUP(H999,DropDowns!$F$2:$G$7,2,FALSE),\"Residual categories\")","v":"Residual categories"},null,null,null,0,0,0]
[0,{"$f":"IF(OR(COUNTA(O970:O999)>0,COUNTA(O999:$O$5195)>0),IF(COUNTIF(B990:B999,B999)=10,B999+7,B999),\"\")","v":""},null,"","",null,null,null,0,0,0,0,{"$f":"IFERROR(VLOOKUP(G1000,DropDowns!$D$2:$E$151,2,FALSE),\"\")","v":""},{"$f":"IFERROR(VLOOKUP(H1000,DropDowns!$F$2:$G$7,2,FALSE),\"Residual categories\")","v":"Residual categories"},null,null,null,0,0,0]
[0,{"$f":"IF(OR(COUNTA(O971:O1000)>0,COUNTA(O1000:$O$5195)>0),IF(COUNTIF(B991:B1000,B1000)=10,B1000+7,B1000),\"\")","v":""},null,"","",null,null,null,0,0,0,0,{"$f":"IFERROR(VLOOKUP(G1001,DropDowns!$D$2:$E$151,2,FALSE),\"\")","v":""},{"$f":"IFERROR(VLOOKUP(H1001,DropDowns!$F$2:$G$7,2,FALSE),\"Residual categories\")","v":"Residual categories"},null,null,null,0,0,0]
[0,{"$f":"IF(OR(COUNTA(O972:O1001)>0,COUNTA(O1001:$O$5195)>0),IF(COUNTIF(B992:B1001,B1001)=10,B1001+7,B1001),\"\")","v":""},null,"","",null,null,null,0,0,0,0,{"$f":"IFERROR(VLOOKUP(G1002,DropDowns!$D$2:$E$151,2,FALSE),\"\")","v":""},{"$f":"IFERROR(VLOOKUP(H1002,DropDowns!$F$2:$G$7,2,FALSE),\"Residual categories\")","v":"Residual categories"},null,null,null,0,0,0]
[0,{"$f":"IF(OR(COUNTA(O973:O1002)>0,COUNTA(O1002:$O$5195)>0),IF(COUNTIF(B993:B1002,B1002)=10,B1002+7,B1002),\"\")","v":""},null,"","",null,null,null,0,0,0,0,{"$f":"IFERROR(VLOOKUP(G1003,DropDowns!$D$2:$E$151,2,FALSE),\"\")","v":""},{"$f":"IFERROR(VLOOKUP(H1003,DropDowns!$F$2:$G$7,2,FALSE),\"Residual categories\")","v":"Residual categories"},null,null,null,0,0,0]
[0,{"$f":"IF(OR(COUNTA(O974:O1003)>0,COUNTA(O1003:$O$5195)>0),IF(COUNTIF(B994:B1003,B1003)=10,B1003+7,B1003),\"\")","v":""},null,"","",null,null,null,0,0,0,0,{"$f":"IFERROR(VLOOKUP(G1004,DropDowns!$D$2:$E$151,2,FALSE),\"\")","v":""},{"$f":"IFERROR(VLOOKUP(H1004,DropDowns!$F$2:$G$7,2,FALSE),\"Residual categories\")","v":"Residual categories"},null,null,null,0,0,0]
[0,{"$f":"IF(OR(COUNTA(O975:O1004)>0,COUNTA(O1004:$O$5195)>0),IF(COUNTIF(B995:B1004,B1004)=10,B1004+7,B1004),\"\")","v":""},null,"","",null,null,null,0,0,0,0,{"$f":"IFERROR(VLOOKUP(G1005,DropDowns!$D$2:$E$151,2,FALSE),\"\")","v":""},{"$f":"IFERROR(VLOOKUP(H1005,DropDowns!$F$2:$G$7,2,FALSE),\"Residual categories\")","v":"Residual categories"},null,null,null,0,0,0]
[0,{"$f":"IF(OR(COUNTA(O976:O1005)>0,COUNTA(O1005:$O$5195)>0),IF(COUNTIF(B996:B1005,B1005)=10,B1005+7,B1005),\"\")","v":""},null,"","",null,null,null,0,0,0,0,{"$f":"IFERROR(VLOOKUP(G1006,DropDowns!$D$2:$E$151,2,FALSE),\"\")","v":""},{"$f":"IFERROR(VLOOKUP(H1006,DropDowns!$F$2:$G$7,2,FALSE),\"Residual categories\")","v":"Residual categories"},null,null,null,0,0,0]
[0,{"$f":"IF(OR(COUNTA(O977:O1006)>0,COUNTA(O1006:$O$5195)>0),IF(COUNTIF(B997:B1006,B1006)=10,B1006+7,B1006),\"\")","v":""},null,"","",null,null,null,0,0,0,0,{"$f":"IFERROR(VLOOKUP(G1007,DropDowns!$D$2:$E$151,2,FALSE),\"\")","v":""},{"$f":"IFERROR(VLOOKUP(H1007,DropDowns!$F$2:$G$7,2,FALSE),\"Residual categories\")","v":"Residual categories"},null,null,null,0,0,0]
[0,{"$f":"IF(OR(COUNTA(O978:O1007)>0,COUNTA(O1007:$O$5195)>0),IF(COUNTIF(B998:B1007,B1007)=10,B1007+7,B1007),\"\")","v":""},null,"","",null,null,null,0,0,0,0,{"$f":"IFERROR(VLOOKUP(G1008,DropDowns!$D$2:$E$151,2,FALSE),\"\")","v":""},{"$f":"IFERROR(VLOOKUP(H1008,DropDowns!$F$2:$G$7,2,FALSE),\"Residual categories\")","v":"Residual categories"},null,null,null,0,0,0]
[0,{"$f":"IF(OR(COUNTA(O979:O1008)>0,COUNTA(O1008:$O$5195)>0),IF(COUNTIF(B999:B1008,B1008)=10,B1008+7,B1008),\"\")","v":""},null,"","",null,null,null,0,0,0,0,{"$f":"IFERROR(VLOOKUP(G1009,DropDowns!$D$2:$E$151,2,FALSE),\"\")","v":""},{"$f":"IFERROR(VLOOKUP(H1009,DropDowns!$F$2:$G$7,2,FALSE),\"Residual categories\")","v":"Residual categories"},null,null,null,0,0,0]
[0,{"$f":"IF(OR(COUNTA(O980:O1009)>0,COUNTA(O1009:$O$5195)>0),IF(COUNTIF(B1000:B1009,B1009)=10,B1009+7,B1009),\"\")","v":""},null,"","",null,null,null,0,0,0,0,{"$f":"IFERROR(VLOOKUP(G1010,DropDowns!$D$2:$E$151,2,FALSE),\"\")","v":""},{"$f":"IFERROR(VLOOKUP(H1010,DropDowns!$F$2:$G$7,2,FALSE),\"Residual categories\")","v":"Residual categories"},null,null,null,0,0,0]
[0,{"$f":"IF(OR(COUNTA(O981:O1010)>0,COUNTA(O1010:$O$5195)>0),IF(COUNTIF(B1001:B1010,B1010)=10,B1010+7,B1010),\"\")","v":""},null,"","",null,null,null,0,0,0,0,{"$f":"IFERROR(VLOOKUP(G1011,DropDowns!$D$2:$E$151,2,FALSE),\"\")","v":""},{"$f":"IFERROR(VLOOKUP(H1011,DropDowns!$F$2:$G$7,2,FALSE),\"Residual categories\")","v":"Residual categories"},null,null,null,0,0,0]
[0,{"$f":"IF(OR(COUNTA(O982:O1011)>0,COUNTA(O1011:$O$5195)>0),IF(COUNTIF(B1002:B1011,B1011)=10,B1011+7,B1011),\"\")","v":""},null,"","",null,null,null,0,0,0,0,{"$f":"IFERROR(VLOOKUP(G1012,DropDowns!$D$2:$E$151,2,FALSE),\"\")","v":""},{"$f":"IFERROR(VLOOKUP(H1012,DropDowns!$F$2:$G$7,2,FALSE),\"Residual categories\")","v":"Residual categories"},null,null,null,0,0,0]
[0,{"$f":"IF(OR(COUNTA(O983:O1012)>0,COUNTA(O1012:$O$5195)>0),IF(COUNTIF(B1003:B1012,B1012)=10,B1012+7,B1012),\"\")","v":""},null,"","",null,null,null,0,0,0,0,{"$f":"IFERROR(VLOOKUP(G1013,DropDowns!$D$2:$E$151,2,FALSE),\"\")","v":""},{"$f":"IFERROR(VLOOKUP(H1013,DropDowns!$F$2:$G$7,2,FALSE),\"Residual categories\")","v":"Residual categories"},null,null,null,0,0,0]
[0,{"$f":"IF(OR(COUNTA(O984:O1013)>0,COUNTA(O1013:$O$5195)>0),IF(COUNTIF(B1004:B1013,B1013)=10,B1013+7,B1013),\"\")","v":""},null,"","",null,null,null,0,0,0,0,{"$f":"IFERROR(VLOOKUP(G1014,DropDowns!$D$2:$E$151,2,FALSE),\"\")","v":""},{"$f":"IFERROR(VLOOKUP(H1014,DropDowns!$F$2:$G$7,2,FALSE),\"Residual categories\")","v":"Residual categories"},null,null,null,0,0,0]
[0,{"$f":"IF(OR(COUNTA(O985:O1014)>0,COUNTA(O1014:$O$5195)>0),IF(COUNTIF(B1005:B1014,B1014)=10,B1014+7,B1014),\"\")","v":""},null,"","",null,null,null,0,0,0,0,{"$f":"IFERROR(VLOOKUP(G1015,DropDowns!$D$2:$E$151,2,FALSE),\"\")","v":""},{"$f":"IFERROR(VLOOKUP(H1015,DropDowns!$F$2:$G$7,2,FALSE),\"Residual categories\")","v":"Residual categories"},null,null,null,0,0,0]
[0,{"$f":"IF(OR(COUNTA(O986:O1015)>0,COUNTA(O1015:$O$5195)>0),IF(COUNTIF(B1006:B1015,B1015)=10,B1015+7,B1015),\"\")","v":""},null,"","",null,null,null,0,0,0,0,{"$f":"IFERROR(VLOOKUP(G1016,DropDowns!$D$2:$E$151,2,FALSE),\"\")","v":""},{"$f":"IFERROR(VLOOKUP(H1016,DropDowns!$F$2:$G$7,2,FALSE),\"Residual categories\")","v":"Residual categories"},null,null,null,0,0,0]
[0,{"$f":"IF(OR(COUNTA(O987:O1016)>0,COUNTA(O1016:$O$5195)>0),IF(COUNTIF(B1007:B1016,B1016)=10,B1016+7,B1016),\"\")","v":""},null,"","",null,null,null,0,0,0,0,{"$f":"IFERROR(VLOOKUP(G1017,DropDowns!$D$2:$E$151,2,FALSE),\"\")","v":""},{"$f":"IFERROR(VLOOKUP(H1017,DropDowns!$F$2:$G$7,2,FALSE),\"Residual categories\")","v":"Residual categories"},null,null,null,0,0,0]
[0,{"$f":"IF(OR(COUNTA(O988:O1017)>0,COUNTA(O1017:$O$5195)>0),IF(COUNTIF(B1008:B1017,B1017)=10,B1017+7,B1017),\"\")","v":""},null,"","",null,null,null,0,0,0,0,{"$f":"IFERROR(VLOOKUP(G1018,DropDowns!$D$2:$E$151,2,FALSE),\"\")","v":""},{"$f":"IFERROR(VLOOKUP(H1018,DropDowns!$F$2:$G$7,2,FALSE),\"Residual categories\")","v":"Residual categories"},null,null,null,0,0,0]
[0,{"$f":"IF(OR(COUNTA(O989:O1018)>0,COUNTA(O1018:$O$5195)>0),IF(COUNTIF(B1009:B1018,B1018)=10,B1018+7,B1018),\"\")","v":""},null,"","",null,null,null,0,0,0,0,{"$f":"IFERROR(VLOOKUP(G1019,DropDowns!$D$2:$E$151,2,FALSE),\"\")","v":""},{"$f":"IFERROR(VLOOKUP(H1019,DropDowns!$F$2:$G$7,2,FALSE),\"Residual categories\")","v":"Residual categories"},null,null,null,0,0,0]
[0,{"$f":"IF(OR(COUNTA(O990:O1019)>0,COUNTA(O1019:$O$5195)>0),IF(COUNTIF(B1010:B1019,B1019)=10,B1019+7,B1019),\"\")","v":""},null,"","",null,null,null,0,0,0,0,{"$f":"IFERROR(VLOOKUP(G1020,DropDowns!$D$2:$E$151,2,FALSE),\"\")","v":""},{"$f":"IFERROR(VLOOKUP(H1020,DropDowns!$F$2:$G$7,2,FALSE),\"Residual categories\")","v":"Residual categories"},null,null,null,0,0,0]
[0,{"$f":"IF(OR(COUNTA(O991:O1020)>0,COUNTA(O1020:$O$5195)>0),IF(COUNTIF(B1011:B1020,B1020)=10,B1020+7,B1020),\"\")","v":""},null,"","",null,null,null,0,0,0,0,{"$f":"IFERROR(VLOOKUP(G1021,DropDowns!$D$2:$E$151,2,FALSE),\"\")","v":""},{"$f":"IFERROR(VLOOKUP(H1021,DropDowns!$F$2:$G$7,2,FALSE),\"Residual categories\")","v":"Residual categories"},null,null,null,0,0,0]
[0,{"$f":"IF(OR(COUNTA(O992:O1021)>0,COUNTA(O1021:$O$5195)>0),IF(COUNTIF(B1012:B1021,B1021)=10,B1021+7,B1021),\"\")","v":""},null,"","",null,null,null,0,0,0,0,{"$f":"IFERROR(VLOOKUP(G1022,DropDowns!$D$2:$E$151,2,FALSE),\"\")","v":""},{"$f":"IFERROR(VLOOKUP(H1022,DropDowns!$F$2:$G$7,2,FALSE),\"Residual categories\")","v":"Residual categories"},null,null,null,0,0,0]
[0,{"$f":"IF(OR(COUNTA(O993:O1022)>0,COUNTA(O1022:$O$5195)>0),IF(COUNTIF(B1013:B1022,B1022)=10,B1022+7,B1022),\"\")","v":""},null,"","",null,null,null,0,0,0,0,{"$f":"IFERROR(VLOOKUP(G1023,DropDowns!$D$2:$E$151,2,FALSE),\"\")","v":""},{"$f":"IFERROR(VLOOKUP(H1023,DropDowns!$F$2:$G$7,2,FALSE),\"Residual categories\")","v":"Residual categories"},null,null,null,0,0,0]
[0,{"$f":"IF(OR(COUNTA(O994:O1023)>0,COUNTA(O1023:$O$5195)>0),IF(COUNTIF(B1014:B1023,B1023)=10,B1023+7,B1023),\"\")","v":""},null,"","",null,null,null,0,0,0,0,{"$f":"IFERROR(VLOOKUP(G1024,DropDowns!$D$2:$E$151,2,FALSE),\"\")","v":""},{"$f":"IFERROR(VLOOKUP(H1024,DropDowns!$F$2:$G$7,2,FALSE),\"Residual categories\")","v":"Residual categories"},null,null,null,0,0,0]
[0,{"$f":"IF(OR(COUNTA(O995:O1024)>0,COUNTA(O1024:$O$5195)>0),IF(COUNTIF(B1015:B1024,B1024)=10,B1024+7,B1024),\"\")","v":""},null,"","",null,null,null,0,0,0,0,{"$f":"IFERROR(VLOOKUP(G1025,DropDowns!$D$2:$E$151,2,FALSE),\"\")","v":""},{"$f":"IFERROR(VLOOKUP(H1025,DropDowns!$F$2:$G$7,2,FALSE),\"Residual categories\")","v":"Residual categories"},null,null,null,0,0,0]
[0,{"$f":"IF(OR(COUNTA(O996:O1025)>0,COUNTA(O1025:$O$5195)>0),IF(COUNTIF(B1016:B1025,B1025)=10,B1025+7,B1025),\"\")","v":""},null,"","",null,null,null,0,0,0,0,{"$f":"IFERROR(VLOOKUP(G1026,DropDowns!$D$2:$E$151,2,FALSE),\"\")","v":""},{"$f":"IFERROR(VLOOKUP(H1026,DropDowns!$F$2:$G$7,2,FALSE),\"Residual categories\")","v":"Residual categories"},null,null,null,0,0,0]
[0,{"$f":"IF(OR(COUNTA(O997:O1026)>0,COUNTA(O1026:$O$5195)>0),IF(COUNTIF(B1017:B1026,B1026)=10,B1026+7,B1026),\"\")","v":""},null,"","",null,null,null,0,0,0,0,{"$f":"IFERROR(VLOOKUP(G1027,DropDowns!$D$2:$E$151,2,FALSE),\"\")","v":""},{"$f":"IFERROR(VLOOKUP(H1027,DropDowns!$F$2:$G$7,2,FALSE),\"Residual categories\")","v":"Residual categories"},null,null,null,0,0,0]
[0,{"$f":"IF(OR(COUNTA(O998:O1027)>0,COUNTA(O1027:$O$5195)>0),IF(COUNTIF(B1018:B1027,B1027)=10,B1027+7,B1027),\"\")","v":""},null,"","",null,null,null,0,0,0,0,{"$f":"IFERROR(VLOOKUP(G1028,DropDowns!$D$2:$E$151,2,FALSE),\"\")","v":""},{"$f":"IFERROR(VLOOKUP(H1028,DropDowns!$F$2:$G$7,2,FALSE),\"Residual categories\")","v":"Residual categories"},null,null,null,0,0,0]
[0,{"$f":"IF(OR(COUNTA(O999:O1028)>0,COUNTA(O1028:$O$5195)>0),IF(COUNTIF(B1019:B1028,B1028)=10,B1028+7,B1028),\"\")","v":""},null,"","",null,null,null,0,0,0,0,{"$f":"IFERROR(VLOOKUP(G1029,DropDowns!$D$2:$E$151,2,FALSE),\"\")","v":""},{"$f":"IFERROR(VLOOKUP(H1029,DropDowns!$F$2:$G$7,2,FALSE),\"Residual categories\")","v":"Residual categories"},null,null,null,0,0,0]
[0,{"$f":"IF(OR(COUNTA(O1000:O1029)>0,COUNTA(O1029:$O$5195)>0),IF(COUNTIF(B1020:B1029,B1029)=10,B1029+7,B1029),\"\")","v":""},null,"","",null,null,null,0,0,0,0,{"$f":"IFERROR(VLOOKUP(G1030,DropDowns!$D$2:$E$151,2,FALSE),\"\")","v":""},{"$f":"IFERROR(VLOOKUP(H1030,DropDowns!$F$2:$G$7,2,FALSE),\"Residual categories\")","v":"Residual categories"},null,null,null,0,0,0]
[0,{"$f":"IF(OR(COUNTA(O1001:O1030)>0,COUNTA(O1030:$O$5195)>0),IF(COUNTIF(B1021:B1030,B1030)=10,B1030+7,B1030),\"\")","v":""},null,{"$f":"IF(E1031=1,B1031,\"\")","v":""},"",null,null,null,{"$f":"IF(COUNTA(O1031:Q1031)>0,1,0)","v":0},{"$f":"IF(O1031=\"y\",1,0)","v":0},{"$f":"IF(P1031=\"y\",1,0)","v":0},{"$f":"IF(Q1031=\"y\",1,0)","v":0},{"$f":"IFERROR(VLOOKUP(G1031,DropDowns!$D$2:$E$151,2,FALSE),\"\")","v":""},{"$f":"IFERROR(VLOOKUP(H1031,DropDowns!$F$2:$G$7,2,FALSE),\"Residual categories\")","v":"Residual categories"},null,null,null,{"$f":"IF(O1031=\"yes\",1,0)","v":0},{"$f":"IF(P1031=\"yes\",1,0)","v":0},{"$f":"IF(Q1031=\"yes\",1,0)","v":0}]
[0,{"$f":"IF(OR(COUNTA(O1002:O1031)>0,COUNTA(O1031:$O$5195)>0),IF(COUNTIF(B1022:B1031,B1031)=10,B1031+7,B1031),\"\")","v":""},null,"","",null,null,null,0,0,0,0,{"$f":"IFERROR(VLOOKUP(G1032,DropDowns!$D$2:$E$151,2,FALSE),\"\")","v":""},{"$f":"IFERROR(VLOOKUP(H1032,DropDowns!$F$2:$G$7,2,FALSE),\"Residual categories\")","v":"Residual categories"},null,null,null,0,0,0]
[0,{"$f":"IF(OR(COUNTA(O1003:O1032)>0,COUNTA(O1032:$O$5195)>0),IF(COUNTIF(B1023:B1032,B1032)=10,B1032+7,B1032),\"\")","v":""},null,"","",null,null,null,0,0,0,0,{"$f":"IFERROR(VLOOKUP(G1033,DropDowns!$D$2:$E$151,2,FALSE),\"\")","v":""},{"$f":"IFERROR(VLOOKUP(H1033,DropDowns!$F$2:$G$7,2,FALSE),\"Residual categories\")","v":"Residual categories"},null,null,null,0,0,0]
[0,{"$f":"IF(OR(COUNTA(O1004:O1033)>0,COUNTA(O1033:$O$5195)>0),IF(COUNTIF(B1024:B1033,B1033)=10,B1033+7,B1033),\"\")","v":""},null,"","",null,null,null,0,0,0,0,{"$f":"IFERROR(VLOOKUP(G1034,DropDowns!$D$2:$E$151,2,FALSE),\"\")","v":""},{"$f":"IFERROR(VLOOKUP(H1034,DropDowns!$F$2:$G$7,2,FALSE),\"Residual categories\")","v":"Residual categories"},null,null,null,0,0,0]
[0,{"$f":"IF(OR(COUNTA(O1005:O1034)>0,COUNTA(O1034:$O$5195)>0),IF(COUNTIF(B1025:B1034,B1034)=10,B1034+7,B1034),\"\")","v":""},null,"","",null,null,null,0,0,0,0,{"$f":"IFERROR(VLOOKUP(G1035,DropDowns!$D$2:$E$151,2,FALSE),\"\")","v":""},{"$f":"IFERROR(VLOOKUP(H1035,DropDowns!$F$2:$G$7,2,FALSE),\"Residual categories\")","v":"Residual categories"},null,null,null,0,0,0]
[0,{"$f":"IF(OR(COUNTA(O1006:O1035)>0,COUNTA(O1035:$O$5195)>0),IF(COUNTIF(B1026:B1035,B1035)=10,B1035+7,B1035),\"\")","v":""},null,"","",null,null,null,0,0,0,0,{"$f":"IFERROR(VLOOKUP(G1036,DropDowns!$D$2:$E$151,2,FALSE),\"\")","v":""},{"$f":"IFERROR(VLOOKUP(H1036,DropDowns!$F$2:$G$7,2,FALSE),\"Residual categories\")","v":"Residual categories"},null,null,null,0,0,0]
[0,{"$f":"IF(OR(COUNTA(O1007:O1036)>0,COUNTA(O1036:$O$5195)>0),IF(COUNTIF(B1027:B1036,B1036)=10,B1036+7,B1036),\"\")","v":""},null,"","",null,null,null,0,0,0,0,{"$f":"IFERROR(VLOOKUP(G1037,DropDowns!$D$2:$E$151,2,FALSE),\"\")","v":""},{"$f":"IFERROR(VLOOKUP(H1037,DropDowns!$F$2:$G$7,2,FALSE),\"Residual categories\")","v":"Residual categories"},null,null,null,0,0,0]
[0,{"$f":"IF(OR(COUNTA(O1008:O1037)>0,COUNTA(O1037:$O$5195)>0),IF(COUNTIF(B1028:B1037,B1037)=10,B1037+7,B1037),\"\")","v":""},null,"","",null,null,null,0,0,0,0,{"$f":"IFERROR(VLOOKUP(G1038,DropDowns!$D$2:$E$151,2,FALSE),\"\")","v":""},{"$f":"IFERROR(VLOOKUP(H1038,DropDowns!$F$2:$G$7,2,FALSE),\"Residual categories\")","v":"Residual categories"},null,null,null,0,0,0]
[0,{"$f":"IF(OR(COUNTA(O1009:O1038)>0,COUNTA(O1038:$O$5195)>0),IF(COUNTIF(B1029:B1038,B1038)=10,B1038+7,B1038),\"\")","v":""},null,"","",null,null,null,0,0,0,0,{"$f":"IFERROR(VLOOKUP(G1039,DropDowns!$D$2:$E$151,2,FALSE),\"\")","v":""},{"$f":"IFERROR(VLOOKUP(H1039,DropDowns!$F$2:$G$7,2,FALSE),\"Residual categories\")","v":"Residual categories"},null,null,null,0,0,0]
[0,{"$f":"IF(OR(COUNTA(O1010:O1039)>0,COUNTA(O1039:$O$5195)>0),IF(COUNTIF(B1030:B1039,B1039)=10,B1039+7,B1039),\"\")","v":""},null,"","",null,null,null,0,0,0,0,{"$f":"IFERROR(VLOOKUP(G1040,DropDowns!$D$2:$E$151,2,FALSE),\"\")","v":""},{"$f":"IFERROR(VLOOKUP(H1040,DropDowns!$F$2:$G$7,2,FALSE),\"Residual categories\")","v":"Residual categories"},null,null,null,0,0,0]
[0,{"$f":"IF(OR(COUNTA(O1011:O1040)>0,COUNTA(O1040:$O$5195)>0),IF(COUNTIF(B1031:B1040,B1040)=10,B1040+7,B1040),\"\")","v":""},null,"",{"$f":"IF(B1041=\"\",\"\",COUNTIF(B1032:B1041,B1041))","v":""},null,null,null,0,0,0,0,{"$f":"IFERROR(VLOOKUP(G1041,DropDowns!$D$2:$E$151,2,FALSE),\"\")","v":""},{"$f":"IFERROR(VLOOKUP(H1041,DropDowns!$F$2:$G$7,2,FALSE),\"Residual categories\")","v":"Residual categories"},null,null,null,0,0,0]
[0,{"$f":"IF(OR(COUNTA(O1012:O1041)>0,COUNTA(O1041:$O$5195)>0),IF(COUNTIF(B1032:B1041,B1041)=10,B1041+7,B1041),\"\")","v":""},null,"","",null,null,null,0,0,0,0,{"$f":"IFERROR(VLOOKUP(G1042,DropDowns!$D$2:$E$151,2,FALSE),\"\")","v":""},{"$f":"IFERROR(VLOOKUP(H1042,DropDowns!$F$2:$G$7,2,FALSE),\"Residual categories\")","v":"Residual categories"},null,null,null,0,0,0]
[0,{"$f":"IF(OR(COUNTA(O1013:O1042)>0,COUNTA(O1042:$O$5195)>0),IF(COUNTIF(B1033:B1042,B1042)=10,B1042+7,B1042),\"\")","v":""},null,"","",null,null,null,0,0,0,0,{"$f":"IFERROR(VLOOKUP(G1043,DropDowns!$D$2:$E$151,2,FALSE),\"\")","v":""},{"$f":"IFERROR(VLOOKUP(H1043,DropDowns!$F$2:$G$7,2,FALSE),\"Residual categories\")","v":"Residual categories"},null,null,null,0,0,0]
[{"$f":"$E$2","v":0},{"$f":"IF(OR(COUNTA(O1014:O1043)>0,COUNTA(O1043:$O$5195)>0),IF(COUNTIF(B1034:B1043,B1043)=10,B1043+7,B1043),\"\")","v":""},null,"","",null,null,null,0,0,0,0,{"$f":"IFERROR(VLOOKUP(G1044,DropDowns!$D$2:$E$151,2,FALSE),\"\")","v":""},{"$f":"IFERROR(VLOOKUP(H1044,DropDowns!$F$2:$G$7,2,FALSE),\"Residual categories\")","v":"Residual categories"},null,null,null,0,0,0]
[0,{"$f":"IF(OR(COUNTA(O1015:O1044)>0,COUNTA(O1044:$O$5195)>0),IF(COUNTIF(B1035:B1044,B1044)=10,B1044+7,B1044),\"\")","v":""},null,"","",null,null,null,0,0,0,0,{"$f":"IFERROR(VLOOKUP(G1045,DropDowns!$D$2:$E$151,2,FALSE),\"\")","v":""},{"$f":"IFERROR(VLOOKUP(H1045,DropDowns!$F$2:$G$7,2,FALSE),\"Residual categories\")","v":"Residual categories"},null,null,null,0,0,0]
[0,{"$f":"IF(OR(COUNTA(O1016:O1045)>0,COUNTA(O1045:$O$5195)>0),IF(COUNTIF(B1036:B1045,B1045)=10,B1045+7,B1045),\"\")","v":""},null,"","",null,null,null,0,0,0,0,{"$f":"IFERROR(VLOOKUP(G1046,DropDowns!$D$2:$E$151,2,FALSE),\"\")","v":""},{"$f":"IFERROR(VLOOKUP(H1046,DropDowns!$F$2:$G$7,2,FALSE),\"Residual categories\")","v":"Residual categories"},null,null,null,0,0,0]
[0,{"$f":"IF(OR(COUNTA(O1017:O1046)>0,COUNTA(O1046:$O$5195)>0),IF(COUNTIF(B1037:B1046,B1046)=10,B1046+7,B1046),\"\")","v":""},null,"","",null,null,null,0,0,0,0,{"$f":"IFERROR(VLOOKUP(G1047,DropDowns!$D$2:$E$151,2,FALSE),\"\")","v":""},{"$f":"IFERROR(VLOOKUP(H1047,DropDowns!$F$2:$G$7,2,FALSE),\"Residual categories\")","v":"Residual categories"},null,null,null,0,0,0]
[0,{"$f":"IF(OR(COUNTA(O1018:O1047)>0,COUNTA(O1047:$O$5195)>0),IF(COUNTIF(B1038:B1047,B1047)=10,B1047+7,B1047),\"\")","v":""},null,"","",null,null,null,0,0,0,0,{"$f":"IFERROR(VLOOKUP(G1048,DropDowns!$D$2:$E$151,2,FALSE),\"\")","v":""},{"$f":"IFERROR(VLOOKUP(H1048,DropDowns!$F$2:$G$7,2,FALSE),\"Residual categories\")","v":"Residual categories"},null,null,null,0,0,0]
[0,{"$f":"IF(OR(COUNTA(O1019:O1048)>0,COUNTA(O1048:$O$5195)>0),IF(COUNTIF(B1039:B1048,B1048)=10,B1048+7,B1048),\"\")","v":""},null,"","",null,null,null,0,0,0,0,{"$f":"IFERROR(VLOOKUP(G1049,DropDowns!$D$2:$E$151,2,FALSE),\"\")","v":""},{"$f":"IFERROR(VLOOKUP(H1049,DropDowns!$F$2:$G$7,2,FALSE),\"Residual categories\")","v":"Residual categories"},null,null,null,0,0,0]
[0,{"$f":"IF(OR(COUNTA(O1020:O1049)>0,COUNTA(O1049:$O$5195)>0),IF(COUNTIF(B1040:B1049,B1049)=10,B1049+7,B1049),\"\")","v":""},null,"","",null,null,null,0,0,0,0,{"$f":"IFERROR(VLOOKUP(G1050,DropDowns!$D$2:$E$151,2,FALSE),\"\")","v":""},{"$f":"IFERROR(VLOOKUP(H1050,DropDowns!$F$2:$G$7,2,FALSE),\"Residual categories\")","v":"Residual categories"},null,null,null,0,0,0]
[0,{"$f":"IF(OR(COUNTA(O1021:O1050)>0,COUNTA(O1050:$O$5195)>0),IF(COUNTIF(B1041:B1050,B1050)=10,B1050+7,B1050),\"\")","v":""},null,"","",null,null,null,0,0,0,0,{"$f":"IFERROR(VLOOKUP(G1051,DropDowns!$D$2:$E$151,2,FALSE),\"\")","v":""},{"$f":"IFERROR(VLOOKUP(H1051,DropDowns!$F$2:$G$7,2,FALSE),\"Residual categories\")","v":"Residual categories"},null,null,null,0,0,0]
[0,{"$f":"IF(OR(COUNTA(O1022:O1051)>0,COUNTA(O1051:$O$5195)>0),IF(COUNTIF(B1042:B1051,B1051)=10,B1051+7,B1051),\"\")","v":""},null,"","",null,null,null,0,0,0,0,{"$f":"IFERROR(VLOOKUP(G1052,DropDowns!$D$2:$E$151,2,FALSE),\"\")","v":""},{"$f":"IFERROR(VLOOKUP(H1052,DropDowns!$F$2:$G$7,2,FALSE),\"Residual categories\")","v":"Residual categories"},null,null,null,0,0,0]
[0,{"$f":"IF(OR(COUNTA(O1023:O1052)>0,COUNTA(O1052:$O$5195)>0),IF(COUNTIF(B1043:B1052,B1052)=10,B1052+7,B1052),\"\")","v":""},null,"","",null,null,null,0,0,0,0,{"$f":"IFERROR(VLOOKUP(G1053,DropDowns!$D$2:$E$151,2,FALSE),\"\")","v":""},{"$f":"IFERROR(VLOOKUP(H1053,DropDowns!$F$2:$G$7,2,FALSE),\"Residual categories\")","v":"Residual categories"},null,null,null,0,0,0]
[0,{"$f":"IF(OR(COUNTA(O1024:O1053)>0,COUNTA(O1053:$O$5195)>0),IF(COUNTIF(B1044:B1053,B1053)=10,B1053+7,B1053),\"\")","v":""},null,"","",null,null,null,0,0,0,0,{"$f":"IFERROR(VLOOKUP(G1054,DropDowns!$D$2:$E$151,2,FALSE),\"\")","v":""},{"$f":"IFERROR(VLOOKUP(H1054,DropDowns!$F$2:$G$7,2,FALSE),\"Residual categories\")","v":"Residual categories"},null,null,null,0,0,0]
[0,{"$f":"IF(OR(COUNTA(O1025:O1054)>0,COUNTA(O1054:$O$5195)>0),IF(COUNTIF(B1045:B1054,B1054)=10,B1054+7,B1054),\"\")","v":""},null,"","",null,null,null,0,0,0,0,{"$f":"IFERROR(VLOOKUP(G1055,DropDowns!$D$2:$E$151,2,FALSE),\"\")","v":""},{"$f":"IFERROR(VLOOKUP(H1055,DropDowns!$F$2:$G$7,2,FALSE),\"Residual categories\")","v":"Residual categories"},null,null,null,0,0,0]
[0,{"$f":"IF(OR(COUNTA(O1026:O1055)>0,COUNTA(O1055:$O$5195)>0),IF(COUNTIF(B1046:B1055,B1055)=10,B1055+7,B1055),\"\")","v":""},null,"","",null,null,null,0,0,0,0,{"$f":"IFERROR(VLOOKUP(G1056,DropDowns!$D$2:$E$151,2,FALSE),\"\")","v":""},{"$f":"IFERROR(VLOOKUP(H1056,DropDowns!$F$2:$G$7,2,FALSE),\"Residual categories\")","v":"Residual categories"},null,null,null,0,0,0]
[0,{"$f":"IF(OR(COUNTA(O1027:O1056)>0,COUNTA(O1056:$O$5195)>0),IF(COUNTIF(B1047:B1056,B1056)=10,B1056+7,B1056),\"\")","v":""},null,"","",null,null,null,0,0,0,0,{"$f":"IFERROR(VLOOKUP(G1057,DropDowns!$D$2:$E$151,2,FALSE),\"\")","v":""},{"$f":"IFERROR(VLOOKUP(H1057,DropDowns!$F$2:$G$7,2,FALSE),\"Residual categories\")","v":"Residual categories"},null,null,null,0,0,0]
[0,{"$f":"IF(OR(COUNTA(O1028:O1057)>0,COUNTA(O1057:$O$5195)>0),IF(COUNTIF(B1048:B1057,B1057)=10,B1057+7,B1057),\"\")","v":""},null,"","",null,null,null,0,0,0,0,{"$f":"IFERROR(VLOOKUP(G1058,DropDowns!$D$2:$E$151,2,FALSE),\"\")","v":""},{"$f":"IFERROR(VLOOKUP(H1058,DropDowns!$F$2:$G$7,2,FALSE),\"Residual categories\")","v":"Residual categories"},null,null,null,0,0,0]
[0,{"$f":"IF(OR(COUNTA(O1029:O1058)>0,COUNTA(O1058:$O$5195)>0),IF(COUNTIF(B1049:B1058,B1058)=10,B1058+7,B1058),\"\")","v":""},null,"","",null,null,null,0,0,0,0,{"$f":"IFERROR(VLOOKUP(G1059,DropDowns!$D$2:$E$151,2,FALSE),\"\")","v":""},{"$f":"IFERROR(VLOOKUP(H1059,DropDowns!$F$2:$G$7,2,FALSE),\"Residual categories\")","v":"Residual categories"},null,null,null,0,0,0]
[0,{"$f":"IF(OR(COUNTA(O1030:O1059)>0,COUNTA(O1059:$O$5195)>0),IF(COUNTIF(B1050:B1059,B1059)=10,B1059+7,B1059),\"\")","v":""},null,"","",null,null,null,0,0,0,0,{"$f":"IFERROR(VLOOKUP(G1060,DropDowns!$D$2:$E$151,2,FALSE),\"\")","v":""},{"$f":"IFERROR(VLOOKUP(H1060,DropDowns!$F$2:$G$7,2,FALSE),\"Residual categories\")","v":"Residual categories"},null,null,null,0,0,0]
[0,{"$f":"IF(OR(COUNTA(O1031:O1060)>0,COUNTA(O1060:$O$5195)>0),IF(COUNTIF(B1051:B1060,B1060)=10,B1060+7,B1060),\"\")","v":""},null,"","",null,null,null,0,0,0,0,{"$f":"IFERROR(VLOOKUP(G1061,DropDowns!$D$2:$E$151,2,FALSE),\"\")","v":""},{"$f":"IFERROR(VLOOKUP(H1061,DropDowns!$F$2:$G$7,2,FALSE),\"Residual categories\")","v":"Residual categories"},null,null,null,0,0,0]
[0,{"$f":"IF(OR(COUNTA(O1032:O1061)>0,COUNTA(O1061:$O$5195)>0),IF(COUNTIF(B1052:B1061,B1061)=10,B1061+7,B1061),\"\")","v":""},null,"","",null,null,null,0,0,0,0,{"$f":"IFERROR(VLOOKUP(G1062,DropDowns!$D$2:$E$151,2,FALSE),\"\")","v":""},{"$f":"IFERROR(VLOOKUP(H1062,DropDowns!$F$2:$G$7,2,FALSE),\"Residual categories\")","v":"Residual categories"},null,null,null,0,0,0]
[0,{"$f":"IF(OR(COUNTA(O1033:O1062)>0,COUNTA(O1062:$O$5195)>0),IF(COUNTIF(B1053:B1062,B1062)=10,B1062+7,B1062),\"\")","v":""},null,"","",null,null,null,0,0,0,0,{"$f":"IFERROR(VLOOKUP(G1063,DropDowns!$D$2:$E$151,2,FALSE),\"\")","v":""},{"$f":"IFERROR(VLOOKUP(H1063,DropDowns!$F$2:$G$7,2,FALSE),\"Residual categories\")","v":"Residual categories"},null,null,null,0,0,0]
[0,{"$f":"IF(OR(COUNTA(O1034:O1063)>0,COUNTA(O1063:$O$5195)>0),IF(COUNTIF(B1054:B1063,B1063)=10,B1063+7,B1063),\"\")","v":""},null,"","",null,null,null,0,0,0,0,{"$f":"IFERROR(VLOOKUP(G1064,DropDowns!$D$2:$E$151,2,FALSE),\"\")","v":""},{"$f":"IFERROR(VLOOKUP(H1064,DropDowns!$F$2:$G$7,2,FALSE),\"Residual categories\")","v":"Residual categories"},null,null,null,0,0,0]
[0,{"$f":"IF(OR(COUNTA(O1035:O1064)>0,COUNTA(O1064:$O$5195)>0),IF(COUNTIF(B1055:B1064,B1064)=10,B1064+7,B1064),\"\")","v":""},null,"","",null,null,null,0,0,0,0,{"$f":"IFERROR(VLOOKUP(G1065,DropDowns!$D$2:$E$151,2,FALSE),\"\")","v":""},{"$f":"IFERROR(VLOOKUP(H1065,DropDowns!$F$2:$G$7,2,FALSE),\"Residual categories\")","v":"Residual categories"},null,null,null,0,0,0]
[0,{"$f":"IF(OR(COUNTA(O1036:O1065)>0,COUNTA(O1065:$O$5195)>0),IF(COUNTIF(B1056:B1065,B1065)=10,B1065+7,B1065),\"\")","v":""},null,"","",null,null,null,0,0,0,0,{"$f":"IFERROR(VLOOKUP(G1066,DropDowns!$D$2:$E$151,2,FALSE),\"\")","v":""},{"$f":"IFERROR(VLOOKUP(H1066,DropDowns!$F$2:$G$7,2,FALSE),\"Residual categories\")","v":"Residual categories"},null,null,null,0,0,0]
[0,{"$f":"IF(OR(COUNTA(O1037:O1066)>0,COUNTA(O1066:$O$5195)>0),IF(COUNTIF(B1057:B1066,B1066)=10,B1066+7,B1066),\"\")","v":""},null,"","",null,null,null,0,0,0,0,{"$f":"IFERROR(VLOOKUP(G1067,DropDowns!$D$2:$E$151,2,FALSE),\"\")","v":""},{"$f":"IFERROR(VLOOKUP(H1067,DropDowns!$F$2:$G$7,2,FALSE),\"Residual categories\")","v":"Residual categories"},null,null,null,0,0,0]
[0,{"$f":"IF(OR(COUNTA(O1038:O1067)>0,COUNTA(O1067:$O$5195)>0),IF(COUNTIF(B1058:B1067,B1067)=10,B1067+7,B1067),\"\")","v":""},null,"","",null,null,null,0,0,0,0,{"$f":"IFERROR(VLOOKUP(G1068,DropDowns!$D$2:$E$151,2,FALSE),\"\")","v":""},{"$f":"IFERROR(VLOOKUP(H1068,DropDowns!$F$2:$G$7,2,FALSE),\"Residual categories\")","v":"Residual categories"},null,null,null,0,0,0]
[0,{"$f":"IF(OR(COUNTA(O1039:O1068)>0,COUNTA(O1068:$O$5195)>0),IF(COUNTIF(B1059:B1068,B1068)=10,B1068+7,B1068),\"\")","v":""},null,"","",null,null,null,0,0,0,0,{"$f":"IFERROR(VLOOKUP(G1069,DropDowns!$D$2:$E$151,2,FALSE),\"\")","v":""},{"$f":"IFERROR(VLOOKUP(H1069,DropDowns!$F$2:$G$7,2,FALSE),\"Residual categories\")","v":"Residual categories"},null,null,null,0,0,0]
[0,{"$f":"IF(OR(COUNTA(O1040:O1069)>0,COUNTA(O1069:$O$5195)>0),IF(COUNTIF(B1060:B1069,B1069)=10,B1069+7,B1069),\"\")","v":""},null,"","",null,null,null,0,0,0,0,{"$f":"IFERROR(VLOOKUP(G1070,DropDowns!$D$2:$E$151,2,FALSE),\"\")","v":""},{"$f":"IFERROR(VLOOKUP(H1070,DropDowns!$F$2:$G$7,2,FALSE),\"Residual categories\")","v":"Residual categories"},null,null,null,0,0,0]
[0,{"$f":"IF(OR(COUNTA(O1041:O1070)>0,COUNTA(O1070:$O$5195)>0),IF(COUNTIF(B1061:B1070,B1070)=10,B1070+7,B1070),\"\")","v":""},null,"","",null,null,null,0,0,0,0,{"$f":"IFERROR(VLOOKUP(G1071,DropDowns!$D$2:$E$151,2,FALSE),\"\")","v":""},{"$f":"IFERROR(VLOOKUP(H1071,DropDowns!$F$2:$G$7,2,FALSE),\"Residual categories\")","v":"Residual categories"},null,null,null,0,0,0]
[0,{"$f":"IF(OR(COUNTA(O1042:O1071)>0,COUNTA(O1071:$O$5195)>0),IF(COUNTIF(B1062:B1071,B1071)=10,B1071+7,B1071),\"\")","v":""},null,"","",null,null,null,0,0,0,0,{"$f":"IFERROR(VLOOKUP(G1072,DropDowns!$D$2:$E$151,2,FALSE),\"\")","v":""},{"$f":"IFERROR(VLOOKUP(H1072,DropDowns!$F$2:$G$7,2,FALSE),\"Residual categories\")","v":"Residual categories"},null,null,null,0,0,0]
[0,{"$f":"IF(OR(COUNTA(O1043:O1072)>0,COUNTA(O1072:$O$5195)>0),IF(COUNTIF(B1063:B1072,B1072)=10,B1072+7,B1072),\"\")","v":""},null,"","",null,null,null,0,0,0,0,{"$f":"IFERROR(VLOOKUP(G1073,DropDowns!$D$2:$E$151,2,FALSE),\"\")","v":""},{"$f":"IFERROR(VLOOKUP(H1073,DropDowns!$F$2:$G$7,2,FALSE),\"Residual categories\")","v":"Residual categories"},null,null,null,0,0,0]
[0,{"$f":"IF(OR(COUNTA(O1044:O1073)>0,COUNTA(O1073:$O$5195)>0),IF(COUNTIF(B1064:B1073,B1073)=10,B1073+7,B1073),\"\")","v":""},null,"","",null,null,null,0,0,0,0,{"$f":"IFERROR(VLOOKUP(G1074,DropDowns!$D$2:$E$151,2,FALSE),\"\")","v":""},{"$f":"IFERROR(VLOOKUP(H1074,DropDowns!$F$2:$G$7,2,FALSE),\"Residual categories\")","v":"Residual categories"},null,null,null,0,0,0]
[0,{"$f":"IF(OR(COUNTA(O1045:O1074)>0,COUNTA(O1074:$O$5195)>0),IF(COUNTIF(B1065:B1074,B1074)=10,B1074+7,B1074),\"\")","v":""},null,"","",null,null,null,0,0,0,0,{"$f":"IFERROR(VLOOKUP(G1075,DropDowns!$D$2:$E$151,2,FALSE),\"\")","v":""},{"$f":"IFERROR(VLOOKUP(H1075,DropDowns!$F$2:$G$7,2,FALSE),\"Residual categories\")","v":"Residual categories"},null,null,null,0,0,0]
[0,{"$f":"IF(OR(COUNTA(O1046:O1075)>0,COUNTA(O1075:$O$5195)>0),IF(COUNTIF(B1066:B1075,B1075)=10,B1075+7,B1075),\"\")","v":""},null,"","",null,null,null,0,0,0,0,{"$f":"IFERROR(VLOOKUP(G1076,DropDowns!$D$2:$E$151,2,FALSE),\"\")","v":""},{"$f":"IFERROR(VLOOKUP(H1076,DropDowns!$F$2:$G$7,2,FALSE),\"Residual categories\")","v":"Residual categories"},null,null,null,0,0,0]
[0,{"$f":"IF(OR(COUNTA(O1047:O1076)>0,COUNTA(O1076:$O$5195)>0),IF(COUNTIF(B1067:B1076,B1076)=10,B1076+7,B1076),\"\")","v":""},null,"","",null,null,null,0,0,0,0,{"$f":"IFERROR(VLOOKUP(G1077,DropDowns!$D$2:$E$151,2,FALSE),\"\")","v":""},{"$f":"IFERROR(VLOOKUP(H1077,DropDowns!$F$2:$G$7,2,FALSE),\"Residual categories\")","v":"Residual categories"},null,null,null,0,0,0]
[0,{"$f":"IF(OR(COUNTA(O1048:O1077)>0,COUNTA(O1077:$O$5195)>0),IF(COUNTIF(B1068:B1077,B1077)=10,B1077+7,B1077),\"\")","v":""},null,"","",null,null,null,0,0,0,0,{"$f":"IFERROR(VLOOKUP(G1078,DropDowns!$D$2:$E$151,2,FALSE),\"\")","v":""},{"$f":"IFERROR(VLOOKUP(H1078,DropDowns!$F$2:$G$7,2,FALSE),\"Residual categories\")","v":"Residual categories"},null,null,null,0,0,0]
[0,{"$f":"IF(OR(COUNTA(O1049:O1078)>0,COUNTA(O1078:$O$5195)>0),IF(COUNTIF(B1069:B1078,B1078)=10,B1078+7,B1078),\"\")","v":""},null,"","",null,null,null,0,0,0,0,{"$f":"IFERROR(VLOOKUP(G1079,DropDowns!$D$2:$E$151,2,FALSE),\"\")","v":""},{"$f":"IFERROR(VLOOKUP(H1079,DropDowns!$F$2:$G$7,2,FALSE),\"Residual categories\")","v":"Residual categories"},null,null,null,0,0,0]
[0,{"$f":"IF(OR(COUNTA(O1050:O1079)>0,COUNTA(O1079:$O$5195)>0),IF(COUNTIF(B1070:B1079,B1079)=10,B1079+7,B1079),\"\")","v":""},null,"","",null,null,null,0,0,0,0,{"$f":"IFERROR(VLOOKUP(G1080,DropDowns!$D$2:$E$151,2,FALSE),\"\")","v":""},{"$f":"IFERROR(VLOOKUP(H1080,DropDowns!$F$2:$G$7,2,FALSE),\"Residual categories\")","v":"Residual categories"},null,null,null,0,0,0]
[0,{"$f":"IF(OR(COUNTA(O1051:O1080)>0,COUNTA(O1080:$O$5195)>0),IF(COUNTIF(B1071:B1080,B1080)=10,B1080+7,B1080),\"\")","v":""},null,"","",null,null,null,0,0,0,0,{"$f":"IFERROR(VLOOKUP(G1081,DropDowns!$D$2:$E$151,2,FALSE),\"\")","v":""},{"$f":"IFERROR(VLOOKUP(H1081,DropDowns!$F$2:$G$7,2,FALSE),\"Residual categories\")","v":"Residual categories"},null,null,null,0,0,0]
[0,{"$f":"IF(OR(COUNTA(O1052:O1081)>0,COUNTA(O1081:$O$5195)>0),IF(COUNTIF(B1072:B1081,B1081)=10,B1081+7,B1081),\"\")","v":""},null,"","",null,null,null,0,0,0,0,{"$f":"IFERROR(VLOOKUP(G1082,DropDowns!$D$2:$E$151,2,FALSE),\"\")","v":""},{"$f":"IFERROR(VLOOKUP(H1082,DropDowns!$F$2:$G$7,2,FALSE),\"Residual categories\")","v":"Residual categories"},null,null,null,0,0,0]
[0,{"$f":"IF(OR(COUNTA(O1053:O1082)>0,COUNTA(O1082:$O$5195)>0),IF(COUNTIF(B1073:B1082,B1082)=10,B1082+7,B1082),\"\")","v":""},null,"","",null,null,null,0,0,0,0,{"$f":"IFERROR(VLOOKUP(G1083,DropDowns!$D$2:$E$151,2,FALSE),\"\")","v":""},{"$f":"IFERROR(VLOOKUP(H1083,DropDowns!$F$2:$G$7,2,FALSE),\"Residual categories\")","v":"Residual categories"},null,null,null,0,0,0]
[0,{"$f":"IF(OR(COUNTA(O1054:O1083)>0,COUNTA(O1083:$O$5195)>0),IF(COUNTIF(B1074:B1083,B1083)=10,B1083+7,B1083),\"\")","v":""},null,"","",null,null,null,0,0,0,0,{"$f":"IFERROR(VLOOKUP(G1084,DropDowns!$D$2:$E$151,2,FALSE),\"\")","v":""},{"$f":"IFERROR(VLOOKUP(H1084,DropDowns!$F$2:$G$7,2,FALSE),\"Residual categories\")","v":"Residual categories"},null,null,null,0,0,0]
[0,{"$f":"IF(OR(COUNTA(O1055:O1084)>0,COUNTA(O1084:$O$5195)>0),IF(COUNTIF(B1075:B1084,B1084)=10,B1084+7,B1084),\"\")","v":""},null,"","",null,null,null,0,0,0,0,{"$f":"IFERROR(VLOOKUP(G1085,DropDowns!$D$2:$E$151,2,FALSE),\"\")","v":""},{"$f":"IFERROR(VLOOKUP(H1085,DropDowns!$F$2:$G$7,2,FALSE),\"Residual categories\")","v":"Residual categories"},null,null,null,0,0,0]
[0,{"$f":"IF(OR(COUNTA(O1056:O1085)>0,COUNTA(O1085:$O$5195)>0),IF(COUNTIF(B1076:B1085,B1085)=10,B1085+7,B1085),\"\")","v":""},null,"","",null,null,null,0,0,0,0,{"$f":"IFERROR(VLOOKUP(G1086,DropDowns!$D$2:$E$151,2,FALSE),\"\")","v":""},{"$f":"IFERROR(VLOOKUP(H1086,DropDowns!$F$2:$G$7,2,FALSE),\"Residual categories\")","v":"Residual categories"},null,null,null,0,0,0]
[0,{"$f":"IF(OR(COUNTA(O1057:O1086)>0,COUNTA(O1086:$O$5195)>0),IF(COUNTIF(B1077:B1086,B1086)=10,B1086+7,B1086),\"\")","v":""},null,"","",null,null,null,0,0,0,0,{"$f":"IFERROR(VLOOKUP(G1087,DropDowns!$D$2:$E$151,2,FALSE),\"\")","v":""},{"$f":"IFERROR(VLOOKUP(H1087,DropDowns!$F$2:$G$7,2,FALSE),\"Residual categories\")","v":"Residual categories"},null,null,null,0,0,0]
[0,{"$f":"IF(OR(COUNTA(O1058:O1087)>0,COUNTA(O1087:$O$5195)>0),IF(COUNTIF(B1078:B1087,B1087)=10,B1087+7,B1087),\"\")","v":""},null,"","",null,null,null,0,0,0,0,{"$f":"IFERROR(VLOOKUP(G1088,DropDowns!$D$2:$E$151,2,FALSE),\"\")","v":""},{"$f":"IFERROR(VLOOKUP(H1088,DropDowns!$F$2:$G$7,2,FALSE),\"Residual categories\")","v":"Residual categories"},null,null,null,0,0,0]
[0,{"$f":"IF(OR(COUNTA(O1059:O1088)>0,COUNTA(O1088:$O$5195)>0),IF(COUNTIF(B1079:B1088,B1088)=10,B1088+7,B1088),\"\")","v":""},null,"","",null,null,null,0,0,0,0,{"$f":"IFERROR(VLOOKUP(G1089,DropDowns!$D$2:$E$151,2,FALSE),\"\")","v":""},{"$f":"IFERROR(VLOOKUP(H1089,DropDowns!$F$2:$G$7,2,FALSE),\"Residual categories\")","v":"Residual categories"},null,null,null,0,0,0]
[0,{"$f":"IF(OR(COUNTA(O1060:O1089)>0,COUNTA(O1089:$O$5195)>0),IF(COUNTIF(B1080:B1089,B1089)=10,B1089+7,B1089),\"\")","v":""},null,"","",null,null,null,0,0,0,0,{"$f":"IFERROR(VLOOKUP(G1090,DropDowns!$D$2:$E$151,2,FALSE),\"\")","v":""},{"$f":"IFERROR(VLOOKUP(H1090,DropDowns!$F$2:$G$7,2,FALSE),\"Residual categories\")","v":"Residual categories"},null,null,null,0,0,0]
[0,{"$f":"IF(OR(COUNTA(O1061:O1090)>0,COUNTA(O1090:$O$5195)>0),IF(COUNTIF(B1081:B1090,B1090)=10,B1090+7,B1090),\"\")","v":""},null,"","",null,null,null,0,0,0,0,{"$f":"IFERROR(VLOOKUP(G1091,DropDowns!$D$2:$E$151,2,FALSE),\"\")","v":""},{"$f":"IFERROR(VLOOKUP(H1091,DropDowns!$F$2:$G$7,2,FALSE),\"Residual categories\")","v":"Residual categories"},null,null,null,0,0,0]
[0,{"$f":"IF(OR(COUNTA(O1062:O1091)>0,COUNTA(O1091:$O$5195)>0),IF(COUNTIF(B1082:B1091,B1091)=10,B1091+7,B1091),\"\")","v":""},null,"","",null,null,null,0,0,0,0,{"$f":"IFERROR(VLOOKUP(G1092,DropDowns!$D$2:$E$151,2,FALSE),\"\")","v":""},{"$f":"IFERROR(VLOOKUP(H1092,DropDowns!$F$2:$G$7,2,FALSE),\"Residual categories\")","v":"Residual categories"},null,null,null,0,0,0]
[0,{"$f":"IF(OR(COUNTA(O1063:O1092)>0,COUNTA(O1092:$O$5195)>0),IF(COUNTIF(B1083:B1092,B1092)=10,B1092+7,B1092),\"\")","v":""},null,"","",null,null,null,0,0,0,0,{"$f":"IFERROR(VLOOKUP(G1093,DropDowns!$D$2:$E$151,2,FALSE),\"\")","v":""},{"$f":"IFERROR(VLOOKUP(H1093,DropDowns!$F$2:$G$7,2,FALSE),\"Residual categories\")","v":"Residual categories"},null,null,null,0,0,0]
[0,{"$f":"IF(OR(COUNTA(O1064:O1093)>0,COUNTA(O1093:$O$5195)>0),IF(COUNTIF(B1084:B1093,B1093)=10,B1093+7,B1093),\"\")","v":""},null,"","",null,null,null,0,0,0,0,{"$f":"IFERROR(VLOOKUP(G1094,DropDowns!$D$2:$E$151,2,FALSE),\"\")","v":""},{"$f":"IFERROR(VLOOKUP(H1094,DropDowns!$F$2:$G$7,2,FALSE),\"Residual categories\")","v":"Residual categories"},null,null,null,0,0,0]
[0,{"$f":"IF(OR(COUNTA(O1065:O1094)>0,COUNTA(O1094:$O$5195)>0),IF(COUNTIF(B1085:B1094,B1094)=10,B1094+7,B1094),\"\")","v":""},null,{"$f":"IF(E1095=1,B1095,\"\")","v":""},"",null,null,null,{"$f":"IF(COUNTA(O1095:Q1095)>0,1,0)","v":0},{"$f":"IF(O1095=\"y\",1,0)","v":0},{"$f":"IF(P1095=\"y\",1,0)","v":0},{"$f":"IF(Q1095=\"y\",1,0)","v":0},{"$f":"IFERROR(VLOOKUP(G1095,DropDowns!$D$2:$E$151,2,FALSE),\"\")","v":""},{"$f":"IFERROR(VLOOKUP(H1095,DropDowns!$F$2:$G$7,2,FALSE),\"Residual categories\")","v":"Residual categories"},null,null,null,{"$f":"IF(O1095=\"yes\",1,0)","v":0},{"$f":"IF(P1095=\"yes\",1,0)","v":0},{"$f":"IF(Q1095=\"yes\",1,0)","v":0}]
[0,{"$f":"IF(OR(COUNTA(O1066:O1095)>0,COUNTA(O1095:$O$5195)>0),IF(COUNTIF(B1086:B1095,B1095)=10,B1095+7,B1095),\"\")","v":""},null,"","",null,null,null,0,0,0,0,{"$f":"IFERROR(VLOOKUP(G1096,DropDowns!$D$2:$E$151,2,FALSE),\"\")","v":""},{"$f":"IFERROR(VLOOKUP(H1096,DropDowns!$F$2:$G$7,2,FALSE),\"Residual categories\")","v":"Residual categories"},null,null,null,0,0,0]
[0,{"$f":"IF(OR(COUNTA(O1067:O1096)>0,COUNTA(O1096:$O$5195)>0),IF(COUNTIF(B1087:B1096,B1096)=10,B1096+7,B1096),\"\")","v":""},null,"","",null,null,null,0,0,0,0,{"$f":"IFERROR(VLOOKUP(G1097,DropDowns!$D$2:$E$151,2,FALSE),\"\")","v":""},{"$f":"IFERROR(VLOOKUP(H1097,DropDowns!$F$2:$G$7,2,FALSE),\"Residual categories\")","v":"Residual categories"},null,null,null,0,0,0]
[0,{"$f":"IF(OR(COUNTA(O1068:O1097)>0,COUNTA(O1097:$O$5195)>0),IF(COUNTIF(B1088:B1097,B1097)=10,B1097+7,B1097),\"\")","v":""},null,"","",null,null,null,0,0,0,0,{"$f":"IFERROR(VLOOKUP(G1098,DropDowns!$D$2:$E$151,2,FALSE),\"\")","v":""},{"$f":"IFERROR(VLOOKUP(H1098,DropDowns!$F$2:$G$7,2,FALSE),\"Residual categories\")","v":"Residual categories"},null,null,null,0,0,0]
[0,{"$f":"IF(OR(COUNTA(O1069:O1098)>0,COUNTA(O1098:$O$5195)>0),IF(COUNTIF(B1089:B1098,B1098)=10,B1098+7,B1098),\"\")","v":""},null,"","",null,null,null,0,0,0,0,{"$f":"IFERROR(VLOOKUP(G1099,DropDowns!$D$2:$E$151,2,FALSE),\"\")","v":""},{"$f":"IFERROR(VLOOKUP(H1099,DropDowns!$F$2:$G$7,2,FALSE),\"Residual categories\")","v":"Residual categories"},null,null,null,0,0,0]
[0,{"$f":"IF(OR(COUNTA(O1070:O1099)>0,COUNTA(O1099:$O$5195)>0),IF(COUNTIF(B1090:B1099,B1099)=10,B1099+7,B1099),\"\")","v":""},null,"","",null,null,null,0,0,0,0,{"$f":"IFERROR(VLOOKUP(G1100,DropDowns!$D$2:$E$151,2,FALSE),\"\")","v":""},{"$f":"IFERROR(VLOOKUP(H1100,DropDowns!$F$2:$G$7,2,FALSE),\"Residual categories\")","v":"Residual categories"},null,null,null,0,0,0]
[0,{"$f":"IF(OR(COUNTA(O1071:O1100)>0,COUNTA(O1100:$O$5195)>0),IF(COUNTIF(B1091:B1100,B1100)=10,B1100+7,B1100),\"\")","v":""},null,"","",null,null,null,0,0,0,0,{"$f":"IFERROR(VLOOKUP(G1101,DropDowns!$D$2:$E$151,2,FALSE),\"\")","v":""},{"$f":"IFERROR(VLOOKUP(H1101,DropDowns!$F$2:$G$7,2,FALSE),\"Residual categories\")","v":"Residual categories"},null,null,null,0,0,0]
[0,{"$f":"IF(OR(COUNTA(O1072:O1101)>0,COUNTA(O1101:$O$5195)>0),IF(COUNTIF(B1092:B1101,B1101)=10,B1101+7,B1101),\"\")","v":""},null,"","",null,null,null,0,0,0,0,{"$f":"IFERROR(VLOOKUP(G1102,DropDowns!$D$2:$E$151,2,FALSE),\"\")","v":""},{"$f":"IFERROR(VLOOKUP(H1102,DropDowns!$F$2:$G$7,2,FALSE),\"Residual categories\")","v":"Residual categories"},null,null,null,0,0,0]
[0,{"$f":"IF(OR(COUNTA(O1073:O1102)>0,COUNTA(O1102:$O$5195)>0),IF(COUNTIF(B1093:B1102,B1102)=10,B1102+7,B1102),\"\")","v":""},null,"","",null,null,null,0,0,0,0,{"$f":"IFERROR(VLOOKUP(G1103,DropDowns!$D$2:$E$151,2,FALSE),\"\")","v":""},{"$f":"IFERROR(VLOOKUP(H1103,DropDowns!$F$2:$G$7,2,FALSE),\"Residual categories\")","v":"Residual categories"},null,null,null,0,0,0]
[0,{"$f":"IF(OR(COUNTA(O1074:O1103)>0,COUNTA(O1103:$O$5195)>0),IF(COUNTIF(B1094:B1103,B1103)=10,B1103+7,B1103),\"\")","v":""},null,"","",null,null,null,0,0,0,0,{"$f":"IFERROR(VLOOKUP(G1104,DropDowns!$D$2:$E$151,2,FALSE),\"\")","v":""},{"$f":"IFERROR(VLOOKUP(H1104,DropDowns!$F$2:$G$7,2,FALSE),\"Residual categories\")","v":"Residual categories"},null,null,null,0,0,0]
[0,{"$f":"IF(OR(COUNTA(O1075:O1104)>0,COUNTA(O1104:$O$5195)>0),IF(COUNTIF(B1095:B1104,B1104)=10,B1104+7,B1104),\"\")","v":""},null,"",{"$f":"IF(B1105=\"\",\"\",COUNTIF(B1096:B1105,B1105))","v":""},null,null,null,0,0,0,0,{"$f":"IFERROR(VLOOKUP(G1105,DropDowns!$D$2:$E$151,2,FALSE),\"\")","v":""},{"$f":"IFERROR(VLOOKUP(H1105,DropDowns!$F$2:$G$7,2,FALSE),\"Residual categories\")","v":"Residual categories"},null,null,null,0,0,0]
[0,{"$f":"IF(OR(COUNTA(O1076:O1105)>0,COUNTA(O1105:$O$5195)>0),IF(COUNTIF(B1096:B1105,B1105)=10,B1105+7,B1105),\"\")","v":""},null,"","",null,null,null,0,0,0,0,{"$f":"IFERROR(VLOOKUP(G1106,DropDowns!$D$2:$E$151,2,FALSE),\"\")","v":""},{"$f":"IFERROR(VLOOKUP(H1106,DropDowns!$F$2:$G$7,2,FALSE),\"Residual categories\")","v":"Residual categories"},null,null,null,0,0,0]
[0,{"$f":"IF(OR(COUNTA(O1077:O1106)>0,COUNTA(O1106:$O$5195)>0),IF(COUNTIF(B1097:B1106,B1106)=10,B1106+7,B1106),\"\")","v":""},null,"","",null,null,null,0,0,0,0,{"$f":"IFERROR(VLOOKUP(G1107,DropDowns!$D$2:$E$151,2,FALSE),\"\")","v":""},{"$f":"IFERROR(VLOOKUP(H1107,DropDowns!$F$2:$G$7,2,FALSE),\"Residual categories\")","v":"Residual categories"},null,null,null,0,0,0]
[{"$f":"$E$2","v":0},{"$f":"IF(OR(COUNTA(O1078:O1107)>0,COUNTA(O1107:$O$5195)>0),IF(COUNTIF(B1098:B1107,B1107)=10,B1107+7,B1107),\"\")","v":""},null,"","",null,null,null,0,0,0,0,{"$f":"IFERROR(VLOOKUP(G1108,DropDowns!$D$2:$E$151,2,FALSE),\"\")","v":""},{"$f":"IFERROR(VLOOKUP(H1108,DropDowns!$F$2:$G$7,2,FALSE),\"Residual categories\")","v":"Residual categories"},null,null,null,0,0,0]
[0,{"$f":"IF(OR(COUNTA(O1079:O1108)>0,COUNTA(O1108:$O$5195)>0),IF(COUNTIF(B1099:B1108,B1108)=10,B1108+7,B1108),\"\")","v":""},null,"","",null,null,null,0,0,0,0,{"$f":"IFERROR(VLOOKUP(G1109,DropDowns!$D$2:$E$151,2,FALSE),\"\")","v":""},{"$f":"IFERROR(VLOOKUP(H1109,DropDowns!$F$2:$G$7,2,FALSE),\"Residual categories\")","v":"Residual categories"},null,null,null,0,0,0]
[0,{"$f":"IF(OR(COUNTA(O1080:O1109)>0,COUNTA(O1109:$O$5195)>0),IF(COUNTIF(B1100:B1109,B1109)=10,B1109+7,B1109),\"\")","v":""},null,"","",null,null,null,0,0,0,0,{"$f":"IFERROR(VLOOKUP(G1110,DropDowns!$D$2:$E$151,2,FALSE),\"\")","v":""},{"$f":"IFERROR(VLOOKUP(H1110,DropDowns!$F$2:$G$7,2,FALSE),\"Residual categories\")","v":"Residual categories"},null,null,null,0,0,0]
[0,{"$f":"IF(OR(COUNTA(O1081:O1110)>0,COUNTA(O1110:$O$5195)>0),IF(COUNTIF(B1101:B1110,B1110)=10,B1110+7,B1110),\"\")","v":""},null,"","",null,null,null,0,0,0,0,{"$f":"IFERROR(VLOOKUP(G1111,DropDowns!$D$2:$E$151,2,FALSE),\"\")","v":""},{"$f":"IFERROR(VLOOKUP(H1111,DropDowns!$F$2:$G$7,2,FALSE),\"Residual categories\")","v":"Residual categories"},null,null,null,0,0,0]
[0,{"$f":"IF(OR(COUNTA(O1082:O1111)>0,COUNTA(O1111:$O$5195)>0),IF(COUNTIF(B1102:B1111,B1111)=10,B1111+7,B1111),\"\")","v":""},null,"","",null,null,null,0,0,0,0,{"$f":"IFERROR(VLOOKUP(G1112,DropDowns!$D$2:$E$151,2,FALSE),\"\")","v":""},{"$f":"IFERROR(VLOOKUP(H1112,DropDowns!$F$2:$G$7,2,FALSE),\"Residual categories\")","v":"Residual categories"},null,null,null,0,0,0]
[0,{"$f":"IF(OR(COUNTA(O1083:O1112)>0,COUNTA(O1112:$O$5195)>0),IF(COUNTIF(B1103:B1112,B1112)=10,B1112+7,B1112),\"\")","v":""},null,"","",null,null,null,0,0,0,0,{"$f":"IFERROR(VLOOKUP(G1113,DropDowns!$D$2:$E$151,2,FALSE),\"\")","v":""},{"$f":"IFERROR(VLOOKUP(H1113,DropDowns!$F$2:$G$7,2,FALSE),\"Residual categories\")","v":"Residual categories"},null,null,null,0,0,0]
[0,{"$f":"IF(OR(COUNTA(O1084:O1113)>0,COUNTA(O1113:$O$5195)>0),IF(COUNTIF(B1104:B1113,B1113)=10,B1113+7,B1113),\"\")","v":""},null,"","",null,null,null,0,0,0,0,{"$f":"IFERROR(VLOOKUP(G1114,DropDowns!$D$2:$E$151,2,FALSE),\"\")","v":""},{"$f":"IFERROR(VLOOKUP(H1114,DropDowns!$F$2:$G$7,2,FALSE),\"Residual categories\")","v":"Residual categories"},null,null,null,0,0,0]
[0,{"$f":"IF(OR(COUNTA(O1085:O1114)>0,COUNTA(O1114:$O$5195)>0),IF(COUNTIF(B1105:B1114,B1114)=10,B1114+7,B1114),\"\")","v":""},null,"","",null,null,null,0,0,0,0,{"$f":"IFERROR(VLOOKUP(G1115,DropDowns!$D$2:$E$151,2,FALSE),\"\")","v":""},{"$f":"IFERROR(VLOOKUP(H1115,DropDowns!$F$2:$G$7,2,FALSE),\"Residual categories\")","v":"Residual categories"},null,null,null,0,0,0]
[0,{"$f":"IF(OR(COUNTA(O1086:O1115)>0,COUNTA(O1115:$O$5195)>0),IF(COUNTIF(B1106:B1115,B1115)=10,B1115+7,B1115),\"\")","v":""},null,"","",null,null,null,0,0,0,0,{"$f":"IFERROR(VLOOKUP(G1116,DropDowns!$D$2:$E$151,2,FALSE),\"\")","v":""},{"$f":"IFERROR(VLOOKUP(H1116,DropDowns!$F$2:$G$7,2,FALSE),\"Residual categories\")","v":"Residual categories"},null,null,null,0,0,0]
[0,{"$f":"IF(OR(COUNTA(O1087:O1116)>0,COUNTA(O1116:$O$5195)>0),IF(COUNTIF(B1107:B1116,B1116)=10,B1116+7,B1116),\"\")","v":""},null,"","",null,null,null,0,0,0,0,{"$f":"IFERROR(VLOOKUP(G1117,DropDowns!$D$2:$E$151,2,FALSE),\"\")","v":""},{"$f":"IFERROR(VLOOKUP(H1117,DropDowns!$F$2:$G$7,2,FALSE),\"Residual categories\")","v":"Residual categories"},null,null,null,0,0,0]
[0,{"$f":"IF(OR(COUNTA(O1088:O1117)>0,COUNTA(O1117:$O$5195)>0),IF(COUNTIF(B1108:B1117,B1117)=10,B1117+7,B1117),\"\")","v":""},null,"","",null,null,null,0,0,0,0,{"$f":"IFERROR(VLOOKUP(G1118,DropDowns!$D$2:$E$151,2,FALSE),\"\")","v":""},{"$f":"IFERROR(VLOOKUP(H1118,DropDowns!$F$2:$G$7,2,FALSE),\"Residual categories\")","v":"Residual categories"},null,null,null,0,0,0]
[0,{"$f":"IF(OR(COUNTA(O1089:O1118)>0,COUNTA(O1118:$O$5195)>0),IF(COUNTIF(B1109:B1118,B1118)=10,B1118+7,B1118),\"\")","v":""},null,"","",null,null,null,0,0,0,0,{"$f":"IFERROR(VLOOKUP(G1119,DropDowns!$D$2:$E$151,2,FALSE),\"\")","v":""},{"$f":"IFERROR(VLOOKUP(H1119,DropDowns!$F$2:$G$7,2,FALSE),\"Residual categories\")","v":"Residual categories"},null,null,null,0,0,0]
[0,{"$f":"IF(OR(COUNTA(O1090:O1119)>0,COUNTA(O1119:$O$5195)>0),IF(COUNTIF(B1110:B1119,B1119)=10,B1119+7,B1119),\"\")","v":""},null,"","",null,null,null,0,0,0,0,{"$f":"IFERROR(VLOOKUP(G1120,DropDowns!$D$2:$E$151,2,FALSE),\"\")","v":""},{"$f":"IFERROR(VLOOKUP(H1120,DropDowns!$F$2:$G$7,2,FALSE),\"Residual categories\")","v":"Residual categories"},null,null,null,0,0,0]
[0,{"$f":"IF(OR(COUNTA(O1091:O1120)>0,COUNTA(O1120:$O$5195)>0),IF(COUNTIF(B1111:B1120,B1120)=10,B1120+7,B1120),\"\")","v":""},null,"","",null,null,null,0,0,0,0,{"$f":"IFERROR(VLOOKUP(G1121,DropDowns!$D$2:$E$151,2,FALSE),\"\")","v":""},{"$f":"IFERROR(VLOOKUP(H1121,DropDowns!$F$2:$G$7,2,FALSE),\"Residual categories\")","v":"Residual categories"},null,null,null,0,0,0]
[0,{"$f":"IF(OR(COUNTA(O1092:O1121)>0,COUNTA(O1121:$O$5195)>0),IF(COUNTIF(B1112:B1121,B1121)=10,B1121+7,B1121),\"\")","v":""},null,"","",null,null,null,0,0,0,0,{"$f":"IFERROR(VLOOKUP(G1122,DropDowns!$D$2:$E$151,2,FALSE),\"\")","v":""},{"$f":"IFERROR(VLOOKUP(H1122,DropDowns!$F$2:$G$7,2,FALSE),\"Residual categories\")","v":"Residual categories"},null,null,null,0,0,0]
[0,{"$f":"IF(OR(COUNTA(O1093:O1122)>0,COUNTA(O1122:$O$5195)>0),IF(COUNTIF(B1113:B1122,B1122)=10,B1122+7,B1122),\"\")","v":""},null,"","",null,null,null,0,0,0,0,{"$f":"IFERROR(VLOOKUP(G1123,DropDowns!$D$2:$E$151,2,FALSE),\"\")","v":""},{"$f":"IFERROR(VLOOKUP(H1123,DropDowns!$F$2:$G$7,2,FALSE),\"Residual categories\")","v":"Residual categories"},null,null,null,0,0,0]
[0,{"$f":"IF(OR(COUNTA(O1094:O1123)>0,COUNTA(O1123:$O$5195)>0),IF(COUNTIF(B1114:B1123,B1123)=10,B1123+7,B1123),\"\")","v":""},null,"","",null,null,null,0,0,0,0,{"$f":"IFERROR(VLOOKUP(G1124,DropDowns!$D$2:$E$151,2,FALSE),\"\")","v":""},{"$f":"IFERROR(VLOOKUP(H1124,DropDowns!$F$2:$G$7,2,FALSE),\"Residual categories\")","v":"Residual categories"},null,null,null,0,0,0]
[0,{"$f":"IF(OR(COUNTA(O1095:O1124)>0,COUNTA(O1124:$O$5195)>0),IF(COUNTIF(B1115:B1124,B1124)=10,B1124+7,B1124),\"\")","v":""},null,"","",null,null,null,0,0,0,0,{"$f":"IFERROR(VLOOKUP(G1125,DropDowns!$D$2:$E$151,2,FALSE),\"\")","v":""},{"$f":"IFERROR(VLOOKUP(H1125,DropDowns!$F$2:$G$7,2,FALSE),\"Residual categories\")","v":"Residual categories"},null,null,null,0,0,0]
[0,{"$f":"IF(OR(COUNTA(O1096:O1125)>0,COUNTA(O1125:$O$5195)>0),IF(COUNTIF(B1116:B1125,B1125)=10,B1125+7,B1125),\"\")","v":""},null,"","",null,null,null,0,0,0,0,{"$f":"IFERROR(VLOOKUP(G1126,DropDowns!$D$2:$E$151,2,FALSE),\"\")","v":""},{"$f":"IFERROR(VLOOKUP(H1126,DropDowns!$F$2:$G$7,2,FALSE),\"Residual categories\")","v":"Residual categories"},null,null,null,0,0,0]
[0,{"$f":"IF(OR(COUNTA(O1097:O1126)>0,COUNTA(O1126:$O$5195)>0),IF(COUNTIF(B1117:B1126,B1126)=10,B1126+7,B1126),\"\")","v":""},null,"","",null,null,null,0,0,0,0,{"$f":"IFERROR(VLOOKUP(G1127,DropDowns!$D$2:$E$151,2,FALSE),\"\")","v":""},{"$f":"IFERROR(VLOOKUP(H1127,DropDowns!$F$2:$G$7,2,FALSE),\"Residual categories\")","v":"Residual categories"},null,null,null,0,0,0]
[0,{"$f":"IF(OR(COUNTA(O1098:O1127)>0,COUNTA(O1127:$O$5195)>0),IF(COUNTIF(B1118:B1127,B1127)=10,B1127+7,B1127),\"\")","v":""},null,"","",null,null,null,0,0,0,0,{"$f":"IFERROR(VLOOKUP(G1128,DropDowns!$D$2:$E$151,2,FALSE),\"\")","v":""},{"$f":"IFERROR(VLOOKUP(H1128,DropDowns!$F$2:$G$7,2,FALSE),\"Residual categories\")","v":"Residual categories"},null,null,null,0,0,0]
[0,{"$f":"IF(OR(COUNTA(O1099:O1128)>0,COUNTA(O1128:$O$5195)>0),IF(COUNTIF(B1119:B1128,B1128)=10,B1128+7,B1128),\"\")","v":""},null,"","",null,null,null,0,0,0,0,{"$f":"IFERROR(VLOOKUP(G1129,DropDowns!$D$2:$E$151,2,FALSE),\"\")","v":""},{"$f":"IFERROR(VLOOKUP(H1129,DropDowns!$F$2:$G$7,2,FALSE),\"Residual categories\")","v":"Residual categories"},null,null,null,0,0,0]
[0,{"$f":"IF(OR(COUNTA(O1100:O1129)>0,COUNTA(O1129:$O$5195)>0),IF(COUNTIF(B1120:B1129,B1129)=10,B1129+7,B1129),\"\")","v":""},null,"","",null,null,null,0,0,0,0,{"$f":"IFERROR(VLOOKUP(G1130,DropDowns!$D$2:$E$151,2,FALSE),\"\")","v":""},{"$f":"IFERROR(VLOOKUP(H1130,DropDowns!$F$2:$G$7,2,FALSE),\"Residual categories\")","v":"Residual categories"},null,null,null,0,0,0]
[0,{"$f":"IF(OR(COUNTA(O1101:O1130)>0,COUNTA(O1130:$O$5195)>0),IF(COUNTIF(B1121:B1130,B1130)=10,B1130+7,B1130),\"\")","v":""},null,"","",null,null,null,0,0,0,0,{"$f":"IFERROR(VLOOKUP(G1131,DropDowns!$D$2:$E$151,2,FALSE),\"\")","v":""},{"$f":"IFERROR(VLOOKUP(H1131,DropDowns!$F$2:$G$7,2,FALSE),\"Residual categories\")","v":"Residual categories"},null,null,null,0,0,0]
[0,{"$f":"IF(OR(COUNTA(O1102:O1131)>0,COUNTA(O1131:$O$5195)>0),IF(COUNTIF(B1122:B1131,B1131)=10,B1131+7,B1131),\"\")","v":""},null,"","",null,null,null,0,0,0,0,{"$f":"IFERROR(VLOOKUP(G1132,DropDowns!$D$2:$E$151,2,FALSE),\"\")","v":""},{"$f":"IFERROR(VLOOKUP(H1132,DropDowns!$F$2:$G$7,2,FALSE),\"Residual categories\")","v":"Residual categories"},null,null,null,0,0,0]
[0,{"$f":"IF(OR(COUNTA(O1103:O1132)>0,COUNTA(O1132:$O$5195)>0),IF(COUNTIF(B1123:B1132,B1132)=10,B1132+7,B1132),\"\")","v":""},null,"","",null,null,null,0,0,0,0,{"$f":"IFERROR(VLOOKUP(G1133,DropDowns!$D$2:$E$151,2,FALSE),\"\")","v":""},{"$f":"IFERROR(VLOOKUP(H1133,DropDowns!$F$2:$G$7,2,FALSE),\"Residual categories\")","v":"Residual categories"},null,null,null,0,0,0]
[0,{"$f":"IF(OR(COUNTA(O1104:O1133)>0,COUNTA(O1133:$O$5195)>0),IF(COUNTIF(B1124:B1133,B1133)=10,B1133+7,B1133),\"\")","v":""},null,"","",null,null,null,0,0,0,0,{"$f":"IFERROR(VLOOKUP(G1134,DropDowns!$D$2:$E$151,2,FALSE),\"\")","v":""},{"$f":"IFERROR(VLOOKUP(H1134,DropDowns!$F$2:$G$7,2,FALSE),\"Residual categories\")","v":"Residual categories"},null,null,null,0,0,0]
[0,{"$f":"IF(OR(COUNTA(O1105:O1134)>0,COUNTA(O1134:$O$5195)>0),IF(COUNTIF(B1125:B1134,B1134)=10,B1134+7,B1134),\"\")","v":""},null,"","",null,null,null,0,0,0,0,{"$f":"IFERROR(VLOOKUP(G1135,DropDowns!$D$2:$E$151,2,FALSE),\"\")","v":""},{"$f":"IFERROR(VLOOKUP(H1135,DropDowns!$F$2:$G$7,2,FALSE),\"Residual categories\")","v":"Residual categories"},null,null,null,0,0,0]
[0,{"$f":"IF(OR(COUNTA(O1106:O1135)>0,COUNTA(O1135:$O$5195)>0),IF(COUNTIF(B1126:B1135,B1135)=10,B1135+7,B1135),\"\")","v":""},null,"","",null,null,null,0,0,0,0,{"$f":"IFERROR(VLOOKUP(G1136,DropDowns!$D$2:$E$151,2,FALSE),\"\")","v":""},{"$f":"IFERROR(VLOOKUP(H1136,DropDowns!$F$2:$G$7,2,FALSE),\"Residual categories\")","v":"Residual categories"},null,null,null,0,0,0]
[0,{"$f":"IF(OR(COUNTA(O1107:O1136)>0,COUNTA(O1136:$O$5195)>0),IF(COUNTIF(B1127:B1136,B1136)=10,B1136+7,B1136),\"\")","v":""},null,"","",null,null,null,0,0,0,0,{"$f":"IFERROR(VLOOKUP(G1137,DropDowns!$D$2:$E$151,2,FALSE),\"\")","v":""},{"$f":"IFERROR(VLOOKUP(H1137,DropDowns!$F$2:$G$7,2,FALSE),\"Residual categories\")","v":"Residual categories"},null,null,null,0,0,0]
[0,{"$f":"IF(OR(COUNTA(O1108:O1137)>0,COUNTA(O1137:$O$5195)>0),IF(COUNTIF(B1128:B1137,B1137)=10,B1137+7,B1137),\"\")","v":""},null,"","",null,null,null,0,0,0,0,{"$f":"IFERROR(VLOOKUP(G1138,DropDowns!$D$2:$E$151,2,FALSE),\"\")","v":""},{"$f":"IFERROR(VLOOKUP(H1138,DropDowns!$F$2:$G$7,2,FALSE),\"Residual categories\")","v":"Residual categories"},null,null,null,0,0,0]
[0,{"$f":"IF(OR(COUNTA(O1109:O1138)>0,COUNTA(O1138:$O$5195)>0),IF(COUNTIF(B1129:B1138,B1138)=10,B1138+7,B1138),\"\")","v":""},null,"","",null,null,null,0,0,0,0,{"$f":"IFERROR(VLOOKUP(G1139,DropDowns!$D$2:$E$151,2,FALSE),\"\")","v":""},{"$f":"IFERROR(VLOOKUP(H1139,DropDowns!$F$2:$G$7,2,FALSE),\"Residual categories\")","v":"Residual categories"},null,null,null,0,0,0]
[0,{"$f":"IF(OR(COUNTA(O1110:O1139)>0,COUNTA(O1139:$O$5195)>0),IF(COUNTIF(B1130:B1139,B1139)=10,B1139+7,B1139),\"\")","v":""},null,"","",null,null,null,0,0,0,0,{"$f":"IFERROR(VLOOKUP(G1140,DropDowns!$D$2:$E$151,2,FALSE),\"\")","v":""},{"$f":"IFERROR(VLOOKUP(H1140,DropDowns!$F$2:$G$7,2,FALSE),\"Residual categories\")","v":"Residual categories"},null,null,null,0,0,0]
[0,{"$f":"IF(OR(COUNTA(O1111:O1140)>0,COUNTA(O1140:$O$5195)>0),IF(COUNTIF(B1131:B1140,B1140)=10,B1140+7,B1140),\"\")","v":""},null,"","",null,null,null,0,0,0,0,{"$f":"IFERROR(VLOOKUP(G1141,DropDowns!$D$2:$E$151,2,FALSE),\"\")","v":""},{"$f":"IFERROR(VLOOKUP(H1141,DropDowns!$F$2:$G$7,2,FALSE),\"Residual categories\")","v":"Residual categories"},null,null,null,0,0,0]
[0,{"$f":"IF(OR(COUNTA(O1112:O1141)>0,COUNTA(O1141:$O$5195)>0),IF(COUNTIF(B1132:B1141,B1141)=10,B1141+7,B1141),\"\")","v":""},null,"","",null,null,null,0,0,0,0,{"$f":"IFERROR(VLOOKUP(G1142,DropDowns!$D$2:$E$151,2,FALSE),\"\")","v":""},{"$f":"IFERROR(VLOOKUP(H1142,DropDowns!$F$2:$G$7,2,FALSE),\"Residual categories\")","v":"Residual categories"},null,null,null,0,0,0]
[0,{"$f":"IF(OR(COUNTA(O1113:O1142)>0,COUNTA(O1142:$O$5195)>0),IF(COUNTIF(B1133:B1142,B1142)=10,B1142+7,B1142),\"\")","v":""},null,"","",null,null,null,0,0,0,0,{"$f":"IFERROR(VLOOKUP(G1143,DropDowns!$D$2:$E$151,2,FALSE),\"\")","v":""},{"$f":"IFERROR(VLOOKUP(H1143,DropDowns!$F$2:$G$7,2,FALSE),\"Residual categories\")","v":"Residual categories"},null,null,null,0,0,0]
[0,{"$f":"IF(OR(COUNTA(O1114:O1143)>0,COUNTA(O1143:$O$5195)>0),IF(COUNTIF(B1134:B1143,B1143)=10,B1143+7,B1143),\"\")","v":""},null,"","",null,null,null,0,0,0,0,{"$f":"IFERROR(VLOOKUP(G1144,DropDowns!$D$2:$E$151,2,FALSE),\"\")","v":""},{"$f":"IFERROR(VLOOKUP(H1144,DropDowns!$F$2:$G$7,2,FALSE),\"Residual categories\")","v":"Residual categories"},null,null,null,0,0,0]
[0,{"$f":"IF(OR(COUNTA(O1115:O1144)>0,COUNTA(O1144:$O$5195)>0),IF(COUNTIF(B1135:B1144,B1144)=10,B1144+7,B1144),\"\")","v":""},null,"","",null,null,null,0,0,0,0,{"$f":"IFERROR(VLOOKUP(G1145,DropDowns!$D$2:$E$151,2,FALSE),\"\")","v":""},{"$f":"IFERROR(VLOOKUP(H1145,DropDowns!$F$2:$G$7,2,FALSE),\"Residual categories\")","v":"Residual categories"},null,null,null,0,0,0]
[0,{"$f":"IF(OR(COUNTA(O1116:O1145)>0,COUNTA(O1145:$O$5195)>0),IF(COUNTIF(B1136:B1145,B1145)=10,B1145+7,B1145),\"\")","v":""},null,"","",null,null,null,0,0,0,0,{"$f":"IFERROR(VLOOKUP(G1146,DropDowns!$D$2:$E$151,2,FALSE),\"\")","v":""},{"$f":"IFERROR(VLOOKUP(H1146,DropDowns!$F$2:$G$7,2,FALSE),\"Residual categories\")","v":"Residual categories"},null,null,null,0,0,0]
[0,{"$f":"IF(OR(COUNTA(O1117:O1146)>0,COUNTA(O1146:$O$5195)>0),IF(COUNTIF(B1137:B1146,B1146)=10,B1146+7,B1146),\"\")","v":""},null,"","",null,null,null,0,0,0,0,{"$f":"IFERROR(VLOOKUP(G1147,DropDowns!$D$2:$E$151,2,FALSE),\"\")","v":""},{"$f":"IFERROR(VLOOKUP(H1147,DropDowns!$F$2:$G$7,2,FALSE),\"Residual categories\")","v":"Residual categories"},null,null,null,0,0,0]
[0,{"$f":"IF(OR(COUNTA(O1118:O1147)>0,COUNTA(O1147:$O$5195)>0),IF(COUNTIF(B1138:B1147,B1147)=10,B1147+7,B1147),\"\")","v":""},null,"","",null,null,null,0,0,0,0,{"$f":"IFERROR(VLOOKUP(G1148,DropDowns!$D$2:$E$151,2,FALSE),\"\")","v":""},{"$f":"IFERROR(VLOOKUP(H1148,DropDowns!$F$2:$G$7,2,FALSE),\"Residual categories\")","v":"Residual categories"},null,null,null,0,0,0]
[0,{"$f":"IF(OR(COUNTA(O1119:O1148)>0,COUNTA(O1148:$O$5195)>0),IF(COUNTIF(B1139:B1148,B1148)=10,B1148+7,B1148),\"\")","v":""},null,"","",null,null,null,0,0,0,0,{"$f":"IFERROR(VLOOKUP(G1149,DropDowns!$D$2:$E$151,2,FALSE),\"\")","v":""},{"$f":"IFERROR(VLOOKUP(H1149,DropDowns!$F$2:$G$7,2,FALSE),\"Residual categories\")","v":"Residual categories"},null,null,null,0,0,0]
[0,{"$f":"IF(OR(COUNTA(O1120:O1149)>0,COUNTA(O1149:$O$5195)>0),IF(COUNTIF(B1140:B1149,B1149)=10,B1149+7,B1149),\"\")","v":""},null,"","",null,null,null,0,0,0,0,{"$f":"IFERROR(VLOOKUP(G1150,DropDowns!$D$2:$E$151,2,FALSE),\"\")","v":""},{"$f":"IFERROR(VLOOKUP(H1150,DropDowns!$F$2:$G$7,2,FALSE),\"Residual categories\")","v":"Residual categories"},null,null,null,0,0,0]
[0,{"$f":"IF(OR(COUNTA(O1121:O1150)>0,COUNTA(O1150:$O$5195)>0),IF(COUNTIF(B1141:B1150,B1150)=10,B1150+7,B1150),\"\")","v":""},null,"","",null,null,null,0,0,0,0,{"$f":"IFERROR(VLOOKUP(G1151,DropDowns!$D$2:$E$151,2,FALSE),\"\")","v":""},{"$f":"IFERROR(VLOOKUP(H1151,DropDowns!$F$2:$G$7,2,FALSE),\"Residual categories\")","v":"Residual categories"},null,null,null,0,0,0]
[0,{"$f":"IF(OR(COUNTA(O1122:O1151)>0,COUNTA(O1151:$O$5195)>0),IF(COUNTIF(B1142:B1151,B1151)=10,B1151+7,B1151),\"\")","v":""},null,"","",null,null,null,0,0,0,0,{"$f":"IFERROR(VLOOKUP(G1152,DropDowns!$D$2:$E$151,2,FALSE),\"\")","v":""},{"$f":"IFERROR(VLOOKUP(H1152,DropDowns!$F$2:$G$7,2,FALSE),\"Residual categories\")","v":"Residual categories"},null,null,null,0,0,0]
[0,{"$f":"IF(OR(COUNTA(O1123:O1152)>0,COUNTA(O1152:$O$5195)>0),IF(COUNTIF(B1143:B1152,B1152)=10,B1152+7,B1152),\"\")","v":""},null,"","",null,null,null,0,0,0,0,{"$f":"IFERROR(VLOOKUP(G1153,DropDowns!$D$2:$E$151,2,FALSE),\"\")","v":""},{"$f":"IFERROR(VLOOKUP(H1153,DropDowns!$F$2:$G$7,2,FALSE),\"Residual categories\")","v":"Residual categories"},null,null,null,0,0,0]
[0,{"$f":"IF(OR(COUNTA(O1124:O1153)>0,COUNTA(O1153:$O$5195)>0),IF(COUNTIF(B1144:B1153,B1153)=10,B1153+7,B1153),\"\")","v":""},null,"","",null,null,null,0,0,0,0,{"$f":"IFERROR(VLOOKUP(G1154,DropDowns!$D$2:$E$151,2,FALSE),\"\")","v":""},{"$f":"IFERROR(VLOOKUP(H1154,DropDowns!$F$2:$G$7,2,FALSE),\"Residual categories\")","v":"Residual categories"},null,null,null,0,0,0]
[0,{"$f":"IF(OR(COUNTA(O1125:O1154)>0,COUNTA(O1154:$O$5195)>0),IF(COUNTIF(B1145:B1154,B1154)=10,B1154+7,B1154),\"\")","v":""},null,"","",null,null,null,0,0,0,0,{"$f":"IFERROR(VLOOKUP(G1155,DropDowns!$D$2:$E$151,2,FALSE),\"\")","v":""},{"$f":"IFERROR(VLOOKUP(H1155,DropDowns!$F$2:$G$7,2,FALSE),\"Residual categories\")","v":"Residual categories"},null,null,null,0,0,0]
[0,{"$f":"IF(OR(COUNTA(O1126:O1155)>0,COUNTA(O1155:$O$5195)>0),IF(COUNTIF(B1146:B1155,B1155)=10,B1155+7,B1155),\"\")","v":""},null,"","",null,null,null,0,0,0,0,{"$f":"IFERROR(VLOOKUP(G1156,DropDowns!$D$2:$E$151,2,FALSE),\"\")","v":""},{"$f":"IFERROR(VLOOKUP(H1156,DropDowns!$F$2:$G$7,2,FALSE),\"Residual categories\")","v":"Residual categories"},null,null,null,0,0,0]
[0,{"$f":"IF(OR(COUNTA(O1127:O1156)>0,COUNTA(O1156:$O$5195)>0),IF(COUNTIF(B1147:B1156,B1156)=10,B1156+7,B1156),\"\")","v":""},null,"","",null,null,null,0,0,0,0,{"$f":"IFERROR(VLOOKUP(G1157,DropDowns!$D$2:$E$151,2,FALSE),\"\")","v":""},{"$f":"IFERROR(VLOOKUP(H1157,DropDowns!$F$2:$G$7,2,FALSE),\"Residual categories\")","v":"Residual categories"},null,null,null,0,0,0]
[0,{"$f":"IF(OR(COUNTA(O1128:O1157)>0,COUNTA(O1157:$O$5195)>0),IF(COUNTIF(B1148:B1157,B1157)=10,B1157+7,B1157),\"\")","v":""},null,"","",null,null,null,0,0,0,0,{"$f":"IFERROR(VLOOKUP(G1158,DropDowns!$D$2:$E$151,2,FALSE),\"\")","v":""},{"$f":"IFERROR(VLOOKUP(H1158,DropDowns!$F$2:$G$7,2,FALSE),\"Residual categories\")","v":"Residual categories"},null,null,null,0,0,0]
[0,{"$f":"IF(OR(COUNTA(O1129:O1158)>0,COUNTA(O1158:$O$5195)>0),IF(COUNTIF(B1149:B1158,B1158)=10,B1158+7,B1158),\"\")","v":""},null,{"$f":"IF(E1159=1,B1159,\"\")","v":""},"",null,null,null,{"$f":"IF(COUNTA(O1159:Q1159)>0,1,0)","v":0},{"$f":"IF(O1159=\"y\",1,0)","v":0},{"$f":"IF(P1159=\"y\",1,0)","v":0},{"$f":"IF(Q1159=\"y\",1,0)","v":0},{"$f":"IFERROR(VLOOKUP(G1159,DropDowns!$D$2:$E$151,2,FALSE),\"\")","v":""},{"$f":"IFERROR(VLOOKUP(H1159,DropDowns!$F$2:$G$7,2,FALSE),\"Residual categories\")","v":"Residual categories"},null,null,null,{"$f":"IF(O1159=\"yes\",1,0)","v":0},{"$f":"IF(P1159=\"yes\",1,0)","v":0},{"$f":"IF(Q1159=\"yes\",1,0)","v":0}]
[0,{"$f":"IF(OR(COUNTA(O1130:O1159)>0,COUNTA(O1159:$O$5195)>0),IF(COUNTIF(B1150:B1159,B1159)=10,B1159+7,B1159),\"\")","v":""},null,"","",null,null,null,0,0,0,0,{"$f":"IFERROR(VLOOKUP(G1160,DropDowns!$D$2:$E$151,2,FALSE),\"\")","v":""},{"$f":"IFERROR(VLOOKUP(H1160,DropDowns!$F$2:$G$7,2,FALSE),\"Residual categories\")","v":"Residual categories"},null,null,null,0,0,0]
[0,{"$f":"IF(OR(COUNTA(O1131:O1160)>0,COUNTA(O1160:$O$5195)>0),IF(COUNTIF(B1151:B1160,B1160)=10,B1160+7,B1160),\"\")","v":""},null,"","",null,null,null,0,0,0,0,{"$f":"IFERROR(VLOOKUP(G1161,DropDowns!$D$2:$E$151,2,FALSE),\"\")","v":""},{"$f":"IFERROR(VLOOKUP(H1161,DropDowns!$F$2:$G$7,2,FALSE),\"Residual categories\")","v":"Residual categories"},null,null,null,0,0,0]
[0,{"$f":"IF(OR(COUNTA(O1132:O1161)>0,COUNTA(O1161:$O$5195)>0),IF(COUNTIF(B1152:B1161,B1161)=10,B1161+7,B1161),\"\")","v":""},null,"","",null,null,null,0,0,0,0,{"$f":"IFERROR(VLOOKUP(G1162,DropDowns!$D$2:$E$151,2,FALSE),\"\")","v":""},{"$f":"IFERROR(VLOOKUP(H1162,DropDowns!$F$2:$G$7,2,FALSE),\"Residual categories\")","v":"Residual categories"},null,null,null,0,0,0]
[0,{"$f":"IF(OR(COUNTA(O1133:O1162)>0,COUNTA(O1162:$O$5195)>0),IF(COUNTIF(B1153:B1162,B1162)=10,B1162+7,B1162),\"\")","v":""},null,"","",null,null,null,0,0,0,0,{"$f":"IFERROR(VLOOKUP(G1163,DropDowns!$D$2:$E$151,2,FALSE),\"\")","v":""},{"$f":"IFERROR(VLOOKUP(H1163,DropDowns!$F$2:$G$7,2,FALSE),\"Residual categories\")","v":"Residual categories"},null,null,null,0,0,0]
[0,{"$f":"IF(OR(COUNTA(O1134:O1163)>0,COUNTA(O1163:$O$5195)>0),IF(COUNTIF(B1154:B1163,B1163)=10,B1163+7,B1163),\"\")","v":""},null,"","",null,null,null,0,0,0,0,{"$f":"IFERROR(VLOOKUP(G1164,DropDowns!$D$2:$E$151,2,FALSE),\"\")","v":""},{"$f":"IFERROR(VLOOKUP(H1164,DropDowns!$F$2:$G$7,2,FALSE),\"Residual categories\")","v":"Residual categories"},null,null,null,0,0,0]
[0,{"$f":"IF(OR(COUNTA(O1135:O1164)>0,COUNTA(O1164:$O$5195)>0),IF(COUNTIF(B1155:B1164,B1164)=10,B1164+7,B1164),\"\")","v":""},null,"","",null,null,null,0,0,0,0,{"$f":"IFERROR(VLOOKUP(G1165,DropDowns!$D$2:$E$151,2,FALSE),\"\")","v":""},{"$f":"IFERROR(VLOOKUP(H1165,DropDowns!$F$2:$G$7,2,FALSE),\"Residual categories\")","v":"Residual categories"},null,null,null,0,0,0]
[0,{"$f":"IF(OR(COUNTA(O1136:O1165)>0,COUNTA(O1165:$O$5195)>0),IF(COUNTIF(B1156:B1165,B1165)=10,B1165+7,B1165),\"\")","v":""},null,"","",null,null,null,0,0,0,0,{"$f":"IFERROR(VLOOKUP(G1166,DropDowns!$D$2:$E$151,2,FALSE),\"\")","v":""},{"$f":"IFERROR(VLOOKUP(H1166,DropDowns!$F$2:$G$7,2,FALSE),\"Residual categories\")","v":"Residual categories"},null,null,null,0,0,0]
[0,{"$f":"IF(OR(COUNTA(O1137:O1166)>0,COUNTA(O1166:$O$5195)>0),IF(COUNTIF(B1157:B1166,B1166)=10,B1166+7,B1166),\"\")","v":""},null,"","",null,null,null,0,0,0,0,{"$f":"IFERROR(VLOOKUP(G1167,DropDowns!$D$2:$E$151,2,FALSE),\"\")","v":""},{"$f":"IFERROR(VLOOKUP(H1167,DropDowns!$F$2:$G$7,2,FALSE),\"Residual categories\")","v":"Residual categories"},null,null,null,0,0,0]
[0,{"$f":"IF(OR(COUNTA(O1138:O1167)>0,COUNTA(O1167:$O$5195)>0),IF(COUNTIF(B1158:B1167,B1167)=10,B1167+7,B1167),\"\")","v":""},null,"","",null,null,null,0,0,0,0,{"$f":"IFERROR(VLOOKUP(G1168,DropDowns!$D$2:$E$151,2,FALSE),\"\")","v":""},{"$f":"IFERROR(VLOOKUP(H1168,DropDowns!$F$2:$G$7,2,FALSE),\"Residual categories\")","v":"Residual categories"},null,null,null,0,0,0]
[0,{"$f":"IF(OR(COUNTA(O1139:O1168)>0,COUNTA(O1168:$O$5195)>0),IF(COUNTIF(B1159:B1168,B1168)=10,B1168+7,B1168),\"\")","v":""},null,"",{"$f":"IF(B1169=\"\",\"\",COUNTIF(B1160:B1169,B1169))","v":""},null,null,null,0,0,0,0,{"$f":"IFERROR(VLOOKUP(G1169,DropDowns!$D$2:$E$151,2,FALSE),\"\")","v":""},{"$f":"IFERROR(VLOOKUP(H1169,DropDowns!$F$2:$G$7,2,FALSE),\"Residual categories\")","v":"Residual categories"},null,null,null,0,0,0]
[0,{"$f":"IF(OR(COUNTA(O1140:O1169)>0,COUNTA(O1169:$O$5195)>0),IF(COUNTIF(B1160:B1169,B1169)=10,B1169+7,B1169),\"\")","v":""},null,"","",null,null,null,0,0,0,0,{"$f":"IFERROR(VLOOKUP(G1170,DropDowns!$D$2:$E$151,2,FALSE),\"\")","v":""},{"$f":"IFERROR(VLOOKUP(H1170,DropDowns!$F$2:$G$7,2,FALSE),\"Residual categories\")","v":"Residual categories"},null,null,null,0,0,0]
[0,{"$f":"IF(OR(COUNTA(O1141:O1170)>0,COUNTA(O1170:$O$5195)>0),IF(COUNTIF(B1161:B1170,B1170)=10,B1170+7,B1170),\"\")","v":""},null,"","",null,null,null,0,0,0,0,{"$f":"IFERROR(VLOOKUP(G1171,DropDowns!$D$2:$E$151,2,FALSE),\"\")","v":""},{"$f":"IFERROR(VLOOKUP(H1171,DropDowns!$F$2:$G$7,2,FALSE),\"Residual categories\")","v":"Residual categories"},null,null,null,0,0,0]
[{"$f":"$E$2","v":0},{"$f":"IF(OR(COUNTA(O1142:O1171)>0,COUNTA(O1171:$O$5195)>0),IF(COUNTIF(B1162:B1171,B1171)=10,B1171+7,B1171),\"\")","v":""},null,"","",null,null,null,0,0,0,0,{"$f":"IFERROR(VLOOKUP(G1172,DropDowns!$D$2:$E$151,2,FALSE),\"\")","v":""},{"$f":"IFERROR(VLOOKUP(H1172,DropDowns!$F$2:$G$7,2,FALSE),\"Residual categories\")","v":"Residual categories"},null,null,null,0,0,0]
[0,{"$f":"IF(OR(COUNTA(O1143:O1172)>0,COUNTA(O1172:$O$5195)>0),IF(COUNTIF(B1163:B1172,B1172)=10,B1172+7,B1172),\"\")","v":""},null,"","",null,null,null,0,0,0,0,{"$f":"IFERROR(VLOOKUP(G1173,DropDowns!$D$2:$E$151,2,FALSE),\"\")","v":""},{"$f":"IFERROR(VLOOKUP(H1173,DropDowns!$F$2:$G$7,2,FALSE),\"Residual categories\")","v":"Residual categories"},null,null,null,0,0,0]
[0,{"$f":"IF(OR(COUNTA(O1144:O1173)>0,COUNTA(O1173:$O$5195)>0),IF(COUNTIF(B1164:B1173,B1173)=10,B1173+7,B1173),\"\")","v":""},null,"","",null,null,null,0,0,0,0,{"$f":"IFERROR(VLOOKUP(G1174,DropDowns!$D$2:$E$151,2,FALSE),\"\")","v":""},{"$f":"IFERROR(VLOOKUP(H1174,DropDowns!$F$2:$G$7,2,FALSE),\"Residual categories\")","v":"Residual categories"},null,null,null,0,0,0]
[0,{"$f":"IF(OR(COUNTA(O1145:O1174)>0,COUNTA(O1174:$O$5195)>0),IF(COUNTIF(B1165:B1174,B1174)=10,B1174+7,B1174),\"\")","v":""},null,"","",null,null,null,0,0,0,0,{"$f":"IFERROR(VLOOKUP(G1175,DropDowns!$D$2:$E$151,2,FALSE),\"\")","v":""},{"$f":"IFERROR(VLOOKUP(H1175,DropDowns!$F$2:$G$7,2,FALSE),\"Residual categories\")","v":"Residual categories"},null,null,null,0,0,0]
[0,{"$f":"IF(OR(COUNTA(O1146:O1175)>0,COUNTA(O1175:$O$5195)>0),IF(COUNTIF(B1166:B1175,B1175)=10,B1175+7,B1175),\"\")","v":""},null,"","",null,null,null,0,0,0,0,{"$f":"IFERROR(VLOOKUP(G1176,DropDowns!$D$2:$E$151,2,FALSE),\"\")","v":""},{"$f":"IFERROR(VLOOKUP(H1176,DropDowns!$F$2:$G$7,2,FALSE),\"Residual categories\")","v":"Residual categories"},null,null,null,0,0,0]
[0,{"$f":"IF(OR(COUNTA(O1147:O1176)>0,COUNTA(O1176:$O$5195)>0),IF(COUNTIF(B1167:B1176,B1176)=10,B1176+7,B1176),\"\")","v":""},null,"","",null,null,null,0,0,0,0,{"$f":"IFERROR(VLOOKUP(G1177,DropDowns!$D$2:$E$151,2,FALSE),\"\")","v":""},{"$f":"IFERROR(VLOOKUP(H1177,DropDowns!$F$2:$G$7,2,FALSE),\"Residual categories\")","v":"Residual categories"},null,null,null,0,0,0]
[0,{"$f":"IF(OR(COUNTA(O1148:O1177)>0,COUNTA(O1177:$O$5195)>0),IF(COUNTIF(B1168:B1177,B1177)=10,B1177+7,B1177),\"\")","v":""},null,"","",null,null,null,0,0,0,0,{"$f":"IFERROR(VLOOKUP(G1178,DropDowns!$D$2:$E$151,2,FALSE),\"\")","v":""},{"$f":"IFERROR(VLOOKUP(H1178,DropDowns!$F$2:$G$7,2,FALSE),\"Residual categories\")","v":"Residual categories"},null,null,null,0,0,0]
[0,{"$f":"IF(OR(COUNTA(O1149:O1178)>0,COUNTA(O1178:$O$5195)>0),IF(COUNTIF(B1169:B1178,B1178)=10,B1178+7,B1178),\"\")","v":""},null,"","",null,null,null,0,0,0,0,{"$f":"IFERROR(VLOOKUP(G1179,DropDowns!$D$2:$E$151,2,FALSE),\"\")","v":""},{"$f":"IFERROR(VLOOKUP(H1179,DropDowns!$F$2:$G$7,2,FALSE),\"Residual categories\")","v":"Residual categories"},null,null,null,0,0,0]
[0,{"$f":"IF(OR(COUNTA(O1150:O1179)>0,COUNTA(O1179:$O$5195)>0),IF(COUNTIF(B1170:B1179,B1179)=10,B1179+7,B1179),\"\")","v":""},null,"","",null,null,null,0,0,0,0,{"$f":"IFERROR(VLOOKUP(G1180,DropDowns!$D$2:$E$151,2,FALSE),\"\")","v":""},{"$f":"IFERROR(VLOOKUP(H1180,DropDowns!$F$2:$G$7,2,FALSE),\"Residual categories\")","v":"Residual categories"},null,null,null,0,0,0]
[0,{"$f":"IF(OR(COUNTA(O1151:O1180)>0,COUNTA(O1180:$O$5195)>0),IF(COUNTIF(B1171:B1180,B1180)=10,B1180+7,B1180),\"\")","v":""},null,"","",null,null,null,0,0,0,0,{"$f":"IFERROR(VLOOKUP(G1181,DropDowns!$D$2:$E$151,2,FALSE),\"\")","v":""},{"$f":"IFERROR(VLOOKUP(H1181,DropDowns!$F$2:$G$7,2,FALSE),\"Residual categories\")","v":"Residual categories"},null,null,null,0,0,0]
[0,{"$f":"IF(OR(COUNTA(O1152:O1181)>0,COUNTA(O1181:$O$5195)>0),IF(COUNTIF(B1172:B1181,B1181)=10,B1181+7,B1181),\"\")","v":""},null,"","",null,null,null,0,0,0,0,{"$f":"IFERROR(VLOOKUP(G1182,DropDowns!$D$2:$E$151,2,FALSE),\"\")","v":""},{"$f":"IFERROR(VLOOKUP(H1182,DropDowns!$F$2:$G$7,2,FALSE),\"Residual categories\")","v":"Residual categories"},null,null,null,0,0,0]
[0,{"$f":"IF(OR(COUNTA(O1153:O1182)>0,COUNTA(O1182:$O$5195)>0),IF(COUNTIF(B1173:B1182,B1182)=10,B1182+7,B1182),\"\")","v":""},null,"","",null,null,null,0,0,0,0,{"$f":"IFERROR(VLOOKUP(G1183,DropDowns!$D$2:$E$151,2,FALSE),\"\")","v":""},{"$f":"IFERROR(VLOOKUP(H1183,DropDowns!$F$2:$G$7,2,FALSE),\"Residual categories\")","v":"Residual categories"},null,null,null,0,0,0]
[0,{"$f":"IF(OR(COUNTA(O1154:O1183)>0,COUNTA(O1183:$O$5195)>0),IF(COUNTIF(B1174:B1183,B1183)=10,B1183+7,B1183),\"\")","v":""},null,"","",null,null,null,0,0,0,0,{"$f":"IFERROR(VLOOKUP(G1184,DropDowns!$D$2:$E$151,2,FALSE),\"\")","v":""},{"$f":"IFERROR(VLOOKUP(H1184,DropDowns!$F$2:$G$7,2,FALSE),\"Residual categories\")","v":"Residual categories"},null,null,null,0,0,0]
[0,{"$f":"IF(OR(COUNTA(O1155:O1184)>0,COUNTA(O1184:$O$5195)>0),IF(COUNTIF(B1175:B1184,B1184)=10,B1184+7,B1184),\"\")","v":""},null,"","",null,null,null,0,0,0,0,{"$f":"IFERROR(VLOOKUP(G1185,DropDowns!$D$2:$E$151,2,FALSE),\"\")","v":""},{"$f":"IFERROR(VLOOKUP(H1185,DropDowns!$F$2:$G$7,2,FALSE),\"Residual categories\")","v":"Residual categories"},null,null,null,0,0,0]
[0,{"$f":"IF(OR(COUNTA(O1156:O1185)>0,COUNTA(O1185:$O$5195)>0),IF(COUNTIF(B1176:B1185,B1185)=10,B1185+7,B1185),\"\")","v":""},null,"","",null,null,null,0,0,0,0,{"$f":"IFERROR(VLOOKUP(G1186,DropDowns!$D$2:$E$151,2,FALSE),\"\")","v":""},{"$f":"IFERROR(VLOOKUP(H1186,DropDowns!$F$2:$G$7,2,FALSE),\"Residual categories\")","v":"Residual categories"},null,null,null,0,0,0]
[0,{"$f":"IF(OR(COUNTA(O1157:O1186)>0,COUNTA(O1186:$O$5195)>0),IF(COUNTIF(B1177:B1186,B1186)=10,B1186+7,B1186),\"\")","v":""},null,"","",null,null,null,0,0,0,0,{"$f":"IFERROR(VLOOKUP(G1187,DropDowns!$D$2:$E$151,2,FALSE),\"\")","v":""},{"$f":"IFERROR(VLOOKUP(H1187,DropDowns!$F$2:$G$7,2,FALSE),\"Residual categories\")","v":"Residual categories"},null,null,null,0,0,0]
[0,{"$f":"IF(OR(COUNTA(O1158:O1187)>0,COUNTA(O1187:$O$5195)>0),IF(COUNTIF(B1178:B1187,B1187)=10,B1187+7,B1187),\"\")","v":""},null,"","",null,null,null,0,0,0,0,{"$f":"IFERROR(VLOOKUP(G1188,DropDowns!$D$2:$E$151,2,FALSE),\"\")","v":""},{"$f":"IFERROR(VLOOKUP(H1188,DropDowns!$F$2:$G$7,2,FALSE),\"Residual categories\")","v":"Residual categories"},null,null,null,0,0,0]
[0,{"$f":"IF(OR(COUNTA(O1159:O1188)>0,COUNTA(O1188:$O$5195)>0),IF(COUNTIF(B1179:B1188,B1188)=10,B1188+7,B1188),\"\")","v":""},null,"","",null,null,null,0,0,0,0,{"$f":"IFERROR(VLOOKUP(G1189,DropDowns!$D$2:$E$151,2,FALSE),\"\")","v":""},{"$f":"IFERROR(VLOOKUP(H1189,DropDowns!$F$2:$G$7,2,FALSE),\"Residual categories\")","v":"Residual categories"},null,null,null,0,0,0]
[0,{"$f":"IF(OR(COUNTA(O1160:O1189)>0,COUNTA(O1189:$O$5195)>0),IF(COUNTIF(B1180:B1189,B1189)=10,B1189+7,B1189),\"\")","v":""},null,"","",null,null,null,0,0,0,0,{"$f":"IFERROR(VLOOKUP(G1190,DropDowns!$D$2:$E$151,2,FALSE),\"\")","v":""},{"$f":"IFERROR(VLOOKUP(H1190,DropDowns!$F$2:$G$7,2,FALSE),\"Residual categories\")","v":"Residual categories"},null,null,null,0,0,0]
[0,{"$f":"IF(OR(COUNTA(O1161:O1190)>0,COUNTA(O1190:$O$5195)>0),IF(COUNTIF(B1181:B1190,B1190)=10,B1190+7,B1190),\"\")","v":""},null,"","",null,null,null,0,0,0,0,{"$f":"IFERROR(VLOOKUP(G1191,DropDowns!$D$2:$E$151,2,FALSE),\"\")","v":""},{"$f":"IFERROR(VLOOKUP(H1191,DropDowns!$F$2:$G$7,2,FALSE),\"Residual categories\")","v":"Residual categories"},null,null,null,0,0,0]
[0,{"$f":"IF(OR(COUNTA(O1162:O1191)>0,COUNTA(O1191:$O$5195)>0),IF(COUNTIF(B1182:B1191,B1191)=10,B1191+7,B1191),\"\")","v":""},null,"","",null,null,null,0,0,0,0,{"$f":"IFERROR(VLOOKUP(G1192,DropDowns!$D$2:$E$151,2,FALSE),\"\")","v":""},{"$f":"IFERROR(VLOOKUP(H1192,DropDowns!$F$2:$G$7,2,FALSE),\"Residual categories\")","v":"Residual categories"},null,null,null,0,0,0]
[0,{"$f":"IF(OR(COUNTA(O1163:O1192)>0,COUNTA(O1192:$O$5195)>0),IF(COUNTIF(B1183:B1192,B1192)=10,B1192+7,B1192),\"\")","v":""},null,"","",null,null,null,0,0,0,0,{"$f":"IFERROR(VLOOKUP(G1193,DropDowns!$D$2:$E$151,2,FALSE),\"\")","v":""},{"$f":"IFERROR(VLOOKUP(H1193,DropDowns!$F$2:$G$7,2,FALSE),\"Residual categories\")","v":"Residual categories"},null,null,null,0,0,0]
[0,{"$f":"IF(OR(COUNTA(O1164:O1193)>0,COUNTA(O1193:$O$5195)>0),IF(COUNTIF(B1184:B1193,B1193)=10,B1193+7,B1193),\"\")","v":""},null,"","",null,null,null,0,0,0,0,{"$f":"IFERROR(VLOOKUP(G1194,DropDowns!$D$2:$E$151,2,FALSE),\"\")","v":""},{"$f":"IFERROR(VLOOKUP(H1194,DropDowns!$F$2:$G$7,2,FALSE),\"Residual categories\")","v":"Residual categories"},null,null,null,0,0,0]
[0,{"$f":"IF(OR(COUNTA(O1165:O1194)>0,COUNTA(O1194:$O$5195)>0),IF(COUNTIF(B1185:B1194,B1194)=10,B1194+7,B1194),\"\")","v":""},null,"","",null,null,null,0,0,0,0,{"$f":"IFERROR(VLOOKUP(G1195,DropDowns!$D$2:$E$151,2,FALSE),\"\")","v":""},{"$f":"IFERROR(VLOOKUP(H1195,DropDowns!$F$2:$G$7,2,FALSE),\"Residual categories\")","v":"Residual categories"},null,null,null,0,0,0]
[0,{"$f":"IF(OR(COUNTA(O1166:O1195)>0,COUNTA(O1195:$O$5195)>0),IF(COUNTIF(B1186:B1195,B1195)=10,B1195+7,B1195),\"\")","v":""},null,"","",null,null,null,0,0,0,0,{"$f":"IFERROR(VLOOKUP(G1196,DropDowns!$D$2:$E$151,2,FALSE),\"\")","v":""},{"$f":"IFERROR(VLOOKUP(H1196,DropDowns!$F$2:$G$7,2,FALSE),\"Residual categories\")","v":"Residual categories"},null,null,null,0,0,0]
[0,{"$f":"IF(OR(COUNTA(O1167:O1196)>0,COUNTA(O1196:$O$5195)>0),IF(COUNTIF(B1187:B1196,B1196)=10,B1196+7,B1196),\"\")","v":""},null,"","",null,null,null,0,0,0,0,{"$f":"IFERROR(VLOOKUP(G1197,DropDowns!$D$2:$E$151,2,FALSE),\"\")","v":""},{"$f":"IFERROR(VLOOKUP(H1197,DropDowns!$F$2:$G$7,2,FALSE),\"Residual categories\")","v":"Residual categories"},null,null,null,0,0,0]
[0,{"$f":"IF(OR(COUNTA(O1168:O1197)>0,COUNTA(O1197:$O$5195)>0),IF(COUNTIF(B1188:B1197,B1197)=10,B1197+7,B1197),\"\")","v":""},null,"","",null,null,null,0,0,0,0,{"$f":"IFERROR(VLOOKUP(G1198,DropDowns!$D$2:$E$151,2,FALSE),\"\")","v":""},{"$f":"IFERROR(VLOOKUP(H1198,DropDowns!$F$2:$G$7,2,FALSE),\"Residual categories\")","v":"Residual categories"},null,null,null,0,0,0]
[0,{"$f":"IF(OR(COUNTA(O1169:O1198)>0,COUNTA(O1198:$O$5195)>0),IF(COUNTIF(B1189:B1198,B1198)=10,B1198+7,B1198),\"\")","v":""},null,"","",null,null,null,0,0,0,0,{"$f":"IFERROR(VLOOKUP(G1199,DropDowns!$D$2:$E$151,2,FALSE),\"\")","v":""},{"$f":"IFERROR(VLOOKUP(H1199,DropDowns!$F$2:$G$7,2,FALSE),\"Residual categories\")","v":"Residual categories"},null,null,null,0,0,0]
[0,{"$f":"IF(OR(COUNTA(O1170:O1199)>0,COUNTA(O1199:$O$5195)>0),IF(COUNTIF(B1190:B1199,B1199)=10,B1199+7,B1199),\"\")","v":""},null,"","",null,null,null,0,0,0,0,{"$f":"IFERROR(VLOOKUP(G1200,DropDowns!$D$2:$E$151,2,FALSE),\"\")","v":""},{"$f":"IFERROR(VLOOKUP(H1200,DropDowns!$F$2:$G$7,2,FALSE),\"Residual categories\")","v":"Residual categories"},null,null,null,0,0,0]
[0,{"$f":"IF(OR(COUNTA(O1171:O1200)>0,COUNTA(O1200:$O$5195)>0),IF(COUNTIF(B1191:B1200,B1200)=10,B1200+7,B1200),\"\")","v":""},null,"","",null,null,null,0,0,0,0,{"$f":"IFERROR(VLOOKUP(G1201,DropDowns!$D$2:$E$151,2,FALSE),\"\")","v":""},{"$f":"IFERROR(VLOOKUP(H1201,DropDowns!$F$2:$G$7,2,FALSE),\"Residual categories\")","v":"Residual categories"},null,null,null,0,0,0]
[0,{"$f":"IF(OR(COUNTA(O1172:O1201)>0,COUNTA(O1201:$O$5195)>0),IF(COUNTIF(B1192:B1201,B1201)=10,B1201+7,B1201),\"\")","v":""},null,"","",null,null,null,0,0,0,0,{"$f":"IFERROR(VLOOKUP(G1202,DropDowns!$D$2:$E$151,2,FALSE),\"\")","v":""},{"$f":"IFERROR(VLOOKUP(H1202,DropDowns!$F$2:$G$7,2,FALSE),\"Residual categories\")","v":"Residual categories"},null,null,null,0,0,0]
[0,{"$f":"IF(OR(COUNTA(O1173:O1202)>0,COUNTA(O1202:$O$5195)>0),IF(COUNTIF(B1193:B1202,B1202)=10,B1202+7,B1202),\"\")","v":""},null,"","",null,null,null,0,0,0,0,{"$f":"IFERROR(VLOOKUP(G1203,DropDowns!$D$2:$E$151,2,FALSE),\"\")","v":""},{"$f":"IFERROR(VLOOKUP(H1203,DropDowns!$F$2:$G$7,2,FALSE),\"Residual categories\")","v":"Residual categories"},null,null,null,0,0,0]
[0,{"$f":"IF(OR(COUNTA(O1174:O1203)>0,COUNTA(O1203:$O$5195)>0),IF(COUNTIF(B1194:B1203,B1203)=10,B1203+7,B1203),\"\")","v":""},null,"","",null,null,null,0,0,0,0,{"$f":"IFERROR(VLOOKUP(G1204,DropDowns!$D$2:$E$151,2,FALSE),\"\")","v":""},{"$f":"IFERROR(VLOOKUP(H1204,DropDowns!$F$2:$G$7,2,FALSE),\"Residual categories\")","v":"Residual categories"},null,null,null,0,0,0]
[0,{"$f":"IF(OR(COUNTA(O1175:O1204)>0,COUNTA(O1204:$O$5195)>0),IF(COUNTIF(B1195:B1204,B1204)=10,B1204+7,B1204),\"\")","v":""},null,"","",null,null,null,0,0,0,0,{"$f":"IFERROR(VLOOKUP(G1205,DropDowns!$D$2:$E$151,2,FALSE),\"\")","v":""},{"$f":"IFERROR(VLOOKUP(H1205,DropDowns!$F$2:$G$7,2,FALSE),\"Residual categories\")","v":"Residual categories"},null,null,null,0,0,0]
[0,{"$f":"IF(OR(COUNTA(O1176:O1205)>0,COUNTA(O1205:$O$5195)>0),IF(COUNTIF(B1196:B1205,B1205)=10,B1205+7,B1205),\"\")","v":""},null,"","",null,null,null,0,0,0,0,{"$f":"IFERROR(VLOOKUP(G1206,DropDowns!$D$2:$E$151,2,FALSE),\"\")","v":""},{"$f":"IFERROR(VLOOKUP(H1206,DropDowns!$F$2:$G$7,2,FALSE),\"Residual categories\")","v":"Residual categories"},null,null,null,0,0,0]
[0,{"$f":"IF(OR(COUNTA(O1177:O1206)>0,COUNTA(O1206:$O$5195)>0),IF(COUNTIF(B1197:B1206,B1206)=10,B1206+7,B1206),\"\")","v":""},null,"","",null,null,null,0,0,0,0,{"$f":"IFERROR(VLOOKUP(G1207,DropDowns!$D$2:$E$151,2,FALSE),\"\")","v":""},{"$f":"IFERROR(VLOOKUP(H1207,DropDowns!$F$2:$G$7,2,FALSE),\"Residual categories\")","v":"Residual categories"},null,null,null,0,0,0]
[0,{"$f":"IF(OR(COUNTA(O1178:O1207)>0,COUNTA(O1207:$O$5195)>0),IF(COUNTIF(B1198:B1207,B1207)=10,B1207+7,B1207),\"\")","v":""},null,"","",null,null,null,0,0,0,0,{"$f":"IFERROR(VLOOKUP(G1208,DropDowns!$D$2:$E$151,2,FALSE),\"\")","v":""},{"$f":"IFERROR(VLOOKUP(H1208,DropDowns!$F$2:$G$7,2,FALSE),\"Residual categories\")","v":"Residual categories"},null,null,null,0,0,0]
[0,{"$f":"IF(OR(COUNTA(O1179:O1208)>0,COUNTA(O1208:$O$5195)>0),IF(COUNTIF(B1199:B1208,B1208)=10,B1208+7,B1208),\"\")","v":""},null,"","",null,null,null,0,0,0,0,{"$f":"IFERROR(VLOOKUP(G1209,DropDowns!$D$2:$E$151,2,FALSE),\"\")","v":""},{"$f":"IFERROR(VLOOKUP(H1209,DropDowns!$F$2:$G$7,2,FALSE),\"Residual categories\")","v":"Residual categories"},null,null,null,0,0,0]
[0,{"$f":"IF(OR(COUNTA(O1180:O1209)>0,COUNTA(O1209:$O$5195)>0),IF(COUNTIF(B1200:B1209,B1209)=10,B1209+7,B1209),\"\")","v":""},null,"","",null,null,null,0,0,0,0,{"$f":"IFERROR(VLOOKUP(G1210,DropDowns!$D$2:$E$151,2,FALSE),\"\")","v":""},{"$f":"IFERROR(VLOOKUP(H1210,DropDowns!$F$2:$G$7,2,FALSE),\"Residual categories\")","v":"Residual categories"},null,null,null,0,0,0]
[0,{"$f":"IF(OR(COUNTA(O1181:O1210)>0,COUNTA(O1210:$O$5195)>0),IF(COUNTIF(B1201:B1210,B1210)=10,B1210+7,B1210),\"\")","v":""},null,"","",null,null,null,0,0,0,0,{"$f":"IFERROR(VLOOKUP(G1211,DropDowns!$D$2:$E$151,2,FALSE),\"\")","v":""},{"$f":"IFERROR(VLOOKUP(H1211,DropDowns!$F$2:$G$7,2,FALSE),\"Residual categories\")","v":"Residual categories"},null,null,null,0,0,0]
[0,{"$f":"IF(OR(COUNTA(O1182:O1211)>0,COUNTA(O1211:$O$5195)>0),IF(COUNTIF(B1202:B1211,B1211)=10,B1211+7,B1211),\"\")","v":""},null,"","",null,null,null,0,0,0,0,{"$f":"IFERROR(VLOOKUP(G1212,DropDowns!$D$2:$E$151,2,FALSE),\"\")","v":""},{"$f":"IFERROR(VLOOKUP(H1212,DropDowns!$F$2:$G$7,2,FALSE),\"Residual categories\")","v":"Residual categories"},null,null,null,0,0,0]
[0,{"$f":"IF(OR(COUNTA(O1183:O1212)>0,COUNTA(O1212:$O$5195)>0),IF(COUNTIF(B1203:B1212,B1212)=10,B1212+7,B1212),\"\")","v":""},null,"","",null,null,null,0,0,0,0,{"$f":"IFERROR(VLOOKUP(G1213,DropDowns!$D$2:$E$151,2,FALSE),\"\")","v":""},{"$f":"IFERROR(VLOOKUP(H1213,DropDowns!$F$2:$G$7,2,FALSE),\"Residual categories\")","v":"Residual categories"},null,null,null,0,0,0]
[0,{"$f":"IF(OR(COUNTA(O1184:O1213)>0,COUNTA(O1213:$O$5195)>0),IF(COUNTIF(B1204:B1213,B1213)=10,B1213+7,B1213),\"\")","v":""},null,"","",null,null,null,0,0,0,0,{"$f":"IFERROR(VLOOKUP(G1214,DropDowns!$D$2:$E$151,2,FALSE),\"\")","v":""},{"$f":"IFERROR(VLOOKUP(H1214,DropDowns!$F$2:$G$7,2,FALSE),\"Residual categories\")","v":"Residual categories"},null,null,null,0,0,0]
[0,{"$f":"IF(OR(COUNTA(O1185:O1214)>0,COUNTA(O1214:$O$5195)>0),IF(COUNTIF(B1205:B1214,B1214)=10,B1214+7,B1214),\"\")","v":""},null,"","",null,null,null,0,0,0,0,{"$f":"IFERROR(VLOOKUP(G1215,DropDowns!$D$2:$E$151,2,FALSE),\"\")","v":""},{"$f":"IFERROR(VLOOKUP(H1215,DropDowns!$F$2:$G$7,2,FALSE),\"Residual categories\")","v":"Residual categories"},null,null,null,0,0,0]
[0,{"$f":"IF(OR(COUNTA(O1186:O1215)>0,COUNTA(O1215:$O$5195)>0),IF(COUNTIF(B1206:B1215,B1215)=10,B1215+7,B1215),\"\")","v":""},null,"","",null,null,null,0,0,0,0,{"$f":"IFERROR(VLOOKUP(G1216,DropDowns!$D$2:$E$151,2,FALSE),\"\")","v":""},{"$f":"IFERROR(VLOOKUP(H1216,DropDowns!$F$2:$G$7,2,FALSE),\"Residual categories\")","v":"Residual categories"},null,null,null,0,0,0]
[0,{"$f":"IF(OR(COUNTA(O1187:O1216)>0,COUNTA(O1216:$O$5195)>0),IF(COUNTIF(B1207:B1216,B1216)=10,B1216+7,B1216),\"\")","v":""},null,"","",null,null,null,0,0,0,0,{"$f":"IFERROR(VLOOKUP(G1217,DropDowns!$D$2:$E$151,2,FALSE),\"\")","v":""},{"$f":"IFERROR(VLOOKUP(H1217,DropDowns!$F$2:$G$7,2,FALSE),\"Residual categories\")","v":"Residual categories"},null,null,null,0,0,0]
[0,{"$f":"IF(OR(COUNTA(O1188:O1217)>0,COUNTA(O1217:$O$5195)>0),IF(COUNTIF(B1208:B1217,B1217)=10,B1217+7,B1217),\"\")","v":""},null,"","",null,null,null,0,0,0,0,{"$f":"IFERROR(VLOOKUP(G1218,DropDowns!$D$2:$E$151,2,FALSE),\"\")","v":""},{"$f":"IFERROR(VLOOKUP(H1218,DropDowns!$F$2:$G$7,2,FALSE),\"Residual categories\")","v":"Residual categories"},null,null,null,0,0,0]
[0,{"$f":"IF(OR(COUNTA(O1189:O1218)>0,COUNTA(O1218:$O$5195)>0),IF(COUNTIF(B1209:B1218,B1218)=10,B1218+7,B1218),\"\")","v":""},null,"","",null,null,null,0,0,0,0,{"$f":"IFERROR(VLOOKUP(G1219,DropDowns!$D$2:$E$151,2,FALSE),\"\")","v":""},{"$f":"IFERROR(VLOOKUP(H1219,DropDowns!$F$2:$G$7,2,FALSE),\"Residual categories\")","v":"Residual categories"},null,null,null,0,0,0]
[0,{"$f":"IF(OR(COUNTA(O1190:O1219)>0,COUNTA(O1219:$O$5195)>0),IF(COUNTIF(B1210:B1219,B1219)=10,B1219+7,B1219),\"\")","v":""},null,"","",null,null,null,0,0,0,0,{"$f":"IFERROR(VLOOKUP(G1220,DropDowns!$D$2:$E$151,2,FALSE),\"\")","v":""},{"$f":"IFERROR(VLOOKUP(H1220,DropDowns!$F$2:$G$7,2,FALSE),\"Residual categories\")","v":"Residual categories"},null,null,null,0,0,0]
[0,{"$f":"IF(OR(COUNTA(O1191:O1220)>0,COUNTA(O1220:$O$5195)>0),IF(COUNTIF(B1211:B1220,B1220)=10,B1220+7,B1220),\"\")","v":""},null,"","",null,null,null,0,0,0,0,{"$f":"IFERROR(VLOOKUP(G1221,DropDowns!$D$2:$E$151,2,FALSE),\"\")","v":""},{"$f":"IFERROR(VLOOKUP(H1221,DropDowns!$F$2:$G$7,2,FALSE),\"Residual categories\")","v":"Residual categories"},null,null,null,0,0,0]
[0,{"$f":"IF(OR(COUNTA(O1192:O1221)>0,COUNTA(O1221:$O$5195)>0),IF(COUNTIF(B1212:B1221,B1221)=10,B1221+7,B1221),\"\")","v":""},null,"","",null,null,null,0,0,0,0,{"$f":"IFERROR(VLOOKUP(G1222,DropDowns!$D$2:$E$151,2,FALSE),\"\")","v":""},{"$f":"IFERROR(VLOOKUP(H1222,DropDowns!$F$2:$G$7,2,FALSE),\"Residual categories\")","v":"Residual categories"},null,null,null,0,0,0]
[0,{"$f":"IF(OR(COUNTA(O1193:O1222)>0,COUNTA(O1222:$O$5195)>0),IF(COUNTIF(B1213:B1222,B1222)=10,B1222+7,B1222),\"\")","v":""},null,{"$f":"IF(E1223=1,B1223,\"\")","v":""},"",null,null,null,{"$f":"IF(COUNTA(O1223:Q1223)>0,1,0)","v":0},{"$f":"IF(O1223=\"y\",1,0)","v":0},{"$f":"IF(P1223=\"y\",1,0)","v":0},{"$f":"IF(Q1223=\"y\",1,0)","v":0},{"$f":"IFERROR(VLOOKUP(G1223,DropDowns!$D$2:$E$151,2,FALSE),\"\")","v":""},{"$f":"IFERROR(VLOOKUP(H1223,DropDowns!$F$2:$G$7,2,FALSE),\"Residual categories\")","v":"Residual categories"},null,null,null,{"$f":"IF(O1223=\"yes\",1,0)","v":0},{"$f":"IF(P1223=\"yes\",1,0)","v":0},{"$f":"IF(Q1223=\"yes\",1,0)","v":0}]
[0,{"$f":"IF(OR(COUNTA(O1194:O1223)>0,COUNTA(O1223:$O$5195)>0),IF(COUNTIF(B1214:B1223,B1223)=10,B1223+7,B1223),\"\")","v":""},null,"","",null,null,null,0,0,0,0,{"$f":"IFERROR(VLOOKUP(G1224,DropDowns!$D$2:$E$151,2,FALSE),\"\")","v":""},{"$f":"IFERROR(VLOOKUP(H1224,DropDowns!$F$2:$G$7,2,FALSE),\"Residual categories\")","v":"Residual categories"},null,null,null,0,0,0]
[0,{"$f":"IF(OR(COUNTA(O1195:O1224)>0,COUNTA(O1224:$O$5195)>0),IF(COUNTIF(B1215:B1224,B1224)=10,B1224+7,B1224),\"\")","v":""},null,"","",null,null,null,0,0,0,0,{"$f":"IFERROR(VLOOKUP(G1225,DropDowns!$D$2:$E$151,2,FALSE),\"\")","v":""},{"$f":"IFERROR(VLOOKUP(H1225,DropDowns!$F$2:$G$7,2,FALSE),\"Residual categories\")","v":"Residual categories"},null,null,null,0,0,0]
[0,{"$f":"IF(OR(COUNTA(O1196:O1225)>0,COUNTA(O1225:$O$5195)>0),IF(COUNTIF(B1216:B1225,B1225)=10,B1225+7,B1225),\"\")","v":""},null,"","",null,null,null,0,0,0,0,{"$f":"IFERROR(VLOOKUP(G1226,DropDowns!$D$2:$E$151,2,FALSE),\"\")","v":""},{"$f":"IFERROR(VLOOKUP(H1226,DropDowns!$F$2:$G$7,2,FALSE),\"Residual categories\")","v":"Residual categories"},null,null,null,0,0,0]
[0,{"$f":"IF(OR(COUNTA(O1197:O1226)>0,COUNTA(O1226:$O$5195)>0),IF(COUNTIF(B1217:B1226,B1226)=10,B1226+7,B1226),\"\")","v":""},null,"","",null,null,null,0,0,0,0,{"$f":"IFERROR(VLOOKUP(G1227,DropDowns!$D$2:$E$151,2,FALSE),\"\")","v":""},{"$f":"IFERROR(VLOOKUP(H1227,DropDowns!$F$2:$G$7,2,FALSE),\"Residual categories\")","v":"Residual categories"},null,null,null,0,0,0]
[0,{"$f":"IF(OR(COUNTA(O1198:O1227)>0,COUNTA(O1227:$O$5195)>0),IF(COUNTIF(B1218:B1227,B1227)=10,B1227+7,B1227),\"\")","v":""},null,"","",null,null,null,0,0,0,0,{"$f":"IFERROR(VLOOKUP(G1228,DropDowns!$D$2:$E$151,2,FALSE),\"\")","v":""},{"$f":"IFERROR(VLOOKUP(H1228,DropDowns!$F$2:$G$7,2,FALSE),\"Residual categories\")","v":"Residual categories"},null,null,null,0,0,0]
[0,{"$f":"IF(OR(COUNTA(O1199:O1228)>0,COUNTA(O1228:$O$5195)>0),IF(COUNTIF(B1219:B1228,B1228)=10,B1228+7,B1228),\"\")","v":""},null,"","",null,null,null,0,0,0,0,{"$f":"IFERROR(VLOOKUP(G1229,DropDowns!$D$2:$E$151,2,FALSE),\"\")","v":""},{"$f":"IFERROR(VLOOKUP(H1229,DropDowns!$F$2:$G$7,2,FALSE),\"Residual categories\")","v":"Residual categories"},null,null,null,0,0,0]
[0,{"$f":"IF(OR(COUNTA(O1200:O1229)>0,COUNTA(O1229:$O$5195)>0),IF(COUNTIF(B1220:B1229,B1229)=10,B1229+7,B1229),\"\")","v":""},null,"","",null,null,null,0,0,0,0,{"$f":"IFERROR(VLOOKUP(G1230,DropDowns!$D$2:$E$151,2,FALSE),\"\")","v":""},{"$f":"IFERROR(VLOOKUP(H1230,DropDowns!$F$2:$G$7,2,FALSE),\"Residual categories\")","v":"Residual categories"},null,null,null,0,0,0]
[0,{"$f":"IF(OR(COUNTA(O1201:O1230)>0,COUNTA(O1230:$O$5195)>0),IF(COUNTIF(B1221:B1230,B1230)=10,B1230+7,B1230),\"\")","v":""},null,"","",null,null,null,0,0,0,0,{"$f":"IFERROR(VLOOKUP(G1231,DropDowns!$D$2:$E$151,2,FALSE),\"\")","v":""},{"$f":"IFERROR(VLOOKUP(H1231,DropDowns!$F$2:$G$7,2,FALSE),\"Residual categories\")","v":"Residual categories"},null,null,null,0,0,0]
[0,{"$f":"IF(OR(COUNTA(O1202:O1231)>0,COUNTA(O1231:$O$5195)>0),IF(COUNTIF(B1222:B1231,B1231)=10,B1231+7,B1231),\"\")","v":""},null,"","",null,null,null,0,0,0,0,{"$f":"IFERROR(VLOOKUP(G1232,DropDowns!$D$2:$E$151,2,FALSE),\"\")","v":""},{"$f":"IFERROR(VLOOKUP(H1232,DropDowns!$F$2:$G$7,2,FALSE),\"Residual categories\")","v":"Residual categories"},null,null,null,0,0,0]
[0,{"$f":"IF(OR(COUNTA(O1203:O1232)>0,COUNTA(O1232:$O$5195)>0),IF(COUNTIF(B1223:B1232,B1232)=10,B1232+7,B1232),\"\")","v":""},null,"",{"$f":"IF(B1233=\"\",\"\",COUNTIF(B1224:B1233,B1233))","v":""},null,null,null,0,0,0,0,{"$f":"IFERROR(VLOOKUP(G1233,DropDowns!$D$2:$E$151,2,FALSE),\"\")","v":""},{"$f":"IFERROR(VLOOKUP(H1233,DropDowns!$F$2:$G$7,2,FALSE),\"Residual categories\")","v":"Residual categories"},null,null,null,0,0,0]
[0,{"$f":"IF(OR(COUNTA(O1204:O1233)>0,COUNTA(O1233:$O$5195)>0),IF(COUNTIF(B1224:B1233,B1233)=10,B1233+7,B1233),\"\")","v":""},null,"","",null,null,null,0,0,0,0,{"$f":"IFERROR(VLOOKUP(G1234,DropDowns!$D$2:$E$151,2,FALSE),\"\")","v":""},{"$f":"IFERROR(VLOOKUP(H1234,DropDowns!$F$2:$G$7,2,FALSE),\"Residual categories\")","v":"Residual categories"},null,null,null,0,0,0]
[0,{"$f":"IF(OR(COUNTA(O1205:O1234)>0,COUNTA(O1234:$O$5195)>0),IF(COUNTIF(B1225:B1234,B1234)=10,B1234+7,B1234),\"\")","v":""},null,"","",null,null,null,0,0,0,0,{"$f":"IFERROR(VLOOKUP(G1235,DropDowns!$D$2:$E$151,2,FALSE),\"\")","v":""},{"$f":"IFERROR(VLOOKUP(H1235,DropDowns!$F$2:$G$7,2,FALSE),\"Residual categories\")","v":"Residual categories"},null,null,null,0,0,0]
[{"$f":"$E$2","v":0},{"$f":"IF(OR(COUNTA(O1206:O1235)>0,COUNTA(O1235:$O$5195)>0),IF(COUNTIF(B1226:B1235,B1235)=10,B1235+7,B1235),\"\")","v":""},null,"","",null,null,null,0,0,0,0,{"$f":"IFERROR(VLOOKUP(G1236,DropDowns!$D$2:$E$151,2,FALSE),\"\")","v":""},{"$f":"IFERROR(VLOOKUP(H1236,DropDowns!$F$2:$G$7,2,FALSE),\"Residual categories\")","v":"Residual categories"},null,null,null,0,0,0]
[0,{"$f":"IF(OR(COUNTA(O1207:O1236)>0,COUNTA(O1236:$O$5195)>0),IF(COUNTIF(B1227:B1236,B1236)=10,B1236+7,B1236),\"\")","v":""},null,"","",null,null,null,0,0,0,0,{"$f":"IFERROR(VLOOKUP(G1237,DropDowns!$D$2:$E$151,2,FALSE),\"\")","v":""},{"$f":"IFERROR(VLOOKUP(H1237,DropDowns!$F$2:$G$7,2,FALSE),\"Residual categories\")","v":"Residual categories"},null,null,null,0,0,0]
[0,{"$f":"IF(OR(COUNTA(O1208:O1237)>0,COUNTA(O1237:$O$5195)>0),IF(COUNTIF(B1228:B1237,B1237)=10,B1237+7,B1237),\"\")","v":""},null,"","",null,null,null,0,0,0,0,{"$f":"IFERROR(VLOOKUP(G1238,DropDowns!$D$2:$E$151,2,FALSE),\"\")","v":""},{"$f":"IFERROR(VLOOKUP(H1238,DropDowns!$F$2:$G$7,2,FALSE),\"Residual categories\")","v":"Residual categories"},null,null,null,0,0,0]
[0,{"$f":"IF(OR(COUNTA(O1209:O1238)>0,COUNTA(O1238:$O$5195)>0),IF(COUNTIF(B1229:B1238,B1238)=10,B1238+7,B1238),\"\")","v":""},null,"","",null,null,null,0,0,0,0,{"$f":"IFERROR(VLOOKUP(G1239,DropDowns!$D$2:$E$151,2,FALSE),\"\")","v":""},{"$f":"IFERROR(VLOOKUP(H1239,DropDowns!$F$2:$G$7,2,FALSE),\"Residual categories\")","v":"Residual categories"},null,null,null,0,0,0]
[0,{"$f":"IF(OR(COUNTA(O1210:O1239)>0,COUNTA(O1239:$O$5195)>0),IF(COUNTIF(B1230:B1239,B1239)=10,B1239+7,B1239),\"\")","v":""},null,"","",null,null,null,0,0,0,0,{"$f":"IFERROR(VLOOKUP(G1240,DropDowns!$D$2:$E$151,2,FALSE),\"\")","v":""},{"$f":"IFERROR(VLOOKUP(H1240,DropDowns!$F$2:$G$7,2,FALSE),\"Residual categories\")","v":"Residual categories"},null,null,null,0,0,0]
[0,{"$f":"IF(OR(COUNTA(O1211:O1240)>0,COUNTA(O1240:$O$5195)>0),IF(COUNTIF(B1231:B1240,B1240)=10,B1240+7,B1240),\"\")","v":""},null,"","",null,null,null,0,0,0,0,{"$f":"IFERROR(VLOOKUP(G1241,DropDowns!$D$2:$E$151,2,FALSE),\"\")","v":""},{"$f":"IFERROR(VLOOKUP(H1241,DropDowns!$F$2:$G$7,2,FALSE),\"Residual categories\")","v":"Residual categories"},null,null,null,0,0,0]
[0,{"$f":"IF(OR(COUNTA(O1212:O1241)>0,COUNTA(O1241:$O$5195)>0),IF(COUNTIF(B1232:B1241,B1241)=10,B1241+7,B1241),\"\")","v":""},null,"","",null,null,null,0,0,0,0,{"$f":"IFERROR(VLOOKUP(G1242,DropDowns!$D$2:$E$151,2,FALSE),\"\")","v":""},{"$f":"IFERROR(VLOOKUP(H1242,DropDowns!$F$2:$G$7,2,FALSE),\"Residual categories\")","v":"Residual categories"},null,null,null,0,0,0]
[0,{"$f":"IF(OR(COUNTA(O1213:O1242)>0,COUNTA(O1242:$O$5195)>0),IF(COUNTIF(B1233:B1242,B1242)=10,B1242+7,B1242),\"\")","v":""},null,"","",null,null,null,0,0,0,0,{"$f":"IFERROR(VLOOKUP(G1243,DropDowns!$D$2:$E$151,2,FALSE),\"\")","v":""},{"$f":"IFERROR(VLOOKUP(H1243,DropDowns!$F$2:$G$7,2,FALSE),\"Residual categories\")","v":"Residual categories"},null,null,null,0,0,0]
[0,{"$f":"IF(OR(COUNTA(O1214:O1243)>0,COUNTA(O1243:$O$5195)>0),IF(COUNTIF(B1234:B1243,B1243)=10,B1243+7,B1243),\"\")","v":""},null,"","",null,null,null,0,0,0,0,{"$f":"IFERROR(VLOOKUP(G1244,DropDowns!$D$2:$E$151,2,FALSE),\"\")","v":""},{"$f":"IFERROR(VLOOKUP(H1244,DropDowns!$F$2:$G$7,2,FALSE),\"Residual categories\")","v":"Residual categories"},null,null,null,0,0,0]
[0,{"$f":"IF(OR(COUNTA(O1215:O1244)>0,COUNTA(O1244:$O$5195)>0),IF(COUNTIF(B1235:B1244,B1244)=10,B1244+7,B1244),\"\")","v":""},null,"","",null,null,null,0,0,0,0,{"$f":"IFERROR(VLOOKUP(G1245,DropDowns!$D$2:$E$151,2,FALSE),\"\")","v":""},{"$f":"IFERROR(VLOOKUP(H1245,DropDowns!$F$2:$G$7,2,FALSE),\"Residual categories\")","v":"Residual categories"},null,null,null,0,0,0]
[0,{"$f":"IF(OR(COUNTA(O1216:O1245)>0,COUNTA(O1245:$O$5195)>0),IF(COUNTIF(B1236:B1245,B1245)=10,B1245+7,B1245),\"\")","v":""},null,"","",null,null,null,0,0,0,0,{"$f":"IFERROR(VLOOKUP(G1246,DropDowns!$D$2:$E$151,2,FALSE),\"\")","v":""},{"$f":"IFERROR(VLOOKUP(H1246,DropDowns!$F$2:$G$7,2,FALSE),\"Residual categories\")","v":"Residual categories"},null,null,null,0,0,0]
[0,{"$f":"IF(OR(COUNTA(O1217:O1246)>0,COUNTA(O1246:$O$5195)>0),IF(COUNTIF(B1237:B1246,B1246)=10,B1246+7,B1246),\"\")","v":""},null,"","",null,null,null,0,0,0,0,{"$f":"IFERROR(VLOOKUP(G1247,DropDowns!$D$2:$E$151,2,FALSE),\"\")","v":""},{"$f":"IFERROR(VLOOKUP(H1247,DropDowns!$F$2:$G$7,2,FALSE),\"Residual categories\")","v":"Residual categories"},null,null,null,0,0,0]
[0,{"$f":"IF(OR(COUNTA(O1218:O1247)>0,COUNTA(O1247:$O$5195)>0),IF(COUNTIF(B1238:B1247,B1247)=10,B1247+7,B1247),\"\")","v":""},null,"","",null,null,null,0,0,0,0,{"$f":"IFERROR(VLOOKUP(G1248,DropDowns!$D$2:$E$151,2,FALSE),\"\")","v":""},{"$f":"IFERROR(VLOOKUP(H1248,DropDowns!$F$2:$G$7,2,FALSE),\"Residual categories\")","v":"Residual categories"},null,null,null,0,0,0]
[0,{"$f":"IF(OR(COUNTA(O1219:O1248)>0,COUNTA(O1248:$O$5195)>0),IF(COUNTIF(B1239:B1248,B1248)=10,B1248+7,B1248),\"\")","v":""},null,"","",null,null,null,0,0,0,0,{"$f":"IFERROR(VLOOKUP(G1249,DropDowns!$D$2:$E$151,2,FALSE),\"\")","v":""},{"$f":"IFERROR(VLOOKUP(H1249,DropDowns!$F$2:$G$7,2,FALSE),\"Residual categories\")","v":"Residual categories"},null,null,null,0,0,0]
[0,{"$f":"IF(OR(COUNTA(O1220:O1249)>0,COUNTA(O1249:$O$5195)>0),IF(COUNTIF(B1240:B1249,B1249)=10,B1249+7,B1249),\"\")","v":""},null,"","",null,null,null,0,0,0,0,{"$f":"IFERROR(VLOOKUP(G1250,DropDowns!$D$2:$E$151,2,FALSE),\"\")","v":""},{"$f":"IFERROR(VLOOKUP(H1250,DropDowns!$F$2:$G$7,2,FALSE),\"Residual categories\")","v":"Residual categories"},null,null,null,0,0,0]
[0,{"$f":"IF(OR(COUNTA(O1221:O1250)>0,COUNTA(O1250:$O$5195)>0),IF(COUNTIF(B1241:B1250,B1250)=10,B1250+7,B1250),\"\")","v":""},null,"","",null,null,null,0,0,0,0,{"$f":"IFERROR(VLOOKUP(G1251,DropDowns!$D$2:$E$151,2,FALSE),\"\")","v":""},{"$f":"IFERROR(VLOOKUP(H1251,DropDowns!$F$2:$G$7,2,FALSE),\"Residual categories\")","v":"Residual categories"},null,null,null,0,0,0]
[0,{"$f":"IF(OR(COUNTA(O1222:O1251)>0,COUNTA(O1251:$O$5195)>0),IF(COUNTIF(B1242:B1251,B1251)=10,B1251+7,B1251),\"\")","v":""},null,"","",null,null,null,0,0,0,0,{"$f":"IFERROR(VLOOKUP(G1252,DropDowns!$D$2:$E$151,2,FALSE),\"\")","v":""},{"$f":"IFERROR(VLOOKUP(H1252,DropDowns!$F$2:$G$7,2,FALSE),\"Residual categories\")","v":"Residual categories"},null,null,null,0,0,0]
[0,{"$f":"IF(OR(COUNTA(O1223:O1252)>0,COUNTA(O1252:$O$5195)>0),IF(COUNTIF(B1243:B1252,B1252)=10,B1252+7,B1252),\"\")","v":""},null,"","",null,null,null,0,0,0,0,{"$f":"IFERROR(VLOOKUP(G1253,DropDowns!$D$2:$E$151,2,FALSE),\"\")","v":""},{"$f":"IFERROR(VLOOKUP(H1253,DropDowns!$F$2:$G$7,2,FALSE),\"Residual categories\")","v":"Residual categories"},null,null,null,0,0,0]
[0,{"$f":"IF(OR(COUNTA(O1224:O1253)>0,COUNTA(O1253:$O$5195)>0),IF(COUNTIF(B1244:B1253,B1253)=10,B1253+7,B1253),\"\")","v":""},null,"","",null,null,null,0,0,0,0,{"$f":"IFERROR(VLOOKUP(G1254,DropDowns!$D$2:$E$151,2,FALSE),\"\")","v":""},{"$f":"IFERROR(VLOOKUP(H1254,DropDowns!$F$2:$G$7,2,FALSE),\"Residual categories\")","v":"Residual categories"},null,null,null,0,0,0]
[0,{"$f":"IF(OR(COUNTA(O1225:O1254)>0,COUNTA(O1254:$O$5195)>0),IF(COUNTIF(B1245:B1254,B1254)=10,B1254+7,B1254),\"\")","v":""},null,"","",null,null,null,0,0,0,0,{"$f":"IFERROR(VLOOKUP(G1255,DropDowns!$D$2:$E$151,2,FALSE),\"\")","v":""},{"$f":"IFERROR(VLOOKUP(H1255,DropDowns!$F$2:$G$7,2,FALSE),\"Residual categories\")","v":"Residual categories"},null,null,null,0,0,0]
[0,{"$f":"IF(OR(COUNTA(O1226:O1255)>0,COUNTA(O1255:$O$5195)>0),IF(COUNTIF(B1246:B1255,B1255)=10,B1255+7,B1255),\"\")","v":""},null,"","",null,null,null,0,0,0,0,{"$f":"IFERROR(VLOOKUP(G1256,DropDowns!$D$2:$E$151,2,FALSE),\"\")","v":""},{"$f":"IFERROR(VLOOKUP(H1256,DropDowns!$F$2:$G$7,2,FALSE),\"Residual categories\")","v":"Residual categories"},null,null,null,0,0,0]
[0,{"$f":"IF(OR(COUNTA(O1227:O1256)>0,COUNTA(O1256:$O$5195)>0),IF(COUNTIF(B1247:B1256,B1256)=10,B1256+7,B1256),\"\")","v":""},null,"","",null,null,null,0,0,0,0,{"$f":"IFERROR(VLOOKUP(G1257,DropDowns!$D$2:$E$151,2,FALSE),\"\")","v":""},{"$f":"IFERROR(VLOOKUP(H1257,DropDowns!$F$2:$G$7,2,FALSE),\"Residual categories\")","v":"Residual categories"},null,null,null,0,0,0]
[0,{"$f":"IF(OR(COUNTA(O1228:O1257)>0,COUNTA(O1257:$O$5195)>0),IF(COUNTIF(B1248:B1257,B1257)=10,B1257+7,B1257),\"\")","v":""},null,"","",null,null,null,0,0,0,0,{"$f":"IFERROR(VLOOKUP(G1258,DropDowns!$D$2:$E$151,2,FALSE),\"\")","v":""},{"$f":"IFERROR(VLOOKUP(H1258,DropDowns!$F$2:$G$7,2,FALSE),\"Residual categories\")","v":"Residual categories"},null,null,null,0,0,0]
[0,{"$f":"IF(OR(COUNTA(O1229:O1258)>0,COUNTA(O1258:$O$5195)>0),IF(COUNTIF(B1249:B1258,B1258)=10,B1258+7,B1258),\"\")","v":""},null,"","",null,null,null,0,0,0,0,{"$f":"IFERROR(VLOOKUP(G1259,DropDowns!$D$2:$E$151,2,FALSE),\"\")","v":""},{"$f":"IFERROR(VLOOKUP(H1259,DropDowns!$F$2:$G$7,2,FALSE),\"Residual categories\")","v":"Residual categories"},null,null,null,0,0,0]
[0,{"$f":"IF(OR(COUNTA(O1230:O1259)>0,COUNTA(O1259:$O$5195)>0),IF(COUNTIF(B1250:B1259,B1259)=10,B1259+7,B1259),\"\")","v":""},null,"","",null,null,null,0,0,0,0,{"$f":"IFERROR(VLOOKUP(G1260,DropDowns!$D$2:$E$151,2,FALSE),\"\")","v":""},{"$f":"IFERROR(VLOOKUP(H1260,DropDowns!$F$2:$G$7,2,FALSE),\"Residual categories\")","v":"Residual categories"},null,null,null,0,0,0]
[0,{"$f":"IF(OR(COUNTA(O1231:O1260)>0,COUNTA(O1260:$O$5195)>0),IF(COUNTIF(B1251:B1260,B1260)=10,B1260+7,B1260),\"\")","v":""},null,"","",null,null,null,0,0,0,0,{"$f":"IFERROR(VLOOKUP(G1261,DropDowns!$D$2:$E$151,2,FALSE),\"\")","v":""},{"$f":"IFERROR(VLOOKUP(H1261,DropDowns!$F$2:$G$7,2,FALSE),\"Residual categories\")","v":"Residual categories"},null,null,null,0,0,0]
[0,{"$f":"IF(OR(COUNTA(O1232:O1261)>0,COUNTA(O1261:$O$5195)>0),IF(COUNTIF(B1252:B1261,B1261)=10,B1261+7,B1261),\"\")","v":""},null,"","",null,null,null,0,0,0,0,{"$f":"IFERROR(VLOOKUP(G1262,DropDowns!$D$2:$E$151,2,FALSE),\"\")","v":""},{"$f":"IFERROR(VLOOKUP(H1262,DropDowns!$F$2:$G$7,2,FALSE),\"Residual categories\")","v":"Residual categories"},null,null,null,0,0,0]
[0,{"$f":"IF(OR(COUNTA(O1233:O1262)>0,COUNTA(O1262:$O$5195)>0),IF(COUNTIF(B1253:B1262,B1262)=10,B1262+7,B1262),\"\")","v":""},null,"","",null,null,null,0,0,0,0,{"$f":"IFERROR(VLOOKUP(G1263,DropDowns!$D$2:$E$151,2,FALSE),\"\")","v":""},{"$f":"IFERROR(VLOOKUP(H1263,DropDowns!$F$2:$G$7,2,FALSE),\"Residual categories\")","v":"Residual categories"},null,null,null,0,0,0]
[0,{"$f":"IF(OR(COUNTA(O1234:O1263)>0,COUNTA(O1263:$O$5195)>0),IF(COUNTIF(B1254:B1263,B1263)=10,B1263+7,B1263),\"\")","v":""},null,"","",null,null,null,0,0,0,0,{"$f":"IFERROR(VLOOKUP(G1264,DropDowns!$D$2:$E$151,2,FALSE),\"\")","v":""},{"$f":"IFERROR(VLOOKUP(H1264,DropDowns!$F$2:$G$7,2,FALSE),\"Residual categories\")","v":"Residual categories"},null,null,null,0,0,0]
[0,{"$f":"IF(OR(COUNTA(O1235:O1264)>0,COUNTA(O1264:$O$5195)>0),IF(COUNTIF(B1255:B1264,B1264)=10,B1264+7,B1264),\"\")","v":""},null,"","",null,null,null,0,0,0,0,{"$f":"IFERROR(VLOOKUP(G1265,DropDowns!$D$2:$E$151,2,FALSE),\"\")","v":""},{"$f":"IFERROR(VLOOKUP(H1265,DropDowns!$F$2:$G$7,2,FALSE),\"Residual categories\")","v":"Residual categories"},null,null,null,0,0,0]
[0,{"$f":"IF(OR(COUNTA(O1236:O1265)>0,COUNTA(O1265:$O$5195)>0),IF(COUNTIF(B1256:B1265,B1265)=10,B1265+7,B1265),\"\")","v":""},null,"","",null,null,null,0,0,0,0,{"$f":"IFERROR(VLOOKUP(G1266,DropDowns!$D$2:$E$151,2,FALSE),\"\")","v":""},{"$f":"IFERROR(VLOOKUP(H1266,DropDowns!$F$2:$G$7,2,FALSE),\"Residual categories\")","v":"Residual categories"},null,null,null,0,0,0]
[0,{"$f":"IF(OR(COUNTA(O1237:O1266)>0,COUNTA(O1266:$O$5195)>0),IF(COUNTIF(B1257:B1266,B1266)=10,B1266+7,B1266),\"\")","v":""},null,"","",null,null,null,0,0,0,0,{"$f":"IFERROR(VLOOKUP(G1267,DropDowns!$D$2:$E$151,2,FALSE),\"\")","v":""},{"$f":"IFERROR(VLOOKUP(H1267,DropDowns!$F$2:$G$7,2,FALSE),\"Residual categories\")","v":"Residual categories"},null,null,null,0,0,0]
[0,{"$f":"IF(OR(COUNTA(O1238:O1267)>0,COUNTA(O1267:$O$5195)>0),IF(COUNTIF(B1258:B1267,B1267)=10,B1267+7,B1267),\"\")","v":""},null,"","",null,null,null,0,0,0,0,{"$f":"IFERROR(VLOOKUP(G1268,DropDowns!$D$2:$E$151,2,FALSE),\"\")","v":""},{"$f":"IFERROR(VLOOKUP(H1268,DropDowns!$F$2:$G$7,2,FALSE),\"Residual categories\")","v":"Residual categories"},null,null,null,0,0,0]
[0,{"$f":"IF(OR(COUNTA(O1239:O1268)>0,COUNTA(O1268:$O$5195)>0),IF(COUNTIF(B1259:B1268,B1268)=10,B1268+7,B1268),\"\")","v":""},null,"","",null,null,null,0,0,0,0,{"$f":"IFERROR(VLOOKUP(G1269,DropDowns!$D$2:$E$151,2,FALSE),\"\")","v":""},{"$f":"IFERROR(VLOOKUP(H1269,DropDowns!$F$2:$G$7,2,FALSE),\"Residual categories\")","v":"Residual categories"},null,null,null,0,0,0]
[0,{"$f":"IF(OR(COUNTA(O1240:O1269)>0,COUNTA(O1269:$O$5195)>0),IF(COUNTIF(B1260:B1269,B1269)=10,B1269+7,B1269),\"\")","v":""},null,"","",null,null,null,0,0,0,0,{"$f":"IFERROR(VLOOKUP(G1270,DropDowns!$D$2:$E$151,2,FALSE),\"\")","v":""},{"$f":"IFERROR(VLOOKUP(H1270,DropDowns!$F$2:$G$7,2,FALSE),\"Residual categories\")","v":"Residual categories"},null,null,null,0,0,0]
[0,{"$f":"IF(OR(COUNTA(O1241:O1270)>0,COUNTA(O1270:$O$5195)>0),IF(COUNTIF(B1261:B1270,B1270)=10,B1270+7,B1270),\"\")","v":""},null,"","",null,null,null,0,0,0,0,{"$f":"IFERROR(VLOOKUP(G1271,DropDowns!$D$2:$E$151,2,FALSE),\"\")","v":""},{"$f":"IFERROR(VLOOKUP(H1271,DropDowns!$F$2:$G$7,2,FALSE),\"Residual categories\")","v":"Residual categories"},null,null,null,0,0,0]
[0,{"$f":"IF(OR(COUNTA(O1242:O1271)>0,COUNTA(O1271:$O$5195)>0),IF(COUNTIF(B1262:B1271,B1271)=10,B1271+7,B1271),\"\")","v":""},null,"","",null,null,null,0,0,0,0,{"$f":"IFERROR(VLOOKUP(G1272,DropDowns!$D$2:$E$151,2,FALSE),\"\")","v":""},{"$f":"IFERROR(VLOOKUP(H1272,DropDowns!$F$2:$G$7,2,FALSE),\"Residual categories\")","v":"Residual categories"},null,null,null,0,0,0]
[0,{"$f":"IF(OR(COUNTA(O1243:O1272)>0,COUNTA(O1272:$O$5195)>0),IF(COUNTIF(B1263:B1272,B1272)=10,B1272+7,B1272),\"\")","v":""},null,"","",null,null,null,0,0,0,0,{"$f":"IFERROR(VLOOKUP(G1273,DropDowns!$D$2:$E$151,2,FALSE),\"\")","v":""},{"$f":"IFERROR(VLOOKUP(H1273,DropDowns!$F$2:$G$7,2,FALSE),\"Residual categories\")","v":"Residual categories"},null,null,null,0,0,0]
[0,{"$f":"IF(OR(COUNTA(O1244:O1273)>0,COUNTA(O1273:$O$5195)>0),IF(COUNTIF(B1264:B1273,B1273)=10,B1273+7,B1273),\"\")","v":""},null,"","",null,null,null,0,0,0,0,{"$f":"IFERROR(VLOOKUP(G1274,DropDowns!$D$2:$E$151,2,FALSE),\"\")","v":""},{"$f":"IFERROR(VLOOKUP(H1274,DropDowns!$F$2:$G$7,2,FALSE),\"Residual categories\")","v":"Residual categories"},null,null,null,0,0,0]
[0,{"$f":"IF(OR(COUNTA(O1245:O1274)>0,COUNTA(O1274:$O$5195)>0),IF(COUNTIF(B1265:B1274,B1274)=10,B1274+7,B1274),\"\")","v":""},null,"","",null,null,null,0,0,0,0,{"$f":"IFERROR(VLOOKUP(G1275,DropDowns!$D$2:$E$151,2,FALSE),\"\")","v":""},{"$f":"IFERROR(VLOOKUP(H1275,DropDowns!$F$2:$G$7,2,FALSE),\"Residual categories\")","v":"Residual categories"},null,null,null,0,0,0]
[0,{"$f":"IF(OR(COUNTA(O1246:O1275)>0,COUNTA(O1275:$O$5195)>0),IF(COUNTIF(B1266:B1275,B1275)=10,B1275+7,B1275),\"\")","v":""},null,"","",null,null,null,0,0,0,0,{"$f":"IFERROR(VLOOKUP(G1276,DropDowns!$D$2:$E$151,2,FALSE),\"\")","v":""},{"$f":"IFERROR(VLOOKUP(H1276,DropDowns!$F$2:$G$7,2,FALSE),\"Residual categories\")","v":"Residual categories"},null,null,null,0,0,0]
[0,{"$f":"IF(OR(COUNTA(O1247:O1276)>0,COUNTA(O1276:$O$5195)>0),IF(COUNTIF(B1267:B1276,B1276)=10,B1276+7,B1276),\"\")","v":""},null,"","",null,null,null,0,0,0,0,{"$f":"IFERROR(VLOOKUP(G1277,DropDowns!$D$2:$E$151,2,FALSE),\"\")","v":""},{"$f":"IFERROR(VLOOKUP(H1277,DropDowns!$F$2:$G$7,2,FALSE),\"Residual categories\")","v":"Residual categories"},null,null,null,0,0,0]
[0,{"$f":"IF(OR(COUNTA(O1248:O1277)>0,COUNTA(O1277:$O$5195)>0),IF(COUNTIF(B1268:B1277,B1277)=10,B1277+7,B1277),\"\")","v":""},null,"","",null,null,null,0,0,0,0,{"$f":"IFERROR(VLOOKUP(G1278,DropDowns!$D$2:$E$151,2,FALSE),\"\")","v":""},{"$f":"IFERROR(VLOOKUP(H1278,DropDowns!$F$2:$G$7,2,FALSE),\"Residual categories\")","v":"Residual categories"},null,null,null,0,0,0]
[0,{"$f":"IF(OR(COUNTA(O1249:O1278)>0,COUNTA(O1278:$O$5195)>0),IF(COUNTIF(B1269:B1278,B1278)=10,B1278+7,B1278),\"\")","v":""},null,"","",null,null,null,0,0,0,0,{"$f":"IFERROR(VLOOKUP(G1279,DropDowns!$D$2:$E$151,2,FALSE),\"\")","v":""},{"$f":"IFERROR(VLOOKUP(H1279,DropDowns!$F$2:$G$7,2,FALSE),\"Residual categories\")","v":"Residual categories"},null,null,null,0,0,0]
[0,{"$f":"IF(OR(COUNTA(O1250:O1279)>0,COUNTA(O1279:$O$5195)>0),IF(COUNTIF(B1270:B1279,B1279)=10,B1279+7,B1279),\"\")","v":""},null,"","",null,null,null,0,0,0,0,{"$f":"IFERROR(VLOOKUP(G1280,DropDowns!$D$2:$E$151,2,FALSE),\"\")","v":""},{"$f":"IFERROR(VLOOKUP(H1280,DropDowns!$F$2:$G$7,2,FALSE),\"Residual categories\")","v":"Residual categories"},null,null,null,0,0,0]
[0,{"$f":"IF(OR(COUNTA(O1251:O1280)>0,COUNTA(O1280:$O$5195)>0),IF(COUNTIF(B1271:B1280,B1280)=10,B1280+7,B1280),\"\")","v":""},null,"","",null,null,null,0,0,0,0,{"$f":"IFERROR(VLOOKUP(G1281,DropDowns!$D$2:$E$151,2,FALSE),\"\")","v":""},{"$f":"IFERROR(VLOOKUP(H1281,DropDowns!$F$2:$G$7,2,FALSE),\"Residual categories\")","v":"Residual categories"},null,null,null,0,0,0]
[0,{"$f":"IF(OR(COUNTA(O1252:O1281)>0,COUNTA(O1281:$O$5195)>0),IF(COUNTIF(B1272:B1281,B1281)=10,B1281+7,B1281),\"\")","v":""},null,"","",null,null,null,0,0,0,0,{"$f":"IFERROR(VLOOKUP(G1282,DropDowns!$D$2:$E$151,2,FALSE),\"\")","v":""},{"$f":"IFERROR(VLOOKUP(H1282,DropDowns!$F$2:$G$7,2,FALSE),\"Residual categories\")","v":"Residual categories"},null,null,null,0,0,0]
[0,{"$f":"IF(OR(COUNTA(O1253:O1282)>0,COUNTA(O1282:$O$5195)>0),IF(COUNTIF(B1273:B1282,B1282)=10,B1282+7,B1282),\"\")","v":""},null,"","",null,null,null,0,0,0,0,{"$f":"IFERROR(VLOOKUP(G1283,DropDowns!$D$2:$E$151,2,FALSE),\"\")","v":""},{"$f":"IFERROR(VLOOKUP(H1283,DropDowns!$F$2:$G$7,2,FALSE),\"Residual categories\")","v":"Residual categories"},null,null,null,0,0,0]
[0,{"$f":"IF(OR(COUNTA(O1254:O1283)>0,COUNTA(O1283:$O$5195)>0),IF(COUNTIF(B1274:B1283,B1283)=10,B1283+7,B1283),\"\")","v":""},null,"","",null,null,null,0,0,0,0,{"$f":"IFERROR(VLOOKUP(G1284,DropDowns!$D$2:$E$151,2,FALSE),\"\")","v":""},{"$f":"IFERROR(VLOOKUP(H1284,DropDowns!$F$2:$G$7,2,FALSE),\"Residual categories\")","v":"Residual categories"},null,null,null,0,0,0]
[0,{"$f":"IF(OR(COUNTA(O1255:O1284)>0,COUNTA(O1284:$O$5195)>0),IF(COUNTIF(B1275:B1284,B1284)=10,B1284+7,B1284),\"\")","v":""},null,"","",null,null,null,0,0,0,0,{"$f":"IFERROR(VLOOKUP(G1285,DropDowns!$D$2:$E$151,2,FALSE),\"\")","v":""},{"$f":"IFERROR(VLOOKUP(H1285,DropDowns!$F$2:$G$7,2,FALSE),\"Residual categories\")","v":"Residual categories"},null,null,null,0,0,0]
[0,{"$f":"IF(OR(COUNTA(O1256:O1285)>0,COUNTA(O1285:$O$5195)>0),IF(COUNTIF(B1276:B1285,B1285)=10,B1285+7,B1285),\"\")","v":""},null,"","",null,null,null,0,0,0,0,{"$f":"IFERROR(VLOOKUP(G1286,DropDowns!$D$2:$E$151,2,FALSE),\"\")","v":""},{"$f":"IFERROR(VLOOKUP(H1286,DropDowns!$F$2:$G$7,2,FALSE),\"Residual categories\")","v":"Residual categories"},null,null,null,0,0,0]
[0,{"$f":"IF(OR(COUNTA(O1257:O1286)>0,COUNTA(O1286:$O$5195)>0),IF(COUNTIF(B1277:B1286,B1286)=10,B1286+7,B1286),\"\")","v":""},null,{"$f":"IF(E1287=1,B1287,\"\")","v":""},"",null,null,null,{"$f":"IF(COUNTA(O1287:Q1287)>0,1,0)","v":0},{"$f":"IF(O1287=\"y\",1,0)","v":0},{"$f":"IF(P1287=\"y\",1,0)","v":0},{"$f":"IF(Q1287=\"y\",1,0)","v":0},{"$f":"IFERROR(VLOOKUP(G1287,DropDowns!$D$2:$E$151,2,FALSE),\"\")","v":""},{"$f":"IFERROR(VLOOKUP(H1287,DropDowns!$F$2:$G$7,2,FALSE),\"Residual categories\")","v":"Residual categories"},null,null,null,{"$f":"IF(O1287=\"yes\",1,0)","v":0},{"$f":"IF(P1287=\"yes\",1,0)","v":0},{"$f":"IF(Q1287=\"yes\",1,0)","v":0}]
[0,{"$f":"IF(OR(COUNTA(O1258:O1287)>0,COUNTA(O1287:$O$5195)>0),IF(COUNTIF(B1278:B1287,B1287)=10,B1287+7,B1287),\"\")","v":""},null,"","",null,null,null,0,0,0,0,{"$f":"IFERROR(VLOOKUP(G1288,DropDowns!$D$2:$E$151,2,FALSE),\"\")","v":""},{"$f":"IFERROR(VLOOKUP(H1288,DropDowns!$F$2:$G$7,2,FALSE),\"Residual categories\")","v":"Residual categories"},null,null,null,0,0,0]
[0,{"$f":"IF(OR(COUNTA(O1259:O1288)>0,COUNTA(O1288:$O$5195)>0),IF(COUNTIF(B1279:B1288,B1288)=10,B1288+7,B1288),\"\")","v":""},null,"","",null,null,null,0,0,0,0,{"$f":"IFERROR(VLOOKUP(G1289,DropDowns!$D$2:$E$151,2,FALSE),\"\")","v":""},{"$f":"IFERROR(VLOOKUP(H1289,DropDowns!$F$2:$G$7,2,FALSE),\"Residual categories\")","v":"Residual categories"},null,null,null,0,0,0]
[0,{"$f":"IF(OR(COUNTA(O1260:O1289)>0,COUNTA(O1289:$O$5195)>0),IF(COUNTIF(B1280:B1289,B1289)=10,B1289+7,B1289),\"\")","v":""},null,"","",null,null,null,0,0,0,0,{"$f":"IFERROR(VLOOKUP(G1290,DropDowns!$D$2:$E$151,2,FALSE),\"\")","v":""},{"$f":"IFERROR(VLOOKUP(H1290,DropDowns!$F$2:$G$7,2,FALSE),\"Residual categories\")","v":"Residual categories"},null,null,null,0,0,0]
[0,{"$f":"IF(OR(COUNTA(O1261:O1290)>0,COUNTA(O1290:$O$5195)>0),IF(COUNTIF(B1281:B1290,B1290)=10,B1290+7,B1290),\"\")","v":""},null,"","",null,null,null,0,0,0,0,{"$f":"IFERROR(VLOOKUP(G1291,DropDowns!$D$2:$E$151,2,FALSE),\"\")","v":""},{"$f":"IFERROR(VLOOKUP(H1291,DropDowns!$F$2:$G$7,2,FALSE),\"Residual categories\")","v":"Residual categories"},null,null,null,0,0,0]
[0,{"$f":"IF(OR(COUNTA(O1262:O1291)>0,COUNTA(O1291:$O$5195)>0),IF(COUNTIF(B1282:B1291,B1291)=10,B1291+7,B1291),\"\")","v":""},null,"","",null,null,null,0,0,0,0,{"$f":"IFERROR(VLOOKUP(G1292,DropDowns!$D$2:$E$151,2,FALSE),\"\")","v":""},{"$f":"IFERROR(VLOOKUP(H1292,DropDowns!$F$2:$G$7,2,FALSE),\"Residual categories\")","v":"Residual categories"},null,null,null,0,0,0]
[0,{"$f":"IF(OR(COUNTA(O1263:O1292)>0,COUNTA(O1292:$O$5195)>0),IF(COUNTIF(B1283:B1292,B1292)=10,B1292+7,B1292),\"\")","v":""},null,"","",null,null,null,0,0,0,0,{"$f":"IFERROR(VLOOKUP(G1293,DropDowns!$D$2:$E$151,2,FALSE),\"\")","v":""},{"$f":"IFERROR(VLOOKUP(H1293,DropDowns!$F$2:$G$7,2,FALSE),\"Residual categories\")","v":"Residual categories"},null,null,null,0,0,0]
[0,{"$f":"IF(OR(COUNTA(O1264:O1293)>0,COUNTA(O1293:$O$5195)>0),IF(COUNTIF(B1284:B1293,B1293)=10,B1293+7,B1293),\"\")","v":""},null,"","",null,null,null,0,0,0,0,{"$f":"IFERROR(VLOOKUP(G1294,DropDowns!$D$2:$E$151,2,FALSE),\"\")","v":""},{"$f":"IFERROR(VLOOKUP(H1294,DropDowns!$F$2:$G$7,2,FALSE),\"Residual categories\")","v":"Residual categories"},null,null,null,0,0,0]
[0,{"$f":"IF(OR(COUNTA(O1265:O1294)>0,COUNTA(O1294:$O$5195)>0),IF(COUNTIF(B1285:B1294,B1294)=10,B1294+7,B1294),\"\")","v":""},null,"","",null,null,null,0,0,0,0,{"$f":"IFERROR(VLOOKUP(G1295,DropDowns!$D$2:$E$151,2,FALSE),\"\")","v":""},{"$f":"IFERROR(VLOOKUP(H1295,DropDowns!$F$2:$G$7,2,FALSE),\"Residual categories\")","v":"Residual categories"},null,null,null,0,0,0]
[0,{"$f":"IF(OR(COUNTA(O1266:O1295)>0,COUNTA(O1295:$O$5195)>0),IF(COUNTIF(B1286:B1295,B1295)=10,B1295+7,B1295),\"\")","v":""},null,"","",null,null,null,0,0,0,0,{"$f":"IFERROR(VLOOKUP(G1296,DropDowns!$D$2:$E$151,2,FALSE),\"\")","v":""},{"$f":"IFERROR(VLOOKUP(H1296,DropDowns!$F$2:$G$7,2,FALSE),\"Residual categories\")","v":"Residual categories"},null,null,null,0,0,0]
[0,{"$f":"IF(OR(COUNTA(O1267:O1296)>0,COUNTA(O1296:$O$5195)>0),IF(COUNTIF(B1287:B1296,B1296)=10,B1296+7,B1296),\"\")","v":""},null,"",{"$f":"IF(B1297=\"\",\"\",COUNTIF(B1288:B1297,B1297))","v":""},null,null,null,0,0,0,0,{"$f":"IFERROR(VLOOKUP(G1297,DropDowns!$D$2:$E$151,2,FALSE),\"\")","v":""},{"$f":"IFERROR(VLOOKUP(H1297,DropDowns!$F$2:$G$7,2,FALSE),\"Residual categories\")","v":"Residual categories"},null,null,null,0,0,0]
[0,{"$f":"IF(OR(COUNTA(O1268:O1297)>0,COUNTA(O1297:$O$5195)>0),IF(COUNTIF(B1288:B1297,B1297)=10,B1297+7,B1297),\"\")","v":""},null,"","",null,null,null,0,0,0,0,{"$f":"IFERROR(VLOOKUP(G1298,DropDowns!$D$2:$E$151,2,FALSE),\"\")","v":""},{"$f":"IFERROR(VLOOKUP(H1298,DropDowns!$F$2:$G$7,2,FALSE),\"Residual categories\")","v":"Residual categories"},null,null,null,0,0,0]
[0,{"$f":"IF(OR(COUNTA(O1269:O1298)>0,COUNTA(O1298:$O$5195)>0),IF(COUNTIF(B1289:B1298,B1298)=10,B1298+7,B1298),\"\")","v":""},null,"","",null,null,null,0,0,0,0,{"$f":"IFERROR(VLOOKUP(G1299,DropDowns!$D$2:$E$151,2,FALSE),\"\")","v":""},{"$f":"IFERROR(VLOOKUP(H1299,DropDowns!$F$2:$G$7,2,FALSE),\"Residual categories\")","v":"Residual categories"},null,null,null,0,0,0]
[{"$f":"$E$2","v":0},{"$f":"IF(OR(COUNTA(O1270:O1299)>0,COUNTA(O1299:$O$5195)>0),IF(COUNTIF(B1290:B1299,B1299)=10,B1299+7,B1299),\"\")","v":""},null,"","",null,null,null,0,0,0,0,{"$f":"IFERROR(VLOOKUP(G1300,DropDowns!$D$2:$E$151,2,FALSE),\"\")","v":""},{"$f":"IFERROR(VLOOKUP(H1300,DropDowns!$F$2:$G$7,2,FALSE),\"Residual categories\")","v":"Residual categories"},null,null,null,0,0,0]
[0,{"$f":"IF(OR(COUNTA(O1271:O1300)>0,COUNTA(O1300:$O$5195)>0),IF(COUNTIF(B1291:B1300,B1300)=10,B1300+7,B1300),\"\")","v":""},null,"","",null,null,null,0,0,0,0,{"$f":"IFERROR(VLOOKUP(G1301,DropDowns!$D$2:$E$151,2,FALSE),\"\")","v":""},{"$f":"IFERROR(VLOOKUP(H1301,DropDowns!$F$2:$G$7,2,FALSE),\"Residual categories\")","v":"Residual categories"},null,null,null,0,0,0]
[0,{"$f":"IF(OR(COUNTA(O1272:O1301)>0,COUNTA(O1301:$O$5195)>0),IF(COUNTIF(B1292:B1301,B1301)=10,B1301+7,B1301),\"\")","v":""},null,"","",null,null,null,0,0,0,0,{"$f":"IFERROR(VLOOKUP(G1302,DropDowns!$D$2:$E$151,2,FALSE),\"\")","v":""},{"$f":"IFERROR(VLOOKUP(H1302,DropDowns!$F$2:$G$7,2,FALSE),\"Residual categories\")","v":"Residual categories"},null,null,null,0,0,0]
[0,{"$f":"IF(OR(COUNTA(O1273:O1302)>0,COUNTA(O1302:$O$5195)>0),IF(COUNTIF(B1293:B1302,B1302)=10,B1302+7,B1302),\"\")","v":""},null,"","",null,null,null,0,0,0,0,{"$f":"IFERROR(VLOOKUP(G1303,DropDowns!$D$2:$E$151,2,FALSE),\"\")","v":""},{"$f":"IFERROR(VLOOKUP(H1303,DropDowns!$F$2:$G$7,2,FALSE),\"Residual categories\")","v":"Residual categories"},null,null,null,0,0,0]
[0,{"$f":"IF(OR(COUNTA(O1274:O1303)>0,COUNTA(O1303:$O$5195)>0),IF(COUNTIF(B1294:B1303,B1303)=10,B1303+7,B1303),\"\")","v":""},null,"","",null,null,null,0,0,0,0,{"$f":"IFERROR(VLOOKUP(G1304,DropDowns!$D$2:$E$151,2,FALSE),\"\")","v":""},{"$f":"IFERROR(VLOOKUP(H1304,DropDowns!$F$2:$G$7,2,FALSE),\"Residual categories\")","v":"Residual categories"},null,null,null,0,0,0]
[0,{"$f":"IF(OR(COUNTA(O1275:O1304)>0,COUNTA(O1304:$O$5195)>0),IF(COUNTIF(B1295:B1304,B1304)=10,B1304+7,B1304),\"\")","v":""},null,"","",null,null,null,0,0,0,0,{"$f":"IFERROR(VLOOKUP(G1305,DropDowns!$D$2:$E$151,2,FALSE),\"\")","v":""},{"$f":"IFERROR(VLOOKUP(H1305,DropDowns!$F$2:$G$7,2,FALSE),\"Residual categories\")","v":"Residual categories"},null,null,null,0,0,0]
[0,{"$f":"IF(OR(COUNTA(O1276:O1305)>0,COUNTA(O1305:$O$5195)>0),IF(COUNTIF(B1296:B1305,B1305)=10,B1305+7,B1305),\"\")","v":""},null,"","",null,null,null,0,0,0,0,{"$f":"IFERROR(VLOOKUP(G1306,DropDowns!$D$2:$E$151,2,FALSE),\"\")","v":""},{"$f":"IFERROR(VLOOKUP(H1306,DropDowns!$F$2:$G$7,2,FALSE),\"Residual categories\")","v":"Residual categories"},null,null,null,0,0,0]
[0,{"$f":"IF(OR(COUNTA(O1277:O1306)>0,COUNTA(O1306:$O$5195)>0),IF(COUNTIF(B1297:B1306,B1306)=10,B1306+7,B1306),\"\")","v":""},null,"","",null,null,null,0,0,0,0,{"$f":"IFERROR(VLOOKUP(G1307,DropDowns!$D$2:$E$151,2,FALSE),\"\")","v":""},{"$f":"IFERROR(VLOOKUP(H1307,DropDowns!$F$2:$G$7,2,FALSE),\"Residual categories\")","v":"Residual categories"},null,null,null,0,0,0]
[0,{"$f":"IF(OR(COUNTA(O1278:O1307)>0,COUNTA(O1307:$O$5195)>0),IF(COUNTIF(B1298:B1307,B1307)=10,B1307+7,B1307),\"\")","v":""},null,"","",null,null,null,0,0,0,0,{"$f":"IFERROR(VLOOKUP(G1308,DropDowns!$D$2:$E$151,2,FALSE),\"\")","v":""},{"$f":"IFERROR(VLOOKUP(H1308,DropDowns!$F$2:$G$7,2,FALSE),\"Residual categories\")","v":"Residual categories"},null,null,null,0,0,0]
[0,{"$f":"IF(OR(COUNTA(O1279:O1308)>0,COUNTA(O1308:$O$5195)>0),IF(COUNTIF(B1299:B1308,B1308)=10,B1308+7,B1308),\"\")","v":""},null,"","",null,null,null,0,0,0,0,{"$f":"IFERROR(VLOOKUP(G1309,DropDowns!$D$2:$E$151,2,FALSE),\"\")","v":""},{"$f":"IFERROR(VLOOKUP(H1309,DropDowns!$F$2:$G$7,2,FALSE),\"Residual categories\")","v":"Residual categories"},null,null,null,0,0,0]
[0,{"$f":"IF(OR(COUNTA(O1280:O1309)>0,COUNTA(O1309:$O$5195)>0),IF(COUNTIF(B1300:B1309,B1309)=10,B1309+7,B1309),\"\")","v":""},null,"","",null,null,null,0,0,0,0,{"$f":"IFERROR(VLOOKUP(G1310,DropDowns!$D$2:$E$151,2,FALSE),\"\")","v":""},{"$f":"IFERROR(VLOOKUP(H1310,DropDowns!$F$2:$G$7,2,FALSE),\"Residual categories\")","v":"Residual categories"},null,null,null,0,0,0]
[0,{"$f":"IF(OR(COUNTA(O1281:O1310)>0,COUNTA(O1310:$O$5195)>0),IF(COUNTIF(B1301:B1310,B1310)=10,B1310+7,B1310),\"\")","v":""},null,"","",null,null,null,0,0,0,0,{"$f":"IFERROR(VLOOKUP(G1311,DropDowns!$D$2:$E$151,2,FALSE),\"\")","v":""},{"$f":"IFERROR(VLOOKUP(H1311,DropDowns!$F$2:$G$7,2,FALSE),\"Residual categories\")","v":"Residual categories"},null,null,null,0,0,0]
[0,{"$f":"IF(OR(COUNTA(O1282:O1311)>0,COUNTA(O1311:$O$5195)>0),IF(COUNTIF(B1302:B1311,B1311)=10,B1311+7,B1311),\"\")","v":""},null,"","",null,null,null,0,0,0,0,{"$f":"IFERROR(VLOOKUP(G1312,DropDowns!$D$2:$E$151,2,FALSE),\"\")","v":""},{"$f":"IFERROR(VLOOKUP(H1312,DropDowns!$F$2:$G$7,2,FALSE),\"Residual categories\")","v":"Residual categories"},null,null,null,0,0,0]
[0,{"$f":"IF(OR(COUNTA(O1283:O1312)>0,COUNTA(O1312:$O$5195)>0),IF(COUNTIF(B1303:B1312,B1312)=10,B1312+7,B1312),\"\")","v":""},null,"","",null,null,null,0,0,0,0,{"$f":"IFERROR(VLOOKUP(G1313,DropDowns!$D$2:$E$151,2,FALSE),\"\")","v":""},{"$f":"IFERROR(VLOOKUP(H1313,DropDowns!$F$2:$G$7,2,FALSE),\"Residual categories\")","v":"Residual categories"},null,null,null,0,0,0]
[0,{"$f":"IF(OR(COUNTA(O1284:O1313)>0,COUNTA(O1313:$O$5195)>0),IF(COUNTIF(B1304:B1313,B1313)=10,B1313+7,B1313),\"\")","v":""},null,"","",null,null,null,0,0,0,0,{"$f":"IFERROR(VLOOKUP(G1314,DropDowns!$D$2:$E$151,2,FALSE),\"\")","v":""},{"$f":"IFERROR(VLOOKUP(H1314,DropDowns!$F$2:$G$7,2,FALSE),\"Residual categories\")","v":"Residual categories"},null,null,null,0,0,0]
[0,{"$f":"IF(OR(COUNTA(O1285:O1314)>0,COUNTA(O1314:$O$5195)>0),IF(COUNTIF(B1305:B1314,B1314)=10,B1314+7,B1314),\"\")","v":""},null,"","",null,null,null,0,0,0,0,{"$f":"IFERROR(VLOOKUP(G1315,DropDowns!$D$2:$E$151,2,FALSE),\"\")","v":""},{"$f":"IFERROR(VLOOKUP(H1315,DropDowns!$F$2:$G$7,2,FALSE),\"Residual categories\")","v":"Residual categories"},null,null,null,0,0,0]
[0,{"$f":"IF(OR(COUNTA(O1286:O1315)>0,COUNTA(O1315:$O$5195)>0),IF(COUNTIF(B1306:B1315,B1315)=10,B1315+7,B1315),\"\")","v":""},null,"","",null,null,null,0,0,0,0,{"$f":"IFERROR(VLOOKUP(G1316,DropDowns!$D$2:$E$151,2,FALSE),\"\")","v":""},{"$f":"IFERROR(VLOOKUP(H1316,DropDowns!$F$2:$G$7,2,FALSE),\"Residual categories\")","v":"Residual categories"},null,null,null,0,0,0]
[0,{"$f":"IF(OR(COUNTA(O1287:O1316)>0,COUNTA(O1316:$O$5195)>0),IF(COUNTIF(B1307:B1316,B1316)=10,B1316+7,B1316),\"\")","v":""},null,"","",null,null,null,0,0,0,0,{"$f":"IFERROR(VLOOKUP(G1317,DropDowns!$D$2:$E$151,2,FALSE),\"\")","v":""},{"$f":"IFERROR(VLOOKUP(H1317,DropDowns!$F$2:$G$7,2,FALSE),\"Residual categories\")","v":"Residual categories"},null,null,null,0,0,0]
[0,{"$f":"IF(OR(COUNTA(O1288:O1317)>0,COUNTA(O1317:$O$5195)>0),IF(COUNTIF(B1308:B1317,B1317)=10,B1317+7,B1317),\"\")","v":""},null,"","",null,null,null,0,0,0,0,{"$f":"IFERROR(VLOOKUP(G1318,DropDowns!$D$2:$E$151,2,FALSE),\"\")","v":""},{"$f":"IFERROR(VLOOKUP(H1318,DropDowns!$F$2:$G$7,2,FALSE),\"Residual categories\")","v":"Residual categories"},null,null,null,0,0,0]
[0,{"$f":"IF(OR(COUNTA(O1289:O1318)>0,COUNTA(O1318:$O$5195)>0),IF(COUNTIF(B1309:B1318,B1318)=10,B1318+7,B1318),\"\")","v":""},null,"","",null,null,null,0,0,0,0,{"$f":"IFERROR(VLOOKUP(G1319,DropDowns!$D$2:$E$151,2,FALSE),\"\")","v":""},{"$f":"IFERROR(VLOOKUP(H1319,DropDowns!$F$2:$G$7,2,FALSE),\"Residual categories\")","v":"Residual categories"},null,null,null,0,0,0]
[0,{"$f":"IF(OR(COUNTA(O1290:O1319)>0,COUNTA(O1319:$O$5195)>0),IF(COUNTIF(B1310:B1319,B1319)=10,B1319+7,B1319),\"\")","v":""},null,"","",null,null,null,0,0,0,0,{"$f":"IFERROR(VLOOKUP(G1320,DropDowns!$D$2:$E$151,2,FALSE),\"\")","v":""},{"$f":"IFERROR(VLOOKUP(H1320,DropDowns!$F$2:$G$7,2,FALSE),\"Residual categories\")","v":"Residual categories"},null,null,null,0,0,0]
[0,{"$f":"IF(OR(COUNTA(O1291:O1320)>0,COUNTA(O1320:$O$5195)>0),IF(COUNTIF(B1311:B1320,B1320)=10,B1320+7,B1320),\"\")","v":""},null,"","",null,null,null,0,0,0,0,{"$f":"IFERROR(VLOOKUP(G1321,DropDowns!$D$2:$E$151,2,FALSE),\"\")","v":""},{"$f":"IFERROR(VLOOKUP(H1321,DropDowns!$F$2:$G$7,2,FALSE),\"Residual categories\")","v":"Residual categories"},null,null,null,0,0,0]
[0,{"$f":"IF(OR(COUNTA(O1292:O1321)>0,COUNTA(O1321:$O$5195)>0),IF(COUNTIF(B1312:B1321,B1321)=10,B1321+7,B1321),\"\")","v":""},null,"","",null,null,null,0,0,0,0,{"$f":"IFERROR(VLOOKUP(G1322,DropDowns!$D$2:$E$151,2,FALSE),\"\")","v":""},{"$f":"IFERROR(VLOOKUP(H1322,DropDowns!$F$2:$G$7,2,FALSE),\"Residual categories\")","v":"Residual categories"},null,null,null,0,0,0]
[0,{"$f":"IF(OR(COUNTA(O1293:O1322)>0,COUNTA(O1322:$O$5195)>0),IF(COUNTIF(B1313:B1322,B1322)=10,B1322+7,B1322),\"\")","v":""},null,"","",null,null,null,0,0,0,0,{"$f":"IFERROR(VLOOKUP(G1323,DropDowns!$D$2:$E$151,2,FALSE),\"\")","v":""},{"$f":"IFERROR(VLOOKUP(H1323,DropDowns!$F$2:$G$7,2,FALSE),\"Residual categories\")","v":"Residual categories"},null,null,null,0,0,0]
[0,{"$f":"IF(OR(COUNTA(O1294:O1323)>0,COUNTA(O1323:$O$5195)>0),IF(COUNTIF(B1314:B1323,B1323)=10,B1323+7,B1323),\"\")","v":""},null,"","",null,null,null,0,0,0,0,{"$f":"IFERROR(VLOOKUP(G1324,DropDowns!$D$2:$E$151,2,FALSE),\"\")","v":""},{"$f":"IFERROR(VLOOKUP(H1324,DropDowns!$F$2:$G$7,2,FALSE),\"Residual categories\")","v":"Residual categories"},null,null,null,0,0,0]
[0,{"$f":"IF(OR(COUNTA(O1295:O1324)>0,COUNTA(O1324:$O$5195)>0),IF(COUNTIF(B1315:B1324,B1324)=10,B1324+7,B1324),\"\")","v":""},null,"","",null,null,null,0,0,0,0,{"$f":"IFERROR(VLOOKUP(G1325,DropDowns!$D$2:$E$151,2,FALSE),\"\")","v":""},{"$f":"IFERROR(VLOOKUP(H1325,DropDowns!$F$2:$G$7,2,FALSE),\"Residual categories\")","v":"Residual categories"},null,null,null,0,0,0]
[0,{"$f":"IF(OR(COUNTA(O1296:O1325)>0,COUNTA(O1325:$O$5195)>0),IF(COUNTIF(B1316:B1325,B1325)=10,B1325+7,B1325),\"\")","v":""},null,"","",null,null,null,0,0,0,0,{"$f":"IFERROR(VLOOKUP(G1326,DropDowns!$D$2:$E$151,2,FALSE),\"\")","v":""},{"$f":"IFERROR(VLOOKUP(H1326,DropDowns!$F$2:$G$7,2,FALSE),\"Residual categories\")","v":"Residual categories"},null,null,null,0,0,0]
[0,{"$f":"IF(OR(COUNTA(O1297:O1326)>0,COUNTA(O1326:$O$5195)>0),IF(COUNTIF(B1317:B1326,B1326)=10,B1326+7,B1326),\"\")","v":""},null,"","",null,null,null,0,0,0,0,{"$f":"IFERROR(VLOOKUP(G1327,DropDowns!$D$2:$E$151,2,FALSE),\"\")","v":""},{"$f":"IFERROR(VLOOKUP(H1327,DropDowns!$F$2:$G$7,2,FALSE),\"Residual categories\")","v":"Residual categories"},null,null,null,0,0,0]
[0,{"$f":"IF(OR(COUNTA(O1298:O1327)>0,COUNTA(O1327:$O$5195)>0),IF(COUNTIF(B1318:B1327,B1327)=10,B1327+7,B1327),\"\")","v":""},null,"","",null,null,null,0,0,0,0,{"$f":"IFERROR(VLOOKUP(G1328,DropDowns!$D$2:$E$151,2,FALSE),\"\")","v":""},{"$f":"IFERROR(VLOOKUP(H1328,DropDowns!$F$2:$G$7,2,FALSE),\"Residual categories\")","v":"Residual categories"},null,null,null,0,0,0]
[0,{"$f":"IF(OR(COUNTA(O1299:O1328)>0,COUNTA(O1328:$O$5195)>0),IF(COUNTIF(B1319:B1328,B1328)=10,B1328+7,B1328),\"\")","v":""},null,"","",null,null,null,0,0,0,0,{"$f":"IFERROR(VLOOKUP(G1329,DropDowns!$D$2:$E$151,2,FALSE),\"\")","v":""},{"$f":"IFERROR(VLOOKUP(H1329,DropDowns!$F$2:$G$7,2,FALSE),\"Residual categories\")","v":"Residual categories"},null,null,null,0,0,0]
[0,{"$f":"IF(OR(COUNTA(O1300:O1329)>0,COUNTA(O1329:$O$5195)>0),IF(COUNTIF(B1320:B1329,B1329)=10,B1329+7,B1329),\"\")","v":""},null,"","",null,null,null,0,0,0,0,{"$f":"IFERROR(VLOOKUP(G1330,DropDowns!$D$2:$E$151,2,FALSE),\"\")","v":""},{"$f":"IFERROR(VLOOKUP(H1330,DropDowns!$F$2:$G$7,2,FALSE),\"Residual categories\")","v":"Residual categories"},null,null,null,0,0,0]
[0,{"$f":"IF(OR(COUNTA(O1301:O1330)>0,COUNTA(O1330:$O$5195)>0),IF(COUNTIF(B1321:B1330,B1330)=10,B1330+7,B1330),\"\")","v":""},null,"","",null,null,null,0,0,0,0,{"$f":"IFERROR(VLOOKUP(G1331,DropDowns!$D$2:$E$151,2,FALSE),\"\")","v":""},{"$f":"IFERROR(VLOOKUP(H1331,DropDowns!$F$2:$G$7,2,FALSE),\"Residual categories\")","v":"Residual categories"},null,null,null,0,0,0]
[0,{"$f":"IF(OR(COUNTA(O1302:O1331)>0,COUNTA(O1331:$O$5195)>0),IF(COUNTIF(B1322:B1331,B1331)=10,B1331+7,B1331),\"\")","v":""},null,"","",null,null,null,0,0,0,0,{"$f":"IFERROR(VLOOKUP(G1332,DropDowns!$D$2:$E$151,2,FALSE),\"\")","v":""},{"$f":"IFERROR(VLOOKUP(H1332,DropDowns!$F$2:$G$7,2,FALSE),\"Residual categories\")","v":"Residual categories"},null,null,null,0,0,0]
[0,{"$f":"IF(OR(COUNTA(O1303:O1332)>0,COUNTA(O1332:$O$5195)>0),IF(COUNTIF(B1323:B1332,B1332)=10,B1332+7,B1332),\"\")","v":""},null,"","",null,null,null,0,0,0,0,{"$f":"IFERROR(VLOOKUP(G1333,DropDowns!$D$2:$E$151,2,FALSE),\"\")","v":""},{"$f":"IFERROR(VLOOKUP(H1333,DropDowns!$F$2:$G$7,2,FALSE),\"Residual categories\")","v":"Residual categories"},null,null,null,0,0,0]
[0,{"$f":"IF(OR(COUNTA(O1304:O1333)>0,COUNTA(O1333:$O$5195)>0),IF(COUNTIF(B1324:B1333,B1333)=10,B1333+7,B1333),\"\")","v":""},null,"","",null,null,null,0,0,0,0,{"$f":"IFERROR(VLOOKUP(G1334,DropDowns!$D$2:$E$151,2,FALSE),\"\")","v":""},{"$f":"IFERROR(VLOOKUP(H1334,DropDowns!$F$2:$G$7,2,FALSE),\"Residual categories\")","v":"Residual categories"},null,null,null,0,0,0]
[0,{"$f":"IF(OR(COUNTA(O1305:O1334)>0,COUNTA(O1334:$O$5195)>0),IF(COUNTIF(B1325:B1334,B1334)=10,B1334+7,B1334),\"\")","v":""},null,"","",null,null,null,0,0,0,0,{"$f":"IFERROR(VLOOKUP(G1335,DropDowns!$D$2:$E$151,2,FALSE),\"\")","v":""},{"$f":"IFERROR(VLOOKUP(H1335,DropDowns!$F$2:$G$7,2,FALSE),\"Residual categories\")","v":"Residual categories"},null,null,null,0,0,0]
[0,{"$f":"IF(OR(COUNTA(O1306:O1335)>0,COUNTA(O1335:$O$5195)>0),IF(COUNTIF(B1326:B1335,B1335)=10,B1335+7,B1335),\"\")","v":""},null,"","",null,null,null,0,0,0,0,{"$f":"IFERROR(VLOOKUP(G1336,DropDowns!$D$2:$E$151,2,FALSE),\"\")","v":""},{"$f":"IFERROR(VLOOKUP(H1336,DropDowns!$F$2:$G$7,2,FALSE),\"Residual categories\")","v":"Residual categories"},null,null,null,0,0,0]
[0,{"$f":"IF(OR(COUNTA(O1307:O1336)>0,COUNTA(O1336:$O$5195)>0),IF(COUNTIF(B1327:B1336,B1336)=10,B1336+7,B1336),\"\")","v":""},null,"","",null,null,null,0,0,0,0,{"$f":"IFERROR(VLOOKUP(G1337,DropDowns!$D$2:$E$151,2,FALSE),\"\")","v":""},{"$f":"IFERROR(VLOOKUP(H1337,DropDowns!$F$2:$G$7,2,FALSE),\"Residual categories\")","v":"Residual categories"},null,null,null,0,0,0]
[0,{"$f":"IF(OR(COUNTA(O1308:O1337)>0,COUNTA(O1337:$O$5195)>0),IF(COUNTIF(B1328:B1337,B1337)=10,B1337+7,B1337),\"\")","v":""},null,"","",null,null,null,0,0,0,0,{"$f":"IFERROR(VLOOKUP(G1338,DropDowns!$D$2:$E$151,2,FALSE),\"\")","v":""},{"$f":"IFERROR(VLOOKUP(H1338,DropDowns!$F$2:$G$7,2,FALSE),\"Residual categories\")","v":"Residual categories"},null,null,null,0,0,0]
[0,{"$f":"IF(OR(COUNTA(O1309:O1338)>0,COUNTA(O1338:$O$5195)>0),IF(COUNTIF(B1329:B1338,B1338)=10,B1338+7,B1338),\"\")","v":""},null,"","",null,null,null,0,0,0,0,{"$f":"IFERROR(VLOOKUP(G1339,DropDowns!$D$2:$E$151,2,FALSE),\"\")","v":""},{"$f":"IFERROR(VLOOKUP(H1339,DropDowns!$F$2:$G$7,2,FALSE),\"Residual categories\")","v":"Residual categories"},null,null,null,0,0,0]
[0,{"$f":"IF(OR(COUNTA(O1310:O1339)>0,COUNTA(O1339:$O$5195)>0),IF(COUNTIF(B1330:B1339,B1339)=10,B1339+7,B1339),\"\")","v":""},null,"","",null,null,null,0,0,0,0,{"$f":"IFERROR(VLOOKUP(G1340,DropDowns!$D$2:$E$151,2,FALSE),\"\")","v":""},{"$f":"IFERROR(VLOOKUP(H1340,DropDowns!$F$2:$G$7,2,FALSE),\"Residual categories\")","v":"Residual categories"},null,null,null,0,0,0]
[0,{"$f":"IF(OR(COUNTA(O1311:O1340)>0,COUNTA(O1340:$O$5195)>0),IF(COUNTIF(B1331:B1340,B1340)=10,B1340+7,B1340),\"\")","v":""},null,"","",null,null,null,0,0,0,0,{"$f":"IFERROR(VLOOKUP(G1341,DropDowns!$D$2:$E$151,2,FALSE),\"\")","v":""},{"$f":"IFERROR(VLOOKUP(H1341,DropDowns!$F$2:$G$7,2,FALSE),\"Residual categories\")","v":"Residual categories"},null,null,null,0,0,0]
[0,{"$f":"IF(OR(COUNTA(O1312:O1341)>0,COUNTA(O1341:$O$5195)>0),IF(COUNTIF(B1332:B1341,B1341)=10,B1341+7,B1341),\"\")","v":""},null,"","",null,null,null,0,0,0,0,{"$f":"IFERROR(VLOOKUP(G1342,DropDowns!$D$2:$E$151,2,FALSE),\"\")","v":""},{"$f":"IFERROR(VLOOKUP(H1342,DropDowns!$F$2:$G$7,2,FALSE),\"Residual categories\")","v":"Residual categories"},null,null,null,0,0,0]
[0,{"$f":"IF(OR(COUNTA(O1313:O1342)>0,COUNTA(O1342:$O$5195)>0),IF(COUNTIF(B1333:B1342,B1342)=10,B1342+7,B1342),\"\")","v":""},null,"","",null,null,null,0,0,0,0,{"$f":"IFERROR(VLOOKUP(G1343,DropDowns!$D$2:$E$151,2,FALSE),\"\")","v":""},{"$f":"IFERROR(VLOOKUP(H1343,DropDowns!$F$2:$G$7,2,FALSE),\"Residual categories\")","v":"Residual categories"},null,null,null,0,0,0]
[0,{"$f":"IF(OR(COUNTA(O1314:O1343)>0,COUNTA(O1343:$O$5195)>0),IF(COUNTIF(B1334:B1343,B1343)=10,B1343+7,B1343),\"\")","v":""},null,"","",null,null,null,0,0,0,0,{"$f":"IFERROR(VLOOKUP(G1344,DropDowns!$D$2:$E$151,2,FALSE),\"\")","v":""},{"$f":"IFERROR(VLOOKUP(H1344,DropDowns!$F$2:$G$7,2,FALSE),\"Residual categories\")","v":"Residual categories"},null,null,null,0,0,0]
[0,{"$f":"IF(OR(COUNTA(O1315:O1344)>0,COUNTA(O1344:$O$5195)>0),IF(COUNTIF(B1335:B1344,B1344)=10,B1344+7,B1344),\"\")","v":""},null,"","",null,null,null,0,0,0,0,{"$f":"IFERROR(VLOOKUP(G1345,DropDowns!$D$2:$E$151,2,FALSE),\"\")","v":""},{"$f":"IFERROR(VLOOKUP(H1345,DropDowns!$F$2:$G$7,2,FALSE),\"Residual categories\")","v":"Residual categories"},null,null,null,0,0,0]
[0,{"$f":"IF(OR(COUNTA(O1316:O1345)>0,COUNTA(O1345:$O$5195)>0),IF(COUNTIF(B1336:B1345,B1345)=10,B1345+7,B1345),\"\")","v":""},null,"","",null,null,null,0,0,0,0,{"$f":"IFERROR(VLOOKUP(G1346,DropDowns!$D$2:$E$151,2,FALSE),\"\")","v":""},{"$f":"IFERROR(VLOOKUP(H1346,DropDowns!$F$2:$G$7,2,FALSE),\"Residual categories\")","v":"Residual categories"},null,null,null,0,0,0]
[0,{"$f":"IF(OR(COUNTA(O1317:O1346)>0,COUNTA(O1346:$O$5195)>0),IF(COUNTIF(B1337:B1346,B1346)=10,B1346+7,B1346),\"\")","v":""},null,"","",null,null,null,0,0,0,0,{"$f":"IFERROR(VLOOKUP(G1347,DropDowns!$D$2:$E$151,2,FALSE),\"\")","v":""},{"$f":"IFERROR(VLOOKUP(H1347,DropDowns!$F$2:$G$7,2,FALSE),\"Residual categories\")","v":"Residual categories"},null,null,null,0,0,0]
[0,{"$f":"IF(OR(COUNTA(O1318:O1347)>0,COUNTA(O1347:$O$5195)>0),IF(COUNTIF(B1338:B1347,B1347)=10,B1347+7,B1347),\"\")","v":""},null,"","",null,null,null,0,0,0,0,{"$f":"IFERROR(VLOOKUP(G1348,DropDowns!$D$2:$E$151,2,FALSE),\"\")","v":""},{"$f":"IFERROR(VLOOKUP(H1348,DropDowns!$F$2:$G$7,2,FALSE),\"Residual categories\")","v":"Residual categories"},null,null,null,0,0,0]
[0,{"$f":"IF(OR(COUNTA(O1319:O1348)>0,COUNTA(O1348:$O$5195)>0),IF(COUNTIF(B1339:B1348,B1348)=10,B1348+7,B1348),\"\")","v":""},null,"","",null,null,null,0,0,0,0,{"$f":"IFERROR(VLOOKUP(G1349,DropDowns!$D$2:$E$151,2,FALSE),\"\")","v":""},{"$f":"IFERROR(VLOOKUP(H1349,DropDowns!$F$2:$G$7,2,FALSE),\"Residual categories\")","v":"Residual categories"},null,null,null,0,0,0]
[0,{"$f":"IF(OR(COUNTA(O1320:O1349)>0,COUNTA(O1349:$O$5195)>0),IF(COUNTIF(B1340:B1349,B1349)=10,B1349+7,B1349),\"\")","v":""},null,"","",null,null,null,0,0,0,0,{"$f":"IFERROR(VLOOKUP(G1350,DropDowns!$D$2:$E$151,2,FALSE),\"\")","v":""},{"$f":"IFERROR(VLOOKUP(H1350,DropDowns!$F$2:$G$7,2,FALSE),\"Residual categories\")","v":"Residual categories"},null,null,null,0,0,0]
[0,{"$f":"IF(OR(COUNTA(O1321:O1350)>0,COUNTA(O1350:$O$5195)>0),IF(COUNTIF(B1341:B1350,B1350)=10,B1350+7,B1350),\"\")","v":""},null,{"$f":"IF(E1351=1,B1351,\"\")","v":""},"",null,null,null,{"$f":"IF(COUNTA(O1351:Q1351)>0,1,0)","v":0},{"$f":"IF(O1351=\"y\",1,0)","v":0},{"$f":"IF(P1351=\"y\",1,0)","v":0},{"$f":"IF(Q1351=\"y\",1,0)","v":0},{"$f":"IFERROR(VLOOKUP(G1351,DropDowns!$D$2:$E$151,2,FALSE),\"\")","v":""},{"$f":"IFERROR(VLOOKUP(H1351,DropDowns!$F$2:$G$7,2,FALSE),\"Residual categories\")","v":"Residual categories"},null,null,null,{"$f":"IF(O1351=\"yes\",1,0)","v":0},{"$f":"IF(P1351=\"yes\",1,0)","v":0},{"$f":"IF(Q1351=\"yes\",1,0)","v":0}]
[0,{"$f":"IF(OR(COUNTA(O1322:O1351)>0,COUNTA(O1351:$O$5195)>0),IF(COUNTIF(B1342:B1351,B1351)=10,B1351+7,B1351),\"\")","v":""},null,"","",null,null,null,0,0,0,0,{"$f":"IFERROR(VLOOKUP(G1352,DropDowns!$D$2:$E$151,2,FALSE),\"\")","v":""},{"$f":"IFERROR(VLOOKUP(H1352,DropDowns!$F$2:$G$7,2,FALSE),\"Residual categories\")","v":"Residual categories"},null,null,null,0,0,0]
[0,{"$f":"IF(OR(COUNTA(O1323:O1352)>0,COUNTA(O1352:$O$5195)>0),IF(COUNTIF(B1343:B1352,B1352)=10,B1352+7,B1352),\"\")","v":""},null,"","",null,null,null,0,0,0,0,{"$f":"IFERROR(VLOOKUP(G1353,DropDowns!$D$2:$E$151,2,FALSE),\"\")","v":""},{"$f":"IFERROR(VLOOKUP(H1353,DropDowns!$F$2:$G$7,2,FALSE),\"Residual categories\")","v":"Residual categories"},null,null,null,0,0,0]
[0,{"$f":"IF(OR(COUNTA(O1324:O1353)>0,COUNTA(O1353:$O$5195)>0),IF(COUNTIF(B1344:B1353,B1353)=10,B1353+7,B1353),\"\")","v":""},null,"","",null,null,null,0,0,0,0,{"$f":"IFERROR(VLOOKUP(G1354,DropDowns!$D$2:$E$151,2,FALSE),\"\")","v":""},{"$f":"IFERROR(VLOOKUP(H1354,DropDowns!$F$2:$G$7,2,FALSE),\"Residual categories\")","v":"Residual categories"},null,null,null,0,0,0]
[0,{"$f":"IF(OR(COUNTA(O1325:O1354)>0,COUNTA(O1354:$O$5195)>0),IF(COUNTIF(B1345:B1354,B1354)=10,B1354+7,B1354),\"\")","v":""},null,"","",null,null,null,0,0,0,0,{"$f":"IFERROR(VLOOKUP(G1355,DropDowns!$D$2:$E$151,2,FALSE),\"\")","v":""},{"$f":"IFERROR(VLOOKUP(H1355,DropDowns!$F$2:$G$7,2,FALSE),\"Residual categories\")","v":"Residual categories"},null,null,null,0,0,0]
[0,{"$f":"IF(OR(COUNTA(O1326:O1355)>0,COUNTA(O1355:$O$5195)>0),IF(COUNTIF(B1346:B1355,B1355)=10,B1355+7,B1355),\"\")","v":""},null,"","",null,null,null,0,0,0,0,{"$f":"IFERROR(VLOOKUP(G1356,DropDowns!$D$2:$E$151,2,FALSE),\"\")","v":""},{"$f":"IFERROR(VLOOKUP(H1356,DropDowns!$F$2:$G$7,2,FALSE),\"Residual categories\")","v":"Residual categories"},null,null,null,0,0,0]
[0,{"$f":"IF(OR(COUNTA(O1327:O1356)>0,COUNTA(O1356:$O$5195)>0),IF(COUNTIF(B1347:B1356,B1356)=10,B1356+7,B1356),\"\")","v":""},null,"","",null,null,null,0,0,0,0,{"$f":"IFERROR(VLOOKUP(G1357,DropDowns!$D$2:$E$151,2,FALSE),\"\")","v":""},{"$f":"IFERROR(VLOOKUP(H1357,DropDowns!$F$2:$G$7,2,FALSE),\"Residual categories\")","v":"Residual categories"},null,null,null,0,0,0]
[0,{"$f":"IF(OR(COUNTA(O1328:O1357)>0,COUNTA(O1357:$O$5195)>0),IF(COUNTIF(B1348:B1357,B1357)=10,B1357+7,B1357),\"\")","v":""},null,"","",null,null,null,0,0,0,0,{"$f":"IFERROR(VLOOKUP(G1358,DropDowns!$D$2:$E$151,2,FALSE),\"\")","v":""},{"$f":"IFERROR(VLOOKUP(H1358,DropDowns!$F$2:$G$7,2,FALSE),\"Residual categories\")","v":"Residual categories"},null,null,null,0,0,0]
[0,{"$f":"IF(OR(COUNTA(O1329:O1358)>0,COUNTA(O1358:$O$5195)>0),IF(COUNTIF(B1349:B1358,B1358)=10,B1358+7,B1358),\"\")","v":""},null,"","",null,null,null,0,0,0,0,{"$f":"IFERROR(VLOOKUP(G1359,DropDowns!$D$2:$E$151,2,FALSE),\"\")","v":""},{"$f":"IFERROR(VLOOKUP(H1359,DropDowns!$F$2:$G$7,2,FALSE),\"Residual categories\")","v":"Residual categories"},null,null,null,0,0,0]
[0,{"$f":"IF(OR(COUNTA(O1330:O1359)>0,COUNTA(O1359:$O$5195)>0),IF(COUNTIF(B1350:B1359,B1359)=10,B1359+7,B1359),\"\")","v":""},null,"","",null,null,null,0,0,0,0,{"$f":"IFERROR(VLOOKUP(G1360,DropDowns!$D$2:$E$151,2,FALSE),\"\")","v":""},{"$f":"IFERROR(VLOOKUP(H1360,DropDowns!$F$2:$G$7,2,FALSE),\"Residual categories\")","v":"Residual categories"},null,null,null,0,0,0]
[0,{"$f":"IF(OR(COUNTA(O1331:O1360)>0,COUNTA(O1360:$O$5195)>0),IF(COUNTIF(B1351:B1360,B1360)=10,B1360+7,B1360),\"\")","v":""},null,"",{"$f":"IF(B1361=\"\",\"\",COUNTIF(B1352:B1361,B1361))","v":""},null,null,null,0,0,0,0,{"$f":"IFERROR(VLOOKUP(G1361,DropDowns!$D$2:$E$151,2,FALSE),\"\")","v":""},{"$f":"IFERROR(VLOOKUP(H1361,DropDowns!$F$2:$G$7,2,FALSE),\"Residual categories\")","v":"Residual categories"},null,null,null,0,0,0]
[0,{"$f":"IF(OR(COUNTA(O1332:O1361)>0,COUNTA(O1361:$O$5195)>0),IF(COUNTIF(B1352:B1361,B1361)=10,B1361+7,B1361),\"\")","v":""},null,"","",null,null,null,0,0,0,0,{"$f":"IFERROR(VLOOKUP(G1362,DropDowns!$D$2:$E$151,2,FALSE),\"\")","v":""},{"$f":"IFERROR(VLOOKUP(H1362,DropDowns!$F$2:$G$7,2,FALSE),\"Residual categories\")","v":"Residual categories"},null,null,null,0,0,0]
[0,{"$f":"IF(OR(COUNTA(O1333:O1362)>0,COUNTA(O1362:$O$5195)>0),IF(COUNTIF(B1353:B1362,B1362)=10,B1362+7,B1362),\"\")","v":""},null,"","",null,null,null,0,0,0,0,{"$f":"IFERROR(VLOOKUP(G1363,DropDowns!$D$2:$E$151,2,FALSE),\"\")","v":""},{"$f":"IFERROR(VLOOKUP(H1363,DropDowns!$F$2:$G$7,2,FALSE),\"Residual categories\")","v":"Residual categories"},null,null,null,0,0,0]
[{"$f":"$E$2","v":0},{"$f":"IF(OR(COUNTA(O1334:O1363)>0,COUNTA(O1363:$O$5195)>0),IF(COUNTIF(B1354:B1363,B1363)=10,B1363+7,B1363),\"\")","v":""},null,"","",null,null,null,0,0,0,0,{"$f":"IFERROR(VLOOKUP(G1364,DropDowns!$D$2:$E$151,2,FALSE),\"\")","v":""},{"$f":"IFERROR(VLOOKUP(H1364,DropDowns!$F$2:$G$7,2,FALSE),\"Residual categories\")","v":"Residual categories"},null,null,null,0,0,0]
[0,{"$f":"IF(OR(COUNTA(O1335:O1364)>0,COUNTA(O1364:$O$5195)>0),IF(COUNTIF(B1355:B1364,B1364)=10,B1364+7,B1364),\"\")","v":""},null,"","",null,null,null,0,0,0,0,{"$f":"IFERROR(VLOOKUP(G1365,DropDowns!$D$2:$E$151,2,FALSE),\"\")","v":""},{"$f":"IFERROR(VLOOKUP(H1365,DropDowns!$F$2:$G$7,2,FALSE),\"Residual categories\")","v":"Residual categories"},null,null,null,0,0,0]
[0,{"$f":"IF(OR(COUNTA(O1336:O1365)>0,COUNTA(O1365:$O$5195)>0),IF(COUNTIF(B1356:B1365,B1365)=10,B1365+7,B1365),\"\")","v":""},null,"","",null,null,null,0,0,0,0,{"$f":"IFERROR(VLOOKUP(G1366,DropDowns!$D$2:$E$151,2,FALSE),\"\")","v":""},{"$f":"IFERROR(VLOOKUP(H1366,DropDowns!$F$2:$G$7,2,FALSE),\"Residual categories\")","v":"Residual categories"},null,null,null,0,0,0]
[0,{"$f":"IF(OR(COUNTA(O1337:O1366)>0,COUNTA(O1366:$O$5195)>0),IF(COUNTIF(B1357:B1366,B1366)=10,B1366+7,B1366),\"\")","v":""},null,"","",null,null,null,0,0,0,0,{"$f":"IFERROR(VLOOKUP(G1367,DropDowns!$D$2:$E$151,2,FALSE),\"\")","v":""},{"$f":"IFERROR(VLOOKUP(H1367,DropDowns!$F$2:$G$7,2,FALSE),\"Residual categories\")","v":"Residual categories"},null,null,null,0,0,0]
[0,{"$f":"IF(OR(COUNTA(O1338:O1367)>0,COUNTA(O1367:$O$5195)>0),IF(COUNTIF(B1358:B1367,B1367)=10,B1367+7,B1367),\"\")","v":""},null,"","",null,null,null,0,0,0,0,{"$f":"IFERROR(VLOOKUP(G1368,DropDowns!$D$2:$E$151,2,FALSE),\"\")","v":""},{"$f":"IFERROR(VLOOKUP(H1368,DropDowns!$F$2:$G$7,2,FALSE),\"Residual categories\")","v":"Residual categories"},null,null,null,0,0,0]
[0,{"$f":"IF(OR(COUNTA(O1339:O1368)>0,COUNTA(O1368:$O$5195)>0),IF(COUNTIF(B1359:B1368,B1368)=10,B1368+7,B1368),\"\")","v":""},null,"","",null,null,null,0,0,0,0,{"$f":"IFERROR(VLOOKUP(G1369,DropDowns!$D$2:$E$151,2,FALSE),\"\")","v":""},{"$f":"IFERROR(VLOOKUP(H1369,DropDowns!$F$2:$G$7,2,FALSE),\"Residual categories\")","v":"Residual categories"},null,null,null,0,0,0]
[0,{"$f":"IF(OR(COUNTA(O1340:O1369)>0,COUNTA(O1369:$O$5195)>0),IF(COUNTIF(B1360:B1369,B1369)=10,B1369+7,B1369),\"\")","v":""},null,"","",null,null,null,0,0,0,0,{"$f":"IFERROR(VLOOKUP(G1370,DropDowns!$D$2:$E$151,2,FALSE),\"\")","v":""},{"$f":"IFERROR(VLOOKUP(H1370,DropDowns!$F$2:$G$7,2,FALSE),\"Residual categories\")","v":"Residual categories"},null,null,null,0,0,0]
[0,{"$f":"IF(OR(COUNTA(O1341:O1370)>0,COUNTA(O1370:$O$5195)>0),IF(COUNTIF(B1361:B1370,B1370)=10,B1370+7,B1370),\"\")","v":""},null,"","",null,null,null,0,0,0,0,{"$f":"IFERROR(VLOOKUP(G1371,DropDowns!$D$2:$E$151,2,FALSE),\"\")","v":""},{"$f":"IFERROR(VLOOKUP(H1371,DropDowns!$F$2:$G$7,2,FALSE),\"Residual categories\")","v":"Residual categories"},null,null,null,0,0,0]
[0,{"$f":"IF(OR(COUNTA(O1342:O1371)>0,COUNTA(O1371:$O$5195)>0),IF(COUNTIF(B1362:B1371,B1371)=10,B1371+7,B1371),\"\")","v":""},null,"","",null,null,null,0,0,0,0,{"$f":"IFERROR(VLOOKUP(G1372,DropDowns!$D$2:$E$151,2,FALSE),\"\")","v":""},{"$f":"IFERROR(VLOOKUP(H1372,DropDowns!$F$2:$G$7,2,FALSE),\"Residual categories\")","v":"Residual categories"},null,null,null,0,0,0]
[0,{"$f":"IF(OR(COUNTA(O1343:O1372)>0,COUNTA(O1372:$O$5195)>0),IF(COUNTIF(B1363:B1372,B1372)=10,B1372+7,B1372),\"\")","v":""},null,"","",null,null,null,0,0,0,0,{"$f":"IFERROR(VLOOKUP(G1373,DropDowns!$D$2:$E$151,2,FALSE),\"\")","v":""},{"$f":"IFERROR(VLOOKUP(H1373,DropDowns!$F$2:$G$7,2,FALSE),\"Residual categories\")","v":"Residual categories"},null,null,null,0,0,0]
[0,{"$f":"IF(OR(COUNTA(O1344:O1373)>0,COUNTA(O1373:$O$5195)>0),IF(COUNTIF(B1364:B1373,B1373)=10,B1373+7,B1373),\"\")","v":""},null,"","",null,null,null,0,0,0,0,{"$f":"IFERROR(VLOOKUP(G1374,DropDowns!$D$2:$E$151,2,FALSE),\"\")","v":""},{"$f":"IFERROR(VLOOKUP(H1374,DropDowns!$F$2:$G$7,2,FALSE),\"Residual categories\")","v":"Residual categories"},null,null,null,0,0,0]
[0,{"$f":"IF(OR(COUNTA(O1345:O1374)>0,COUNTA(O1374:$O$5195)>0),IF(COUNTIF(B1365:B1374,B1374)=10,B1374+7,B1374),\"\")","v":""},null,"","",null,null,null,0,0,0,0,{"$f":"IFERROR(VLOOKUP(G1375,DropDowns!$D$2:$E$151,2,FALSE),\"\")","v":""},{"$f":"IFERROR(VLOOKUP(H1375,DropDowns!$F$2:$G$7,2,FALSE),\"Residual categories\")","v":"Residual categories"},null,null,null,0,0,0]
[0,{"$f":"IF(OR(COUNTA(O1346:O1375)>0,COUNTA(O1375:$O$5195)>0),IF(COUNTIF(B1366:B1375,B1375)=10,B1375+7,B1375),\"\")","v":""},null,"","",null,null,null,0,0,0,0,{"$f":"IFERROR(VLOOKUP(G1376,DropDowns!$D$2:$E$151,2,FALSE),\"\")","v":""},{"$f":"IFERROR(VLOOKUP(H1376,DropDowns!$F$2:$G$7,2,FALSE),\"Residual categories\")","v":"Residual categories"},null,null,null,0,0,0]
[0,{"$f":"IF(OR(COUNTA(O1347:O1376)>0,COUNTA(O1376:$O$5195)>0),IF(COUNTIF(B1367:B1376,B1376)=10,B1376+7,B1376),\"\")","v":""},null,"","",null,null,null,0,0,0,0,{"$f":"IFERROR(VLOOKUP(G1377,DropDowns!$D$2:$E$151,2,FALSE),\"\")","v":""},{"$f":"IFERROR(VLOOKUP(H1377,DropDowns!$F$2:$G$7,2,FALSE),\"Residual categories\")","v":"Residual categories"},null,null,null,0,0,0]
[0,{"$f":"IF(OR(COUNTA(O1348:O1377)>0,COUNTA(O1377:$O$5195)>0),IF(COUNTIF(B1368:B1377,B1377)=10,B1377+7,B1377),\"\")","v":""},null,"","",null,null,null,0,0,0,0,{"$f":"IFERROR(VLOOKUP(G1378,DropDowns!$D$2:$E$151,2,FALSE),\"\")","v":""},{"$f":"IFERROR(VLOOKUP(H1378,DropDowns!$F$2:$G$7,2,FALSE),\"Residual categories\")","v":"Residual categories"},null,null,null,0,0,0]
[0,{"$f":"IF(OR(COUNTA(O1349:O1378)>0,COUNTA(O1378:$O$5195)>0),IF(COUNTIF(B1369:B1378,B1378)=10,B1378+7,B1378),\"\")","v":""},null,"","",null,null,null,0,0,0,0,{"$f":"IFERROR(VLOOKUP(G1379,DropDowns!$D$2:$E$151,2,FALSE),\"\")","v":""},{"$f":"IFERROR(VLOOKUP(H1379,DropDowns!$F$2:$G$7,2,FALSE),\"Residual categories\")","v":"Residual categories"},null,null,null,0,0,0]
[0,{"$f":"IF(OR(COUNTA(O1350:O1379)>0,COUNTA(O1379:$O$5195)>0),IF(COUNTIF(B1370:B1379,B1379)=10,B1379+7,B1379),\"\")","v":""},null,"","",null,null,null,0,0,0,0,{"$f":"IFERROR(VLOOKUP(G1380,DropDowns!$D$2:$E$151,2,FALSE),\"\")","v":""},{"$f":"IFERROR(VLOOKUP(H1380,DropDowns!$F$2:$G$7,2,FALSE),\"Residual categories\")","v":"Residual categories"},null,null,null,0,0,0]
[0,{"$f":"IF(OR(COUNTA(O1351:O1380)>0,COUNTA(O1380:$O$5195)>0),IF(COUNTIF(B1371:B1380,B1380)=10,B1380+7,B1380),\"\")","v":""},null,"","",null,null,null,0,0,0,0,{"$f":"IFERROR(VLOOKUP(G1381,DropDowns!$D$2:$E$151,2,FALSE),\"\")","v":""},{"$f":"IFERROR(VLOOKUP(H1381,DropDowns!$F$2:$G$7,2,FALSE),\"Residual categories\")","v":"Residual categories"},null,null,null,0,0,0]
[0,{"$f":"IF(OR(COUNTA(O1352:O1381)>0,COUNTA(O1381:$O$5195)>0),IF(COUNTIF(B1372:B1381,B1381)=10,B1381+7,B1381),\"\")","v":""},null,"","",null,null,null,0,0,0,0,{"$f":"IFERROR(VLOOKUP(G1382,DropDowns!$D$2:$E$151,2,FALSE),\"\")","v":""},{"$f":"IFERROR(VLOOKUP(H1382,DropDowns!$F$2:$G$7,2,FALSE),\"Residual categories\")","v":"Residual categories"},null,null,null,0,0,0]
[0,{"$f":"IF(OR(COUNTA(O1353:O1382)>0,COUNTA(O1382:$O$5195)>0),IF(COUNTIF(B1373:B1382,B1382)=10,B1382+7,B1382),\"\")","v":""},null,"","",null,null,null,0,0,0,0,{"$f":"IFERROR(VLOOKUP(G1383,DropDowns!$D$2:$E$151,2,FALSE),\"\")","v":""},{"$f":"IFERROR(VLOOKUP(H1383,DropDowns!$F$2:$G$7,2,FALSE),\"Residual categories\")","v":"Residual categories"},null,null,null,0,0,0]
[0,{"$f":"IF(OR(COUNTA(O1354:O1383)>0,COUNTA(O1383:$O$5195)>0),IF(COUNTIF(B1374:B1383,B1383)=10,B1383+7,B1383),\"\")","v":""},null,"","",null,null,null,0,0,0,0,{"$f":"IFERROR(VLOOKUP(G1384,DropDowns!$D$2:$E$151,2,FALSE),\"\")","v":""},{"$f":"IFERROR(VLOOKUP(H1384,DropDowns!$F$2:$G$7,2,FALSE),\"Residual categories\")","v":"Residual categories"},null,null,null,0,0,0]
[0,{"$f":"IF(OR(COUNTA(O1355:O1384)>0,COUNTA(O1384:$O$5195)>0),IF(COUNTIF(B1375:B1384,B1384)=10,B1384+7,B1384),\"\")","v":""},null,"","",null,null,null,0,0,0,0,{"$f":"IFERROR(VLOOKUP(G1385,DropDowns!$D$2:$E$151,2,FALSE),\"\")","v":""},{"$f":"IFERROR(VLOOKUP(H1385,DropDowns!$F$2:$G$7,2,FALSE),\"Residual categories\")","v":"Residual categories"},null,null,null,0,0,0]
[0,{"$f":"IF(OR(COUNTA(O1356:O1385)>0,COUNTA(O1385:$O$5195)>0),IF(COUNTIF(B1376:B1385,B1385)=10,B1385+7,B1385),\"\")","v":""},null,"","",null,null,null,0,0,0,0,{"$f":"IFERROR(VLOOKUP(G1386,DropDowns!$D$2:$E$151,2,FALSE),\"\")","v":""},{"$f":"IFERROR(VLOOKUP(H1386,DropDowns!$F$2:$G$7,2,FALSE),\"Residual categories\")","v":"Residual categories"},null,null,null,0,0,0]
[0,{"$f":"IF(OR(COUNTA(O1357:O1386)>0,COUNTA(O1386:$O$5195)>0),IF(COUNTIF(B1377:B1386,B1386)=10,B1386+7,B1386),\"\")","v":""},null,"","",null,null,null,0,0,0,0,{"$f":"IFERROR(VLOOKUP(G1387,DropDowns!$D$2:$E$151,2,FALSE),\"\")","v":""},{"$f":"IFERROR(VLOOKUP(H1387,DropDowns!$F$2:$G$7,2,FALSE),\"Residual categories\")","v":"Residual categories"},null,null,null,0,0,0]
[0,{"$f":"IF(OR(COUNTA(O1358:O1387)>0,COUNTA(O1387:$O$5195)>0),IF(COUNTIF(B1378:B1387,B1387)=10,B1387+7,B1387),\"\")","v":""},null,"","",null,null,null,0,0,0,0,{"$f":"IFERROR(VLOOKUP(G1388,DropDowns!$D$2:$E$151,2,FALSE),\"\")","v":""},{"$f":"IFERROR(VLOOKUP(H1388,DropDowns!$F$2:$G$7,2,FALSE),\"Residual categories\")","v":"Residual categories"},null,null,null,0,0,0]
[0,{"$f":"IF(OR(COUNTA(O1359:O1388)>0,COUNTA(O1388:$O$5195)>0),IF(COUNTIF(B1379:B1388,B1388)=10,B1388+7,B1388),\"\")","v":""},null,"","",null,null,null,0,0,0,0,{"$f":"IFERROR(VLOOKUP(G1389,DropDowns!$D$2:$E$151,2,FALSE),\"\")","v":""},{"$f":"IFERROR(VLOOKUP(H1389,DropDowns!$F$2:$G$7,2,FALSE),\"Residual categories\")","v":"Residual categories"},null,null,null,0,0,0]
[0,{"$f":"IF(OR(COUNTA(O1360:O1389)>0,COUNTA(O1389:$O$5195)>0),IF(COUNTIF(B1380:B1389,B1389)=10,B1389+7,B1389),\"\")","v":""},null,"","",null,null,null,0,0,0,0,{"$f":"IFERROR(VLOOKUP(G1390,DropDowns!$D$2:$E$151,2,FALSE),\"\")","v":""},{"$f":"IFERROR(VLOOKUP(H1390,DropDowns!$F$2:$G$7,2,FALSE),\"Residual categories\")","v":"Residual categories"},null,null,null,0,0,0]
[0,{"$f":"IF(OR(COUNTA(O1361:O1390)>0,COUNTA(O1390:$O$5195)>0),IF(COUNTIF(B1381:B1390,B1390)=10,B1390+7,B1390),\"\")","v":""},null,"","",null,null,null,0,0,0,0,{"$f":"IFERROR(VLOOKUP(G1391,DropDowns!$D$2:$E$151,2,FALSE),\"\")","v":""},{"$f":"IFERROR(VLOOKUP(H1391,DropDowns!$F$2:$G$7,2,FALSE),\"Residual categories\")","v":"Residual categories"},null,null,null,0,0,0]
[0,{"$f":"IF(OR(COUNTA(O1362:O1391)>0,COUNTA(O1391:$O$5195)>0),IF(COUNTIF(B1382:B1391,B1391)=10,B1391+7,B1391),\"\")","v":""},null,"","",null,null,null,0,0,0,0,{"$f":"IFERROR(VLOOKUP(G1392,DropDowns!$D$2:$E$151,2,FALSE),\"\")","v":""},{"$f":"IFERROR(VLOOKUP(H1392,DropDowns!$F$2:$G$7,2,FALSE),\"Residual categories\")","v":"Residual categories"},null,null,null,0,0,0]
[0,{"$f":"IF(OR(COUNTA(O1363:O1392)>0,COUNTA(O1392:$O$5195)>0),IF(COUNTIF(B1383:B1392,B1392)=10,B1392+7,B1392),\"\")","v":""},null,"","",null,null,null,0,0,0,0,{"$f":"IFERROR(VLOOKUP(G1393,DropDowns!$D$2:$E$151,2,FALSE),\"\")","v":""},{"$f":"IFERROR(VLOOKUP(H1393,DropDowns!$F$2:$G$7,2,FALSE),\"Residual categories\")","v":"Residual categories"},null,null,null,0,0,0]
[0,{"$f":"IF(OR(COUNTA(O1364:O1393)>0,COUNTA(O1393:$O$5195)>0),IF(COUNTIF(B1384:B1393,B1393)=10,B1393+7,B1393),\"\")","v":""},null,"","",null,null,null,0,0,0,0,{"$f":"IFERROR(VLOOKUP(G1394,DropDowns!$D$2:$E$151,2,FALSE),\"\")","v":""},{"$f":"IFERROR(VLOOKUP(H1394,DropDowns!$F$2:$G$7,2,FALSE),\"Residual categories\")","v":"Residual categories"},null,null,null,0,0,0]
[0,{"$f":"IF(OR(COUNTA(O1365:O1394)>0,COUNTA(O1394:$O$5195)>0),IF(COUNTIF(B1385:B1394,B1394)=10,B1394+7,B1394),\"\")","v":""},null,"","",null,null,null,0,0,0,0,{"$f":"IFERROR(VLOOKUP(G1395,DropDowns!$D$2:$E$151,2,FALSE),\"\")","v":""},{"$f":"IFERROR(VLOOKUP(H1395,DropDowns!$F$2:$G$7,2,FALSE),\"Residual categories\")","v":"Residual categories"},null,null,null,0,0,0]
[0,{"$f":"IF(OR(COUNTA(O1366:O1395)>0,COUNTA(O1395:$O$5195)>0),IF(COUNTIF(B1386:B1395,B1395)=10,B1395+7,B1395),\"\")","v":""},null,"","",null,null,null,0,0,0,0,{"$f":"IFERROR(VLOOKUP(G1396,DropDowns!$D$2:$E$151,2,FALSE),\"\")","v":""},{"$f":"IFERROR(VLOOKUP(H1396,DropDowns!$F$2:$G$7,2,FALSE),\"Residual categories\")","v":"Residual categories"},null,null,null,0,0,0]
[0,{"$f":"IF(OR(COUNTA(O1367:O1396)>0,COUNTA(O1396:$O$5195)>0),IF(COUNTIF(B1387:B1396,B1396)=10,B1396+7,B1396),\"\")","v":""},null,"","",null,null,null,0,0,0,0,{"$f":"IFERROR(VLOOKUP(G1397,DropDowns!$D$2:$E$151,2,FALSE),\"\")","v":""},{"$f":"IFERROR(VLOOKUP(H1397,DropDowns!$F$2:$G$7,2,FALSE),\"Residual categories\")","v":"Residual categories"},null,null,null,0,0,0]
[0,{"$f":"IF(OR(COUNTA(O1368:O1397)>0,COUNTA(O1397:$O$5195)>0),IF(COUNTIF(B1388:B1397,B1397)=10,B1397+7,B1397),\"\")","v":""},null,"","",null,null,null,0,0,0,0,{"$f":"IFERROR(VLOOKUP(G1398,DropDowns!$D$2:$E$151,2,FALSE),\"\")","v":""},{"$f":"IFERROR(VLOOKUP(H1398,DropDowns!$F$2:$G$7,2,FALSE),\"Residual categories\")","v":"Residual categories"},null,null,null,0,0,0]
[0,{"$f":"IF(OR(COUNTA(O1369:O1398)>0,COUNTA(O1398:$O$5195)>0),IF(COUNTIF(B1389:B1398,B1398)=10,B1398+7,B1398),\"\")","v":""},null,"","",null,null,null,0,0,0,0,{"$f":"IFERROR(VLOOKUP(G1399,DropDowns!$D$2:$E$151,2,FALSE),\"\")","v":""},{"$f":"IFERROR(VLOOKUP(H1399,DropDowns!$F$2:$G$7,2,FALSE),\"Residual categories\")","v":"Residual categories"},null,null,null,0,0,0]
[0,{"$f":"IF(OR(COUNTA(O1370:O1399)>0,COUNTA(O1399:$O$5195)>0),IF(COUNTIF(B1390:B1399,B1399)=10,B1399+7,B1399),\"\")","v":""},null,"","",null,null,null,0,0,0,0,{"$f":"IFERROR(VLOOKUP(G1400,DropDowns!$D$2:$E$151,2,FALSE),\"\")","v":""},{"$f":"IFERROR(VLOOKUP(H1400,DropDowns!$F$2:$G$7,2,FALSE),\"Residual categories\")","v":"Residual categories"},null,null,null,0,0,0]
[0,{"$f":"IF(OR(COUNTA(O1371:O1400)>0,COUNTA(O1400:$O$5195)>0),IF(COUNTIF(B1391:B1400,B1400)=10,B1400+7,B1400),\"\")","v":""},null,"","",null,null,null,0,0,0,0,{"$f":"IFERROR(VLOOKUP(G1401,DropDowns!$D$2:$E$151,2,FALSE),\"\")","v":""},{"$f":"IFERROR(VLOOKUP(H1401,DropDowns!$F$2:$G$7,2,FALSE),\"Residual categories\")","v":"Residual categories"},null,null,null,0,0,0]
[0,{"$f":"IF(OR(COUNTA(O1372:O1401)>0,COUNTA(O1401:$O$5195)>0),IF(COUNTIF(B1392:B1401,B1401)=10,B1401+7,B1401),\"\")","v":""},null,"","",null,null,null,0,0,0,0,{"$f":"IFERROR(VLOOKUP(G1402,DropDowns!$D$2:$E$151,2,FALSE),\"\")","v":""},{"$f":"IFERROR(VLOOKUP(H1402,DropDowns!$F$2:$G$7,2,FALSE),\"Residual categories\")","v":"Residual categories"},null,null,null,0,0,0]
[0,{"$f":"IF(OR(COUNTA(O1373:O1402)>0,COUNTA(O1402:$O$5195)>0),IF(COUNTIF(B1393:B1402,B1402)=10,B1402+7,B1402),\"\")","v":""},null,"","",null,null,null,0,0,0,0,{"$f":"IFERROR(VLOOKUP(G1403,DropDowns!$D$2:$E$151,2,FALSE),\"\")","v":""},{"$f":"IFERROR(VLOOKUP(H1403,DropDowns!$F$2:$G$7,2,FALSE),\"Residual categories\")","v":"Residual categories"},null,null,null,0,0,0]
[0,{"$f":"IF(OR(COUNTA(O1374:O1403)>0,COUNTA(O1403:$O$5195)>0),IF(COUNTIF(B1394:B1403,B1403)=10,B1403+7,B1403),\"\")","v":""},null,"","",null,null,null,0,0,0,0,{"$f":"IFERROR(VLOOKUP(G1404,DropDowns!$D$2:$E$151,2,FALSE),\"\")","v":""},{"$f":"IFERROR(VLOOKUP(H1404,DropDowns!$F$2:$G$7,2,FALSE),\"Residual categories\")","v":"Residual categories"},null,null,null,0,0,0]
[0,{"$f":"IF(OR(COUNTA(O1375:O1404)>0,COUNTA(O1404:$O$5195)>0),IF(COUNTIF(B1395:B1404,B1404)=10,B1404+7,B1404),\"\")","v":""},null,"","",null,null,null,0,0,0,0,{"$f":"IFERROR(VLOOKUP(G1405,DropDowns!$D$2:$E$151,2,FALSE),\"\")","v":""},{"$f":"IFERROR(VLOOKUP(H1405,DropDowns!$F$2:$G$7,2,FALSE),\"Residual categories\")","v":"Residual categories"},null,null,null,0,0,0]
[0,{"$f":"IF(OR(COUNTA(O1376:O1405)>0,COUNTA(O1405:$O$5195)>0),IF(COUNTIF(B1396:B1405,B1405)=10,B1405+7,B1405),\"\")","v":""},null,"","",null,null,null,0,0,0,0,{"$f":"IFERROR(VLOOKUP(G1406,DropDowns!$D$2:$E$151,2,FALSE),\"\")","v":""},{"$f":"IFERROR(VLOOKUP(H1406,DropDowns!$F$2:$G$7,2,FALSE),\"Residual categories\")","v":"Residual categories"},null,null,null,0,0,0]
[0,{"$f":"IF(OR(COUNTA(O1377:O1406)>0,COUNTA(O1406:$O$5195)>0),IF(COUNTIF(B1397:B1406,B1406)=10,B1406+7,B1406),\"\")","v":""},null,"","",null,null,null,0,0,0,0,{"$f":"IFERROR(VLOOKUP(G1407,DropDowns!$D$2:$E$151,2,FALSE),\"\")","v":""},{"$f":"IFERROR(VLOOKUP(H1407,DropDowns!$F$2:$G$7,2,FALSE),\"Residual categories\")","v":"Residual categories"},null,null,null,0,0,0]
[0,{"$f":"IF(OR(COUNTA(O1378:O1407)>0,COUNTA(O1407:$O$5195)>0),IF(COUNTIF(B1398:B1407,B1407)=10,B1407+7,B1407),\"\")","v":""},null,"","",null,null,null,0,0,0,0,{"$f":"IFERROR(VLOOKUP(G1408,DropDowns!$D$2:$E$151,2,FALSE),\"\")","v":""},{"$f":"IFERROR(VLOOKUP(H1408,DropDowns!$F$2:$G$7,2,FALSE),\"Residual categories\")","v":"Residual categories"},null,null,null,0,0,0]
[0,{"$f":"IF(OR(COUNTA(O1379:O1408)>0,COUNTA(O1408:$O$5195)>0),IF(COUNTIF(B1399:B1408,B1408)=10,B1408+7,B1408),\"\")","v":""},null,"","",null,null,null,0,0,0,0,{"$f":"IFERROR(VLOOKUP(G1409,DropDowns!$D$2:$E$151,2,FALSE),\"\")","v":""},{"$f":"IFERROR(VLOOKUP(H1409,DropDowns!$F$2:$G$7,2,FALSE),\"Residual categories\")","v":"Residual categories"},null,null,null,0,0,0]
[0,{"$f":"IF(OR(COUNTA(O1380:O1409)>0,COUNTA(O1409:$O$5195)>0),IF(COUNTIF(B1400:B1409,B1409)=10,B1409+7,B1409),\"\")","v":""},null,"","",null,null,null,0,0,0,0,{"$f":"IFERROR(VLOOKUP(G1410,DropDowns!$D$2:$E$151,2,FALSE),\"\")","v":""},{"$f":"IFERROR(VLOOKUP(H1410,DropDowns!$F$2:$G$7,2,FALSE),\"Residual categories\")","v":"Residual categories"},null,null,null,0,0,0]
[0,{"$f":"IF(OR(COUNTA(O1381:O1410)>0,COUNTA(O1410:$O$5195)>0),IF(COUNTIF(B1401:B1410,B1410)=10,B1410+7,B1410),\"\")","v":""},null,"","",null,null,null,0,0,0,0,{"$f":"IFERROR(VLOOKUP(G1411,DropDowns!$D$2:$E$151,2,FALSE),\"\")","v":""},{"$f":"IFERROR(VLOOKUP(H1411,DropDowns!$F$2:$G$7,2,FALSE),\"Residual categories\")","v":"Residual categories"},null,null,null,0,0,0]
[0,{"$f":"IF(OR(COUNTA(O1382:O1411)>0,COUNTA(O1411:$O$5195)>0),IF(COUNTIF(B1402:B1411,B1411)=10,B1411+7,B1411),\"\")","v":""},null,"","",null,null,null,0,0,0,0,{"$f":"IFERROR(VLOOKUP(G1412,DropDowns!$D$2:$E$151,2,FALSE),\"\")","v":""},{"$f":"IFERROR(VLOOKUP(H1412,DropDowns!$F$2:$G$7,2,FALSE),\"Residual categories\")","v":"Residual categories"},null,null,null,0,0,0]
[0,{"$f":"IF(OR(COUNTA(O1383:O1412)>0,COUNTA(O1412:$O$5195)>0),IF(COUNTIF(B1403:B1412,B1412)=10,B1412+7,B1412),\"\")","v":""},null,"","",null,null,null,0,0,0,0,{"$f":"IFERROR(VLOOKUP(G1413,DropDowns!$D$2:$E$151,2,FALSE),\"\")","v":""},{"$f":"IFERROR(VLOOKUP(H1413,DropDowns!$F$2:$G$7,2,FALSE),\"Residual categories\")","v":"Residual categories"},null,null,null,0,0,0]
[0,{"$f":"IF(OR(COUNTA(O1384:O1413)>0,COUNTA(O1413:$O$5195)>0),IF(COUNTIF(B1404:B1413,B1413)=10,B1413+7,B1413),\"\")","v":""},null,"","",null,null,null,0,0,0,0,{"$f":"IFERROR(VLOOKUP(G1414,DropDowns!$D$2:$E$151,2,FALSE),\"\")","v":""},{"$f":"IFERROR(VLOOKUP(H1414,DropDowns!$F$2:$G$7,2,FALSE),\"Residual categories\")","v":"Residual categories"},null,null,null,0,0,0]
[0,{"$f":"IF(OR(COUNTA(O1385:O1414)>0,COUNTA(O1414:$O$5195)>0),IF(COUNTIF(B1405:B1414,B1414)=10,B1414+7,B1414),\"\")","v":""},null,{"$f":"IF(E1415=1,B1415,\"\")","v":""},"",null,null,null,{"$f":"IF(COUNTA(O1415:Q1415)>0,1,0)","v":0},{"$f":"IF(O1415=\"y\",1,0)","v":0},{"$f":"IF(P1415=\"y\",1,0)","v":0},{"$f":"IF(Q1415=\"y\",1,0)","v":0},{"$f":"IFERROR(VLOOKUP(G1415,DropDowns!$D$2:$E$151,2,FALSE),\"\")","v":""},{"$f":"IFERROR(VLOOKUP(H1415,DropDowns!$F$2:$G$7,2,FALSE),\"Residual categories\")","v":"Residual categories"},null,null,null,{"$f":"IF(O1415=\"yes\",1,0)","v":0},{"$f":"IF(P1415=\"yes\",1,0)","v":0},{"$f":"IF(Q1415=\"yes\",1,0)","v":0}]
[0,{"$f":"IF(OR(COUNTA(O1386:O1415)>0,COUNTA(O1415:$O$5195)>0),IF(COUNTIF(B1406:B1415,B1415)=10,B1415+7,B1415),\"\")","v":""},null,"","",null,null,null,0,0,0,0,{"$f":"IFERROR(VLOOKUP(G1416,DropDowns!$D$2:$E$151,2,FALSE),\"\")","v":""},{"$f":"IFERROR(VLOOKUP(H1416,DropDowns!$F$2:$G$7,2,FALSE),\"Residual categories\")","v":"Residual categories"},null,null,null,0,0,0]
[0,{"$f":"IF(OR(COUNTA(O1387:O1416)>0,COUNTA(O1416:$O$5195)>0),IF(COUNTIF(B1407:B1416,B1416)=10,B1416+7,B1416),\"\")","v":""},null,"","",null,null,null,0,0,0,0,{"$f":"IFERROR(VLOOKUP(G1417,DropDowns!$D$2:$E$151,2,FALSE),\"\")","v":""},{"$f":"IFERROR(VLOOKUP(H1417,DropDowns!$F$2:$G$7,2,FALSE),\"Residual categories\")","v":"Residual categories"},null,null,null,0,0,0]
[0,{"$f":"IF(OR(COUNTA(O1388:O1417)>0,COUNTA(O1417:$O$5195)>0),IF(COUNTIF(B1408:B1417,B1417)=10,B1417+7,B1417),\"\")","v":""},null,"","",null,null,null,0,0,0,0,{"$f":"IFERROR(VLOOKUP(G1418,DropDowns!$D$2:$E$151,2,FALSE),\"\")","v":""},{"$f":"IFERROR(VLOOKUP(H1418,DropDowns!$F$2:$G$7,2,FALSE),\"Residual categories\")","v":"Residual categories"},null,null,null,0,0,0]
[0,{"$f":"IF(OR(COUNTA(O1389:O1418)>0,COUNTA(O1418:$O$5195)>0),IF(COUNTIF(B1409:B1418,B1418)=10,B1418+7,B1418),\"\")","v":""},null,"","",null,null,null,0,0,0,0,{"$f":"IFERROR(VLOOKUP(G1419,DropDowns!$D$2:$E$151,2,FALSE),\"\")","v":""},{"$f":"IFERROR(VLOOKUP(H1419,DropDowns!$F$2:$G$7,2,FALSE),\"Residual categories\")","v":"Residual categories"},null,null,null,0,0,0]
[0,{"$f":"IF(OR(COUNTA(O1390:O1419)>0,COUNTA(O1419:$O$5195)>0),IF(COUNTIF(B1410:B1419,B1419)=10,B1419+7,B1419),\"\")","v":""},null,"","",null,null,null,0,0,0,0,{"$f":"IFERROR(VLOOKUP(G1420,DropDowns!$D$2:$E$151,2,FALSE),\"\")","v":""},{"$f":"IFERROR(VLOOKUP(H1420,DropDowns!$F$2:$G$7,2,FALSE),\"Residual categories\")","v":"Residual categories"},null,null,null,0,0,0]
[0,{"$f":"IF(OR(COUNTA(O1391:O1420)>0,COUNTA(O1420:$O$5195)>0),IF(COUNTIF(B1411:B1420,B1420)=10,B1420+7,B1420),\"\")","v":""},null,"","",null,null,null,0,0,0,0,{"$f":"IFERROR(VLOOKUP(G1421,DropDowns!$D$2:$E$151,2,FALSE),\"\")","v":""},{"$f":"IFERROR(VLOOKUP(H1421,DropDowns!$F$2:$G$7,2,FALSE),\"Residual categories\")","v":"Residual categories"},null,null,null,0,0,0]
[0,{"$f":"IF(OR(COUNTA(O1392:O1421)>0,COUNTA(O1421:$O$5195)>0),IF(COUNTIF(B1412:B1421,B1421)=10,B1421+7,B1421),\"\")","v":""},null,"","",null,null,null,0,0,0,0,{"$f":"IFERROR(VLOOKUP(G1422,DropDowns!$D$2:$E$151,2,FALSE),\"\")","v":""},{"$f":"IFERROR(VLOOKUP(H1422,DropDowns!$F$2:$G$7,2,FALSE),\"Residual categories\")","v":"Residual categories"},null,null,null,0,0,0]
[0,{"$f":"IF(OR(COUNTA(O1393:O1422)>0,COUNTA(O1422:$O$5195)>0),IF(COUNTIF(B1413:B1422,B1422)=10,B1422+7,B1422),\"\")","v":""},null,"","",null,null,null,0,0,0,0,{"$f":"IFERROR(VLOOKUP(G1423,DropDowns!$D$2:$E$151,2,FALSE),\"\")","v":""},{"$f":"IFERROR(VLOOKUP(H1423,DropDowns!$F$2:$G$7,2,FALSE),\"Residual categories\")","v":"Residual categories"},null,null,null,0,0,0]
[0,{"$f":"IF(OR(COUNTA(O1394:O1423)>0,COUNTA(O1423:$O$5195)>0),IF(COUNTIF(B1414:B1423,B1423)=10,B1423+7,B1423),\"\")","v":""},null,"","",null,null,null,0,0,0,0,{"$f":"IFERROR(VLOOKUP(G1424,DropDowns!$D$2:$E$151,2,FALSE),\"\")","v":""},{"$f":"IFERROR(VLOOKUP(H1424,DropDowns!$F$2:$G$7,2,FALSE),\"Residual categories\")","v":"Residual categories"},null,null,null,0,0,0]
[0,{"$f":"IF(OR(COUNTA(O1395:O1424)>0,COUNTA(O1424:$O$5195)>0),IF(COUNTIF(B1415:B1424,B1424)=10,B1424+7,B1424),\"\")","v":""},null,"",{"$f":"IF(B1425=\"\",\"\",COUNTIF(B1416:B1425,B1425))","v":""},null,null,null,0,0,0,0,{"$f":"IFERROR(VLOOKUP(G1425,DropDowns!$D$2:$E$151,2,FALSE),\"\")","v":""},{"$f":"IFERROR(VLOOKUP(H1425,DropDowns!$F$2:$G$7,2,FALSE),\"Residual categories\")","v":"Residual categories"},null,null,null,0,0,0]
[0,{"$f":"IF(OR(COUNTA(O1396:O1425)>0,COUNTA(O1425:$O$5195)>0),IF(COUNTIF(B1416:B1425,B1425)=10,B1425+7,B1425),\"\")","v":""},null,"","",null,null,null,0,0,0,0,{"$f":"IFERROR(VLOOKUP(G1426,DropDowns!$D$2:$E$151,2,FALSE),\"\")","v":""},{"$f":"IFERROR(VLOOKUP(H1426,DropDowns!$F$2:$G$7,2,FALSE),\"Residual categories\")","v":"Residual categories"},null,null,null,0,0,0]
[0,{"$f":"IF(OR(COUNTA(O1397:O1426)>0,COUNTA(O1426:$O$5195)>0),IF(COUNTIF(B1417:B1426,B1426)=10,B1426+7,B1426),\"\")","v":""},null,"","",null,null,null,0,0,0,0,{"$f":"IFERROR(VLOOKUP(G1427,DropDowns!$D$2:$E$151,2,FALSE),\"\")","v":""},{"$f":"IFERROR(VLOOKUP(H1427,DropDowns!$F$2:$G$7,2,FALSE),\"Residual categories\")","v":"Residual categories"},null,null,null,0,0,0]
[{"$f":"$E$2","v":0},{"$f":"IF(OR(COUNTA(O1398:O1427)>0,COUNTA(O1427:$O$5195)>0),IF(COUNTIF(B1418:B1427,B1427)=10,B1427+7,B1427),\"\")","v":""},null,"","",null,null,null,0,0,0,0,{"$f":"IFERROR(VLOOKUP(G1428,DropDowns!$D$2:$E$151,2,FALSE),\"\")","v":""},{"$f":"IFERROR(VLOOKUP(H1428,DropDowns!$F$2:$G$7,2,FALSE),\"Residual categories\")","v":"Residual categories"},null,null,null,0,0,0]
[0,{"$f":"IF(OR(COUNTA(O1399:O1428)>0,COUNTA(O1428:$O$5195)>0),IF(COUNTIF(B1419:B1428,B1428)=10,B1428+7,B1428),\"\")","v":""},null,"","",null,null,null,0,0,0,0,{"$f":"IFERROR(VLOOKUP(G1429,DropDowns!$D$2:$E$151,2,FALSE),\"\")","v":""},{"$f":"IFERROR(VLOOKUP(H1429,DropDowns!$F$2:$G$7,2,FALSE),\"Residual categories\")","v":"Residual categories"},null,null,null,0,0,0]
[0,{"$f":"IF(OR(COUNTA(O1400:O1429)>0,COUNTA(O1429:$O$5195)>0),IF(COUNTIF(B1420:B1429,B1429)=10,B1429+7,B1429),\"\")","v":""},null,"","",null,null,null,0,0,0,0,{"$f":"IFERROR(VLOOKUP(G1430,DropDowns!$D$2:$E$151,2,FALSE),\"\")","v":""},{"$f":"IFERROR(VLOOKUP(H1430,DropDowns!$F$2:$G$7,2,FALSE),\"Residual categories\")","v":"Residual categories"},null,null,null,0,0,0]
[0,{"$f":"IF(OR(COUNTA(O1401:O1430)>0,COUNTA(O1430:$O$5195)>0),IF(COUNTIF(B1421:B1430,B1430)=10,B1430+7,B1430),\"\")","v":""},null,"","",null,null,null,0,0,0,0,{"$f":"IFERROR(VLOOKUP(G1431,DropDowns!$D$2:$E$151,2,FALSE),\"\")","v":""},{"$f":"IFERROR(VLOOKUP(H1431,DropDowns!$F$2:$G$7,2,FALSE),\"Residual categories\")","v":"Residual categories"},null,null,null,0,0,0]
[0,{"$f":"IF(OR(COUNTA(O1402:O1431)>0,COUNTA(O1431:$O$5195)>0),IF(COUNTIF(B1422:B1431,B1431)=10,B1431+7,B1431),\"\")","v":""},null,"","",null,null,null,0,0,0,0,{"$f":"IFERROR(VLOOKUP(G1432,DropDowns!$D$2:$E$151,2,FALSE),\"\")","v":""},{"$f":"IFERROR(VLOOKUP(H1432,DropDowns!$F$2:$G$7,2,FALSE),\"Residual categories\")","v":"Residual categories"},null,null,null,0,0,0]
[0,{"$f":"IF(OR(COUNTA(O1403:O1432)>0,COUNTA(O1432:$O$5195)>0),IF(COUNTIF(B1423:B1432,B1432)=10,B1432+7,B1432),\"\")","v":""},null,"","",null,null,null,0,0,0,0,{"$f":"IFERROR(VLOOKUP(G1433,DropDowns!$D$2:$E$151,2,FALSE),\"\")","v":""},{"$f":"IFERROR(VLOOKUP(H1433,DropDowns!$F$2:$G$7,2,FALSE),\"Residual categories\")","v":"Residual categories"},null,null,null,0,0,0]
[0,{"$f":"IF(OR(COUNTA(O1404:O1433)>0,COUNTA(O1433:$O$5195)>0),IF(COUNTIF(B1424:B1433,B1433)=10,B1433+7,B1433),\"\")","v":""},null,"","",null,null,null,0,0,0,0,{"$f":"IFERROR(VLOOKUP(G1434,DropDowns!$D$2:$E$151,2,FALSE),\"\")","v":""},{"$f":"IFERROR(VLOOKUP(H1434,DropDowns!$F$2:$G$7,2,FALSE),\"Residual categories\")","v":"Residual categories"},null,null,null,0,0,0]
[0,{"$f":"IF(OR(COUNTA(O1405:O1434)>0,COUNTA(O1434:$O$5195)>0),IF(COUNTIF(B1425:B1434,B1434)=10,B1434+7,B1434),\"\")","v":""},null,"","",null,null,null,0,0,0,0,{"$f":"IFERROR(VLOOKUP(G1435,DropDowns!$D$2:$E$151,2,FALSE),\"\")","v":""},{"$f":"IFERROR(VLOOKUP(H1435,DropDowns!$F$2:$G$7,2,FALSE),\"Residual categories\")","v":"Residual categories"},null,null,null,0,0,0]
[0,{"$f":"IF(OR(COUNTA(O1406:O1435)>0,COUNTA(O1435:$O$5195)>0),IF(COUNTIF(B1426:B1435,B1435)=10,B1435+7,B1435),\"\")","v":""},null,"","",null,null,null,0,0,0,0,{"$f":"IFERROR(VLOOKUP(G1436,DropDowns!$D$2:$E$151,2,FALSE),\"\")","v":""},{"$f":"IFERROR(VLOOKUP(H1436,DropDowns!$F$2:$G$7,2,FALSE),\"Residual categories\")","v":"Residual categories"},null,null,null,0,0,0]
[0,{"$f":"IF(OR(COUNTA(O1407:O1436)>0,COUNTA(O1436:$O$5195)>0),IF(COUNTIF(B1427:B1436,B1436)=10,B1436+7,B1436),\"\")","v":""},null,"","",null,null,null,0,0,0,0,{"$f":"IFERROR(VLOOKUP(G1437,DropDowns!$D$2:$E$151,2,FALSE),\"\")","v":""},{"$f":"IFERROR(VLOOKUP(H1437,DropDowns!$F$2:$G$7,2,FALSE),\"Residual categories\")","v":"Residual categories"},null,null,null,0,0,0]
[0,{"$f":"IF(OR(COUNTA(O1408:O1437)>0,COUNTA(O1437:$O$5195)>0),IF(COUNTIF(B1428:B1437,B1437)=10,B1437+7,B1437),\"\")","v":""},null,"","",null,null,null,0,0,0,0,{"$f":"IFERROR(VLOOKUP(G1438,DropDowns!$D$2:$E$151,2,FALSE),\"\")","v":""},{"$f":"IFERROR(VLOOKUP(H1438,DropDowns!$F$2:$G$7,2,FALSE),\"Residual categories\")","v":"Residual categories"},null,null,null,0,0,0]
[0,{"$f":"IF(OR(COUNTA(O1409:O1438)>0,COUNTA(O1438:$O$5195)>0),IF(COUNTIF(B1429:B1438,B1438)=10,B1438+7,B1438),\"\")","v":""},null,"","",null,null,null,0,0,0,0,{"$f":"IFERROR(VLOOKUP(G1439,DropDowns!$D$2:$E$151,2,FALSE),\"\")","v":""},{"$f":"IFERROR(VLOOKUP(H1439,DropDowns!$F$2:$G$7,2,FALSE),\"Residual categories\")","v":"Residual categories"},null,null,null,0,0,0]
[0,{"$f":"IF(OR(COUNTA(O1410:O1439)>0,COUNTA(O1439:$O$5195)>0),IF(COUNTIF(B1430:B1439,B1439)=10,B1439+7,B1439),\"\")","v":""},null,"","",null,null,null,0,0,0,0,{"$f":"IFERROR(VLOOKUP(G1440,DropDowns!$D$2:$E$151,2,FALSE),\"\")","v":""},{"$f":"IFERROR(VLOOKUP(H1440,DropDowns!$F$2:$G$7,2,FALSE),\"Residual categories\")","v":"Residual categories"},null,null,null,0,0,0]
[0,{"$f":"IF(OR(COUNTA(O1411:O1440)>0,COUNTA(O1440:$O$5195)>0),IF(COUNTIF(B1431:B1440,B1440)=10,B1440+7,B1440),\"\")","v":""},null,"","",null,null,null,0,0,0,0,{"$f":"IFERROR(VLOOKUP(G1441,DropDowns!$D$2:$E$151,2,FALSE),\"\")","v":""},{"$f":"IFERROR(VLOOKUP(H1441,DropDowns!$F$2:$G$7,2,FALSE),\"Residual categories\")","v":"Residual categories"},null,null,null,0,0,0]
[0,{"$f":"IF(OR(COUNTA(O1412:O1441)>0,COUNTA(O1441:$O$5195)>0),IF(COUNTIF(B1432:B1441,B1441)=10,B1441+7,B1441),\"\")","v":""},null,"","",null,null,null,0,0,0,0,{"$f":"IFERROR(VLOOKUP(G1442,DropDowns!$D$2:$E$151,2,FALSE),\"\")","v":""},{"$f":"IFERROR(VLOOKUP(H1442,DropDowns!$F$2:$G$7,2,FALSE),\"Residual categories\")","v":"Residual categories"},null,null,null,0,0,0]
[0,{"$f":"IF(OR(COUNTA(O1413:O1442)>0,COUNTA(O1442:$O$5195)>0),IF(COUNTIF(B1433:B1442,B1442)=10,B1442+7,B1442),\"\")","v":""},null,"","",null,null,null,0,0,0,0,{"$f":"IFERROR(VLOOKUP(G1443,DropDowns!$D$2:$E$151,2,FALSE),\"\")","v":""},{"$f":"IFERROR(VLOOKUP(H1443,DropDowns!$F$2:$G$7,2,FALSE),\"Residual categories\")","v":"Residual categories"},null,null,null,0,0,0]
[0,{"$f":"IF(OR(COUNTA(O1414:O1443)>0,COUNTA(O1443:$O$5195)>0),IF(COUNTIF(B1434:B1443,B1443)=10,B1443+7,B1443),\"\")","v":""},null,"","",null,null,null,0,0,0,0,{"$f":"IFERROR(VLOOKUP(G1444,DropDowns!$D$2:$E$151,2,FALSE),\"\")","v":""},{"$f":"IFERROR(VLOOKUP(H1444,DropDowns!$F$2:$G$7,2,FALSE),\"Residual categories\")","v":"Residual categories"},null,null,null,0,0,0]
[0,{"$f":"IF(OR(COUNTA(O1415:O1444)>0,COUNTA(O1444:$O$5195)>0),IF(COUNTIF(B1435:B1444,B1444)=10,B1444+7,B1444),\"\")","v":""},null,"","",null,null,null,0,0,0,0,{"$f":"IFERROR(VLOOKUP(G1445,DropDowns!$D$2:$E$151,2,FALSE),\"\")","v":""},{"$f":"IFERROR(VLOOKUP(H1445,DropDowns!$F$2:$G$7,2,FALSE),\"Residual categories\")","v":"Residual categories"},null,null,null,0,0,0]
[0,{"$f":"IF(OR(COUNTA(O1416:O1445)>0,COUNTA(O1445:$O$5195)>0),IF(COUNTIF(B1436:B1445,B1445)=10,B1445+7,B1445),\"\")","v":""},null,"","",null,null,null,0,0,0,0,{"$f":"IFERROR(VLOOKUP(G1446,DropDowns!$D$2:$E$151,2,FALSE),\"\")","v":""},{"$f":"IFERROR(VLOOKUP(H1446,DropDowns!$F$2:$G$7,2,FALSE),\"Residual categories\")","v":"Residual categories"},null,null,null,0,0,0]
[0,{"$f":"IF(OR(COUNTA(O1417:O1446)>0,COUNTA(O1446:$O$5195)>0),IF(COUNTIF(B1437:B1446,B1446)=10,B1446+7,B1446),\"\")","v":""},null,"","",null,null,null,0,0,0,0,{"$f":"IFERROR(VLOOKUP(G1447,DropDowns!$D$2:$E$151,2,FALSE),\"\")","v":""},{"$f":"IFERROR(VLOOKUP(H1447,DropDowns!$F$2:$G$7,2,FALSE),\"Residual categories\")","v":"Residual categories"},null,null,null,0,0,0]
[0,{"$f":"IF(OR(COUNTA(O1418:O1447)>0,COUNTA(O1447:$O$5195)>0),IF(COUNTIF(B1438:B1447,B1447)=10,B1447+7,B1447),\"\")","v":""},null,"","",null,null,null,0,0,0,0,{"$f":"IFERROR(VLOOKUP(G1448,DropDowns!$D$2:$E$151,2,FALSE),\"\")","v":""},{"$f":"IFERROR(VLOOKUP(H1448,DropDowns!$F$2:$G$7,2,FALSE),\"Residual categories\")","v":"Residual categories"},null,null,null,0,0,0]
[0,{"$f":"IF(OR(COUNTA(O1419:O1448)>0,COUNTA(O1448:$O$5195)>0),IF(COUNTIF(B1439:B1448,B1448)=10,B1448+7,B1448),\"\")","v":""},null,"","",null,null,null,0,0,0,0,{"$f":"IFERROR(VLOOKUP(G1449,DropDowns!$D$2:$E$151,2,FALSE),\"\")","v":""},{"$f":"IFERROR(VLOOKUP(H1449,DropDowns!$F$2:$G$7,2,FALSE),\"Residual categories\")","v":"Residual categories"},null,null,null,0,0,0]
[0,{"$f":"IF(OR(COUNTA(O1420:O1449)>0,COUNTA(O1449:$O$5195)>0),IF(COUNTIF(B1440:B1449,B1449)=10,B1449+7,B1449),\"\")","v":""},null,"","",null,null,null,0,0,0,0,{"$f":"IFERROR(VLOOKUP(G1450,DropDowns!$D$2:$E$151,2,FALSE),\"\")","v":""},{"$f":"IFERROR(VLOOKUP(H1450,DropDowns!$F$2:$G$7,2,FALSE),\"Residual categories\")","v":"Residual categories"},null,null,null,0,0,0]
[0,{"$f":"IF(OR(COUNTA(O1421:O1450)>0,COUNTA(O1450:$O$5195)>0),IF(COUNTIF(B1441:B1450,B1450)=10,B1450+7,B1450),\"\")","v":""},null,"","",null,null,null,0,0,0,0,{"$f":"IFERROR(VLOOKUP(G1451,DropDowns!$D$2:$E$151,2,FALSE),\"\")","v":""},{"$f":"IFERROR(VLOOKUP(H1451,DropDowns!$F$2:$G$7,2,FALSE),\"Residual categories\")","v":"Residual categories"},null,null,null,0,0,0]
[0,{"$f":"IF(OR(COUNTA(O1422:O1451)>0,COUNTA(O1451:$O$5195)>0),IF(COUNTIF(B1442:B1451,B1451)=10,B1451+7,B1451),\"\")","v":""},null,"","",null,null,null,0,0,0,0,{"$f":"IFERROR(VLOOKUP(G1452,DropDowns!$D$2:$E$151,2,FALSE),\"\")","v":""},{"$f":"IFERROR(VLOOKUP(H1452,DropDowns!$F$2:$G$7,2,FALSE),\"Residual categories\")","v":"Residual categories"},null,null,null,0,0,0]
[0,{"$f":"IF(OR(COUNTA(O1423:O1452)>0,COUNTA(O1452:$O$5195)>0),IF(COUNTIF(B1443:B1452,B1452)=10,B1452+7,B1452),\"\")","v":""},null,"","",null,null,null,0,0,0,0,{"$f":"IFERROR(VLOOKUP(G1453,DropDowns!$D$2:$E$151,2,FALSE),\"\")","v":""},{"$f":"IFERROR(VLOOKUP(H1453,DropDowns!$F$2:$G$7,2,FALSE),\"Residual categories\")","v":"Residual categories"},null,null,null,0,0,0]
[0,{"$f":"IF(OR(COUNTA(O1424:O1453)>0,COUNTA(O1453:$O$5195)>0),IF(COUNTIF(B1444:B1453,B1453)=10,B1453+7,B1453),\"\")","v":""},null,"","",null,null,null,0,0,0,0,{"$f":"IFERROR(VLOOKUP(G1454,DropDowns!$D$2:$E$151,2,FALSE),\"\")","v":""},{"$f":"IFERROR(VLOOKUP(H1454,DropDowns!$F$2:$G$7,2,FALSE),\"Residual categories\")","v":"Residual categories"},null,null,null,0,0,0]
[0,{"$f":"IF(OR(COUNTA(O1425:O1454)>0,COUNTA(O1454:$O$5195)>0),IF(COUNTIF(B1445:B1454,B1454)=10,B1454+7,B1454),\"\")","v":""},null,"","",null,null,null,0,0,0,0,{"$f":"IFERROR(VLOOKUP(G1455,DropDowns!$D$2:$E$151,2,FALSE),\"\")","v":""},{"$f":"IFERROR(VLOOKUP(H1455,DropDowns!$F$2:$G$7,2,FALSE),\"Residual categories\")","v":"Residual categories"},null,null,null,0,0,0]
[0,{"$f":"IF(OR(COUNTA(O1426:O1455)>0,COUNTA(O1455:$O$5195)>0),IF(COUNTIF(B1446:B1455,B1455)=10,B1455+7,B1455),\"\")","v":""},null,"","",null,null,null,0,0,0,0,{"$f":"IFERROR(VLOOKUP(G1456,DropDowns!$D$2:$E$151,2,FALSE),\"\")","v":""},{"$f":"IFERROR(VLOOKUP(H1456,DropDowns!$F$2:$G$7,2,FALSE),\"Residual categories\")","v":"Residual categories"},null,null,null,0,0,0]
[0,{"$f":"IF(OR(COUNTA(O1427:O1456)>0,COUNTA(O1456:$O$5195)>0),IF(COUNTIF(B1447:B1456,B1456)=10,B1456+7,B1456),\"\")","v":""},null,"","",null,null,null,0,0,0,0,{"$f":"IFERROR(VLOOKUP(G1457,DropDowns!$D$2:$E$151,2,FALSE),\"\")","v":""},{"$f":"IFERROR(VLOOKUP(H1457,DropDowns!$F$2:$G$7,2,FALSE),\"Residual categories\")","v":"Residual categories"},null,null,null,0,0,0]
[0,{"$f":"IF(OR(COUNTA(O1428:O1457)>0,COUNTA(O1457:$O$5195)>0),IF(COUNTIF(B1448:B1457,B1457)=10,B1457+7,B1457),\"\")","v":""},null,"","",null,null,null,0,0,0,0,{"$f":"IFERROR(VLOOKUP(G1458,DropDowns!$D$2:$E$151,2,FALSE),\"\")","v":""},{"$f":"IFERROR(VLOOKUP(H1458,DropDowns!$F$2:$G$7,2,FALSE),\"Residual categories\")","v":"Residual categories"},null,null,null,0,0,0]
[0,{"$f":"IF(OR(COUNTA(O1429:O1458)>0,COUNTA(O1458:$O$5195)>0),IF(COUNTIF(B1449:B1458,B1458)=10,B1458+7,B1458),\"\")","v":""},null,"","",null,null,null,0,0,0,0,{"$f":"IFERROR(VLOOKUP(G1459,DropDowns!$D$2:$E$151,2,FALSE),\"\")","v":""},{"$f":"IFERROR(VLOOKUP(H1459,DropDowns!$F$2:$G$7,2,FALSE),\"Residual categories\")","v":"Residual categories"},null,null,null,0,0,0]
[0,{"$f":"IF(OR(COUNTA(O1430:O1459)>0,COUNTA(O1459:$O$5195)>0),IF(COUNTIF(B1450:B1459,B1459)=10,B1459+7,B1459),\"\")","v":""},null,"","",null,null,null,0,0,0,0,{"$f":"IFERROR(VLOOKUP(G1460,DropDowns!$D$2:$E$151,2,FALSE),\"\")","v":""},{"$f":"IFERROR(VLOOKUP(H1460,DropDowns!$F$2:$G$7,2,FALSE),\"Residual categories\")","v":"Residual categories"},null,null,null,0,0,0]
[0,{"$f":"IF(OR(COUNTA(O1431:O1460)>0,COUNTA(O1460:$O$5195)>0),IF(COUNTIF(B1451:B1460,B1460)=10,B1460+7,B1460),\"\")","v":""},null,"","",null,null,null,0,0,0,0,{"$f":"IFERROR(VLOOKUP(G1461,DropDowns!$D$2:$E$151,2,FALSE),\"\")","v":""},{"$f":"IFERROR(VLOOKUP(H1461,DropDowns!$F$2:$G$7,2,FALSE),\"Residual categories\")","v":"Residual categories"},null,null,null,0,0,0]
[0,{"$f":"IF(OR(COUNTA(O1432:O1461)>0,COUNTA(O1461:$O$5195)>0),IF(COUNTIF(B1452:B1461,B1461)=10,B1461+7,B1461),\"\")","v":""},null,"","",null,null,null,0,0,0,0,{"$f":"IFERROR(VLOOKUP(G1462,DropDowns!$D$2:$E$151,2,FALSE),\"\")","v":""},{"$f":"IFERROR(VLOOKUP(H1462,DropDowns!$F$2:$G$7,2,FALSE),\"Residual categories\")","v":"Residual categories"},null,null,null,0,0,0]
[0,{"$f":"IF(OR(COUNTA(O1433:O1462)>0,COUNTA(O1462:$O$5195)>0),IF(COUNTIF(B1453:B1462,B1462)=10,B1462+7,B1462),\"\")","v":""},null,"","",null,null,null,0,0,0,0,{"$f":"IFERROR(VLOOKUP(G1463,DropDowns!$D$2:$E$151,2,FALSE),\"\")","v":""},{"$f":"IFERROR(VLOOKUP(H1463,DropDowns!$F$2:$G$7,2,FALSE),\"Residual categories\")","v":"Residual categories"},null,null,null,0,0,0]
[0,{"$f":"IF(OR(COUNTA(O1434:O1463)>0,COUNTA(O1463:$O$5195)>0),IF(COUNTIF(B1454:B1463,B1463)=10,B1463+7,B1463),\"\")","v":""},null,"","",null,null,null,0,0,0,0,{"$f":"IFERROR(VLOOKUP(G1464,DropDowns!$D$2:$E$151,2,FALSE),\"\")","v":""},{"$f":"IFERROR(VLOOKUP(H1464,DropDowns!$F$2:$G$7,2,FALSE),\"Residual categories\")","v":"Residual categories"},null,null,null,0,0,0]
[0,{"$f":"IF(OR(COUNTA(O1435:O1464)>0,COUNTA(O1464:$O$5195)>0),IF(COUNTIF(B1455:B1464,B1464)=10,B1464+7,B1464),\"\")","v":""},null,"","",null,null,null,0,0,0,0,{"$f":"IFERROR(VLOOKUP(G1465,DropDowns!$D$2:$E$151,2,FALSE),\"\")","v":""},{"$f":"IFERROR(VLOOKUP(H1465,DropDowns!$F$2:$G$7,2,FALSE),\"Residual categories\")","v":"Residual categories"},null,null,null,0,0,0]
[0,{"$f":"IF(OR(COUNTA(O1436:O1465)>0,COUNTA(O1465:$O$5195)>0),IF(COUNTIF(B1456:B1465,B1465)=10,B1465+7,B1465),\"\")","v":""},null,"","",null,null,null,0,0,0,0,{"$f":"IFERROR(VLOOKUP(G1466,DropDowns!$D$2:$E$151,2,FALSE),\"\")","v":""},{"$f":"IFERROR(VLOOKUP(H1466,DropDowns!$F$2:$G$7,2,FALSE),\"Residual categories\")","v":"Residual categories"},null,null,null,0,0,0]
[0,{"$f":"IF(OR(COUNTA(O1437:O1466)>0,COUNTA(O1466:$O$5195)>0),IF(COUNTIF(B1457:B1466,B1466)=10,B1466+7,B1466),\"\")","v":""},null,"","",null,null,null,0,0,0,0,{"$f":"IFERROR(VLOOKUP(G1467,DropDowns!$D$2:$E$151,2,FALSE),\"\")","v":""},{"$f":"IFERROR(VLOOKUP(H1467,DropDowns!$F$2:$G$7,2,FALSE),\"Residual categories\")","v":"Residual categories"},null,null,null,0,0,0]
[0,{"$f":"IF(OR(COUNTA(O1438:O1467)>0,COUNTA(O1467:$O$5195)>0),IF(COUNTIF(B1458:B1467,B1467)=10,B1467+7,B1467),\"\")","v":""},null,"","",null,null,null,0,0,0,0,{"$f":"IFERROR(VLOOKUP(G1468,DropDowns!$D$2:$E$151,2,FALSE),\"\")","v":""},{"$f":"IFERROR(VLOOKUP(H1468,DropDowns!$F$2:$G$7,2,FALSE),\"Residual categories\")","v":"Residual categories"},null,null,null,0,0,0]
[0,{"$f":"IF(OR(COUNTA(O1439:O1468)>0,COUNTA(O1468:$O$5195)>0),IF(COUNTIF(B1459:B1468,B1468)=10,B1468+7,B1468),\"\")","v":""},null,"","",null,null,null,0,0,0,0,{"$f":"IFERROR(VLOOKUP(G1469,DropDowns!$D$2:$E$151,2,FALSE),\"\")","v":""},{"$f":"IFERROR(VLOOKUP(H1469,DropDowns!$F$2:$G$7,2,FALSE),\"Residual categories\")","v":"Residual categories"},null,null,null,0,0,0]
[0,{"$f":"IF(OR(COUNTA(O1440:O1469)>0,COUNTA(O1469:$O$5195)>0),IF(COUNTIF(B1460:B1469,B1469)=10,B1469+7,B1469),\"\")","v":""},null,"","",null,null,null,0,0,0,0,{"$f":"IFERROR(VLOOKUP(G1470,DropDowns!$D$2:$E$151,2,FALSE),\"\")","v":""},{"$f":"IFERROR(VLOOKUP(H1470,DropDowns!$F$2:$G$7,2,FALSE),\"Residual categories\")","v":"Residual categories"},null,null,null,0,0,0]
[0,{"$f":"IF(OR(COUNTA(O1441:O1470)>0,COUNTA(O1470:$O$5195)>0),IF(COUNTIF(B1461:B1470,B1470)=10,B1470+7,B1470),\"\")","v":""},null,"","",null,null,null,0,0,0,0,{"$f":"IFERROR(VLOOKUP(G1471,DropDowns!$D$2:$E$151,2,FALSE),\"\")","v":""},{"$f":"IFERROR(VLOOKUP(H1471,DropDowns!$F$2:$G$7,2,FALSE),\"Residual categories\")","v":"Residual categories"},null,null,null,0,0,0]
[0,{"$f":"IF(OR(COUNTA(O1442:O1471)>0,COUNTA(O1471:$O$5195)>0),IF(COUNTIF(B1462:B1471,B1471)=10,B1471+7,B1471),\"\")","v":""},null,"","",null,null,null,0,0,0,0,{"$f":"IFERROR(VLOOKUP(G1472,DropDowns!$D$2:$E$151,2,FALSE),\"\")","v":""},{"$f":"IFERROR(VLOOKUP(H1472,DropDowns!$F$2:$G$7,2,FALSE),\"Residual categories\")","v":"Residual categories"},null,null,null,0,0,0]
[0,{"$f":"IF(OR(COUNTA(O1443:O1472)>0,COUNTA(O1472:$O$5195)>0),IF(COUNTIF(B1463:B1472,B1472)=10,B1472+7,B1472),\"\")","v":""},null,"","",null,null,null,0,0,0,0,{"$f":"IFERROR(VLOOKUP(G1473,DropDowns!$D$2:$E$151,2,FALSE),\"\")","v":""},{"$f":"IFERROR(VLOOKUP(H1473,DropDowns!$F$2:$G$7,2,FALSE),\"Residual categories\")","v":"Residual categories"},null,null,null,0,0,0]
[0,{"$f":"IF(OR(COUNTA(O1444:O1473)>0,COUNTA(O1473:$O$5195)>0),IF(COUNTIF(B1464:B1473,B1473)=10,B1473+7,B1473),\"\")","v":""},null,"","",null,null,null,0,0,0,0,{"$f":"IFERROR(VLOOKUP(G1474,DropDowns!$D$2:$E$151,2,FALSE),\"\")","v":""},{"$f":"IFERROR(VLOOKUP(H1474,DropDowns!$F$2:$G$7,2,FALSE),\"Residual categories\")","v":"Residual categories"},null,null,null,0,0,0]
[0,{"$f":"IF(OR(COUNTA(O1445:O1474)>0,COUNTA(O1474:$O$5195)>0),IF(COUNTIF(B1465:B1474,B1474)=10,B1474+7,B1474),\"\")","v":""},null,"","",null,null,null,0,0,0,0,{"$f":"IFERROR(VLOOKUP(G1475,DropDowns!$D$2:$E$151,2,FALSE),\"\")","v":""},{"$f":"IFERROR(VLOOKUP(H1475,DropDowns!$F$2:$G$7,2,FALSE),\"Residual categories\")","v":"Residual categories"},null,null,null,0,0,0]
[0,{"$f":"IF(OR(COUNTA(O1446:O1475)>0,COUNTA(O1475:$O$5195)>0),IF(COUNTIF(B1466:B1475,B1475)=10,B1475+7,B1475),\"\")","v":""},null,"","",null,null,null,0,0,0,0,{"$f":"IFERROR(VLOOKUP(G1476,DropDowns!$D$2:$E$151,2,FALSE),\"\")","v":""},{"$f":"IFERROR(VLOOKUP(H1476,DropDowns!$F$2:$G$7,2,FALSE),\"Residual categories\")","v":"Residual categories"},null,null,null,0,0,0]
[0,{"$f":"IF(OR(COUNTA(O1447:O1476)>0,COUNTA(O1476:$O$5195)>0),IF(COUNTIF(B1467:B1476,B1476)=10,B1476+7,B1476),\"\")","v":""},null,"","",null,null,null,0,0,0,0,{"$f":"IFERROR(VLOOKUP(G1477,DropDowns!$D$2:$E$151,2,FALSE),\"\")","v":""},{"$f":"IFERROR(VLOOKUP(H1477,DropDowns!$F$2:$G$7,2,FALSE),\"Residual categories\")","v":"Residual categories"},null,null,null,0,0,0]
[0,{"$f":"IF(OR(COUNTA(O1448:O1477)>0,COUNTA(O1477:$O$5195)>0),IF(COUNTIF(B1468:B1477,B1477)=10,B1477+7,B1477),\"\")","v":""},null,"","",null,null,null,0,0,0,0,{"$f":"IFERROR(VLOOKUP(G1478,DropDowns!$D$2:$E$151,2,FALSE),\"\")","v":""},{"$f":"IFERROR(VLOOKUP(H1478,DropDowns!$F$2:$G$7,2,FALSE),\"Residual categories\")","v":"Residual categories"},null,null,null,0,0,0]
[0,{"$f":"IF(OR(COUNTA(O1449:O1478)>0,COUNTA(O1478:$O$5195)>0),IF(COUNTIF(B1469:B1478,B1478)=10,B1478+7,B1478),\"\")","v":""},null,{"$f":"IF(E1479=1,B1479,\"\")","v":""},"",null,null,null,{"$f":"IF(COUNTA(O1479:Q1479)>0,1,0)","v":0},{"$f":"IF(O1479=\"y\",1,0)","v":0},{"$f":"IF(P1479=\"y\",1,0)","v":0},{"$f":"IF(Q1479=\"y\",1,0)","v":0},{"$f":"IFERROR(VLOOKUP(G1479,DropDowns!$D$2:$E$151,2,FALSE),\"\")","v":""},{"$f":"IFERROR(VLOOKUP(H1479,DropDowns!$F$2:$G$7,2,FALSE),\"Residual categories\")","v":"Residual categories"},null,null,null,{"$f":"IF(O1479=\"yes\",1,0)","v":0},{"$f":"IF(P1479=\"yes\",1,0)","v":0},{"$f":"IF(Q1479=\"yes\",1,0)","v":0}]
[0,{"$f":"IF(OR(COUNTA(O1450:O1479)>0,COUNTA(O1479:$O$5195)>0),IF(COUNTIF(B1470:B1479,B1479)=10,B1479+7,B1479),\"\")","v":""},null,"","",null,null,null,0,0,0,0,{"$f":"IFERROR(VLOOKUP(G1480,DropDowns!$D$2:$E$151,2,FALSE),\"\")","v":""},{"$f":"IFERROR(VLOOKUP(H1480,DropDowns!$F$2:$G$7,2,FALSE),\"Residual categories\")","v":"Residual categories"},null,null,null,0,0,0]
[0,{"$f":"IF(OR(COUNTA(O1451:O1480)>0,COUNTA(O1480:$O$5195)>0),IF(COUNTIF(B1471:B1480,B1480)=10,B1480+7,B1480),\"\")","v":""},null,"","",null,null,null,0,0,0,0,{"$f":"IFERROR(VLOOKUP(G1481,DropDowns!$D$2:$E$151,2,FALSE),\"\")","v":""},{"$f":"IFERROR(VLOOKUP(H1481,DropDowns!$F$2:$G$7,2,FALSE),\"Residual categories\")","v":"Residual categories"},null,null,null,0,0,0]
[0,{"$f":"IF(OR(COUNTA(O1452:O1481)>0,COUNTA(O1481:$O$5195)>0),IF(COUNTIF(B1472:B1481,B1481)=10,B1481+7,B1481),\"\")","v":""},null,"","",null,null,null,0,0,0,0,{"$f":"IFERROR(VLOOKUP(G1482,DropDowns!$D$2:$E$151,2,FALSE),\"\")","v":""},{"$f":"IFERROR(VLOOKUP(H1482,DropDowns!$F$2:$G$7,2,FALSE),\"Residual categories\")","v":"Residual categories"},null,null,null,0,0,0]
[0,{"$f":"IF(OR(COUNTA(O1453:O1482)>0,COUNTA(O1482:$O$5195)>0),IF(COUNTIF(B1473:B1482,B1482)=10,B1482+7,B1482),\"\")","v":""},null,"","",null,null,null,0,0,0,0,{"$f":"IFERROR(VLOOKUP(G1483,DropDowns!$D$2:$E$151,2,FALSE),\"\")","v":""},{"$f":"IFERROR(VLOOKUP(H1483,DropDowns!$F$2:$G$7,2,FALSE),\"Residual categories\")","v":"Residual categories"},null,null,null,0,0,0]
[0,{"$f":"IF(OR(COUNTA(O1454:O1483)>0,COUNTA(O1483:$O$5195)>0),IF(COUNTIF(B1474:B1483,B1483)=10,B1483+7,B1483),\"\")","v":""},null,"","",null,null,null,0,0,0,0,{"$f":"IFERROR(VLOOKUP(G1484,DropDowns!$D$2:$E$151,2,FALSE),\"\")","v":""},{"$f":"IFERROR(VLOOKUP(H1484,DropDowns!$F$2:$G$7,2,FALSE),\"Residual categories\")","v":"Residual categories"},null,null,null,0,0,0]
[0,{"$f":"IF(OR(COUNTA(O1455:O1484)>0,COUNTA(O1484:$O$5195)>0),IF(COUNTIF(B1475:B1484,B1484)=10,B1484+7,B1484),\"\")","v":""},null,"","",null,null,null,0,0,0,0,{"$f":"IFERROR(VLOOKUP(G1485,DropDowns!$D$2:$E$151,2,FALSE),\"\")","v":""},{"$f":"IFERROR(VLOOKUP(H1485,DropDowns!$F$2:$G$7,2,FALSE),\"Residual categories\")","v":"Residual categories"},null,null,null,0,0,0]
[0,{"$f":"IF(OR(COUNTA(O1456:O1485)>0,COUNTA(O1485:$O$5195)>0),IF(COUNTIF(B1476:B1485,B1485)=10,B1485+7,B1485),\"\")","v":""},null,"","",null,null,null,0,0,0,0,{"$f":"IFERROR(VLOOKUP(G1486,DropDowns!$D$2:$E$151,2,FALSE),\"\")","v":""},{"$f":"IFERROR(VLOOKUP(H1486,DropDowns!$F$2:$G$7,2,FALSE),\"Residual categories\")","v":"Residual categories"},null,null,null,0,0,0]
[0,{"$f":"IF(OR(COUNTA(O1457:O1486)>0,COUNTA(O1486:$O$5195)>0),IF(COUNTIF(B1477:B1486,B1486)=10,B1486+7,B1486),\"\")","v":""},null,"","",null,null,null,0,0,0,0,{"$f":"IFERROR(VLOOKUP(G1487,DropDowns!$D$2:$E$151,2,FALSE),\"\")","v":""},{"$f":"IFERROR(VLOOKUP(H1487,DropDowns!$F$2:$G$7,2,FALSE),\"Residual categories\")","v":"Residual categories"},null,null,null,0,0,0]
[0,{"$f":"IF(OR(COUNTA(O1458:O1487)>0,COUNTA(O1487:$O$5195)>0),IF(COUNTIF(B1478:B1487,B1487)=10,B1487+7,B1487),\"\")","v":""},null,"","",null,null,null,0,0,0,0,{"$f":"IFERROR(VLOOKUP(G1488,DropDowns!$D$2:$E$151,2,FALSE),\"\")","v":""},{"$f":"IFERROR(VLOOKUP(H1488,DropDowns!$F$2:$G$7,2,FALSE),\"Residual categories\")","v":"Residual categories"},null,null,null,0,0,0]
[0,{"$f":"IF(OR(COUNTA(O1459:O1488)>0,COUNTA(O1488:$O$5195)>0),IF(COUNTIF(B1479:B1488,B1488)=10,B1488+7,B1488),\"\")","v":""},null,"",{"$f":"IF(B1489=\"\",\"\",COUNTIF(B1480:B1489,B1489))","v":""},null,null,null,0,0,0,0,{"$f":"IFERROR(VLOOKUP(G1489,DropDowns!$D$2:$E$151,2,FALSE),\"\")","v":""},{"$f":"IFERROR(VLOOKUP(H1489,DropDowns!$F$2:$G$7,2,FALSE),\"Residual categories\")","v":"Residual categories"},null,null,null,0,0,0]
[0,{"$f":"IF(OR(COUNTA(O1460:O1489)>0,COUNTA(O1489:$O$5195)>0),IF(COUNTIF(B1480:B1489,B1489)=10,B1489+7,B1489),\"\")","v":""},null,"","",null,null,null,0,0,0,0,{"$f":"IFERROR(VLOOKUP(G1490,DropDowns!$D$2:$E$151,2,FALSE),\"\")","v":""},{"$f":"IFERROR(VLOOKUP(H1490,DropDowns!$F$2:$G$7,2,FALSE),\"Residual categories\")","v":"Residual categories"},null,null,null,0,0,0]
[0,{"$f":"IF(OR(COUNTA(O1461:O1490)>0,COUNTA(O1490:$O$5195)>0),IF(COUNTIF(B1481:B1490,B1490)=10,B1490+7,B1490),\"\")","v":""},null,"","",null,null,null,0,0,0,0,{"$f":"IFERROR(VLOOKUP(G1491,DropDowns!$D$2:$E$151,2,FALSE),\"\")","v":""},{"$f":"IFERROR(VLOOKUP(H1491,DropDowns!$F$2:$G$7,2,FALSE),\"Residual categories\")","v":"Residual categories"},null,null,null,0,0,0]
[{"$f":"$E$2","v":0},{"$f":"IF(OR(COUNTA(O1462:O1491)>0,COUNTA(O1491:$O$5195)>0),IF(COUNTIF(B1482:B1491,B1491)=10,B1491+7,B1491),\"\")","v":""},null,"","",null,null,null,0,0,0,0,{"$f":"IFERROR(VLOOKUP(G1492,DropDowns!$D$2:$E$151,2,FALSE),\"\")","v":""},{"$f":"IFERROR(VLOOKUP(H1492,DropDowns!$F$2:$G$7,2,FALSE),\"Residual categories\")","v":"Residual categories"},null,null,null,0,0,0]
[0,{"$f":"IF(OR(COUNTA(O1463:O1492)>0,COUNTA(O1492:$O$5195)>0),IF(COUNTIF(B1483:B1492,B1492)=10,B1492+7,B1492),\"\")","v":""},null,"","",null,null,null,0,0,0,0,{"$f":"IFERROR(VLOOKUP(G1493,DropDowns!$D$2:$E$151,2,FALSE),\"\")","v":""},{"$f":"IFERROR(VLOOKUP(H1493,DropDowns!$F$2:$G$7,2,FALSE),\"Residual categories\")","v":"Residual categories"},null,null,null,0,0,0]
[0,{"$f":"IF(OR(COUNTA(O1464:O1493)>0,COUNTA(O1493:$O$5195)>0),IF(COUNTIF(B1484:B1493,B1493)=10,B1493+7,B1493),\"\")","v":""},null,"","",null,null,null,0,0,0,0,{"$f":"IFERROR(VLOOKUP(G1494,DropDowns!$D$2:$E$151,2,FALSE),\"\")","v":""},{"$f":"IFERROR(VLOOKUP(H1494,DropDowns!$F$2:$G$7,2,FALSE),\"Residual categories\")","v":"Residual categories"},null,null,null,0,0,0]
[0,{"$f":"IF(OR(COUNTA(O1465:O1494)>0,COUNTA(O1494:$O$5195)>0),IF(COUNTIF(B1485:B1494,B1494)=10,B1494+7,B1494),\"\")","v":""},null,"","",null,null,null,0,0,0,0,{"$f":"IFERROR(VLOOKUP(G1495,DropDowns!$D$2:$E$151,2,FALSE),\"\")","v":""},{"$f":"IFERROR(VLOOKUP(H1495,DropDowns!$F$2:$G$7,2,FALSE),\"Residual categories\")","v":"Residual categories"},null,null,null,0,0,0]
[0,{"$f":"IF(OR(COUNTA(O1466:O1495)>0,COUNTA(O1495:$O$5195)>0),IF(COUNTIF(B1486:B1495,B1495)=10,B1495+7,B1495),\"\")","v":""},null,"","",null,null,null,0,0,0,0,{"$f":"IFERROR(VLOOKUP(G1496,DropDowns!$D$2:$E$151,2,FALSE),\"\")","v":""},{"$f":"IFERROR(VLOOKUP(H1496,DropDowns!$F$2:$G$7,2,FALSE),\"Residual categories\")","v":"Residual categories"},null,null,null,0,0,0]
[0,{"$f":"IF(OR(COUNTA(O1467:O1496)>0,COUNTA(O1496:$O$5195)>0),IF(COUNTIF(B1487:B1496,B1496)=10,B1496+7,B1496),\"\")","v":""},null,"","",null,null,null,0,0,0,0,{"$f":"IFERROR(VLOOKUP(G1497,DropDowns!$D$2:$E$151,2,FALSE),\"\")","v":""},{"$f":"IFERROR(VLOOKUP(H1497,DropDowns!$F$2:$G$7,2,FALSE),\"Residual categories\")","v":"Residual categories"},null,null,null,0,0,0]
[0,{"$f":"IF(OR(COUNTA(O1468:O1497)>0,COUNTA(O1497:$O$5195)>0),IF(COUNTIF(B1488:B1497,B1497)=10,B1497+7,B1497),\"\")","v":""},null,"","",null,null,null,0,0,0,0,{"$f":"IFERROR(VLOOKUP(G1498,DropDowns!$D$2:$E$151,2,FALSE),\"\")","v":""},{"$f":"IFERROR(VLOOKUP(H1498,DropDowns!$F$2:$G$7,2,FALSE),\"Residual categories\")","v":"Residual categories"},null,null,null,0,0,0]
[0,{"$f":"IF(OR(COUNTA(O1469:O1498)>0,COUNTA(O1498:$O$5195)>0),IF(COUNTIF(B1489:B1498,B1498)=10,B1498+7,B1498),\"\")","v":""},null,"","",null,null,null,0,0,0,0,{"$f":"IFERROR(VLOOKUP(G1499,DropDowns!$D$2:$E$151,2,FALSE),\"\")","v":""},{"$f":"IFERROR(VLOOKUP(H1499,DropDowns!$F$2:$G$7,2,FALSE),\"Residual categories\")","v":"Residual categories"},null,null,null,0,0,0]
[0,{"$f":"IF(OR(COUNTA(O1470:O1499)>0,COUNTA(O1499:$O$5195)>0),IF(COUNTIF(B1490:B1499,B1499)=10,B1499+7,B1499),\"\")","v":""},null,"","",null,null,null,0,0,0,0,{"$f":"IFERROR(VLOOKUP(G1500,DropDowns!$D$2:$E$151,2,FALSE),\"\")","v":""},{"$f":"IFERROR(VLOOKUP(H1500,DropDowns!$F$2:$G$7,2,FALSE),\"Residual categories\")","v":"Residual categories"},null,null,null,0,0,0]
[0,{"$f":"IF(OR(COUNTA(O1471:O1500)>0,COUNTA(O1500:$O$5195)>0),IF(COUNTIF(B1491:B1500,B1500)=10,B1500+7,B1500),\"\")","v":""},null,"","",null,null,null,0,0,0,0,{"$f":"IFERROR(VLOOKUP(G1501,DropDowns!$D$2:$E$151,2,FALSE),\"\")","v":""},{"$f":"IFERROR(VLOOKUP(H1501,DropDowns!$F$2:$G$7,2,FALSE),\"Residual categories\")","v":"Residual categories"},null,null,null,0,0,0]
[0,{"$f":"IF(OR(COUNTA(O1472:O1501)>0,COUNTA(O1501:$O$5195)>0),IF(COUNTIF(B1492:B1501,B1501)=10,B1501+7,B1501),\"\")","v":""},null,"","",null,null,null,0,0,0,0,{"$f":"IFERROR(VLOOKUP(G1502,DropDowns!$D$2:$E$151,2,FALSE),\"\")","v":""},{"$f":"IFERROR(VLOOKUP(H1502,DropDowns!$F$2:$G$7,2,FALSE),\"Residual categories\")","v":"Residual categories"},null,null,null,0,0,0]
[0,{"$f":"IF(OR(COUNTA(O1473:O1502)>0,COUNTA(O1502:$O$5195)>0),IF(COUNTIF(B1493:B1502,B1502)=10,B1502+7,B1502),\"\")","v":""},null,"","",null,null,null,0,0,0,0,{"$f":"IFERROR(VLOOKUP(G1503,DropDowns!$D$2:$E$151,2,FALSE),\"\")","v":""},{"$f":"IFERROR(VLOOKUP(H1503,DropDowns!$F$2:$G$7,2,FALSE),\"Residual categories\")","v":"Residual categories"},null,null,null,0,0,0]
[0,{"$f":"IF(OR(COUNTA(O1474:O1503)>0,COUNTA(O1503:$O$5195)>0),IF(COUNTIF(B1494:B1503,B1503)=10,B1503+7,B1503),\"\")","v":""},null,"","",null,null,null,0,0,0,0,{"$f":"IFERROR(VLOOKUP(G1504,DropDowns!$D$2:$E$151,2,FALSE),\"\")","v":""},{"$f":"IFERROR(VLOOKUP(H1504,DropDowns!$F$2:$G$7,2,FALSE),\"Residual categories\")","v":"Residual categories"},null,null,null,0,0,0]
[0,{"$f":"IF(OR(COUNTA(O1475:O1504)>0,COUNTA(O1504:$O$5195)>0),IF(COUNTIF(B1495:B1504,B1504)=10,B1504+7,B1504),\"\")","v":""},null,"","",null,null,null,0,0,0,0,{"$f":"IFERROR(VLOOKUP(G1505,DropDowns!$D$2:$E$151,2,FALSE),\"\")","v":""},{"$f":"IFERROR(VLOOKUP(H1505,DropDowns!$F$2:$G$7,2,FALSE),\"Residual categories\")","v":"Residual categories"},null,null,null,0,0,0]
[0,{"$f":"IF(OR(COUNTA(O1476:O1505)>0,COUNTA(O1505:$O$5195)>0),IF(COUNTIF(B1496:B1505,B1505)=10,B1505+7,B1505),\"\")","v":""},null,"","",null,null,null,0,0,0,0,{"$f":"IFERROR(VLOOKUP(G1506,DropDowns!$D$2:$E$151,2,FALSE),\"\")","v":""},{"$f":"IFERROR(VLOOKUP(H1506,DropDowns!$F$2:$G$7,2,FALSE),\"Residual categories\")","v":"Residual categories"},null,null,null,0,0,0]
[0,{"$f":"IF(OR(COUNTA(O1477:O1506)>0,COUNTA(O1506:$O$5195)>0),IF(COUNTIF(B1497:B1506,B1506)=10,B1506+7,B1506),\"\")","v":""},null,"","",null,null,null,0,0,0,0,{"$f":"IFERROR(VLOOKUP(G1507,DropDowns!$D$2:$E$151,2,FALSE),\"\")","v":""},{"$f":"IFERROR(VLOOKUP(H1507,DropDowns!$F$2:$G$7,2,FALSE),\"Residual categories\")","v":"Residual categories"},null,null,null,0,0,0]
[0,{"$f":"IF(OR(COUNTA(O1478:O1507)>0,COUNTA(O1507:$O$5195)>0),IF(COUNTIF(B1498:B1507,B1507)=10,B1507+7,B1507),\"\")","v":""},null,"","",null,null,null,0,0,0,0,{"$f":"IFERROR(VLOOKUP(G1508,DropDowns!$D$2:$E$151,2,FALSE),\"\")","v":""},{"$f":"IFERROR(VLOOKUP(H1508,DropDowns!$F$2:$G$7,2,FALSE),\"Residual categories\")","v":"Residual categories"},null,null,null,0,0,0]
[0,{"$f":"IF(OR(COUNTA(O1479:O1508)>0,COUNTA(O1508:$O$5195)>0),IF(COUNTIF(B1499:B1508,B1508)=10,B1508+7,B1508),\"\")","v":""},null,"","",null,null,null,0,0,0,0,{"$f":"IFERROR(VLOOKUP(G1509,DropDowns!$D$2:$E$151,2,FALSE),\"\")","v":""},{"$f":"IFERROR(VLOOKUP(H1509,DropDowns!$F$2:$G$7,2,FALSE),\"Residual categories\")","v":"Residual categories"},null,null,null,0,0,0]
[0,{"$f":"IF(OR(COUNTA(O1480:O1509)>0,COUNTA(O1509:$O$5195)>0),IF(COUNTIF(B1500:B1509,B1509)=10,B1509+7,B1509),\"\")","v":""},null,"","",null,null,null,0,0,0,0,{"$f":"IFERROR(VLOOKUP(G1510,DropDowns!$D$2:$E$151,2,FALSE),\"\")","v":""},{"$f":"IFERROR(VLOOKUP(H1510,DropDowns!$F$2:$G$7,2,FALSE),\"Residual categories\")","v":"Residual categories"},null,null,null,0,0,0]
[0,{"$f":"IF(OR(COUNTA(O1481:O1510)>0,COUNTA(O1510:$O$5195)>0),IF(COUNTIF(B1501:B1510,B1510)=10,B1510+7,B1510),\"\")","v":""},null,"","",null,null,null,0,0,0,0,{"$f":"IFERROR(VLOOKUP(G1511,DropDowns!$D$2:$E$151,2,FALSE),\"\")","v":""},{"$f":"IFERROR(VLOOKUP(H1511,DropDowns!$F$2:$G$7,2,FALSE),\"Residual categories\")","v":"Residual categories"},null,null,null,0,0,0]
[0,{"$f":"IF(OR(COUNTA(O1482:O1511)>0,COUNTA(O1511:$O$5195)>0),IF(COUNTIF(B1502:B1511,B1511)=10,B1511+7,B1511),\"\")","v":""},null,"","",null,null,null,0,0,0,0,{"$f":"IFERROR(VLOOKUP(G1512,DropDowns!$D$2:$E$151,2,FALSE),\"\")","v":""},{"$f":"IFERROR(VLOOKUP(H1512,DropDowns!$F$2:$G$7,2,FALSE),\"Residual categories\")","v":"Residual categories"},null,null,null,0,0,0]
[0,{"$f":"IF(OR(COUNTA(O1483:O1512)>0,COUNTA(O1512:$O$5195)>0),IF(COUNTIF(B1503:B1512,B1512)=10,B1512+7,B1512),\"\")","v":""},null,"","",null,null,null,0,0,0,0,{"$f":"IFERROR(VLOOKUP(G1513,DropDowns!$D$2:$E$151,2,FALSE),\"\")","v":""},{"$f":"IFERROR(VLOOKUP(H1513,DropDowns!$F$2:$G$7,2,FALSE),\"Residual categories\")","v":"Residual categories"},null,null,null,0,0,0]
[0,{"$f":"IF(OR(COUNTA(O1484:O1513)>0,COUNTA(O1513:$O$5195)>0),IF(COUNTIF(B1504:B1513,B1513)=10,B1513+7,B1513),\"\")","v":""},null,"","",null,null,null,0,0,0,0,{"$f":"IFERROR(VLOOKUP(G1514,DropDowns!$D$2:$E$151,2,FALSE),\"\")","v":""},{"$f":"IFERROR(VLOOKUP(H1514,DropDowns!$F$2:$G$7,2,FALSE),\"Residual categories\")","v":"Residual categories"},null,null,null,0,0,0]
[0,{"$f":"IF(OR(COUNTA(O1485:O1514)>0,COUNTA(O1514:$O$5195)>0),IF(COUNTIF(B1505:B1514,B1514)=10,B1514+7,B1514),\"\")","v":""},null,"","",null,null,null,0,0,0,0,{"$f":"IFERROR(VLOOKUP(G1515,DropDowns!$D$2:$E$151,2,FALSE),\"\")","v":""},{"$f":"IFERROR(VLOOKUP(H1515,DropDowns!$F$2:$G$7,2,FALSE),\"Residual categories\")","v":"Residual categories"},null,null,null,0,0,0]
[0,{"$f":"IF(OR(COUNTA(O1486:O1515)>0,COUNTA(O1515:$O$5195)>0),IF(COUNTIF(B1506:B1515,B1515)=10,B1515+7,B1515),\"\")","v":""},null,"","",null,null,null,0,0,0,0,{"$f":"IFERROR(VLOOKUP(G1516,DropDowns!$D$2:$E$151,2,FALSE),\"\")","v":""},{"$f":"IFERROR(VLOOKUP(H1516,DropDowns!$F$2:$G$7,2,FALSE),\"Residual categories\")","v":"Residual categories"},null,null,null,0,0,0]
[0,{"$f":"IF(OR(COUNTA(O1487:O1516)>0,COUNTA(O1516:$O$5195)>0),IF(COUNTIF(B1507:B1516,B1516)=10,B1516+7,B1516),\"\")","v":""},null,"","",null,null,null,0,0,0,0,{"$f":"IFERROR(VLOOKUP(G1517,DropDowns!$D$2:$E$151,2,FALSE),\"\")","v":""},{"$f":"IFERROR(VLOOKUP(H1517,DropDowns!$F$2:$G$7,2,FALSE),\"Residual categories\")","v":"Residual categories"},null,null,null,0,0,0]
[0,{"$f":"IF(OR(COUNTA(O1488:O1517)>0,COUNTA(O1517:$O$5195)>0),IF(COUNTIF(B1508:B1517,B1517)=10,B1517+7,B1517),\"\")","v":""},null,"","",null,null,null,0,0,0,0,{"$f":"IFERROR(VLOOKUP(G1518,DropDowns!$D$2:$E$151,2,FALSE),\"\")","v":""},{"$f":"IFERROR(VLOOKUP(H1518,DropDowns!$F$2:$G$7,2,FALSE),\"Residual categories\")","v":"Residual categories"},null,null,null,0,0,0]
[0,{"$f":"IF(OR(COUNTA(O1489:O1518)>0,COUNTA(O1518:$O$5195)>0),IF(COUNTIF(B1509:B1518,B1518)=10,B1518+7,B1518),\"\")","v":""},null,"","",null,null,null,0,0,0,0,{"$f":"IFERROR(VLOOKUP(G1519,DropDowns!$D$2:$E$151,2,FALSE),\"\")","v":""},{"$f":"IFERROR(VLOOKUP(H1519,DropDowns!$F$2:$G$7,2,FALSE),\"Residual categories\")","v":"Residual categories"},null,null,null,0,0,0]
[0,{"$f":"IF(OR(COUNTA(O1490:O1519)>0,COUNTA(O1519:$O$5195)>0),IF(COUNTIF(B1510:B1519,B1519)=10,B1519+7,B1519),\"\")","v":""},null,"","",null,null,null,0,0,0,0,{"$f":"IFERROR(VLOOKUP(G1520,DropDowns!$D$2:$E$151,2,FALSE),\"\")","v":""},{"$f":"IFERROR(VLOOKUP(H1520,DropDowns!$F$2:$G$7,2,FALSE),\"Residual categories\")","v":"Residual categories"},null,null,null,0,0,0]
[0,{"$f":"IF(OR(COUNTA(O1491:O1520)>0,COUNTA(O1520:$O$5195)>0),IF(COUNTIF(B1511:B1520,B1520)=10,B1520+7,B1520),\"\")","v":""},null,"","",null,null,null,0,0,0,0,{"$f":"IFERROR(VLOOKUP(G1521,DropDowns!$D$2:$E$151,2,FALSE),\"\")","v":""},{"$f":"IFERROR(VLOOKUP(H1521,DropDowns!$F$2:$G$7,2,FALSE),\"Residual categories\")","v":"Residual categories"},null,null,null,0,0,0]
[0,{"$f":"IF(OR(COUNTA(O1492:O1521)>0,COUNTA(O1521:$O$5195)>0),IF(COUNTIF(B1512:B1521,B1521)=10,B1521+7,B1521),\"\")","v":""},null,"","",null,null,null,0,0,0,0,{"$f":"IFERROR(VLOOKUP(G1522,DropDowns!$D$2:$E$151,2,FALSE),\"\")","v":""},{"$f":"IFERROR(VLOOKUP(H1522,DropDowns!$F$2:$G$7,2,FALSE),\"Residual categories\")","v":"Residual categories"},null,null,null,0,0,0]
[0,{"$f":"IF(OR(COUNTA(O1493:O1522)>0,COUNTA(O1522:$O$5195)>0),IF(COUNTIF(B1513:B1522,B1522)=10,B1522+7,B1522),\"\")","v":""},null,"","",null,null,null,0,0,0,0,{"$f":"IFERROR(VLOOKUP(G1523,DropDowns!$D$2:$E$151,2,FALSE),\"\")","v":""},{"$f":"IFERROR(VLOOKUP(H1523,DropDowns!$F$2:$G$7,2,FALSE),\"Residual categories\")","v":"Residual categories"},null,null,null,0,0,0]
[0,{"$f":"IF(OR(COUNTA(O1494:O1523)>0,COUNTA(O1523:$O$5195)>0),IF(COUNTIF(B1514:B1523,B1523)=10,B1523+7,B1523),\"\")","v":""},null,"","",null,null,null,0,0,0,0,{"$f":"IFERROR(VLOOKUP(G1524,DropDowns!$D$2:$E$151,2,FALSE),\"\")","v":""},{"$f":"IFERROR(VLOOKUP(H1524,DropDowns!$F$2:$G$7,2,FALSE),\"Residual categories\")","v":"Residual categories"},null,null,null,0,0,0]
[0,{"$f":"IF(OR(COUNTA(O1495:O1524)>0,COUNTA(O1524:$O$5195)>0),IF(COUNTIF(B1515:B1524,B1524)=10,B1524+7,B1524),\"\")","v":""},null,"","",null,null,null,0,0,0,0,{"$f":"IFERROR(VLOOKUP(G1525,DropDowns!$D$2:$E$151,2,FALSE),\"\")","v":""},{"$f":"IFERROR(VLOOKUP(H1525,DropDowns!$F$2:$G$7,2,FALSE),\"Residual categories\")","v":"Residual categories"},null,null,null,0,0,0]
[0,{"$f":"IF(OR(COUNTA(O1496:O1525)>0,COUNTA(O1525:$O$5195)>0),IF(COUNTIF(B1516:B1525,B1525)=10,B1525+7,B1525),\"\")","v":""},null,"","",null,null,null,0,0,0,0,{"$f":"IFERROR(VLOOKUP(G1526,DropDowns!$D$2:$E$151,2,FALSE),\"\")","v":""},{"$f":"IFERROR(VLOOKUP(H1526,DropDowns!$F$2:$G$7,2,FALSE),\"Residual categories\")","v":"Residual categories"},null,null,null,0,0,0]
[0,{"$f":"IF(OR(COUNTA(O1497:O1526)>0,COUNTA(O1526:$O$5195)>0),IF(COUNTIF(B1517:B1526,B1526)=10,B1526+7,B1526),\"\")","v":""},null,"","",null,null,null,0,0,0,0,{"$f":"IFERROR(VLOOKUP(G1527,DropDowns!$D$2:$E$151,2,FALSE),\"\")","v":""},{"$f":"IFERROR(VLOOKUP(H1527,DropDowns!$F$2:$G$7,2,FALSE),\"Residual categories\")","v":"Residual categories"},null,null,null,0,0,0]
[0,{"$f":"IF(OR(COUNTA(O1498:O1527)>0,COUNTA(O1527:$O$5195)>0),IF(COUNTIF(B1518:B1527,B1527)=10,B1527+7,B1527),\"\")","v":""},null,"","",null,null,null,0,0,0,0,{"$f":"IFERROR(VLOOKUP(G1528,DropDowns!$D$2:$E$151,2,FALSE),\"\")","v":""},{"$f":"IFERROR(VLOOKUP(H1528,DropDowns!$F$2:$G$7,2,FALSE),\"Residual categories\")","v":"Residual categories"},null,null,null,0,0,0]
[0,{"$f":"IF(OR(COUNTA(O1499:O1528)>0,COUNTA(O1528:$O$5195)>0),IF(COUNTIF(B1519:B1528,B1528)=10,B1528+7,B1528),\"\")","v":""},null,"","",null,null,null,0,0,0,0,{"$f":"IFERROR(VLOOKUP(G1529,DropDowns!$D$2:$E$151,2,FALSE),\"\")","v":""},{"$f":"IFERROR(VLOOKUP(H1529,DropDowns!$F$2:$G$7,2,FALSE),\"Residual categories\")","v":"Residual categories"},null,null,null,0,0,0]
[0,{"$f":"IF(OR(COUNTA(O1500:O1529)>0,COUNTA(O1529:$O$5195)>0),IF(COUNTIF(B1520:B1529,B1529)=10,B1529+7,B1529),\"\")","v":""},null,"","",null,null,null,0,0,0,0,{"$f":"IFERROR(VLOOKUP(G1530,DropDowns!$D$2:$E$151,2,FALSE),\"\")","v":""},{"$f":"IFERROR(VLOOKUP(H1530,DropDowns!$F$2:$G$7,2,FALSE),\"Residual categories\")","v":"Residual categories"},null,null,null,0,0,0]
[0,{"$f":"IF(OR(COUNTA(O1501:O1530)>0,COUNTA(O1530:$O$5195)>0),IF(COUNTIF(B1521:B1530,B1530)=10,B1530+7,B1530),\"\")","v":""},null,"","",null,null,null,0,0,0,0,{"$f":"IFERROR(VLOOKUP(G1531,DropDowns!$D$2:$E$151,2,FALSE),\"\")","v":""},{"$f":"IFERROR(VLOOKUP(H1531,DropDowns!$F$2:$G$7,2,FALSE),\"Residual categories\")","v":"Residual categories"},null,null,null,0,0,0]
[0,{"$f":"IF(OR(COUNTA(O1502:O1531)>0,COUNTA(O1531:$O$5195)>0),IF(COUNTIF(B1522:B1531,B1531)=10,B1531+7,B1531),\"\")","v":""},null,"","",null,null,null,0,0,0,0,{"$f":"IFERROR(VLOOKUP(G1532,DropDowns!$D$2:$E$151,2,FALSE),\"\")","v":""},{"$f":"IFERROR(VLOOKUP(H1532,DropDowns!$F$2:$G$7,2,FALSE),\"Residual categories\")","v":"Residual categories"},null,null,null,0,0,0]
[0,{"$f":"IF(OR(COUNTA(O1503:O1532)>0,COUNTA(O1532:$O$5195)>0),IF(COUNTIF(B1523:B1532,B1532)=10,B1532+7,B1532),\"\")","v":""},null,"","",null,null,null,0,0,0,0,{"$f":"IFERROR(VLOOKUP(G1533,DropDowns!$D$2:$E$151,2,FALSE),\"\")","v":""},{"$f":"IFERROR(VLOOKUP(H1533,DropDowns!$F$2:$G$7,2,FALSE),\"Residual categories\")","v":"Residual categories"},null,null,null,0,0,0]
[0,{"$f":"IF(OR(COUNTA(O1504:O1533)>0,COUNTA(O1533:$O$5195)>0),IF(COUNTIF(B1524:B1533,B1533)=10,B1533+7,B1533),\"\")","v":""},null,"","",null,null,null,0,0,0,0,{"$f":"IFERROR(VLOOKUP(G1534,DropDowns!$D$2:$E$151,2,FALSE),\"\")","v":""},{"$f":"IFERROR(VLOOKUP(H1534,DropDowns!$F$2:$G$7,2,FALSE),\"Residual categories\")","v":"Residual categories"},null,null,null,0,0,0]
[0,{"$f":"IF(OR(COUNTA(O1505:O1534)>0,COUNTA(O1534:$O$5195)>0),IF(COUNTIF(B1525:B1534,B1534)=10,B1534+7,B1534),\"\")","v":""},null,"","",null,null,null,0,0,0,0,{"$f":"IFERROR(VLOOKUP(G1535,DropDowns!$D$2:$E$151,2,FALSE),\"\")","v":""},{"$f":"IFERROR(VLOOKUP(H1535,DropDowns!$F$2:$G$7,2,FALSE),\"Residual categories\")","v":"Residual categories"},null,null,null,0,0,0]
[0,{"$f":"IF(OR(COUNTA(O1506:O1535)>0,COUNTA(O1535:$O$5195)>0),IF(COUNTIF(B1526:B1535,B1535)=10,B1535+7,B1535),\"\")","v":""},null,"","",null,null,null,0,0,0,0,{"$f":"IFERROR(VLOOKUP(G1536,DropDowns!$D$2:$E$151,2,FALSE),\"\")","v":""},{"$f":"IFERROR(VLOOKUP(H1536,DropDowns!$F$2:$G$7,2,FALSE),\"Residual categories\")","v":"Residual categories"},null,null,null,0,0,0]
[0,{"$f":"IF(OR(COUNTA(O1507:O1536)>0,COUNTA(O1536:$O$5195)>0),IF(COUNTIF(B1527:B1536,B1536)=10,B1536+7,B1536),\"\")","v":""},null,"","",null,null,null,0,0,0,0,{"$f":"IFERROR(VLOOKUP(G1537,DropDowns!$D$2:$E$151,2,FALSE),\"\")","v":""},{"$f":"IFERROR(VLOOKUP(H1537,DropDowns!$F$2:$G$7,2,FALSE),\"Residual categories\")","v":"Residual categories"},null,null,null,0,0,0]
[0,{"$f":"IF(OR(COUNTA(O1508:O1537)>0,COUNTA(O1537:$O$5195)>0),IF(COUNTIF(B1528:B1537,B1537)=10,B1537+7,B1537),\"\")","v":""},null,"","",null,null,null,0,0,0,0,{"$f":"IFERROR(VLOOKUP(G1538,DropDowns!$D$2:$E$151,2,FALSE),\"\")","v":""},{"$f":"IFERROR(VLOOKUP(H1538,DropDowns!$F$2:$G$7,2,FALSE),\"Residual categories\")","v":"Residual categories"},null,null,null,0,0,0]
[0,{"$f":"IF(OR(COUNTA(O1509:O1538)>0,COUNTA(O1538:$O$5195)>0),IF(COUNTIF(B1529:B1538,B1538)=10,B1538+7,B1538),\"\")","v":""},null,"","",null,null,null,0,0,0,0,{"$f":"IFERROR(VLOOKUP(G1539,DropDowns!$D$2:$E$151,2,FALSE),\"\")","v":""},{"$f":"IFERROR(VLOOKUP(H1539,DropDowns!$F$2:$G$7,2,FALSE),\"Residual categories\")","v":"Residual categories"},null,null,null,0,0,0]
[0,{"$f":"IF(OR(COUNTA(O1510:O1539)>0,COUNTA(O1539:$O$5195)>0),IF(COUNTIF(B1530:B1539,B1539)=10,B1539+7,B1539),\"\")","v":""},null,"","",null,null,null,0,0,0,0,{"$f":"IFERROR(VLOOKUP(G1540,DropDowns!$D$2:$E$151,2,FALSE),\"\")","v":""},{"$f":"IFERROR(VLOOKUP(H1540,DropDowns!$F$2:$G$7,2,FALSE),\"Residual categories\")","v":"Residual categories"},null,null,null,0,0,0]
[0,{"$f":"IF(OR(COUNTA(O1511:O1540)>0,COUNTA(O1540:$O$5195)>0),IF(COUNTIF(B1531:B1540,B1540)=10,B1540+7,B1540),\"\")","v":""},null,"","",null,null,null,0,0,0,0,{"$f":"IFERROR(VLOOKUP(G1541,DropDowns!$D$2:$E$151,2,FALSE),\"\")","v":""},{"$f":"IFERROR(VLOOKUP(H1541,DropDowns!$F$2:$G$7,2,FALSE),\"Residual categories\")","v":"Residual categories"},null,null,null,0,0,0]
[0,{"$f":"IF(OR(COUNTA(O1512:O1541)>0,COUNTA(O1541:$O$5195)>0),IF(COUNTIF(B1532:B1541,B1541)=10,B1541+7,B1541),\"\")","v":""},null,"","",null,null,null,0,0,0,0,{"$f":"IFERROR(VLOOKUP(G1542,DropDowns!$D$2:$E$151,2,FALSE),\"\")","v":""},{"$f":"IFERROR(VLOOKUP(H1542,DropDowns!$F$2:$G$7,2,FALSE),\"Residual categories\")","v":"Residual categories"},null,null,null,0,0,0]
[0,{"$f":"IF(OR(COUNTA(O1513:O1542)>0,COUNTA(O1542:$O$5195)>0),IF(COUNTIF(B1533:B1542,B1542)=10,B1542+7,B1542),\"\")","v":""},null,{"$f":"IF(E1543=1,B1543,\"\")","v":""},"",null,null,null,{"$f":"IF(COUNTA(O1543:Q1543)>0,1,0)","v":0},{"$f":"IF(O1543=\"y\",1,0)","v":0},{"$f":"IF(P1543=\"y\",1,0)","v":0},{"$f":"IF(Q1543=\"y\",1,0)","v":0},{"$f":"IFERROR(VLOOKUP(G1543,DropDowns!$D$2:$E$151,2,FALSE),\"\")","v":""},{"$f":"IFERROR(VLOOKUP(H1543,DropDowns!$F$2:$G$7,2,FALSE),\"Residual categories\")","v":"Residual categories"},null,null,null,{"$f":"IF(O1543=\"yes\",1,0)","v":0},{"$f":"IF(P1543=\"yes\",1,0)","v":0},{"$f":"IF(Q1543=\"yes\",1,0)","v":0}]
[0,{"$f":"IF(OR(COUNTA(O1514:O1543)>0,COUNTA(O1543:$O$5195)>0),IF(COUNTIF(B1534:B1543,B1543)=10,B1543+7,B1543),\"\")","v":""},null,"","",null,null,null,0,0,0,0,{"$f":"IFERROR(VLOOKUP(G1544,DropDowns!$D$2:$E$151,2,FALSE),\"\")","v":""},{"$f":"IFERROR(VLOOKUP(H1544,DropDowns!$F$2:$G$7,2,FALSE),\"Residual categories\")","v":"Residual categories"},null,null,null,0,0,0]
[0,{"$f":"IF(OR(COUNTA(O1515:O1544)>0,COUNTA(O1544:$O$5195)>0),IF(COUNTIF(B1535:B1544,B1544)=10,B1544+7,B1544),\"\")","v":""},null,"","",null,null,null,0,0,0,0,{"$f":"IFERROR(VLOOKUP(G1545,DropDowns!$D$2:$E$151,2,FALSE),\"\")","v":""},{"$f":"IFERROR(VLOOKUP(H1545,DropDowns!$F$2:$G$7,2,FALSE),\"Residual categories\")","v":"Residual categories"},null,null,null,0,0,0]
[0,{"$f":"IF(OR(COUNTA(O1516:O1545)>0,COUNTA(O1545:$O$5195)>0),IF(COUNTIF(B1536:B1545,B1545)=10,B1545+7,B1545),\"\")","v":""},null,"","",null,null,null,0,0,0,0,{"$f":"IFERROR(VLOOKUP(G1546,DropDowns!$D$2:$E$151,2,FALSE),\"\")","v":""},{"$f":"IFERROR(VLOOKUP(H1546,DropDowns!$F$2:$G$7,2,FALSE),\"Residual categories\")","v":"Residual categories"},null,null,null,0,0,0]
[0,{"$f":"IF(OR(COUNTA(O1517:O1546)>0,COUNTA(O1546:$O$5195)>0),IF(COUNTIF(B1537:B1546,B1546)=10,B1546+7,B1546),\"\")","v":""},null,"","",null,null,null,0,0,0,0,{"$f":"IFERROR(VLOOKUP(G1547,DropDowns!$D$2:$E$151,2,FALSE),\"\")","v":""},{"$f":"IFERROR(VLOOKUP(H1547,DropDowns!$F$2:$G$7,2,FALSE),\"Residual categories\")","v":"Residual categories"},null,null,null,0,0,0]
[0,{"$f":"IF(OR(COUNTA(O1518:O1547)>0,COUNTA(O1547:$O$5195)>0),IF(COUNTIF(B1538:B1547,B1547)=10,B1547+7,B1547),\"\")","v":""},null,"","",null,null,null,0,0,0,0,{"$f":"IFERROR(VLOOKUP(G1548,DropDowns!$D$2:$E$151,2,FALSE),\"\")","v":""},{"$f":"IFERROR(VLOOKUP(H1548,DropDowns!$F$2:$G$7,2,FALSE),\"Residual categories\")","v":"Residual categories"},null,null,null,0,0,0]
[0,{"$f":"IF(OR(COUNTA(O1519:O1548)>0,COUNTA(O1548:$O$5195)>0),IF(COUNTIF(B1539:B1548,B1548)=10,B1548+7,B1548),\"\")","v":""},null,"","",null,null,null,0,0,0,0,{"$f":"IFERROR(VLOOKUP(G1549,DropDowns!$D$2:$E$151,2,FALSE),\"\")","v":""},{"$f":"IFERROR(VLOOKUP(H1549,DropDowns!$F$2:$G$7,2,FALSE),\"Residual categories\")","v":"Residual categories"},null,null,null,0,0,0]
[0,{"$f":"IF(OR(COUNTA(O1520:O1549)>0,COUNTA(O1549:$O$5195)>0),IF(COUNTIF(B1540:B1549,B1549)=10,B1549+7,B1549),\"\")","v":""},null,"","",null,null,null,0,0,0,0,{"$f":"IFERROR(VLOOKUP(G1550,DropDowns!$D$2:$E$151,2,FALSE),\"\")","v":""},{"$f":"IFERROR(VLOOKUP(H1550,DropDowns!$F$2:$G$7,2,FALSE),\"Residual categories\")","v":"Residual categories"},null,null,null,0,0,0]
[0,{"$f":"IF(OR(COUNTA(O1521:O1550)>0,COUNTA(O1550:$O$5195)>0),IF(COUNTIF(B1541:B1550,B1550)=10,B1550+7,B1550),\"\")","v":""},null,"","",null,null,null,0,0,0,0,{"$f":"IFERROR(VLOOKUP(G1551,DropDowns!$D$2:$E$151,2,FALSE),\"\")","v":""},{"$f":"IFERROR(VLOOKUP(H1551,DropDowns!$F$2:$G$7,2,FALSE),\"Residual categories\")","v":"Residual categories"},null,null,null,0,0,0]
[0,{"$f":"IF(OR(COUNTA(O1522:O1551)>0,COUNTA(O1551:$O$5195)>0),IF(COUNTIF(B1542:B1551,B1551)=10,B1551+7,B1551),\"\")","v":""},null,"","",null,null,null,0,0,0,0,{"$f":"IFERROR(VLOOKUP(G1552,DropDowns!$D$2:$E$151,2,FALSE),\"\")","v":""},{"$f":"IFERROR(VLOOKUP(H1552,DropDowns!$F$2:$G$7,2,FALSE),\"Residual categories\")","v":"Residual categories"},null,null,null,0,0,0]
[0,{"$f":"IF(OR(COUNTA(O1523:O1552)>0,COUNTA(O1552:$O$5195)>0),IF(COUNTIF(B1543:B1552,B1552)=10,B1552+7,B1552),\"\")","v":""},null,"",{"$f":"IF(B1553=\"\",\"\",COUNTIF(B1544:B1553,B1553))","v":""},null,null,null,0,0,0,0,{"$f":"IFERROR(VLOOKUP(G1553,DropDowns!$D$2:$E$151,2,FALSE),\"\")","v":""},{"$f":"IFERROR(VLOOKUP(H1553,DropDowns!$F$2:$G$7,2,FALSE),\"Residual categories\")","v":"Residual categories"},null,null,null,0,0,0]
[0,{"$f":"IF(OR(COUNTA(O1524:O1553)>0,COUNTA(O1553:$O$5195)>0),IF(COUNTIF(B1544:B1553,B1553)=10,B1553+7,B1553),\"\")","v":""},null,"","",null,null,null,0,0,0,0,{"$f":"IFERROR(VLOOKUP(G1554,DropDowns!$D$2:$E$151,2,FALSE),\"\")","v":""},{"$f":"IFERROR(VLOOKUP(H1554,DropDowns!$F$2:$G$7,2,FALSE),\"Residual categories\")","v":"Residual categories"},null,null,null,0,0,0]
[0,{"$f":"IF(OR(COUNTA(O1525:O1554)>0,COUNTA(O1554:$O$5195)>0),IF(COUNTIF(B1545:B1554,B1554)=10,B1554+7,B1554),\"\")","v":""},null,"","",null,null,null,0,0,0,0,{"$f":"IFERROR(VLOOKUP(G1555,DropDowns!$D$2:$E$151,2,FALSE),\"\")","v":""},{"$f":"IFERROR(VLOOKUP(H1555,DropDowns!$F$2:$G$7,2,FALSE),\"Residual categories\")","v":"Residual categories"},null,null,null,0,0,0]
[{"$f":"$E$2","v":0},{"$f":"IF(OR(COUNTA(O1526:O1555)>0,COUNTA(O1555:$O$5195)>0),IF(COUNTIF(B1546:B1555,B1555)=10,B1555+7,B1555),\"\")","v":""},null,"","",null,null,null,0,0,0,0,{"$f":"IFERROR(VLOOKUP(G1556,DropDowns!$D$2:$E$151,2,FALSE),\"\")","v":""},{"$f":"IFERROR(VLOOKUP(H1556,DropDowns!$F$2:$G$7,2,FALSE),\"Residual categories\")","v":"Residual categories"},null,null,null,0,0,0]
[0,{"$f":"IF(OR(COUNTA(O1527:O1556)>0,COUNTA(O1556:$O$5195)>0),IF(COUNTIF(B1547:B1556,B1556)=10,B1556+7,B1556),\"\")","v":""},null,"","",null,null,null,0,0,0,0,{"$f":"IFERROR(VLOOKUP(G1557,DropDowns!$D$2:$E$151,2,FALSE),\"\")","v":""},{"$f":"IFERROR(VLOOKUP(H1557,DropDowns!$F$2:$G$7,2,FALSE),\"Residual categories\")","v":"Residual categories"},null,null,null,0,0,0]
[0,{"$f":"IF(OR(COUNTA(O1528:O1557)>0,COUNTA(O1557:$O$5195)>0),IF(COUNTIF(B1548:B1557,B1557)=10,B1557+7,B1557),\"\")","v":""},null,"","",null,null,null,0,0,0,0,{"$f":"IFERROR(VLOOKUP(G1558,DropDowns!$D$2:$E$151,2,FALSE),\"\")","v":""},{"$f":"IFERROR(VLOOKUP(H1558,DropDowns!$F$2:$G$7,2,FALSE),\"Residual categories\")","v":"Residual categories"},null,null,null,0,0,0]
[0,{"$f":"IF(OR(COUNTA(O1529:O1558)>0,COUNTA(O1558:$O$5195)>0),IF(COUNTIF(B1549:B1558,B1558)=10,B1558+7,B1558),\"\")","v":""},null,"","",null,null,null,0,0,0,0,{"$f":"IFERROR(VLOOKUP(G1559,DropDowns!$D$2:$E$151,2,FALSE),\"\")","v":""},{"$f":"IFERROR(VLOOKUP(H1559,DropDowns!$F$2:$G$7,2,FALSE),\"Residual categories\")","v":"Residual categories"},null,null,null,0,0,0]
[0,{"$f":"IF(OR(COUNTA(O1530:O1559)>0,COUNTA(O1559:$O$5195)>0),IF(COUNTIF(B1550:B1559,B1559)=10,B1559+7,B1559),\"\")","v":""},null,"","",null,null,null,0,0,0,0,{"$f":"IFERROR(VLOOKUP(G1560,DropDowns!$D$2:$E$151,2,FALSE),\"\")","v":""},{"$f":"IFERROR(VLOOKUP(H1560,DropDowns!$F$2:$G$7,2,FALSE),\"Residual categories\")","v":"Residual categories"},null,null,null,0,0,0]
[0,{"$f":"IF(OR(COUNTA(O1531:O1560)>0,COUNTA(O1560:$O$5195)>0),IF(COUNTIF(B1551:B1560,B1560)=10,B1560+7,B1560),\"\")","v":""},null,"","",null,null,null,0,0,0,0,{"$f":"IFERROR(VLOOKUP(G1561,DropDowns!$D$2:$E$151,2,FALSE),\"\")","v":""},{"$f":"IFERROR(VLOOKUP(H1561,DropDowns!$F$2:$G$7,2,FALSE),\"Residual categories\")","v":"Residual categories"},null,null,null,0,0,0]
[0,{"$f":"IF(OR(COUNTA(O1532:O1561)>0,COUNTA(O1561:$O$5195)>0),IF(COUNTIF(B1552:B1561,B1561)=10,B1561+7,B1561),\"\")","v":""},null,"","",null,null,null,0,0,0,0,{"$f":"IFERROR(VLOOKUP(G1562,DropDowns!$D$2:$E$151,2,FALSE),\"\")","v":""},{"$f":"IFERROR(VLOOKUP(H1562,DropDowns!$F$2:$G$7,2,FALSE),\"Residual categories\")","v":"Residual categories"},null,null,null,0,0,0]
[0,{"$f":"IF(OR(COUNTA(O1533:O1562)>0,COUNTA(O1562:$O$5195)>0),IF(COUNTIF(B1553:B1562,B1562)=10,B1562+7,B1562),\"\")","v":""},null,"","",null,null,null,0,0,0,0,{"$f":"IFERROR(VLOOKUP(G1563,DropDowns!$D$2:$E$151,2,FALSE),\"\")","v":""},{"$f":"IFERROR(VLOOKUP(H1563,DropDowns!$F$2:$G$7,2,FALSE),\"Residual categories\")","v":"Residual categories"},null,null,null,0,0,0]
[0,{"$f":"IF(OR(COUNTA(O1534:O1563)>0,COUNTA(O1563:$O$5195)>0),IF(COUNTIF(B1554:B1563,B1563)=10,B1563+7,B1563),\"\")","v":""},null,"","",null,null,null,0,0,0,0,{"$f":"IFERROR(VLOOKUP(G1564,DropDowns!$D$2:$E$151,2,FALSE),\"\")","v":""},{"$f":"IFERROR(VLOOKUP(H1564,DropDowns!$F$2:$G$7,2,FALSE),\"Residual categories\")","v":"Residual categories"},null,null,null,0,0,0]
[0,{"$f":"IF(OR(COUNTA(O1535:O1564)>0,COUNTA(O1564:$O$5195)>0),IF(COUNTIF(B1555:B1564,B1564)=10,B1564+7,B1564),\"\")","v":""},null,"","",null,null,null,0,0,0,0,{"$f":"IFERROR(VLOOKUP(G1565,DropDowns!$D$2:$E$151,2,FALSE),\"\")","v":""},{"$f":"IFERROR(VLOOKUP(H1565,DropDowns!$F$2:$G$7,2,FALSE),\"Residual categories\")","v":"Residual categories"},null,null,null,0,0,0]
[0,{"$f":"IF(OR(COUNTA(O1536:O1565)>0,COUNTA(O1565:$O$5195)>0),IF(COUNTIF(B1556:B1565,B1565)=10,B1565+7,B1565),\"\")","v":""},null,"","",null,null,null,0,0,0,0,{"$f":"IFERROR(VLOOKUP(G1566,DropDowns!$D$2:$E$151,2,FALSE),\"\")","v":""},{"$f":"IFERROR(VLOOKUP(H1566,DropDowns!$F$2:$G$7,2,FALSE),\"Residual categories\")","v":"Residual categories"},null,null,null,0,0,0]
[0,{"$f":"IF(OR(COUNTA(O1537:O1566)>0,COUNTA(O1566:$O$5195)>0),IF(COUNTIF(B1557:B1566,B1566)=10,B1566+7,B1566),\"\")","v":""},null,"","",null,null,null,0,0,0,0,{"$f":"IFERROR(VLOOKUP(G1567,DropDowns!$D$2:$E$151,2,FALSE),\"\")","v":""},{"$f":"IFERROR(VLOOKUP(H1567,DropDowns!$F$2:$G$7,2,FALSE),\"Residual categories\")","v":"Residual categories"},null,null,null,0,0,0]
[0,{"$f":"IF(OR(COUNTA(O1538:O1567)>0,COUNTA(O1567:$O$5195)>0),IF(COUNTIF(B1558:B1567,B1567)=10,B1567+7,B1567),\"\")","v":""},null,"","",null,null,null,0,0,0,0,{"$f":"IFERROR(VLOOKUP(G1568,DropDowns!$D$2:$E$151,2,FALSE),\"\")","v":""},{"$f":"IFERROR(VLOOKUP(H1568,DropDowns!$F$2:$G$7,2,FALSE),\"Residual categories\")","v":"Residual categories"},null,null,null,0,0,0]
[0,{"$f":"IF(OR(COUNTA(O1539:O1568)>0,COUNTA(O1568:$O$5195)>0),IF(COUNTIF(B1559:B1568,B1568)=10,B1568+7,B1568),\"\")","v":""},null,"","",null,null,null,0,0,0,0,{"$f":"IFERROR(VLOOKUP(G1569,DropDowns!$D$2:$E$151,2,FALSE),\"\")","v":""},{"$f":"IFERROR(VLOOKUP(H1569,DropDowns!$F$2:$G$7,2,FALSE),\"Residual categories\")","v":"Residual categories"},null,null,null,0,0,0]
[0,{"$f":"IF(OR(COUNTA(O1540:O1569)>0,COUNTA(O1569:$O$5195)>0),IF(COUNTIF(B1560:B1569,B1569)=10,B1569+7,B1569),\"\")","v":""},null,"","",null,null,null,0,0,0,0,{"$f":"IFERROR(VLOOKUP(G1570,DropDowns!$D$2:$E$151,2,FALSE),\"\")","v":""},{"$f":"IFERROR(VLOOKUP(H1570,DropDowns!$F$2:$G$7,2,FALSE),\"Residual categories\")","v":"Residual categories"},null,null,null,0,0,0]
[0,{"$f":"IF(OR(COUNTA(O1541:O1570)>0,COUNTA(O1570:$O$5195)>0),IF(COUNTIF(B1561:B1570,B1570)=10,B1570+7,B1570),\"\")","v":""},null,"","",null,null,null,0,0,0,0,{"$f":"IFERROR(VLOOKUP(G1571,DropDowns!$D$2:$E$151,2,FALSE),\"\")","v":""},{"$f":"IFERROR(VLOOKUP(H1571,DropDowns!$F$2:$G$7,2,FALSE),\"Residual categories\")","v":"Residual categories"},null,null,null,0,0,0]
[0,{"$f":"IF(OR(COUNTA(O1542:O1571)>0,COUNTA(O1571:$O$5195)>0),IF(COUNTIF(B1562:B1571,B1571)=10,B1571+7,B1571),\"\")","v":""},null,"","",null,null,null,0,0,0,0,{"$f":"IFERROR(VLOOKUP(G1572,DropDowns!$D$2:$E$151,2,FALSE),\"\")","v":""},{"$f":"IFERROR(VLOOKUP(H1572,DropDowns!$F$2:$G$7,2,FALSE),\"Residual categories\")","v":"Residual categories"},null,null,null,0,0,0]
[0,{"$f":"IF(OR(COUNTA(O1543:O1572)>0,COUNTA(O1572:$O$5195)>0),IF(COUNTIF(B1563:B1572,B1572)=10,B1572+7,B1572),\"\")","v":""},null,"","",null,null,null,0,0,0,0,{"$f":"IFERROR(VLOOKUP(G1573,DropDowns!$D$2:$E$151,2,FALSE),\"\")","v":""},{"$f":"IFERROR(VLOOKUP(H1573,DropDowns!$F$2:$G$7,2,FALSE),\"Residual categories\")","v":"Residual categories"},null,null,null,0,0,0]
[0,{"$f":"IF(OR(COUNTA(O1544:O1573)>0,COUNTA(O1573:$O$5195)>0),IF(COUNTIF(B1564:B1573,B1573)=10,B1573+7,B1573),\"\")","v":""},null,"","",null,null,null,0,0,0,0,{"$f":"IFERROR(VLOOKUP(G1574,DropDowns!$D$2:$E$151,2,FALSE),\"\")","v":""},{"$f":"IFERROR(VLOOKUP(H1574,DropDowns!$F$2:$G$7,2,FALSE),\"Residual categories\")","v":"Residual categories"},null,null,null,0,0,0]
[0,{"$f":"IF(OR(COUNTA(O1545:O1574)>0,COUNTA(O1574:$O$5195)>0),IF(COUNTIF(B1565:B1574,B1574)=10,B1574+7,B1574),\"\")","v":""},null,"","",null,null,null,0,0,0,0,{"$f":"IFERROR(VLOOKUP(G1575,DropDowns!$D$2:$E$151,2,FALSE),\"\")","v":""},{"$f":"IFERROR(VLOOKUP(H1575,DropDowns!$F$2:$G$7,2,FALSE),\"Residual categories\")","v":"Residual categories"},null,null,null,0,0,0]
[0,{"$f":"IF(OR(COUNTA(O1546:O1575)>0,COUNTA(O1575:$O$5195)>0),IF(COUNTIF(B1566:B1575,B1575)=10,B1575+7,B1575),\"\")","v":""},null,"","",null,null,null,0,0,0,0,{"$f":"IFERROR(VLOOKUP(G1576,DropDowns!$D$2:$E$151,2,FALSE),\"\")","v":""},{"$f":"IFERROR(VLOOKUP(H1576,DropDowns!$F$2:$G$7,2,FALSE),\"Residual categories\")","v":"Residual categories"},null,null,null,0,0,0]
[0,{"$f":"IF(OR(COUNTA(O1547:O1576)>0,COUNTA(O1576:$O$5195)>0),IF(COUNTIF(B1567:B1576,B1576)=10,B1576+7,B1576),\"\")","v":""},null,"","",null,null,null,0,0,0,0,{"$f":"IFERROR(VLOOKUP(G1577,DropDowns!$D$2:$E$151,2,FALSE),\"\")","v":""},{"$f":"IFERROR(VLOOKUP(H1577,DropDowns!$F$2:$G$7,2,FALSE),\"Residual categories\")","v":"Residual categories"},null,null,null,0,0,0]
[0,{"$f":"IF(OR(COUNTA(O1548:O1577)>0,COUNTA(O1577:$O$5195)>0),IF(COUNTIF(B1568:B1577,B1577)=10,B1577+7,B1577),\"\")","v":""},null,"","",null,null,null,0,0,0,0,{"$f":"IFERROR(VLOOKUP(G1578,DropDowns!$D$2:$E$151,2,FALSE),\"\")","v":""},{"$f":"IFERROR(VLOOKUP(H1578,DropDowns!$F$2:$G$7,2,FALSE),\"Residual categories\")","v":"Residual categories"},null,null,null,0,0,0]
[0,{"$f":"IF(OR(COUNTA(O1549:O1578)>0,COUNTA(O1578:$O$5195)>0),IF(COUNTIF(B1569:B1578,B1578)=10,B1578+7,B1578),\"\")","v":""},null,"","",null,null,null,0,0,0,0,{"$f":"IFERROR(VLOOKUP(G1579,DropDowns!$D$2:$E$151,2,FALSE),\"\")","v":""},{"$f":"IFERROR(VLOOKUP(H1579,DropDowns!$F$2:$G$7,2,FALSE),\"Residual categories\")","v":"Residual categories"},null,null,null,0,0,0]
[0,{"$f":"IF(OR(COUNTA(O1550:O1579)>0,COUNTA(O1579:$O$5195)>0),IF(COUNTIF(B1570:B1579,B1579)=10,B1579+7,B1579),\"\")","v":""},null,"","",null,null,null,0,0,0,0,{"$f":"IFERROR(VLOOKUP(G1580,DropDowns!$D$2:$E$151,2,FALSE),\"\")","v":""},{"$f":"IFERROR(VLOOKUP(H1580,DropDowns!$F$2:$G$7,2,FALSE),\"Residual categories\")","v":"Residual categories"},null,null,null,0,0,0]
[0,{"$f":"IF(OR(COUNTA(O1551:O1580)>0,COUNTA(O1580:$O$5195)>0),IF(COUNTIF(B1571:B1580,B1580)=10,B1580+7,B1580),\"\")","v":""},null,"","",null,null,null,0,0,0,0,{"$f":"IFERROR(VLOOKUP(G1581,DropDowns!$D$2:$E$151,2,FALSE),\"\")","v":""},{"$f":"IFERROR(VLOOKUP(H1581,DropDowns!$F$2:$G$7,2,FALSE),\"Residual categories\")","v":"Residual categories"},null,null,null,0,0,0]
[0,{"$f":"IF(OR(COUNTA(O1552:O1581)>0,COUNTA(O1581:$O$5195)>0),IF(COUNTIF(B1572:B1581,B1581)=10,B1581+7,B1581),\"\")","v":""},null,"","",null,null,null,0,0,0,0,{"$f":"IFERROR(VLOOKUP(G1582,DropDowns!$D$2:$E$151,2,FALSE),\"\")","v":""},{"$f":"IFERROR(VLOOKUP(H1582,DropDowns!$F$2:$G$7,2,FALSE),\"Residual categories\")","v":"Residual categories"},null,null,null,0,0,0]
[0,{"$f":"IF(OR(COUNTA(O1553:O1582)>0,COUNTA(O1582:$O$5195)>0),IF(COUNTIF(B1573:B1582,B1582)=10,B1582+7,B1582),\"\")","v":""},null,"","",null,null,null,0,0,0,0,{"$f":"IFERROR(VLOOKUP(G1583,DropDowns!$D$2:$E$151,2,FALSE),\"\")","v":""},{"$f":"IFERROR(VLOOKUP(H1583,DropDowns!$F$2:$G$7,2,FALSE),\"Residual categories\")","v":"Residual categories"},null,null,null,0,0,0]
[0,{"$f":"IF(OR(COUNTA(O1554:O1583)>0,COUNTA(O1583:$O$5195)>0),IF(COUNTIF(B1574:B1583,B1583)=10,B1583+7,B1583),\"\")","v":""},null,"","",null,null,null,0,0,0,0,{"$f":"IFERROR(VLOOKUP(G1584,DropDowns!$D$2:$E$151,2,FALSE),\"\")","v":""},{"$f":"IFERROR(VLOOKUP(H1584,DropDowns!$F$2:$G$7,2,FALSE),\"Residual categories\")","v":"Residual categories"},null,null,null,0,0,0]
[0,{"$f":"IF(OR(COUNTA(O1555:O1584)>0,COUNTA(O1584:$O$5195)>0),IF(COUNTIF(B1575:B1584,B1584)=10,B1584+7,B1584),\"\")","v":""},null,"","",null,null,null,0,0,0,0,{"$f":"IFERROR(VLOOKUP(G1585,DropDowns!$D$2:$E$151,2,FALSE),\"\")","v":""},{"$f":"IFERROR(VLOOKUP(H1585,DropDowns!$F$2:$G$7,2,FALSE),\"Residual categories\")","v":"Residual categories"},null,null,null,0,0,0]
[0,{"$f":"IF(OR(COUNTA(O1556:O1585)>0,COUNTA(O1585:$O$5195)>0),IF(COUNTIF(B1576:B1585,B1585)=10,B1585+7,B1585),\"\")","v":""},null,"","",null,null,null,0,0,0,0,{"$f":"IFERROR(VLOOKUP(G1586,DropDowns!$D$2:$E$151,2,FALSE),\"\")","v":""},{"$f":"IFERROR(VLOOKUP(H1586,DropDowns!$F$2:$G$7,2,FALSE),\"Residual categories\")","v":"Residual categories"},null,null,null,0,0,0]
[0,{"$f":"IF(OR(COUNTA(O1557:O1586)>0,COUNTA(O1586:$O$5195)>0),IF(COUNTIF(B1577:B1586,B1586)=10,B1586+7,B1586),\"\")","v":""},null,"","",null,null,null,0,0,0,0,{"$f":"IFERROR(VLOOKUP(G1587,DropDowns!$D$2:$E$151,2,FALSE),\"\")","v":""},{"$f":"IFERROR(VLOOKUP(H1587,DropDowns!$F$2:$G$7,2,FALSE),\"Residual categories\")","v":"Residual categories"},null,null,null,0,0,0]
[0,{"$f":"IF(OR(COUNTA(O1558:O1587)>0,COUNTA(O1587:$O$5195)>0),IF(COUNTIF(B1578:B1587,B1587)=10,B1587+7,B1587),\"\")","v":""},null,"","",null,null,null,0,0,0,0,{"$f":"IFERROR(VLOOKUP(G1588,DropDowns!$D$2:$E$151,2,FALSE),\"\")","v":""},{"$f":"IFERROR(VLOOKUP(H1588,DropDowns!$F$2:$G$7,2,FALSE),\"Residual categories\")","v":"Residual categories"},null,null,null,0,0,0]
[0,{"$f":"IF(OR(COUNTA(O1559:O1588)>0,COUNTA(O1588:$O$5195)>0),IF(COUNTIF(B1579:B1588,B1588)=10,B1588+7,B1588),\"\")","v":""},null,"","",null,null,null,0,0,0,0,{"$f":"IFERROR(VLOOKUP(G1589,DropDowns!$D$2:$E$151,2,FALSE),\"\")","v":""},{"$f":"IFERROR(VLOOKUP(H1589,DropDowns!$F$2:$G$7,2,FALSE),\"Residual categories\")","v":"Residual categories"},null,null,null,0,0,0]
[0,{"$f":"IF(OR(COUNTA(O1560:O1589)>0,COUNTA(O1589:$O$5195)>0),IF(COUNTIF(B1580:B1589,B1589)=10,B1589+7,B1589),\"\")","v":""},null,"","",null,null,null,0,0,0,0,{"$f":"IFERROR(VLOOKUP(G1590,DropDowns!$D$2:$E$151,2,FALSE),\"\")","v":""},{"$f":"IFERROR(VLOOKUP(H1590,DropDowns!$F$2:$G$7,2,FALSE),\"Residual categories\")","v":"Residual categories"},null,null,null,0,0,0]
[0,{"$f":"IF(OR(COUNTA(O1561:O1590)>0,COUNTA(O1590:$O$5195)>0),IF(COUNTIF(B1581:B1590,B1590)=10,B1590+7,B1590),\"\")","v":""},null,"","",null,null,null,0,0,0,0,{"$f":"IFERROR(VLOOKUP(G1591,DropDowns!$D$2:$E$151,2,FALSE),\"\")","v":""},{"$f":"IFERROR(VLOOKUP(H1591,DropDowns!$F$2:$G$7,2,FALSE),\"Residual categories\")","v":"Residual categories"},null,null,null,0,0,0]
[0,{"$f":"IF(OR(COUNTA(O1562:O1591)>0,COUNTA(O1591:$O$5195)>0),IF(COUNTIF(B1582:B1591,B1591)=10,B1591+7,B1591),\"\")","v":""},null,"","",null,null,null,0,0,0,0,{"$f":"IFERROR(VLOOKUP(G1592,DropDowns!$D$2:$E$151,2,FALSE),\"\")","v":""},{"$f":"IFERROR(VLOOKUP(H1592,DropDowns!$F$2:$G$7,2,FALSE),\"Residual categories\")","v":"Residual categories"},null,null,null,0,0,0]
[0,{"$f":"IF(OR(COUNTA(O1563:O1592)>0,COUNTA(O1592:$O$5195)>0),IF(COUNTIF(B1583:B1592,B1592)=10,B1592+7,B1592),\"\")","v":""},null,"","",null,null,null,0,0,0,0,{"$f":"IFERROR(VLOOKUP(G1593,DropDowns!$D$2:$E$151,2,FALSE),\"\")","v":""},{"$f":"IFERROR(VLOOKUP(H1593,DropDowns!$F$2:$G$7,2,FALSE),\"Residual categories\")","v":"Residual categories"},null,null,null,0,0,0]
[0,{"$f":"IF(OR(COUNTA(O1564:O1593)>0,COUNTA(O1593:$O$5195)>0),IF(COUNTIF(B1584:B1593,B1593)=10,B1593+7,B1593),\"\")","v":""},null,"","",null,null,null,0,0,0,0,{"$f":"IFERROR(VLOOKUP(G1594,DropDowns!$D$2:$E$151,2,FALSE),\"\")","v":""},{"$f":"IFERROR(VLOOKUP(H1594,DropDowns!$F$2:$G$7,2,FALSE),\"Residual categories\")","v":"Residual categories"},null,null,null,0,0,0]
[0,{"$f":"IF(OR(COUNTA(O1565:O1594)>0,COUNTA(O1594:$O$5195)>0),IF(COUNTIF(B1585:B1594,B1594)=10,B1594+7,B1594),\"\")","v":""},null,"","",null,null,null,0,0,0,0,{"$f":"IFERROR(VLOOKUP(G1595,DropDowns!$D$2:$E$151,2,FALSE),\"\")","v":""},{"$f":"IFERROR(VLOOKUP(H1595,DropDowns!$F$2:$G$7,2,FALSE),\"Residual categories\")","v":"Residual categories"},null,null,null,0,0,0]
[0,{"$f":"IF(OR(COUNTA(O1566:O1595)>0,COUNTA(O1595:$O$5195)>0),IF(COUNTIF(B1586:B1595,B1595)=10,B1595+7,B1595),\"\")","v":""},null,"","",null,null,null,0,0,0,0,{"$f":"IFERROR(VLOOKUP(G1596,DropDowns!$D$2:$E$151,2,FALSE),\"\")","v":""},{"$f":"IFERROR(VLOOKUP(H1596,DropDowns!$F$2:$G$7,2,FALSE),\"Residual categories\")","v":"Residual categories"},null,null,null,0,0,0]
[0,{"$f":"IF(OR(COUNTA(O1567:O1596)>0,COUNTA(O1596:$O$5195)>0),IF(COUNTIF(B1587:B1596,B1596)=10,B1596+7,B1596),\"\")","v":""},null,"","",null,null,null,0,0,0,0,{"$f":"IFERROR(VLOOKUP(G1597,DropDowns!$D$2:$E$151,2,FALSE),\"\")","v":""},{"$f":"IFERROR(VLOOKUP(H1597,DropDowns!$F$2:$G$7,2,FALSE),\"Residual categories\")","v":"Residual categories"},null,null,null,0,0,0]
[0,{"$f":"IF(OR(COUNTA(O1568:O1597)>0,COUNTA(O1597:$O$5195)>0),IF(COUNTIF(B1588:B1597,B1597)=10,B1597+7,B1597),\"\")","v":""},null,"","",null,null,null,0,0,0,0,{"$f":"IFERROR(VLOOKUP(G1598,DropDowns!$D$2:$E$151,2,FALSE),\"\")","v":""},{"$f":"IFERROR(VLOOKUP(H1598,DropDowns!$F$2:$G$7,2,FALSE),\"Residual categories\")","v":"Residual categories"},null,null,null,0,0,0]
[0,{"$f":"IF(OR(COUNTA(O1569:O1598)>0,COUNTA(O1598:$O$5195)>0),IF(COUNTIF(B1589:B1598,B1598)=10,B1598+7,B1598),\"\")","v":""},null,"","",null,null,null,0,0,0,0,{"$f":"IFERROR(VLOOKUP(G1599,DropDowns!$D$2:$E$151,2,FALSE),\"\")","v":""},{"$f":"IFERROR(VLOOKUP(H1599,DropDowns!$F$2:$G$7,2,FALSE),\"Residual categories\")","v":"Residual categories"},null,null,null,0,0,0]
[0,{"$f":"IF(OR(COUNTA(O1570:O1599)>0,COUNTA(O1599:$O$5195)>0),IF(COUNTIF(B1590:B1599,B1599)=10,B1599+7,B1599),\"\")","v":""},null,"","",null,null,null,0,0,0,0,{"$f":"IFERROR(VLOOKUP(G1600,DropDowns!$D$2:$E$151,2,FALSE),\"\")","v":""},{"$f":"IFERROR(VLOOKUP(H1600,DropDowns!$F$2:$G$7,2,FALSE),\"Residual categories\")","v":"Residual categories"},null,null,null,0,0,0]
[0,{"$f":"IF(OR(COUNTA(O1571:O1600)>0,COUNTA(O1600:$O$5195)>0),IF(COUNTIF(B1591:B1600,B1600)=10,B1600+7,B1600),\"\")","v":""},null,"","",null,null,null,0,0,0,0,{"$f":"IFERROR(VLOOKUP(G1601,DropDowns!$D$2:$E$151,2,FALSE),\"\")","v":""},{"$f":"IFERROR(VLOOKUP(H1601,DropDowns!$F$2:$G$7,2,FALSE),\"Residual categories\")","v":"Residual categories"},null,null,null,0,0,0]
[0,{"$f":"IF(OR(COUNTA(O1572:O1601)>0,COUNTA(O1601:$O$5195)>0),IF(COUNTIF(B1592:B1601,B1601)=10,B1601+7,B1601),\"\")","v":""},null,"","",null,null,null,0,0,0,0,{"$f":"IFERROR(VLOOKUP(G1602,DropDowns!$D$2:$E$151,2,FALSE),\"\")","v":""},{"$f":"IFERROR(VLOOKUP(H1602,DropDowns!$F$2:$G$7,2,FALSE),\"Residual categories\")","v":"Residual categories"},null,null,null,0,0,0]
[0,{"$f":"IF(OR(COUNTA(O1573:O1602)>0,COUNTA(O1602:$O$5195)>0),IF(COUNTIF(B1593:B1602,B1602)=10,B1602+7,B1602),\"\")","v":""},null,"","",null,null,null,0,0,0,0,{"$f":"IFERROR(VLOOKUP(G1603,DropDowns!$D$2:$E$151,2,FALSE),\"\")","v":""},{"$f":"IFERROR(VLOOKUP(H1603,DropDowns!$F$2:$G$7,2,FALSE),\"Residual categories\")","v":"Residual categories"},null,null,null,0,0,0]
[0,{"$f":"IF(OR(COUNTA(O1574:O1603)>0,COUNTA(O1603:$O$5195)>0),IF(COUNTIF(B1594:B1603,B1603)=10,B1603+7,B1603),\"\")","v":""},null,"","",null,null,null,0,0,0,0,{"$f":"IFERROR(VLOOKUP(G1604,DropDowns!$D$2:$E$151,2,FALSE),\"\")","v":""},{"$f":"IFERROR(VLOOKUP(H1604,DropDowns!$F$2:$G$7,2,FALSE),\"Residual categories\")","v":"Residual categories"},null,null,null,0,0,0]
[0,{"$f":"IF(OR(COUNTA(O1575:O1604)>0,COUNTA(O1604:$O$5195)>0),IF(COUNTIF(B1595:B1604,B1604)=10,B1604+7,B1604),\"\")","v":""},null,"","",null,null,null,0,0,0,0,{"$f":"IFERROR(VLOOKUP(G1605,DropDowns!$D$2:$E$151,2,FALSE),\"\")","v":""},{"$f":"IFERROR(VLOOKUP(H1605,DropDowns!$F$2:$G$7,2,FALSE),\"Residual categories\")","v":"Residual categories"},null,null,null,0,0,0]
[0,{"$f":"IF(OR(COUNTA(O1576:O1605)>0,COUNTA(O1605:$O$5195)>0),IF(COUNTIF(B1596:B1605,B1605)=10,B1605+7,B1605),\"\")","v":""},null,"","",null,null,null,0,0,0,0,{"$f":"IFERROR(VLOOKUP(G1606,DropDowns!$D$2:$E$151,2,FALSE),\"\")","v":""},{"$f":"IFERROR(VLOOKUP(H1606,DropDowns!$F$2:$G$7,2,FALSE),\"Residual categories\")","v":"Residual categories"},null,null,null,0,0,0]
[0,{"$f":"IF(OR(COUNTA(O1577:O1606)>0,COUNTA(O1606:$O$5195)>0),IF(COUNTIF(B1597:B1606,B1606)=10,B1606+7,B1606),\"\")","v":""},null,{"$f":"IF(E1607=1,B1607,\"\")","v":""},"",null,null,null,{"$f":"IF(COUNTA(O1607:Q1607)>0,1,0)","v":0},{"$f":"IF(O1607=\"y\",1,0)","v":0},{"$f":"IF(P1607=\"y\",1,0)","v":0},{"$f":"IF(Q1607=\"y\",1,0)","v":0},{"$f":"IFERROR(VLOOKUP(G1607,DropDowns!$D$2:$E$151,2,FALSE),\"\")","v":""},{"$f":"IFERROR(VLOOKUP(H1607,DropDowns!$F$2:$G$7,2,FALSE),\"Residual categories\")","v":"Residual categories"},null,null,null,{"$f":"IF(O1607=\"yes\",1,0)","v":0},{"$f":"IF(P1607=\"yes\",1,0)","v":0},{"$f":"IF(Q1607=\"yes\",1,0)","v":0}]
[0,{"$f":"IF(OR(COUNTA(O1578:O1607)>0,COUNTA(O1607:$O$5195)>0),IF(COUNTIF(B1598:B1607,B1607)=10,B1607+7,B1607),\"\")","v":""},null,"","",null,null,null,0,0,0,0,{"$f":"IFERROR(VLOOKUP(G1608,DropDowns!$D$2:$E$151,2,FALSE),\"\")","v":""},{"$f":"IFERROR(VLOOKUP(H1608,DropDowns!$F$2:$G$7,2,FALSE),\"Residual categories\")","v":"Residual categories"},null,null,null,0,0,0]
[0,{"$f":"IF(OR(COUNTA(O1579:O1608)>0,COUNTA(O1608:$O$5195)>0),IF(COUNTIF(B1599:B1608,B1608)=10,B1608+7,B1608),\"\")","v":""},null,"","",null,null,null,0,0,0,0,{"$f":"IFERROR(VLOOKUP(G1609,DropDowns!$D$2:$E$151,2,FALSE),\"\")","v":""},{"$f":"IFERROR(VLOOKUP(H1609,DropDowns!$F$2:$G$7,2,FALSE),\"Residual categories\")","v":"Residual categories"},null,null,null,0,0,0]
[0,{"$f":"IF(OR(COUNTA(O1580:O1609)>0,COUNTA(O1609:$O$5195)>0),IF(COUNTIF(B1600:B1609,B1609)=10,B1609+7,B1609),\"\")","v":""},null,"","",null,null,null,0,0,0,0,{"$f":"IFERROR(VLOOKUP(G1610,DropDowns!$D$2:$E$151,2,FALSE),\"\")","v":""},{"$f":"IFERROR(VLOOKUP(H1610,DropDowns!$F$2:$G$7,2,FALSE),\"Residual categories\")","v":"Residual categories"},null,null,null,0,0,0]
[0,{"$f":"IF(OR(COUNTA(O1581:O1610)>0,COUNTA(O1610:$O$5195)>0),IF(COUNTIF(B1601:B1610,B1610)=10,B1610+7,B1610),\"\")","v":""},null,"","",null,null,null,0,0,0,0,{"$f":"IFERROR(VLOOKUP(G1611,DropDowns!$D$2:$E$151,2,FALSE),\"\")","v":""},{"$f":"IFERROR(VLOOKUP(H1611,DropDowns!$F$2:$G$7,2,FALSE),\"Residual categories\")","v":"Residual categories"},null,null,null,0,0,0]
[0,{"$f":"IF(OR(COUNTA(O1582:O1611)>0,COUNTA(O1611:$O$5195)>0),IF(COUNTIF(B1602:B1611,B1611)=10,B1611+7,B1611),\"\")","v":""},null,"","",null,null,null,0,0,0,0,{"$f":"IFERROR(VLOOKUP(G1612,DropDowns!$D$2:$E$151,2,FALSE),\"\")","v":""},{"$f":"IFERROR(VLOOKUP(H1612,DropDowns!$F$2:$G$7,2,FALSE),\"Residual categories\")","v":"Residual categories"},null,null,null,0,0,0]
[0,{"$f":"IF(OR(COUNTA(O1583:O1612)>0,COUNTA(O1612:$O$5195)>0),IF(COUNTIF(B1603:B1612,B1612)=10,B1612+7,B1612),\"\")","v":""},null,"","",null,null,null,0,0,0,0,{"$f":"IFERROR(VLOOKUP(G1613,DropDowns!$D$2:$E$151,2,FALSE),\"\")","v":""},{"$f":"IFERROR(VLOOKUP(H1613,DropDowns!$F$2:$G$7,2,FALSE),\"Residual categories\")","v":"Residual categories"},null,null,null,0,0,0]
[0,{"$f":"IF(OR(COUNTA(O1584:O1613)>0,COUNTA(O1613:$O$5195)>0),IF(COUNTIF(B1604:B1613,B1613)=10,B1613+7,B1613),\"\")","v":""},null,"","",null,null,null,0,0,0,0,{"$f":"IFERROR(VLOOKUP(G1614,DropDowns!$D$2:$E$151,2,FALSE),\"\")","v":""},{"$f":"IFERROR(VLOOKUP(H1614,DropDowns!$F$2:$G$7,2,FALSE),\"Residual categories\")","v":"Residual categories"},null,null,null,0,0,0]
[0,{"$f":"IF(OR(COUNTA(O1585:O1614)>0,COUNTA(O1614:$O$5195)>0),IF(COUNTIF(B1605:B1614,B1614)=10,B1614+7,B1614),\"\")","v":""},null,"","",null,null,null,0,0,0,0,{"$f":"IFERROR(VLOOKUP(G1615,DropDowns!$D$2:$E$151,2,FALSE),\"\")","v":""},{"$f":"IFERROR(VLOOKUP(H1615,DropDowns!$F$2:$G$7,2,FALSE),\"Residual categories\")","v":"Residual categories"},null,null,null,0,0,0]
[0,{"$f":"IF(OR(COUNTA(O1586:O1615)>0,COUNTA(O1615:$O$5195)>0),IF(COUNTIF(B1606:B1615,B1615)=10,B1615+7,B1615),\"\")","v":""},null,"","",null,null,null,0,0,0,0,{"$f":"IFERROR(VLOOKUP(G1616,DropDowns!$D$2:$E$151,2,FALSE),\"\")","v":""},{"$f":"IFERROR(VLOOKUP(H1616,DropDowns!$F$2:$G$7,2,FALSE),\"Residual categories\")","v":"Residual categories"},null,null,null,0,0,0]
[0,{"$f":"IF(OR(COUNTA(O1587:O1616)>0,COUNTA(O1616:$O$5195)>0),IF(COUNTIF(B1607:B1616,B1616)=10,B1616+7,B1616),\"\")","v":""},null,"",{"$f":"IF(B1617=\"\",\"\",COUNTIF(B1608:B1617,B1617))","v":""},null,null,null,0,0,0,0,{"$f":"IFERROR(VLOOKUP(G1617,DropDowns!$D$2:$E$151,2,FALSE),\"\")","v":""},{"$f":"IFERROR(VLOOKUP(H1617,DropDowns!$F$2:$G$7,2,FALSE),\"Residual categories\")","v":"Residual categories"},null,null,null,0,0,0]
[0,{"$f":"IF(OR(COUNTA(O1588:O1617)>0,COUNTA(O1617:$O$5195)>0),IF(COUNTIF(B1608:B1617,B1617)=10,B1617+7,B1617),\"\")","v":""},null,"","",null,null,null,0,0,0,0,{"$f":"IFERROR(VLOOKUP(G1618,DropDowns!$D$2:$E$151,2,FALSE),\"\")","v":""},{"$f":"IFERROR(VLOOKUP(H1618,DropDowns!$F$2:$G$7,2,FALSE),\"Residual categories\")","v":"Residual categories"},null,null,null,0,0,0]
[0,{"$f":"IF(OR(COUNTA(O1589:O1618)>0,COUNTA(O1618:$O$5195)>0),IF(COUNTIF(B1609:B1618,B1618)=10,B1618+7,B1618),\"\")","v":""},null,"","",null,null,null,0,0,0,0,{"$f":"IFERROR(VLOOKUP(G1619,DropDowns!$D$2:$E$151,2,FALSE),\"\")","v":""},{"$f":"IFERROR(VLOOKUP(H1619,DropDowns!$F$2:$G$7,2,FALSE),\"Residual categories\")","v":"Residual categories"},null,null,null,0,0,0]
[{"$f":"$E$2","v":0},{"$f":"IF(OR(COUNTA(O1590:O1619)>0,COUNTA(O1619:$O$5195)>0),IF(COUNTIF(B1610:B1619,B1619)=10,B1619+7,B1619),\"\")","v":""},null,"","",null,null,null,0,0,0,0,{"$f":"IFERROR(VLOOKUP(G1620,DropDowns!$D$2:$E$151,2,FALSE),\"\")","v":""},{"$f":"IFERROR(VLOOKUP(H1620,DropDowns!$F$2:$G$7,2,FALSE),\"Residual categories\")","v":"Residual categories"},null,null,null,0,0,0]
[0,{"$f":"IF(OR(COUNTA(O1591:O1620)>0,COUNTA(O1620:$O$5195)>0),IF(COUNTIF(B1611:B1620,B1620)=10,B1620+7,B1620),\"\")","v":""},null,"","",null,null,null,0,0,0,0,{"$f":"IFERROR(VLOOKUP(G1621,DropDowns!$D$2:$E$151,2,FALSE),\"\")","v":""},{"$f":"IFERROR(VLOOKUP(H1621,DropDowns!$F$2:$G$7,2,FALSE),\"Residual categories\")","v":"Residual categories"},null,null,null,0,0,0]
[0,{"$f":"IF(OR(COUNTA(O1592:O1621)>0,COUNTA(O1621:$O$5195)>0),IF(COUNTIF(B1612:B1621,B1621)=10,B1621+7,B1621),\"\")","v":""},null,"","",null,null,null,0,0,0,0,{"$f":"IFERROR(VLOOKUP(G1622,DropDowns!$D$2:$E$151,2,FALSE),\"\")","v":""},{"$f":"IFERROR(VLOOKUP(H1622,DropDowns!$F$2:$G$7,2,FALSE),\"Residual categories\")","v":"Residual categories"},null,null,null,0,0,0]
[0,{"$f":"IF(OR(COUNTA(O1593:O1622)>0,COUNTA(O1622:$O$5195)>0),IF(COUNTIF(B1613:B1622,B1622)=10,B1622+7,B1622),\"\")","v":""},null,"","",null,null,null,0,0,0,0,{"$f":"IFERROR(VLOOKUP(G1623,DropDowns!$D$2:$E$151,2,FALSE),\"\")","v":""},{"$f":"IFERROR(VLOOKUP(H1623,DropDowns!$F$2:$G$7,2,FALSE),\"Residual categories\")","v":"Residual categories"},null,null,null,0,0,0]
[0,{"$f":"IF(OR(COUNTA(O1594:O1623)>0,COUNTA(O1623:$O$5195)>0),IF(COUNTIF(B1614:B1623,B1623)=10,B1623+7,B1623),\"\")","v":""},null,"","",null,null,null,0,0,0,0,{"$f":"IFERROR(VLOOKUP(G1624,DropDowns!$D$2:$E$151,2,FALSE),\"\")","v":""},{"$f":"IFERROR(VLOOKUP(H1624,DropDowns!$F$2:$G$7,2,FALSE),\"Residual categories\")","v":"Residual categories"},null,null,null,0,0,0]
[0,{"$f":"IF(OR(COUNTA(O1595:O1624)>0,COUNTA(O1624:$O$5195)>0),IF(COUNTIF(B1615:B1624,B1624)=10,B1624+7,B1624),\"\")","v":""},null,"","",null,null,null,0,0,0,0,{"$f":"IFERROR(VLOOKUP(G1625,DropDowns!$D$2:$E$151,2,FALSE),\"\")","v":""},{"$f":"IFERROR(VLOOKUP(H1625,DropDowns!$F$2:$G$7,2,FALSE),\"Residual categories\")","v":"Residual categories"},null,null,null,0,0,0]
[0,{"$f":"IF(OR(COUNTA(O1596:O1625)>0,COUNTA(O1625:$O$5195)>0),IF(COUNTIF(B1616:B1625,B1625)=10,B1625+7,B1625),\"\")","v":""},null,"","",null,null,null,0,0,0,0,{"$f":"IFERROR(VLOOKUP(G1626,DropDowns!$D$2:$E$151,2,FALSE),\"\")","v":""},{"$f":"IFERROR(VLOOKUP(H1626,DropDowns!$F$2:$G$7,2,FALSE),\"Residual categories\")","v":"Residual categories"},null,null,null,0,0,0]
[0,{"$f":"IF(OR(COUNTA(O1597:O1626)>0,COUNTA(O1626:$O$5195)>0),IF(COUNTIF(B1617:B1626,B1626)=10,B1626+7,B1626),\"\")","v":""},null,"","",null,null,null,0,0,0,0,{"$f":"IFERROR(VLOOKUP(G1627,DropDowns!$D$2:$E$151,2,FALSE),\"\")","v":""},{"$f":"IFERROR(VLOOKUP(H1627,DropDowns!$F$2:$G$7,2,FALSE),\"Residual categories\")","v":"Residual categories"},null,null,null,0,0,0]
[0,{"$f":"IF(OR(COUNTA(O1598:O1627)>0,COUNTA(O1627:$O$5195)>0),IF(COUNTIF(B1618:B1627,B1627)=10,B1627+7,B1627),\"\")","v":""},null,"","",null,null,null,0,0,0,0,{"$f":"IFERROR(VLOOKUP(G1628,DropDowns!$D$2:$E$151,2,FALSE),\"\")","v":""},{"$f":"IFERROR(VLOOKUP(H1628,DropDowns!$F$2:$G$7,2,FALSE),\"Residual categories\")","v":"Residual categories"},null,null,null,0,0,0]
[0,{"$f":"IF(OR(COUNTA(O1599:O1628)>0,COUNTA(O1628:$O$5195)>0),IF(COUNTIF(B1619:B1628,B1628)=10,B1628+7,B1628),\"\")","v":""},null,"","",null,null,null,0,0,0,0,{"$f":"IFERROR(VLOOKUP(G1629,DropDowns!$D$2:$E$151,2,FALSE),\"\")","v":""},{"$f":"IFERROR(VLOOKUP(H1629,DropDowns!$F$2:$G$7,2,FALSE),\"Residual categories\")","v":"Residual categories"},null,null,null,0,0,0]
[0,{"$f":"IF(OR(COUNTA(O1600:O1629)>0,COUNTA(O1629:$O$5195)>0),IF(COUNTIF(B1620:B1629,B1629)=10,B1629+7,B1629),\"\")","v":""},null,"","",null,null,null,0,0,0,0,{"$f":"IFERROR(VLOOKUP(G1630,DropDowns!$D$2:$E$151,2,FALSE),\"\")","v":""},{"$f":"IFERROR(VLOOKUP(H1630,DropDowns!$F$2:$G$7,2,FALSE),\"Residual categories\")","v":"Residual categories"},null,null,null,0,0,0]
[0,{"$f":"IF(OR(COUNTA(O1601:O1630)>0,COUNTA(O1630:$O$5195)>0),IF(COUNTIF(B1621:B1630,B1630)=10,B1630+7,B1630),\"\")","v":""},null,"","",null,null,null,0,0,0,0,{"$f":"IFERROR(VLOOKUP(G1631,DropDowns!$D$2:$E$151,2,FALSE),\"\")","v":""},{"$f":"IFERROR(VLOOKUP(H1631,DropDowns!$F$2:$G$7,2,FALSE),\"Residual categories\")","v":"Residual categories"},null,null,null,0,0,0]
[0,{"$f":"IF(OR(COUNTA(O1602:O1631)>0,COUNTA(O1631:$O$5195)>0),IF(COUNTIF(B1622:B1631,B1631)=10,B1631+7,B1631),\"\")","v":""},null,"","",null,null,null,0,0,0,0,{"$f":"IFERROR(VLOOKUP(G1632,DropDowns!$D$2:$E$151,2,FALSE),\"\")","v":""},{"$f":"IFERROR(VLOOKUP(H1632,DropDowns!$F$2:$G$7,2,FALSE),\"Residual categories\")","v":"Residual categories"},null,null,null,0,0,0]
[0,{"$f":"IF(OR(COUNTA(O1603:O1632)>0,COUNTA(O1632:$O$5195)>0),IF(COUNTIF(B1623:B1632,B1632)=10,B1632+7,B1632),\"\")","v":""},null,"","",null,null,null,0,0,0,0,{"$f":"IFERROR(VLOOKUP(G1633,DropDowns!$D$2:$E$151,2,FALSE),\"\")","v":""},{"$f":"IFERROR(VLOOKUP(H1633,DropDowns!$F$2:$G$7,2,FALSE),\"Residual categories\")","v":"Residual categories"},null,null,null,0,0,0]
[0,{"$f":"IF(OR(COUNTA(O1604:O1633)>0,COUNTA(O1633:$O$5195)>0),IF(COUNTIF(B1624:B1633,B1633)=10,B1633+7,B1633),\"\")","v":""},null,"","",null,null,null,0,0,0,0,{"$f":"IFERROR(VLOOKUP(G1634,DropDowns!$D$2:$E$151,2,FALSE),\"\")","v":""},{"$f":"IFERROR(VLOOKUP(H1634,DropDowns!$F$2:$G$7,2,FALSE),\"Residual categories\")","v":"Residual categories"},null,null,null,0,0,0]
[0,{"$f":"IF(OR(COUNTA(O1605:O1634)>0,COUNTA(O1634:$O$5195)>0),IF(COUNTIF(B1625:B1634,B1634)=10,B1634+7,B1634),\"\")","v":""},null,"","",null,null,null,0,0,0,0,{"$f":"IFERROR(VLOOKUP(G1635,DropDowns!$D$2:$E$151,2,FALSE),\"\")","v":""},{"$f":"IFERROR(VLOOKUP(H1635,DropDowns!$F$2:$G$7,2,FALSE),\"Residual categories\")","v":"Residual categories"},null,null,null,0,0,0]
[0,{"$f":"IF(OR(COUNTA(O1606:O1635)>0,COUNTA(O1635:$O$5195)>0),IF(COUNTIF(B1626:B1635,B1635)=10,B1635+7,B1635),\"\")","v":""},null,"","",null,null,null,0,0,0,0,{"$f":"IFERROR(VLOOKUP(G1636,DropDowns!$D$2:$E$151,2,FALSE),\"\")","v":""},{"$f":"IFERROR(VLOOKUP(H1636,DropDowns!$F$2:$G$7,2,FALSE),\"Residual categories\")","v":"Residual categories"},null,null,null,0,0,0]
[0,{"$f":"IF(OR(COUNTA(O1607:O1636)>0,COUNTA(O1636:$O$5195)>0),IF(COUNTIF(B1627:B1636,B1636)=10,B1636+7,B1636),\"\")","v":""},null,"","",null,null,null,0,0,0,0,{"$f":"IFERROR(VLOOKUP(G1637,DropDowns!$D$2:$E$151,2,FALSE),\"\")","v":""},{"$f":"IFERROR(VLOOKUP(H1637,DropDowns!$F$2:$G$7,2,FALSE),\"Residual categories\")","v":"Residual categories"},null,null,null,0,0,0]
[0,{"$f":"IF(OR(COUNTA(O1608:O1637)>0,COUNTA(O1637:$O$5195)>0),IF(COUNTIF(B1628:B1637,B1637)=10,B1637+7,B1637),\"\")","v":""},null,"","",null,null,null,0,0,0,0,{"$f":"IFERROR(VLOOKUP(G1638,DropDowns!$D$2:$E$151,2,FALSE),\"\")","v":""},{"$f":"IFERROR(VLOOKUP(H1638,DropDowns!$F$2:$G$7,2,FALSE),\"Residual categories\")","v":"Residual categories"},null,null,null,0,0,0]
[0,{"$f":"IF(OR(COUNTA(O1609:O1638)>0,COUNTA(O1638:$O$5195)>0),IF(COUNTIF(B1629:B1638,B1638)=10,B1638+7,B1638),\"\")","v":""},null,"","",null,null,null,0,0,0,0,{"$f":"IFERROR(VLOOKUP(G1639,DropDowns!$D$2:$E$151,2,FALSE),\"\")","v":""},{"$f":"IFERROR(VLOOKUP(H1639,DropDowns!$F$2:$G$7,2,FALSE),\"Residual categories\")","v":"Residual categories"},null,null,null,0,0,0]
[0,{"$f":"IF(OR(COUNTA(O1610:O1639)>0,COUNTA(O1639:$O$5195)>0),IF(COUNTIF(B1630:B1639,B1639)=10,B1639+7,B1639),\"\")","v":""},null,"","",null,null,null,0,0,0,0,{"$f":"IFERROR(VLOOKUP(G1640,DropDowns!$D$2:$E$151,2,FALSE),\"\")","v":""},{"$f":"IFERROR(VLOOKUP(H1640,DropDowns!$F$2:$G$7,2,FALSE),\"Residual categories\")","v":"Residual categories"},null,null,null,0,0,0]
[0,{"$f":"IF(OR(COUNTA(O1611:O1640)>0,COUNTA(O1640:$O$5195)>0),IF(COUNTIF(B1631:B1640,B1640)=10,B1640+7,B1640),\"\")","v":""},null,"","",null,null,null,0,0,0,0,{"$f":"IFERROR(VLOOKUP(G1641,DropDowns!$D$2:$E$151,2,FALSE),\"\")","v":""},{"$f":"IFERROR(VLOOKUP(H1641,DropDowns!$F$2:$G$7,2,FALSE),\"Residual categories\")","v":"Residual categories"},null,null,null,0,0,0]
[0,{"$f":"IF(OR(COUNTA(O1612:O1641)>0,COUNTA(O1641:$O$5195)>0),IF(COUNTIF(B1632:B1641,B1641)=10,B1641+7,B1641),\"\")","v":""},null,"","",null,null,null,0,0,0,0,{"$f":"IFERROR(VLOOKUP(G1642,DropDowns!$D$2:$E$151,2,FALSE),\"\")","v":""},{"$f":"IFERROR(VLOOKUP(H1642,DropDowns!$F$2:$G$7,2,FALSE),\"Residual categories\")","v":"Residual categories"},null,null,null,0,0,0]
[0,{"$f":"IF(OR(COUNTA(O1613:O1642)>0,COUNTA(O1642:$O$5195)>0),IF(COUNTIF(B1633:B1642,B1642)=10,B1642+7,B1642),\"\")","v":""},null,"","",null,null,null,0,0,0,0,{"$f":"IFERROR(VLOOKUP(G1643,DropDowns!$D$2:$E$151,2,FALSE),\"\")","v":""},{"$f":"IFERROR(VLOOKUP(H1643,DropDowns!$F$2:$G$7,2,FALSE),\"Residual categories\")","v":"Residual categories"},null,null,null,0,0,0]
[0,{"$f":"IF(OR(COUNTA(O1614:O1643)>0,COUNTA(O1643:$O$5195)>0),IF(COUNTIF(B1634:B1643,B1643)=10,B1643+7,B1643),\"\")","v":""},null,"","",null,null,null,0,0,0,0,{"$f":"IFERROR(VLOOKUP(G1644,DropDowns!$D$2:$E$151,2,FALSE),\"\")","v":""},{"$f":"IFERROR(VLOOKUP(H1644,DropDowns!$F$2:$G$7,2,FALSE),\"Residual categories\")","v":"Residual categories"},null,null,null,0,0,0]
[0,{"$f":"IF(OR(COUNTA(O1615:O1644)>0,COUNTA(O1644:$O$5195)>0),IF(COUNTIF(B1635:B1644,B1644)=10,B1644+7,B1644),\"\")","v":""},null,"","",null,null,null,0,0,0,0,{"$f":"IFERROR(VLOOKUP(G1645,DropDowns!$D$2:$E$151,2,FALSE),\"\")","v":""},{"$f":"IFERROR(VLOOKUP(H1645,DropDowns!$F$2:$G$7,2,FALSE),\"Residual categories\")","v":"Residual categories"},null,null,null,0,0,0]
[0,{"$f":"IF(OR(COUNTA(O1616:O1645)>0,COUNTA(O1645:$O$5195)>0),IF(COUNTIF(B1636:B1645,B1645)=10,B1645+7,B1645),\"\")","v":""},null,"","",null,null,null,0,0,0,0,{"$f":"IFERROR(VLOOKUP(G1646,DropDowns!$D$2:$E$151,2,FALSE),\"\")","v":""},{"$f":"IFERROR(VLOOKUP(H1646,DropDowns!$F$2:$G$7,2,FALSE),\"Residual categories\")","v":"Residual categories"},null,null,null,0,0,0]
[0,{"$f":"IF(OR(COUNTA(O1617:O1646)>0,COUNTA(O1646:$O$5195)>0),IF(COUNTIF(B1637:B1646,B1646)=10,B1646+7,B1646),\"\")","v":""},null,"","",null,null,null,0,0,0,0,{"$f":"IFERROR(VLOOKUP(G1647,DropDowns!$D$2:$E$151,2,FALSE),\"\")","v":""},{"$f":"IFERROR(VLOOKUP(H1647,DropDowns!$F$2:$G$7,2,FALSE),\"Residual categories\")","v":"Residual categories"},null,null,null,0,0,0]
[0,{"$f":"IF(OR(COUNTA(O1618:O1647)>0,COUNTA(O1647:$O$5195)>0),IF(COUNTIF(B1638:B1647,B1647)=10,B1647+7,B1647),\"\")","v":""},null,"","",null,null,null,0,0,0,0,{"$f":"IFERROR(VLOOKUP(G1648,DropDowns!$D$2:$E$151,2,FALSE),\"\")","v":""},{"$f":"IFERROR(VLOOKUP(H1648,DropDowns!$F$2:$G$7,2,FALSE),\"Residual categories\")","v":"Residual categories"},null,null,null,0,0,0]
[0,{"$f":"IF(OR(COUNTA(O1619:O1648)>0,COUNTA(O1648:$O$5195)>0),IF(COUNTIF(B1639:B1648,B1648)=10,B1648+7,B1648),\"\")","v":""},null,"","",null,null,null,0,0,0,0,{"$f":"IFERROR(VLOOKUP(G1649,DropDowns!$D$2:$E$151,2,FALSE),\"\")","v":""},{"$f":"IFERROR(VLOOKUP(H1649,DropDowns!$F$2:$G$7,2,FALSE),\"Residual categories\")","v":"Residual categories"},null,null,null,0,0,0]
[0,{"$f":"IF(OR(COUNTA(O1620:O1649)>0,COUNTA(O1649:$O$5195)>0),IF(COUNTIF(B1640:B1649,B1649)=10,B1649+7,B1649),\"\")","v":""},null,"","",null,null,null,0,0,0,0,{"$f":"IFERROR(VLOOKUP(G1650,DropDowns!$D$2:$E$151,2,FALSE),\"\")","v":""},{"$f":"IFERROR(VLOOKUP(H1650,DropDowns!$F$2:$G$7,2,FALSE),\"Residual categories\")","v":"Residual categories"},null,null,null,0,0,0]
[0,{"$f":"IF(OR(COUNTA(O1621:O1650)>0,COUNTA(O1650:$O$5195)>0),IF(COUNTIF(B1641:B1650,B1650)=10,B1650+7,B1650),\"\")","v":""},null,"","",null,null,null,0,0,0,0,{"$f":"IFERROR(VLOOKUP(G1651,DropDowns!$D$2:$E$151,2,FALSE),\"\")","v":""},{"$f":"IFERROR(VLOOKUP(H1651,DropDowns!$F$2:$G$7,2,FALSE),\"Residual categories\")","v":"Residual categories"},null,null,null,0,0,0]
[0,{"$f":"IF(OR(COUNTA(O1622:O1651)>0,COUNTA(O1651:$O$5195)>0),IF(COUNTIF(B1642:B1651,B1651)=10,B1651+7,B1651),\"\")","v":""},null,"","",null,null,null,0,0,0,0,{"$f":"IFERROR(VLOOKUP(G1652,DropDowns!$D$2:$E$151,2,FALSE),\"\")","v":""},{"$f":"IFERROR(VLOOKUP(H1652,DropDowns!$F$2:$G$7,2,FALSE),\"Residual categories\")","v":"Residual categories"},null,null,null,0,0,0]
[0,{"$f":"IF(OR(COUNTA(O1623:O1652)>0,COUNTA(O1652:$O$5195)>0),IF(COUNTIF(B1643:B1652,B1652)=10,B1652+7,B1652),\"\")","v":""},null,"","",null,null,null,0,0,0,0,{"$f":"IFERROR(VLOOKUP(G1653,DropDowns!$D$2:$E$151,2,FALSE),\"\")","v":""},{"$f":"IFERROR(VLOOKUP(H1653,DropDowns!$F$2:$G$7,2,FALSE),\"Residual categories\")","v":"Residual categories"},null,null,null,0,0,0]
[0,{"$f":"IF(OR(COUNTA(O1624:O1653)>0,COUNTA(O1653:$O$5195)>0),IF(COUNTIF(B1644:B1653,B1653)=10,B1653+7,B1653),\"\")","v":""},null,"","",null,null,null,0,0,0,0,{"$f":"IFERROR(VLOOKUP(G1654,DropDowns!$D$2:$E$151,2,FALSE),\"\")","v":""},{"$f":"IFERROR(VLOOKUP(H1654,DropDowns!$F$2:$G$7,2,FALSE),\"Residual categories\")","v":"Residual categories"},null,null,null,0,0,0]
[0,{"$f":"IF(OR(COUNTA(O1625:O1654)>0,COUNTA(O1654:$O$5195)>0),IF(COUNTIF(B1645:B1654,B1654)=10,B1654+7,B1654),\"\")","v":""},null,"","",null,null,null,0,0,0,0,{"$f":"IFERROR(VLOOKUP(G1655,DropDowns!$D$2:$E$151,2,FALSE),\"\")","v":""},{"$f":"IFERROR(VLOOKUP(H1655,DropDowns!$F$2:$G$7,2,FALSE),\"Residual categories\")","v":"Residual categories"},null,null,null,0,0,0]
[0,{"$f":"IF(OR(COUNTA(O1626:O1655)>0,COUNTA(O1655:$O$5195)>0),IF(COUNTIF(B1646:B1655,B1655)=10,B1655+7,B1655),\"\")","v":""},null,"","",null,null,null,0,0,0,0,{"$f":"IFERROR(VLOOKUP(G1656,DropDowns!$D$2:$E$151,2,FALSE),\"\")","v":""},{"$f":"IFERROR(VLOOKUP(H1656,DropDowns!$F$2:$G$7,2,FALSE),\"Residual categories\")","v":"Residual categories"},null,null,null,0,0,0]
[0,{"$f":"IF(OR(COUNTA(O1627:O1656)>0,COUNTA(O1656:$O$5195)>0),IF(COUNTIF(B1647:B1656,B1656)=10,B1656+7,B1656),\"\")","v":""},null,"","",null,null,null,0,0,0,0,{"$f":"IFERROR(VLOOKUP(G1657,DropDowns!$D$2:$E$151,2,FALSE),\"\")","v":""},{"$f":"IFERROR(VLOOKUP(H1657,DropDowns!$F$2:$G$7,2,FALSE),\"Residual categories\")","v":"Residual categories"},null,null,null,0,0,0]
[0,{"$f":"IF(OR(COUNTA(O1628:O1657)>0,COUNTA(O1657:$O$5195)>0),IF(COUNTIF(B1648:B1657,B1657)=10,B1657+7,B1657),\"\")","v":""},null,"","",null,null,null,0,0,0,0,{"$f":"IFERROR(VLOOKUP(G1658,DropDowns!$D$2:$E$151,2,FALSE),\"\")","v":""},{"$f":"IFERROR(VLOOKUP(H1658,DropDowns!$F$2:$G$7,2,FALSE),\"Residual categories\")","v":"Residual categories"},null,null,null,0,0,0]
[0,{"$f":"IF(OR(COUNTA(O1629:O1658)>0,COUNTA(O1658:$O$5195)>0),IF(COUNTIF(B1649:B1658,B1658)=10,B1658+7,B1658),\"\")","v":""},null,"","",null,null,null,0,0,0,0,{"$f":"IFERROR(VLOOKUP(G1659,DropDowns!$D$2:$E$151,2,FALSE),\"\")","v":""},{"$f":"IFERROR(VLOOKUP(H1659,DropDowns!$F$2:$G$7,2,FALSE),\"Residual categories\")","v":"Residual categories"},null,null,null,0,0,0]
[0,{"$f":"IF(OR(COUNTA(O1630:O1659)>0,COUNTA(O1659:$O$5195)>0),IF(COUNTIF(B1650:B1659,B1659)=10,B1659+7,B1659),\"\")","v":""},null,"","",null,null,null,0,0,0,0,{"$f":"IFERROR(VLOOKUP(G1660,DropDowns!$D$2:$E$151,2,FALSE),\"\")","v":""},{"$f":"IFERROR(VLOOKUP(H1660,DropDowns!$F$2:$G$7,2,FALSE),\"Residual categories\")","v":"Residual categories"},null,null,null,0,0,0]
[0,{"$f":"IF(OR(COUNTA(O1631:O1660)>0,COUNTA(O1660:$O$5195)>0),IF(COUNTIF(B1651:B1660,B1660)=10,B1660+7,B1660),\"\")","v":""},null,"","",null,null,null,0,0,0,0,{"$f":"IFERROR(VLOOKUP(G1661,DropDowns!$D$2:$E$151,2,FALSE),\"\")","v":""},{"$f":"IFERROR(VLOOKUP(H1661,DropDowns!$F$2:$G$7,2,FALSE),\"Residual categories\")","v":"Residual categories"},null,null,null,0,0,0]
[0,{"$f":"IF(OR(COUNTA(O1632:O1661)>0,COUNTA(O1661:$O$5195)>0),IF(COUNTIF(B1652:B1661,B1661)=10,B1661+7,B1661),\"\")","v":""},null,"","",null,null,null,0,0,0,0,{"$f":"IFERROR(VLOOKUP(G1662,DropDowns!$D$2:$E$151,2,FALSE),\"\")","v":""},{"$f":"IFERROR(VLOOKUP(H1662,DropDowns!$F$2:$G$7,2,FALSE),\"Residual categories\")","v":"Residual categories"},null,null,null,0,0,0]
[0,{"$f":"IF(OR(COUNTA(O1633:O1662)>0,COUNTA(O1662:$O$5195)>0),IF(COUNTIF(B1653:B1662,B1662)=10,B1662+7,B1662),\"\")","v":""},null,"","",null,null,null,0,0,0,0,{"$f":"IFERROR(VLOOKUP(G1663,DropDowns!$D$2:$E$151,2,FALSE),\"\")","v":""},{"$f":"IFERROR(VLOOKUP(H1663,DropDowns!$F$2:$G$7,2,FALSE),\"Residual categories\")","v":"Residual categories"},null,null,null,0,0,0]
[0,{"$f":"IF(OR(COUNTA(O1634:O1663)>0,COUNTA(O1663:$O$5195)>0),IF(COUNTIF(B1654:B1663,B1663)=10,B1663+7,B1663),\"\")","v":""},null,"","",null,null,null,0,0,0,0,{"$f":"IFERROR(VLOOKUP(G1664,DropDowns!$D$2:$E$151,2,FALSE),\"\")","v":""},{"$f":"IFERROR(VLOOKUP(H1664,DropDowns!$F$2:$G$7,2,FALSE),\"Residual categories\")","v":"Residual categories"},null,null,null,0,0,0]
[0,{"$f":"IF(OR(COUNTA(O1635:O1664)>0,COUNTA(O1664:$O$5195)>0),IF(COUNTIF(B1655:B1664,B1664)=10,B1664+7,B1664),\"\")","v":""},null,"","",null,null,null,0,0,0,0,{"$f":"IFERROR(VLOOKUP(G1665,DropDowns!$D$2:$E$151,2,FALSE),\"\")","v":""},{"$f":"IFERROR(VLOOKUP(H1665,DropDowns!$F$2:$G$7,2,FALSE),\"Residual categories\")","v":"Residual categories"},null,null,null,0,0,0]
[0,{"$f":"IF(OR(COUNTA(O1636:O1665)>0,COUNTA(O1665:$O$5195)>0),IF(COUNTIF(B1656:B1665,B1665)=10,B1665+7,B1665),\"\")","v":""},null,"","",null,null,null,0,0,0,0,{"$f":"IFERROR(VLOOKUP(G1666,DropDowns!$D$2:$E$151,2,FALSE),\"\")","v":""},{"$f":"IFERROR(VLOOKUP(H1666,DropDowns!$F$2:$G$7,2,FALSE),\"Residual categories\")","v":"Residual categories"},null,null,null,0,0,0]
[0,{"$f":"IF(OR(COUNTA(O1637:O1666)>0,COUNTA(O1666:$O$5195)>0),IF(COUNTIF(B1657:B1666,B1666)=10,B1666+7,B1666),\"\")","v":""},null,"","",null,null,null,0,0,0,0,{"$f":"IFERROR(VLOOKUP(G1667,DropDowns!$D$2:$E$151,2,FALSE),\"\")","v":""},{"$f":"IFERROR(VLOOKUP(H1667,DropDowns!$F$2:$G$7,2,FALSE),\"Residual categories\")","v":"Residual categories"},null,null,null,0,0,0]
[0,{"$f":"IF(OR(COUNTA(O1638:O1667)>0,COUNTA(O1667:$O$5195)>0),IF(COUNTIF(B1658:B1667,B1667)=10,B1667+7,B1667),\"\")","v":""},null,"","",null,null,null,0,0,0,0,{"$f":"IFERROR(VLOOKUP(G1668,DropDowns!$D$2:$E$151,2,FALSE),\"\")","v":""},{"$f":"IFERROR(VLOOKUP(H1668,DropDowns!$F$2:$G$7,2,FALSE),\"Residual categories\")","v":"Residual categories"},null,null,null,0,0,0]
[0,{"$f":"IF(OR(COUNTA(O1639:O1668)>0,COUNTA(O1668:$O$5195)>0),IF(COUNTIF(B1659:B1668,B1668)=10,B1668+7,B1668),\"\")","v":""},null,"","",null,null,null,0,0,0,0,{"$f":"IFERROR(VLOOKUP(G1669,DropDowns!$D$2:$E$151,2,FALSE),\"\")","v":""},{"$f":"IFERROR(VLOOKUP(H1669,DropDowns!$F$2:$G$7,2,FALSE),\"Residual categories\")","v":"Residual categories"},null,null,null,0,0,0]
[0,{"$f":"IF(OR(COUNTA(O1640:O1669)>0,COUNTA(O1669:$O$5195)>0),IF(COUNTIF(B1660:B1669,B1669)=10,B1669+7,B1669),\"\")","v":""},null,"","",null,null,null,0,0,0,0,{"$f":"IFERROR(VLOOKUP(G1670,DropDowns!$D$2:$E$151,2,FALSE),\"\")","v":""},{"$f":"IFERROR(VLOOKUP(H1670,DropDowns!$F$2:$G$7,2,FALSE),\"Residual categories\")","v":"Residual categories"},null,null,null,0,0,0]
[0,{"$f":"IF(OR(COUNTA(O1641:O1670)>0,COUNTA(O1670:$O$5195)>0),IF(COUNTIF(B1661:B1670,B1670)=10,B1670+7,B1670),\"\")","v":""},null,{"$f":"IF(E1671=1,B1671,\"\")","v":""},"",null,null,null,{"$f":"IF(COUNTA(O1671:Q1671)>0,1,0)","v":0},{"$f":"IF(O1671=\"y\",1,0)","v":0},{"$f":"IF(P1671=\"y\",1,0)","v":0},{"$f":"IF(Q1671=\"y\",1,0)","v":0},{"$f":"IFERROR(VLOOKUP(G1671,DropDowns!$D$2:$E$151,2,FALSE),\"\")","v":""},{"$f":"IFERROR(VLOOKUP(H1671,DropDowns!$F$2:$G$7,2,FALSE),\"Residual categories\")","v":"Residual categories"},null,null,null,{"$f":"IF(O1671=\"yes\",1,0)","v":0},{"$f":"IF(P1671=\"yes\",1,0)","v":0},{"$f":"IF(Q1671=\"yes\",1,0)","v":0}]
[0,{"$f":"IF(OR(COUNTA(O1642:O1671)>0,COUNTA(O1671:$O$5195)>0),IF(COUNTIF(B1662:B1671,B1671)=10,B1671+7,B1671),\"\")","v":""},null,"","",null,null,null,0,0,0,0,{"$f":"IFERROR(VLOOKUP(G1672,DropDowns!$D$2:$E$151,2,FALSE),\"\")","v":""},{"$f":"IFERROR(VLOOKUP(H1672,DropDowns!$F$2:$G$7,2,FALSE),\"Residual categories\")","v":"Residual categories"},null,null,null,0,0,0]
[0,{"$f":"IF(OR(COUNTA(O1643:O1672)>0,COUNTA(O1672:$O$5195)>0),IF(COUNTIF(B1663:B1672,B1672)=10,B1672+7,B1672),\"\")","v":""},null,"","",null,null,null,0,0,0,0,{"$f":"IFERROR(VLOOKUP(G1673,DropDowns!$D$2:$E$151,2,FALSE),\"\")","v":""},{"$f":"IFERROR(VLOOKUP(H1673,DropDowns!$F$2:$G$7,2,FALSE),\"Residual categories\")","v":"Residual categories"},null,null,null,0,0,0]
[0,{"$f":"IF(OR(COUNTA(O1644:O1673)>0,COUNTA(O1673:$O$5195)>0),IF(COUNTIF(B1664:B1673,B1673)=10,B1673+7,B1673),\"\")","v":""},null,"","",null,null,null,0,0,0,0,{"$f":"IFERROR(VLOOKUP(G1674,DropDowns!$D$2:$E$151,2,FALSE),\"\")","v":""},{"$f":"IFERROR(VLOOKUP(H1674,DropDowns!$F$2:$G$7,2,FALSE),\"Residual categories\")","v":"Residual categories"},null,null,null,0,0,0]
[0,{"$f":"IF(OR(COUNTA(O1645:O1674)>0,COUNTA(O1674:$O$5195)>0),IF(COUNTIF(B1665:B1674,B1674)=10,B1674+7,B1674),\"\")","v":""},null,"","",null,null,null,0,0,0,0,{"$f":"IFERROR(VLOOKUP(G1675,DropDowns!$D$2:$E$151,2,FALSE),\"\")","v":""},{"$f":"IFERROR(VLOOKUP(H1675,DropDowns!$F$2:$G$7,2,FALSE),\"Residual categories\")","v":"Residual categories"},null,null,null,0,0,0]
[0,{"$f":"IF(OR(COUNTA(O1646:O1675)>0,COUNTA(O1675:$O$5195)>0),IF(COUNTIF(B1666:B1675,B1675)=10,B1675+7,B1675),\"\")","v":""},null,"","",null,null,null,0,0,0,0,{"$f":"IFERROR(VLOOKUP(G1676,DropDowns!$D$2:$E$151,2,FALSE),\"\")","v":""},{"$f":"IFERROR(VLOOKUP(H1676,DropDowns!$F$2:$G$7,2,FALSE),\"Residual categories\")","v":"Residual categories"},null,null,null,0,0,0]
[0,{"$f":"IF(OR(COUNTA(O1647:O1676)>0,COUNTA(O1676:$O$5195)>0),IF(COUNTIF(B1667:B1676,B1676)=10,B1676+7,B1676),\"\")","v":""},null,"","",null,null,null,0,0,0,0,{"$f":"IFERROR(VLOOKUP(G1677,DropDowns!$D$2:$E$151,2,FALSE),\"\")","v":""},{"$f":"IFERROR(VLOOKUP(H1677,DropDowns!$F$2:$G$7,2,FALSE),\"Residual categories\")","v":"Residual categories"},null,null,null,0,0,0]
[0,{"$f":"IF(OR(COUNTA(O1648:O1677)>0,COUNTA(O1677:$O$5195)>0),IF(COUNTIF(B1668:B1677,B1677)=10,B1677+7,B1677),\"\")","v":""},null,"","",null,null,null,0,0,0,0,{"$f":"IFERROR(VLOOKUP(G1678,DropDowns!$D$2:$E$151,2,FALSE),\"\")","v":""},{"$f":"IFERROR(VLOOKUP(H1678,DropDowns!$F$2:$G$7,2,FALSE),\"Residual categories\")","v":"Residual categories"},null,null,null,0,0,0]
[0,{"$f":"IF(OR(COUNTA(O1649:O1678)>0,COUNTA(O1678:$O$5195)>0),IF(COUNTIF(B1669:B1678,B1678)=10,B1678+7,B1678),\"\")","v":""},null,"","",null,null,null,0,0,0,0,{"$f":"IFERROR(VLOOKUP(G1679,DropDowns!$D$2:$E$151,2,FALSE),\"\")","v":""},{"$f":"IFERROR(VLOOKUP(H1679,DropDowns!$F$2:$G$7,2,FALSE),\"Residual categories\")","v":"Residual categories"},null,null,null,0,0,0]
[0,{"$f":"IF(OR(COUNTA(O1650:O1679)>0,COUNTA(O1679:$O$5195)>0),IF(COUNTIF(B1670:B1679,B1679)=10,B1679+7,B1679),\"\")","v":""},null,"","",null,null,null,0,0,0,0,{"$f":"IFERROR(VLOOKUP(G1680,DropDowns!$D$2:$E$151,2,FALSE),\"\")","v":""},{"$f":"IFERROR(VLOOKUP(H1680,DropDowns!$F$2:$G$7,2,FALSE),\"Residual categories\")","v":"Residual categories"},null,null,null,0,0,0]
[0,{"$f":"IF(OR(COUNTA(O1651:O1680)>0,COUNTA(O1680:$O$5195)>0),IF(COUNTIF(B1671:B1680,B1680)=10,B1680+7,B1680),\"\")","v":""},null,"",{"$f":"IF(B1681=\"\",\"\",COUNTIF(B1672:B1681,B1681))","v":""},null,null,null,0,0,0,0,{"$f":"IFERROR(VLOOKUP(G1681,DropDowns!$D$2:$E$151,2,FALSE),\"\")","v":""},{"$f":"IFERROR(VLOOKUP(H1681,DropDowns!$F$2:$G$7,2,FALSE),\"Residual categories\")","v":"Residual categories"},null,null,null,0,0,0]
[0,{"$f":"IF(OR(COUNTA(O1652:O1681)>0,COUNTA(O1681:$O$5195)>0),IF(COUNTIF(B1672:B1681,B1681)=10,B1681+7,B1681),\"\")","v":""},null,"","",null,null,null,0,0,0,0,{"$f":"IFERROR(VLOOKUP(G1682,DropDowns!$D$2:$E$151,2,FALSE),\"\")","v":""},{"$f":"IFERROR(VLOOKUP(H1682,DropDowns!$F$2:$G$7,2,FALSE),\"Residual categories\")","v":"Residual categories"},null,null,null,0,0,0]
[0,{"$f":"IF(OR(COUNTA(O1653:O1682)>0,COUNTA(O1682:$O$5195)>0),IF(COUNTIF(B1673:B1682,B1682)=10,B1682+7,B1682),\"\")","v":""},null,"","",null,null,null,0,0,0,0,{"$f":"IFERROR(VLOOKUP(G1683,DropDowns!$D$2:$E$151,2,FALSE),\"\")","v":""},{"$f":"IFERROR(VLOOKUP(H1683,DropDowns!$F$2:$G$7,2,FALSE),\"Residual categories\")","v":"Residual categories"},null,null,null,0,0,0]
[{"$f":"$E$2","v":0},{"$f":"IF(OR(COUNTA(O1654:O1683)>0,COUNTA(O1683:$O$5195)>0),IF(COUNTIF(B1674:B1683,B1683)=10,B1683+7,B1683),\"\")","v":""},null,"","",null,null,null,0,0,0,0,{"$f":"IFERROR(VLOOKUP(G1684,DropDowns!$D$2:$E$151,2,FALSE),\"\")","v":""},{"$f":"IFERROR(VLOOKUP(H1684,DropDowns!$F$2:$G$7,2,FALSE),\"Residual categories\")","v":"Residual categories"},null,null,null,0,0,0]
[0,{"$f":"IF(OR(COUNTA(O1655:O1684)>0,COUNTA(O1684:$O$5195)>0),IF(COUNTIF(B1675:B1684,B1684)=10,B1684+7,B1684),\"\")","v":""},null,"","",null,null,null,0,0,0,0,{"$f":"IFERROR(VLOOKUP(G1685,DropDowns!$D$2:$E$151,2,FALSE),\"\")","v":""},{"$f":"IFERROR(VLOOKUP(H1685,DropDowns!$F$2:$G$7,2,FALSE),\"Residual categories\")","v":"Residual categories"},null,null,null,0,0,0]
[0,{"$f":"IF(OR(COUNTA(O1656:O1685)>0,COUNTA(O1685:$O$5195)>0),IF(COUNTIF(B1676:B1685,B1685)=10,B1685+7,B1685),\"\")","v":""},null,"","",null,null,null,0,0,0,0,{"$f":"IFERROR(VLOOKUP(G1686,DropDowns!$D$2:$E$151,2,FALSE),\"\")","v":""},{"$f":"IFERROR(VLOOKUP(H1686,DropDowns!$F$2:$G$7,2,FALSE),\"Residual categories\")","v":"Residual categories"},null,null,null,0,0,0]
[0,{"$f":"IF(OR(COUNTA(O1657:O1686)>0,COUNTA(O1686:$O$5195)>0),IF(COUNTIF(B1677:B1686,B1686)=10,B1686+7,B1686),\"\")","v":""},null,"","",null,null,null,0,0,0,0,{"$f":"IFERROR(VLOOKUP(G1687,DropDowns!$D$2:$E$151,2,FALSE),\"\")","v":""},{"$f":"IFERROR(VLOOKUP(H1687,DropDowns!$F$2:$G$7,2,FALSE),\"Residual categories\")","v":"Residual categories"},null,null,null,0,0,0]
[0,{"$f":"IF(OR(COUNTA(O1658:O1687)>0,COUNTA(O1687:$O$5195)>0),IF(COUNTIF(B1678:B1687,B1687)=10,B1687+7,B1687),\"\")","v":""},null,"","",null,null,null,0,0,0,0,{"$f":"IFERROR(VLOOKUP(G1688,DropDowns!$D$2:$E$151,2,FALSE),\"\")","v":""},{"$f":"IFERROR(VLOOKUP(H1688,DropDowns!$F$2:$G$7,2,FALSE),\"Residual categories\")","v":"Residual categories"},null,null,null,0,0,0]
[0,{"$f":"IF(OR(COUNTA(O1659:O1688)>0,COUNTA(O1688:$O$5195)>0),IF(COUNTIF(B1679:B1688,B1688)=10,B1688+7,B1688),\"\")","v":""},null,"","",null,null,null,0,0,0,0,{"$f":"IFERROR(VLOOKUP(G1689,DropDowns!$D$2:$E$151,2,FALSE),\"\")","v":""},{"$f":"IFERROR(VLOOKUP(H1689,DropDowns!$F$2:$G$7,2,FALSE),\"Residual categories\")","v":"Residual categories"},null,null,null,0,0,0]
[0,{"$f":"IF(OR(COUNTA(O1660:O1689)>0,COUNTA(O1689:$O$5195)>0),IF(COUNTIF(B1680:B1689,B1689)=10,B1689+7,B1689),\"\")","v":""},null,"","",null,null,null,0,0,0,0,{"$f":"IFERROR(VLOOKUP(G1690,DropDowns!$D$2:$E$151,2,FALSE),\"\")","v":""},{"$f":"IFERROR(VLOOKUP(H1690,DropDowns!$F$2:$G$7,2,FALSE),\"Residual categories\")","v":"Residual categories"},null,null,null,0,0,0]
[0,{"$f":"IF(OR(COUNTA(O1661:O1690)>0,COUNTA(O1690:$O$5195)>0),IF(COUNTIF(B1681:B1690,B1690)=10,B1690+7,B1690),\"\")","v":""},null,"","",null,null,null,0,0,0,0,{"$f":"IFERROR(VLOOKUP(G1691,DropDowns!$D$2:$E$151,2,FALSE),\"\")","v":""},{"$f":"IFERROR(VLOOKUP(H1691,DropDowns!$F$2:$G$7,2,FALSE),\"Residual categories\")","v":"Residual categories"},null,null,null,0,0,0]
[0,{"$f":"IF(OR(COUNTA(O1662:O1691)>0,COUNTA(O1691:$O$5195)>0),IF(COUNTIF(B1682:B1691,B1691)=10,B1691+7,B1691),\"\")","v":""},null,"","",null,null,null,0,0,0,0,{"$f":"IFERROR(VLOOKUP(G1692,DropDowns!$D$2:$E$151,2,FALSE),\"\")","v":""},{"$f":"IFERROR(VLOOKUP(H1692,DropDowns!$F$2:$G$7,2,FALSE),\"Residual categories\")","v":"Residual categories"},null,null,null,0,0,0]
[0,{"$f":"IF(OR(COUNTA(O1663:O1692)>0,COUNTA(O1692:$O$5195)>0),IF(COUNTIF(B1683:B1692,B1692)=10,B1692+7,B1692),\"\")","v":""},null,"","",null,null,null,0,0,0,0,{"$f":"IFERROR(VLOOKUP(G1693,DropDowns!$D$2:$E$151,2,FALSE),\"\")","v":""},{"$f":"IFERROR(VLOOKUP(H1693,DropDowns!$F$2:$G$7,2,FALSE),\"Residual categories\")","v":"Residual categories"},null,null,null,0,0,0]
[0,{"$f":"IF(OR(COUNTA(O1664:O1693)>0,COUNTA(O1693:$O$5195)>0),IF(COUNTIF(B1684:B1693,B1693)=10,B1693+7,B1693),\"\")","v":""},null,"","",null,null,null,0,0,0,0,{"$f":"IFERROR(VLOOKUP(G1694,DropDowns!$D$2:$E$151,2,FALSE),\"\")","v":""},{"$f":"IFERROR(VLOOKUP(H1694,DropDowns!$F$2:$G$7,2,FALSE),\"Residual categories\")","v":"Residual categories"},null,null,null,0,0,0]
[0,{"$f":"IF(OR(COUNTA(O1665:O1694)>0,COUNTA(O1694:$O$5195)>0),IF(COUNTIF(B1685:B1694,B1694)=10,B1694+7,B1694),\"\")","v":""},null,"","",null,null,null,0,0,0,0,{"$f":"IFERROR(VLOOKUP(G1695,DropDowns!$D$2:$E$151,2,FALSE),\"\")","v":""},{"$f":"IFERROR(VLOOKUP(H1695,DropDowns!$F$2:$G$7,2,FALSE),\"Residual categories\")","v":"Residual categories"},null,null,null,0,0,0]
[0,{"$f":"IF(OR(COUNTA(O1666:O1695)>0,COUNTA(O1695:$O$5195)>0),IF(COUNTIF(B1686:B1695,B1695)=10,B1695+7,B1695),\"\")","v":""},null,"","",null,null,null,0,0,0,0,{"$f":"IFERROR(VLOOKUP(G1696,DropDowns!$D$2:$E$151,2,FALSE),\"\")","v":""},{"$f":"IFERROR(VLOOKUP(H1696,DropDowns!$F$2:$G$7,2,FALSE),\"Residual categories\")","v":"Residual categories"},null,null,null,0,0,0]
[0,{"$f":"IF(OR(COUNTA(O1667:O1696)>0,COUNTA(O1696:$O$5195)>0),IF(COUNTIF(B1687:B1696,B1696)=10,B1696+7,B1696),\"\")","v":""},null,"","",null,null,null,0,0,0,0,{"$f":"IFERROR(VLOOKUP(G1697,DropDowns!$D$2:$E$151,2,FALSE),\"\")","v":""},{"$f":"IFERROR(VLOOKUP(H1697,DropDowns!$F$2:$G$7,2,FALSE),\"Residual categories\")","v":"Residual categories"},null,null,null,0,0,0]
[0,{"$f":"IF(OR(COUNTA(O1668:O1697)>0,COUNTA(O1697:$O$5195)>0),IF(COUNTIF(B1688:B1697,B1697)=10,B1697+7,B1697),\"\")","v":""},null,"","",null,null,null,0,0,0,0,{"$f":"IFERROR(VLOOKUP(G1698,DropDowns!$D$2:$E$151,2,FALSE),\"\")","v":""},{"$f":"IFERROR(VLOOKUP(H1698,DropDowns!$F$2:$G$7,2,FALSE),\"Residual categories\")","v":"Residual categories"},null,null,null,0,0,0]
[0,{"$f":"IF(OR(COUNTA(O1669:O1698)>0,COUNTA(O1698:$O$5195)>0),IF(COUNTIF(B1689:B1698,B1698)=10,B1698+7,B1698),\"\")","v":""},null,"","",null,null,null,0,0,0,0,{"$f":"IFERROR(VLOOKUP(G1699,DropDowns!$D$2:$E$151,2,FALSE),\"\")","v":""},{"$f":"IFERROR(VLOOKUP(H1699,DropDowns!$F$2:$G$7,2,FALSE),\"Residual categories\")","v":"Residual categories"},null,null,null,0,0,0]
[0,{"$f":"IF(OR(COUNTA(O1670:O1699)>0,COUNTA(O1699:$O$5195)>0),IF(COUNTIF(B1690:B1699,B1699)=10,B1699+7,B1699),\"\")","v":""},null,"","",null,null,null,0,0,0,0,{"$f":"IFERROR(VLOOKUP(G1700,DropDowns!$D$2:$E$151,2,FALSE),\"\")","v":""},{"$f":"IFERROR(VLOOKUP(H1700,DropDowns!$F$2:$G$7,2,FALSE),\"Residual categories\")","v":"Residual categories"},null,null,null,0,0,0]
[0,{"$f":"IF(OR(COUNTA(O1671:O1700)>0,COUNTA(O1700:$O$5195)>0),IF(COUNTIF(B1691:B1700,B1700)=10,B1700+7,B1700),\"\")","v":""},null,"","",null,null,null,0,0,0,0,{"$f":"IFERROR(VLOOKUP(G1701,DropDowns!$D$2:$E$151,2,FALSE),\"\")","v":""},{"$f":"IFERROR(VLOOKUP(H1701,DropDowns!$F$2:$G$7,2,FALSE),\"Residual categories\")","v":"Residual categories"},null,null,null,0,0,0]
[0,{"$f":"IF(OR(COUNTA(O1672:O1701)>0,COUNTA(O1701:$O$5195)>0),IF(COUNTIF(B1692:B1701,B1701)=10,B1701+7,B1701),\"\")","v":""},null,"","",null,null,null,0,0,0,0,{"$f":"IFERROR(VLOOKUP(G1702,DropDowns!$D$2:$E$151,2,FALSE),\"\")","v":""},{"$f":"IFERROR(VLOOKUP(H1702,DropDowns!$F$2:$G$7,2,FALSE),\"Residual categories\")","v":"Residual categories"},null,null,null,0,0,0]
[0,{"$f":"IF(OR(COUNTA(O1673:O1702)>0,COUNTA(O1702:$O$5195)>0),IF(COUNTIF(B1693:B1702,B1702)=10,B1702+7,B1702),\"\")","v":""},null,"","",null,null,null,0,0,0,0,{"$f":"IFERROR(VLOOKUP(G1703,DropDowns!$D$2:$E$151,2,FALSE),\"\")","v":""},{"$f":"IFERROR(VLOOKUP(H1703,DropDowns!$F$2:$G$7,2,FALSE),\"Residual categories\")","v":"Residual categories"},null,null,null,0,0,0]
[0,{"$f":"IF(OR(COUNTA(O1674:O1703)>0,COUNTA(O1703:$O$5195)>0),IF(COUNTIF(B1694:B1703,B1703)=10,B1703+7,B1703),\"\")","v":""},null,"","",null,null,null,0,0,0,0,{"$f":"IFERROR(VLOOKUP(G1704,DropDowns!$D$2:$E$151,2,FALSE),\"\")","v":""},{"$f":"IFERROR(VLOOKUP(H1704,DropDowns!$F$2:$G$7,2,FALSE),\"Residual categories\")","v":"Residual categories"},null,null,null,0,0,0]
[0,{"$f":"IF(OR(COUNTA(O1675:O1704)>0,COUNTA(O1704:$O$5195)>0),IF(COUNTIF(B1695:B1704,B1704)=10,B1704+7,B1704),\"\")","v":""},null,"","",null,null,null,0,0,0,0,{"$f":"IFERROR(VLOOKUP(G1705,DropDowns!$D$2:$E$151,2,FALSE),\"\")","v":""},{"$f":"IFERROR(VLOOKUP(H1705,DropDowns!$F$2:$G$7,2,FALSE),\"Residual categories\")","v":"Residual categories"},null,null,null,0,0,0]
[0,{"$f":"IF(OR(COUNTA(O1676:O1705)>0,COUNTA(O1705:$O$5195)>0),IF(COUNTIF(B1696:B1705,B1705)=10,B1705+7,B1705),\"\")","v":""},null,"","",null,null,null,0,0,0,0,{"$f":"IFERROR(VLOOKUP(G1706,DropDowns!$D$2:$E$151,2,FALSE),\"\")","v":""},{"$f":"IFERROR(VLOOKUP(H1706,DropDowns!$F$2:$G$7,2,FALSE),\"Residual categories\")","v":"Residual categories"},null,null,null,0,0,0]
[0,{"$f":"IF(OR(COUNTA(O1677:O1706)>0,COUNTA(O1706:$O$5195)>0),IF(COUNTIF(B1697:B1706,B1706)=10,B1706+7,B1706),\"\")","v":""},null,"","",null,null,null,0,0,0,0,{"$f":"IFERROR(VLOOKUP(G1707,DropDowns!$D$2:$E$151,2,FALSE),\"\")","v":""},{"$f":"IFERROR(VLOOKUP(H1707,DropDowns!$F$2:$G$7,2,FALSE),\"Residual categories\")","v":"Residual categories"},null,null,null,0,0,0]
[0,{"$f":"IF(OR(COUNTA(O1678:O1707)>0,COUNTA(O1707:$O$5195)>0),IF(COUNTIF(B1698:B1707,B1707)=10,B1707+7,B1707),\"\")","v":""},null,"","",null,null,null,0,0,0,0,{"$f":"IFERROR(VLOOKUP(G1708,DropDowns!$D$2:$E$151,2,FALSE),\"\")","v":""},{"$f":"IFERROR(VLOOKUP(H1708,DropDowns!$F$2:$G$7,2,FALSE),\"Residual categories\")","v":"Residual categories"},null,null,null,0,0,0]
[0,{"$f":"IF(OR(COUNTA(O1679:O1708)>0,COUNTA(O1708:$O$5195)>0),IF(COUNTIF(B1699:B1708,B1708)=10,B1708+7,B1708),\"\")","v":""},null,"","",null,null,null,0,0,0,0,{"$f":"IFERROR(VLOOKUP(G1709,DropDowns!$D$2:$E$151,2,FALSE),\"\")","v":""},{"$f":"IFERROR(VLOOKUP(H1709,DropDowns!$F$2:$G$7,2,FALSE),\"Residual categories\")","v":"Residual categories"},null,null,null,0,0,0]
[0,{"$f":"IF(OR(COUNTA(O1680:O1709)>0,COUNTA(O1709:$O$5195)>0),IF(COUNTIF(B1700:B1709,B1709)=10,B1709+7,B1709),\"\")","v":""},null,"","",null,null,null,0,0,0,0,{"$f":"IFERROR(VLOOKUP(G1710,DropDowns!$D$2:$E$151,2,FALSE),\"\")","v":""},{"$f":"IFERROR(VLOOKUP(H1710,DropDowns!$F$2:$G$7,2,FALSE),\"Residual categories\")","v":"Residual categories"},null,null,null,0,0,0]
[0,{"$f":"IF(OR(COUNTA(O1681:O1710)>0,COUNTA(O1710:$O$5195)>0),IF(COUNTIF(B1701:B1710,B1710)=10,B1710+7,B1710),\"\")","v":""},null,"","",null,null,null,0,0,0,0,{"$f":"IFERROR(VLOOKUP(G1711,DropDowns!$D$2:$E$151,2,FALSE),\"\")","v":""},{"$f":"IFERROR(VLOOKUP(H1711,DropDowns!$F$2:$G$7,2,FALSE),\"Residual categories\")","v":"Residual categories"},null,null,null,0,0,0]
[0,{"$f":"IF(OR(COUNTA(O1682:O1711)>0,COUNTA(O1711:$O$5195)>0),IF(COUNTIF(B1702:B1711,B1711)=10,B1711+7,B1711),\"\")","v":""},null,"","",null,null,null,0,0,0,0,{"$f":"IFERROR(VLOOKUP(G1712,DropDowns!$D$2:$E$151,2,FALSE),\"\")","v":""},{"$f":"IFERROR(VLOOKUP(H1712,DropDowns!$F$2:$G$7,2,FALSE),\"Residual categories\")","v":"Residual categories"},null,null,null,0,0,0]
[0,{"$f":"IF(OR(COUNTA(O1683:O1712)>0,COUNTA(O1712:$O$5195)>0),IF(COUNTIF(B1703:B1712,B1712)=10,B1712+7,B1712),\"\")","v":""},null,"","",null,null,null,0,0,0,0,{"$f":"IFERROR(VLOOKUP(G1713,DropDowns!$D$2:$E$151,2,FALSE),\"\")","v":""},{"$f":"IFERROR(VLOOKUP(H1713,DropDowns!$F$2:$G$7,2,FALSE),\"Residual categories\")","v":"Residual categories"},null,null,null,0,0,0]
[0,{"$f":"IF(OR(COUNTA(O1684:O1713)>0,COUNTA(O1713:$O$5195)>0),IF(COUNTIF(B1704:B1713,B1713)=10,B1713+7,B1713),\"\")","v":""},null,"","",null,null,null,0,0,0,0,{"$f":"IFERROR(VLOOKUP(G1714,DropDowns!$D$2:$E$151,2,FALSE),\"\")","v":""},{"$f":"IFERROR(VLOOKUP(H1714,DropDowns!$F$2:$G$7,2,FALSE),\"Residual categories\")","v":"Residual categories"},null,null,null,0,0,0]
[0,{"$f":"IF(OR(COUNTA(O1685:O1714)>0,COUNTA(O1714:$O$5195)>0),IF(COUNTIF(B1705:B1714,B1714)=10,B1714+7,B1714),\"\")","v":""},null,"","",null,null,null,0,0,0,0,{"$f":"IFERROR(VLOOKUP(G1715,DropDowns!$D$2:$E$151,2,FALSE),\"\")","v":""},{"$f":"IFERROR(VLOOKUP(H1715,DropDowns!$F$2:$G$7,2,FALSE),\"Residual categories\")","v":"Residual categories"},null,null,null,0,0,0]
[0,{"$f":"IF(OR(COUNTA(O1686:O1715)>0,COUNTA(O1715:$O$5195)>0),IF(COUNTIF(B1706:B1715,B1715)=10,B1715+7,B1715),\"\")","v":""},null,"","",null,null,null,0,0,0,0,{"$f":"IFERROR(VLOOKUP(G1716,DropDowns!$D$2:$E$151,2,FALSE),\"\")","v":""},{"$f":"IFERROR(VLOOKUP(H1716,DropDowns!$F$2:$G$7,2,FALSE),\"Residual categories\")","v":"Residual categories"},null,null,null,0,0,0]
[0,{"$f":"IF(OR(COUNTA(O1687:O1716)>0,COUNTA(O1716:$O$5195)>0),IF(COUNTIF(B1707:B1716,B1716)=10,B1716+7,B1716),\"\")","v":""},null,"","",null,null,null,0,0,0,0,{"$f":"IFERROR(VLOOKUP(G1717,DropDowns!$D$2:$E$151,2,FALSE),\"\")","v":""},{"$f":"IFERROR(VLOOKUP(H1717,DropDowns!$F$2:$G$7,2,FALSE),\"Residual categories\")","v":"Residual categories"},null,null,null,0,0,0]
[0,{"$f":"IF(OR(COUNTA(O1688:O1717)>0,COUNTA(O1717:$O$5195)>0),IF(COUNTIF(B1708:B1717,B1717)=10,B1717+7,B1717),\"\")","v":""},null,"","",null,null,null,0,0,0,0,{"$f":"IFERROR(VLOOKUP(G1718,DropDowns!$D$2:$E$151,2,FALSE),\"\")","v":""},{"$f":"IFERROR(VLOOKUP(H1718,DropDowns!$F$2:$G$7,2,FALSE),\"Residual categories\")","v":"Residual categories"},null,null,null,0,0,0]
[0,{"$f":"IF(OR(COUNTA(O1689:O1718)>0,COUNTA(O1718:$O$5195)>0),IF(COUNTIF(B1709:B1718,B1718)=10,B1718+7,B1718),\"\")","v":""},null,"","",null,null,null,0,0,0,0,{"$f":"IFERROR(VLOOKUP(G1719,DropDowns!$D$2:$E$151,2,FALSE),\"\")","v":""},{"$f":"IFERROR(VLOOKUP(H1719,DropDowns!$F$2:$G$7,2,FALSE),\"Residual categories\")","v":"Residual categories"},null,null,null,0,0,0]
[0,{"$f":"IF(OR(COUNTA(O1690:O1719)>0,COUNTA(O1719:$O$5195)>0),IF(COUNTIF(B1710:B1719,B1719)=10,B1719+7,B1719),\"\")","v":""},null,"","",null,null,null,0,0,0,0,{"$f":"IFERROR(VLOOKUP(G1720,DropDowns!$D$2:$E$151,2,FALSE),\"\")","v":""},{"$f":"IFERROR(VLOOKUP(H1720,DropDowns!$F$2:$G$7,2,FALSE),\"Residual categories\")","v":"Residual categories"},null,null,null,0,0,0]
[0,{"$f":"IF(OR(COUNTA(O1691:O1720)>0,COUNTA(O1720:$O$5195)>0),IF(COUNTIF(B1711:B1720,B1720)=10,B1720+7,B1720),\"\")","v":""},null,"","",null,null,null,0,0,0,0,{"$f":"IFERROR(VLOOKUP(G1721,DropDowns!$D$2:$E$151,2,FALSE),\"\")","v":""},{"$f":"IFERROR(VLOOKUP(H1721,DropDowns!$F$2:$G$7,2,FALSE),\"Residual categories\")","v":"Residual categories"},null,null,null,0,0,0]
[0,{"$f":"IF(OR(COUNTA(O1692:O1721)>0,COUNTA(O1721:$O$5195)>0),IF(COUNTIF(B1712:B1721,B1721)=10,B1721+7,B1721),\"\")","v":""},null,"","",null,null,null,0,0,0,0,{"$f":"IFERROR(VLOOKUP(G1722,DropDowns!$D$2:$E$151,2,FALSE),\"\")","v":""},{"$f":"IFERROR(VLOOKUP(H1722,DropDowns!$F$2:$G$7,2,FALSE),\"Residual categories\")","v":"Residual categories"},null,null,null,0,0,0]
[0,{"$f":"IF(OR(COUNTA(O1693:O1722)>0,COUNTA(O1722:$O$5195)>0),IF(COUNTIF(B1713:B1722,B1722)=10,B1722+7,B1722),\"\")","v":""},null,"","",null,null,null,0,0,0,0,{"$f":"IFERROR(VLOOKUP(G1723,DropDowns!$D$2:$E$151,2,FALSE),\"\")","v":""},{"$f":"IFERROR(VLOOKUP(H1723,DropDowns!$F$2:$G$7,2,FALSE),\"Residual categories\")","v":"Residual categories"},null,null,null,0,0,0]
[0,{"$f":"IF(OR(COUNTA(O1694:O1723)>0,COUNTA(O1723:$O$5195)>0),IF(COUNTIF(B1714:B1723,B1723)=10,B1723+7,B1723),\"\")","v":""},null,"","",null,null,null,0,0,0,0,{"$f":"IFERROR(VLOOKUP(G1724,DropDowns!$D$2:$E$151,2,FALSE),\"\")","v":""},{"$f":"IFERROR(VLOOKUP(H1724,DropDowns!$F$2:$G$7,2,FALSE),\"Residual categories\")","v":"Residual categories"},null,null,null,0,0,0]
[0,{"$f":"IF(OR(COUNTA(O1695:O1724)>0,COUNTA(O1724:$O$5195)>0),IF(COUNTIF(B1715:B1724,B1724)=10,B1724+7,B1724),\"\")","v":""},null,"","",null,null,null,0,0,0,0,{"$f":"IFERROR(VLOOKUP(G1725,DropDowns!$D$2:$E$151,2,FALSE),\"\")","v":""},{"$f":"IFERROR(VLOOKUP(H1725,DropDowns!$F$2:$G$7,2,FALSE),\"Residual categories\")","v":"Residual categories"},null,null,null,0,0,0]
[0,{"$f":"IF(OR(COUNTA(O1696:O1725)>0,COUNTA(O1725:$O$5195)>0),IF(COUNTIF(B1716:B1725,B1725)=10,B1725+7,B1725),\"\")","v":""},null,"","",null,null,null,0,0,0,0,{"$f":"IFERROR(VLOOKUP(G1726,DropDowns!$D$2:$E$151,2,FALSE),\"\")","v":""},{"$f":"IFERROR(VLOOKUP(H1726,DropDowns!$F$2:$G$7,2,FALSE),\"Residual categories\")","v":"Residual categories"},null,null,null,0,0,0]
[0,{"$f":"IF(OR(COUNTA(O1697:O1726)>0,COUNTA(O1726:$O$5195)>0),IF(COUNTIF(B1717:B1726,B1726)=10,B1726+7,B1726),\"\")","v":""},null,"","",null,null,null,0,0,0,0,{"$f":"IFERROR(VLOOKUP(G1727,DropDowns!$D$2:$E$151,2,FALSE),\"\")","v":""},{"$f":"IFERROR(VLOOKUP(H1727,DropDowns!$F$2:$G$7,2,FALSE),\"Residual categories\")","v":"Residual categories"},null,null,null,0,0,0]
[0,{"$f":"IF(OR(COUNTA(O1698:O1727)>0,COUNTA(O1727:$O$5195)>0),IF(COUNTIF(B1718:B1727,B1727)=10,B1727+7,B1727),\"\")","v":""},null,"","",null,null,null,0,0,0,0,{"$f":"IFERROR(VLOOKUP(G1728,DropDowns!$D$2:$E$151,2,FALSE),\"\")","v":""},{"$f":"IFERROR(VLOOKUP(H1728,DropDowns!$F$2:$G$7,2,FALSE),\"Residual categories\")","v":"Residual categories"},null,null,null,0,0,0]
[0,{"$f":"IF(OR(COUNTA(O1699:O1728)>0,COUNTA(O1728:$O$5195)>0),IF(COUNTIF(B1719:B1728,B1728)=10,B1728+7,B1728),\"\")","v":""},null,"","",null,null,null,0,0,0,0,{"$f":"IFERROR(VLOOKUP(G1729,DropDowns!$D$2:$E$151,2,FALSE),\"\")","v":""},{"$f":"IFERROR(VLOOKUP(H1729,DropDowns!$F$2:$G$7,2,FALSE),\"Residual categories\")","v":"Residual categories"},null,null,null,0,0,0]
[0,{"$f":"IF(OR(COUNTA(O1700:O1729)>0,COUNTA(O1729:$O$5195)>0),IF(COUNTIF(B1720:B1729,B1729)=10,B1729+7,B1729),\"\")","v":""},null,"","",null,null,null,0,0,0,0,{"$f":"IFERROR(VLOOKUP(G1730,DropDowns!$D$2:$E$151,2,FALSE),\"\")","v":""},{"$f":"IFERROR(VLOOKUP(H1730,DropDowns!$F$2:$G$7,2,FALSE),\"Residual categories\")","v":"Residual categories"},null,null,null,0,0,0]
[0,{"$f":"IF(OR(COUNTA(O1701:O1730)>0,COUNTA(O1730:$O$5195)>0),IF(COUNTIF(B1721:B1730,B1730)=10,B1730+7,B1730),\"\")","v":""},null,"","",null,null,null,0,0,0,0,{"$f":"IFERROR(VLOOKUP(G1731,DropDowns!$D$2:$E$151,2,FALSE),\"\")","v":""},{"$f":"IFERROR(VLOOKUP(H1731,DropDowns!$F$2:$G$7,2,FALSE),\"Residual categories\")","v":"Residual categories"},null,null,null,0,0,0]
[0,{"$f":"IF(OR(COUNTA(O1702:O1731)>0,COUNTA(O1731:$O$5195)>0),IF(COUNTIF(B1722:B1731,B1731)=10,B1731+7,B1731),\"\")","v":""},null,"","",null,null,null,0,0,0,0,{"$f":"IFERROR(VLOOKUP(G1732,DropDowns!$D$2:$E$151,2,FALSE),\"\")","v":""},{"$f":"IFERROR(VLOOKUP(H1732,DropDowns!$F$2:$G$7,2,FALSE),\"Residual categories\")","v":"Residual categories"},null,null,null,0,0,0]
[0,{"$f":"IF(OR(COUNTA(O1703:O1732)>0,COUNTA(O1732:$O$5195)>0),IF(COUNTIF(B1723:B1732,B1732)=10,B1732+7,B1732),\"\")","v":""},null,"","",null,null,null,0,0,0,0,{"$f":"IFERROR(VLOOKUP(G1733,DropDowns!$D$2:$E$151,2,FALSE),\"\")","v":""},{"$f":"IFERROR(VLOOKUP(H1733,DropDowns!$F$2:$G$7,2,FALSE),\"Residual categories\")","v":"Residual categories"},null,null,null,0,0,0]
[0,{"$f":"IF(OR(COUNTA(O1704:O1733)>0,COUNTA(O1733:$O$5195)>0),IF(COUNTIF(B1724:B1733,B1733)=10,B1733+7,B1733),\"\")","v":""},null,"","",null,null,null,0,0,0,0,{"$f":"IFERROR(VLOOKUP(G1734,DropDowns!$D$2:$E$151,2,FALSE),\"\")","v":""},{"$f":"IFERROR(VLOOKUP(H1734,DropDowns!$F$2:$G$7,2,FALSE),\"Residual categories\")","v":"Residual categories"},null,null,null,0,0,0]
[0,{"$f":"IF(OR(COUNTA(O1705:O1734)>0,COUNTA(O1734:$O$5195)>0),IF(COUNTIF(B1725:B1734,B1734)=10,B1734+7,B1734),\"\")","v":""},null,{"$f":"IF(E1735=1,B1735,\"\")","v":""},"",null,null,null,{"$f":"IF(COUNTA(O1735:Q1735)>0,1,0)","v":0},{"$f":"IF(O1735=\"y\",1,0)","v":0},{"$f":"IF(P1735=\"y\",1,0)","v":0},{"$f":"IF(Q1735=\"y\",1,0)","v":0},{"$f":"IFERROR(VLOOKUP(G1735,DropDowns!$D$2:$E$151,2,FALSE),\"\")","v":""},{"$f":"IFERROR(VLOOKUP(H1735,DropDowns!$F$2:$G$7,2,FALSE),\"Residual categories\")","v":"Residual categories"},null,null,null,{"$f":"IF(O1735=\"yes\",1,0)","v":0},{"$f":"IF(P1735=\"yes\",1,0)","v":0},{"$f":"IF(Q1735=\"yes\",1,0)","v":0}]
[0,{"$f":"IF(OR(COUNTA(O1706:O1735)>0,COUNTA(O1735:$O$5195)>0),IF(COUNTIF(B1726:B1735,B1735)=10,B1735+7,B1735),\"\")","v":""},null,"","",null,null,null,0,0,0,0,{"$f":"IFERROR(VLOOKUP(G1736,DropDowns!$D$2:$E$151,2,FALSE),\"\")","v":""},{"$f":"IFERROR(VLOOKUP(H1736,DropDowns!$F$2:$G$7,2,FALSE),\"Residual categories\")","v":"Residual categories"},null,null,null,0,0,0]
[0,{"$f":"IF(OR(COUNTA(O1707:O1736)>0,COUNTA(O1736:$O$5195)>0),IF(COUNTIF(B1727:B1736,B1736)=10,B1736+7,B1736),\"\")","v":""},null,"","",null,null,null,0,0,0,0,{"$f":"IFERROR(VLOOKUP(G1737,DropDowns!$D$2:$E$151,2,FALSE),\"\")","v":""},{"$f":"IFERROR(VLOOKUP(H1737,DropDowns!$F$2:$G$7,2,FALSE),\"Residual categories\")","v":"Residual categories"},null,null,null,0,0,0]
[0,{"$f":"IF(OR(COUNTA(O1708:O1737)>0,COUNTA(O1737:$O$5195)>0),IF(COUNTIF(B1728:B1737,B1737)=10,B1737+7,B1737),\"\")","v":""},null,"","",null,null,null,0,0,0,0,{"$f":"IFERROR(VLOOKUP(G1738,DropDowns!$D$2:$E$151,2,FALSE),\"\")","v":""},{"$f":"IFERROR(VLOOKUP(H1738,DropDowns!$F$2:$G$7,2,FALSE),\"Residual categories\")","v":"Residual categories"},null,null,null,0,0,0]
[0,{"$f":"IF(OR(COUNTA(O1709:O1738)>0,COUNTA(O1738:$O$5195)>0),IF(COUNTIF(B1729:B1738,B1738)=10,B1738+7,B1738),\"\")","v":""},null,"","",null,null,null,0,0,0,0,{"$f":"IFERROR(VLOOKUP(G1739,DropDowns!$D$2:$E$151,2,FALSE),\"\")","v":""},{"$f":"IFERROR(VLOOKUP(H1739,DropDowns!$F$2:$G$7,2,FALSE),\"Residual categories\")","v":"Residual categories"},null,null,null,0,0,0]
[0,{"$f":"IF(OR(COUNTA(O1710:O1739)>0,COUNTA(O1739:$O$5195)>0),IF(COUNTIF(B1730:B1739,B1739)=10,B1739+7,B1739),\"\")","v":""},null,"","",null,null,null,0,0,0,0,{"$f":"IFERROR(VLOOKUP(G1740,DropDowns!$D$2:$E$151,2,FALSE),\"\")","v":""},{"$f":"IFERROR(VLOOKUP(H1740,DropDowns!$F$2:$G$7,2,FALSE),\"Residual categories\")","v":"Residual categories"},null,null,null,0,0,0]
[0,{"$f":"IF(OR(COUNTA(O1711:O1740)>0,COUNTA(O1740:$O$5195)>0),IF(COUNTIF(B1731:B1740,B1740)=10,B1740+7,B1740),\"\")","v":""},null,"","",null,null,null,0,0,0,0,{"$f":"IFERROR(VLOOKUP(G1741,DropDowns!$D$2:$E$151,2,FALSE),\"\")","v":""},{"$f":"IFERROR(VLOOKUP(H1741,DropDowns!$F$2:$G$7,2,FALSE),\"Residual categories\")","v":"Residual categories"},null,null,null,0,0,0]
[0,{"$f":"IF(OR(COUNTA(O1712:O1741)>0,COUNTA(O1741:$O$5195)>0),IF(COUNTIF(B1732:B1741,B1741)=10,B1741+7,B1741),\"\")","v":""},null,"","",null,null,null,0,0,0,0,{"$f":"IFERROR(VLOOKUP(G1742,DropDowns!$D$2:$E$151,2,FALSE),\"\")","v":""},{"$f":"IFERROR(VLOOKUP(H1742,DropDowns!$F$2:$G$7,2,FALSE),\"Residual categories\")","v":"Residual categories"},null,null,null,0,0,0]
[0,{"$f":"IF(OR(COUNTA(O1713:O1742)>0,COUNTA(O1742:$O$5195)>0),IF(COUNTIF(B1733:B1742,B1742)=10,B1742+7,B1742),\"\")","v":""},null,"","",null,null,null,0,0,0,0,{"$f":"IFERROR(VLOOKUP(G1743,DropDowns!$D$2:$E$151,2,FALSE),\"\")","v":""},{"$f":"IFERROR(VLOOKUP(H1743,DropDowns!$F$2:$G$7,2,FALSE),\"Residual categories\")","v":"Residual categories"},null,null,null,0,0,0]
[0,{"$f":"IF(OR(COUNTA(O1714:O1743)>0,COUNTA(O1743:$O$5195)>0),IF(COUNTIF(B1734:B1743,B1743)=10,B1743+7,B1743),\"\")","v":""},null,"","",null,null,null,0,0,0,0,{"$f":"IFERROR(VLOOKUP(G1744,DropDowns!$D$2:$E$151,2,FALSE),\"\")","v":""},{"$f":"IFERROR(VLOOKUP(H1744,DropDowns!$F$2:$G$7,2,FALSE),\"Residual categories\")","v":"Residual categories"},null,null,null,0,0,0]
[0,{"$f":"IF(OR(COUNTA(O1715:O1744)>0,COUNTA(O1744:$O$5195)>0),IF(COUNTIF(B1735:B1744,B1744)=10,B1744+7,B1744),\"\")","v":""},null,"",{"$f":"IF(B1745=\"\",\"\",COUNTIF(B1736:B1745,B1745))","v":""},null,null,null,0,0,0,0,{"$f":"IFERROR(VLOOKUP(G1745,DropDowns!$D$2:$E$151,2,FALSE),\"\")","v":""},{"$f":"IFERROR(VLOOKUP(H1745,DropDowns!$F$2:$G$7,2,FALSE),\"Residual categories\")","v":"Residual categories"},null,null,null,0,0,0]
[0,{"$f":"IF(OR(COUNTA(O1716:O1745)>0,COUNTA(O1745:$O$5195)>0),IF(COUNTIF(B1736:B1745,B1745)=10,B1745+7,B1745),\"\")","v":""},null,"","",null,null,null,0,0,0,0,{"$f":"IFERROR(VLOOKUP(G1746,DropDowns!$D$2:$E$151,2,FALSE),\"\")","v":""},{"$f":"IFERROR(VLOOKUP(H1746,DropDowns!$F$2:$G$7,2,FALSE),\"Residual categories\")","v":"Residual categories"},null,null,null,0,0,0]
[0,{"$f":"IF(OR(COUNTA(O1717:O1746)>0,COUNTA(O1746:$O$5195)>0),IF(COUNTIF(B1737:B1746,B1746)=10,B1746+7,B1746),\"\")","v":""},null,"","",null,null,null,0,0,0,0,{"$f":"IFERROR(VLOOKUP(G1747,DropDowns!$D$2:$E$151,2,FALSE),\"\")","v":""},{"$f":"IFERROR(VLOOKUP(H1747,DropDowns!$F$2:$G$7,2,FALSE),\"Residual categories\")","v":"Residual categories"},null,null,null,0,0,0]
[{"$f":"$E$2","v":0},{"$f":"IF(OR(COUNTA(O1718:O1747)>0,COUNTA(O1747:$O$5195)>0),IF(COUNTIF(B1738:B1747,B1747)=10,B1747+7,B1747),\"\")","v":""},null,"","",null,null,null,0,0,0,0,{"$f":"IFERROR(VLOOKUP(G1748,DropDowns!$D$2:$E$151,2,FALSE),\"\")","v":""},{"$f":"IFERROR(VLOOKUP(H1748,DropDowns!$F$2:$G$7,2,FALSE),\"Residual categories\")","v":"Residual categories"},null,null,null,0,0,0]
[0,{"$f":"IF(OR(COUNTA(O1719:O1748)>0,COUNTA(O1748:$O$5195)>0),IF(COUNTIF(B1739:B1748,B1748)=10,B1748+7,B1748),\"\")","v":""},null,"","",null,null,null,0,0,0,0,{"$f":"IFERROR(VLOOKUP(G1749,DropDowns!$D$2:$E$151,2,FALSE),\"\")","v":""},{"$f":"IFERROR(VLOOKUP(H1749,DropDowns!$F$2:$G$7,2,FALSE),\"Residual categories\")","v":"Residual categories"},null,null,null,0,0,0]
[0,{"$f":"IF(OR(COUNTA(O1720:O1749)>0,COUNTA(O1749:$O$5195)>0),IF(COUNTIF(B1740:B1749,B1749)=10,B1749+7,B1749),\"\")","v":""},null,"","",null,null,null,0,0,0,0,{"$f":"IFERROR(VLOOKUP(G1750,DropDowns!$D$2:$E$151,2,FALSE),\"\")","v":""},{"$f":"IFERROR(VLOOKUP(H1750,DropDowns!$F$2:$G$7,2,FALSE),\"Residual categories\")","v":"Residual categories"},null,null,null,0,0,0]
[0,{"$f":"IF(OR(COUNTA(O1721:O1750)>0,COUNTA(O1750:$O$5195)>0),IF(COUNTIF(B1741:B1750,B1750)=10,B1750+7,B1750),\"\")","v":""},null,"","",null,null,null,0,0,0,0,{"$f":"IFERROR(VLOOKUP(G1751,DropDowns!$D$2:$E$151,2,FALSE),\"\")","v":""},{"$f":"IFERROR(VLOOKUP(H1751,DropDowns!$F$2:$G$7,2,FALSE),\"Residual categories\")","v":"Residual categories"},null,null,null,0,0,0]
[0,{"$f":"IF(OR(COUNTA(O1722:O1751)>0,COUNTA(O1751:$O$5195)>0),IF(COUNTIF(B1742:B1751,B1751)=10,B1751+7,B1751),\"\")","v":""},null,"","",null,null,null,0,0,0,0,{"$f":"IFERROR(VLOOKUP(G1752,DropDowns!$D$2:$E$151,2,FALSE),\"\")","v":""},{"$f":"IFERROR(VLOOKUP(H1752,DropDowns!$F$2:$G$7,2,FALSE),\"Residual categories\")","v":"Residual categories"},null,null,null,0,0,0]
[0,{"$f":"IF(OR(COUNTA(O1723:O1752)>0,COUNTA(O1752:$O$5195)>0),IF(COUNTIF(B1743:B1752,B1752)=10,B1752+7,B1752),\"\")","v":""},null,"","",null,null,null,0,0,0,0,{"$f":"IFERROR(VLOOKUP(G1753,DropDowns!$D$2:$E$151,2,FALSE),\"\")","v":""},{"$f":"IFERROR(VLOOKUP(H1753,DropDowns!$F$2:$G$7,2,FALSE),\"Residual categories\")","v":"Residual categories"},null,null,null,0,0,0]
[0,{"$f":"IF(OR(COUNTA(O1724:O1753)>0,COUNTA(O1753:$O$5195)>0),IF(COUNTIF(B1744:B1753,B1753)=10,B1753+7,B1753),\"\")","v":""},null,"","",null,null,null,0,0,0,0,{"$f":"IFERROR(VLOOKUP(G1754,DropDowns!$D$2:$E$151,2,FALSE),\"\")","v":""},{"$f":"IFERROR(VLOOKUP(H1754,DropDowns!$F$2:$G$7,2,FALSE),\"Residual categories\")","v":"Residual categories"},null,null,null,0,0,0]
[0,{"$f":"IF(OR(COUNTA(O1725:O1754)>0,COUNTA(O1754:$O$5195)>0),IF(COUNTIF(B1745:B1754,B1754)=10,B1754+7,B1754),\"\")","v":""},null,"","",null,null,null,0,0,0,0,{"$f":"IFERROR(VLOOKUP(G1755,DropDowns!$D$2:$E$151,2,FALSE),\"\")","v":""},{"$f":"IFERROR(VLOOKUP(H1755,DropDowns!$F$2:$G$7,2,FALSE),\"Residual categories\")","v":"Residual categories"},null,null,null,0,0,0]
[0,{"$f":"IF(OR(COUNTA(O1726:O1755)>0,COUNTA(O1755:$O$5195)>0),IF(COUNTIF(B1746:B1755,B1755)=10,B1755+7,B1755),\"\")","v":""},null,"","",null,null,null,0,0,0,0,{"$f":"IFERROR(VLOOKUP(G1756,DropDowns!$D$2:$E$151,2,FALSE),\"\")","v":""},{"$f":"IFERROR(VLOOKUP(H1756,DropDowns!$F$2:$G$7,2,FALSE),\"Residual categories\")","v":"Residual categories"},null,null,null,0,0,0]
[0,{"$f":"IF(OR(COUNTA(O1727:O1756)>0,COUNTA(O1756:$O$5195)>0),IF(COUNTIF(B1747:B1756,B1756)=10,B1756+7,B1756),\"\")","v":""},null,"","",null,null,null,0,0,0,0,{"$f":"IFERROR(VLOOKUP(G1757,DropDowns!$D$2:$E$151,2,FALSE),\"\")","v":""},{"$f":"IFERROR(VLOOKUP(H1757,DropDowns!$F$2:$G$7,2,FALSE),\"Residual categories\")","v":"Residual categories"},null,null,null,0,0,0]
[0,{"$f":"IF(OR(COUNTA(O1728:O1757)>0,COUNTA(O1757:$O$5195)>0),IF(COUNTIF(B1748:B1757,B1757)=10,B1757+7,B1757),\"\")","v":""},null,"","",null,null,null,0,0,0,0,{"$f":"IFERROR(VLOOKUP(G1758,DropDowns!$D$2:$E$151,2,FALSE),\"\")","v":""},{"$f":"IFERROR(VLOOKUP(H1758,DropDowns!$F$2:$G$7,2,FALSE),\"Residual categories\")","v":"Residual categories"},null,null,null,0,0,0]
[0,{"$f":"IF(OR(COUNTA(O1729:O1758)>0,COUNTA(O1758:$O$5195)>0),IF(COUNTIF(B1749:B1758,B1758)=10,B1758+7,B1758),\"\")","v":""},null,"","",null,null,null,0,0,0,0,{"$f":"IFERROR(VLOOKUP(G1759,DropDowns!$D$2:$E$151,2,FALSE),\"\")","v":""},{"$f":"IFERROR(VLOOKUP(H1759,DropDowns!$F$2:$G$7,2,FALSE),\"Residual categories\")","v":"Residual categories"},null,null,null,0,0,0]
[0,{"$f":"IF(OR(COUNTA(O1730:O1759)>0,COUNTA(O1759:$O$5195)>0),IF(COUNTIF(B1750:B1759,B1759)=10,B1759+7,B1759),\"\")","v":""},null,"","",null,null,null,0,0,0,0,{"$f":"IFERROR(VLOOKUP(G1760,DropDowns!$D$2:$E$151,2,FALSE),\"\")","v":""},{"$f":"IFERROR(VLOOKUP(H1760,DropDowns!$F$2:$G$7,2,FALSE),\"Residual categories\")","v":"Residual categories"},null,null,null,0,0,0]
[0,{"$f":"IF(OR(COUNTA(O1731:O1760)>0,COUNTA(O1760:$O$5195)>0),IF(COUNTIF(B1751:B1760,B1760)=10,B1760+7,B1760),\"\")","v":""},null,"","",null,null,null,0,0,0,0,{"$f":"IFERROR(VLOOKUP(G1761,DropDowns!$D$2:$E$151,2,FALSE),\"\")","v":""},{"$f":"IFERROR(VLOOKUP(H1761,DropDowns!$F$2:$G$7,2,FALSE),\"Residual categories\")","v":"Residual categories"},null,null,null,0,0,0]
[0,{"$f":"IF(OR(COUNTA(O1732:O1761)>0,COUNTA(O1761:$O$5195)>0),IF(COUNTIF(B1752:B1761,B1761)=10,B1761+7,B1761),\"\")","v":""},null,"","",null,null,null,0,0,0,0,{"$f":"IFERROR(VLOOKUP(G1762,DropDowns!$D$2:$E$151,2,FALSE),\"\")","v":""},{"$f":"IFERROR(VLOOKUP(H1762,DropDowns!$F$2:$G$7,2,FALSE),\"Residual categories\")","v":"Residual categories"},null,null,null,0,0,0]
[0,{"$f":"IF(OR(COUNTA(O1733:O1762)>0,COUNTA(O1762:$O$5195)>0),IF(COUNTIF(B1753:B1762,B1762)=10,B1762+7,B1762),\"\")","v":""},null,"","",null,null,null,0,0,0,0,{"$f":"IFERROR(VLOOKUP(G1763,DropDowns!$D$2:$E$151,2,FALSE),\"\")","v":""},{"$f":"IFERROR(VLOOKUP(H1763,DropDowns!$F$2:$G$7,2,FALSE),\"Residual categories\")","v":"Residual categories"},null,null,null,0,0,0]
[0,{"$f":"IF(OR(COUNTA(O1734:O1763)>0,COUNTA(O1763:$O$5195)>0),IF(COUNTIF(B1754:B1763,B1763)=10,B1763+7,B1763),\"\")","v":""},null,"","",null,null,null,0,0,0,0,{"$f":"IFERROR(VLOOKUP(G1764,DropDowns!$D$2:$E$151,2,FALSE),\"\")","v":""},{"$f":"IFERROR(VLOOKUP(H1764,DropDowns!$F$2:$G$7,2,FALSE),\"Residual categories\")","v":"Residual categories"},null,null,null,0,0,0]
[0,{"$f":"IF(OR(COUNTA(O1735:O1764)>0,COUNTA(O1764:$O$5195)>0),IF(COUNTIF(B1755:B1764,B1764)=10,B1764+7,B1764),\"\")","v":""},null,"","",null,null,null,0,0,0,0,{"$f":"IFERROR(VLOOKUP(G1765,DropDowns!$D$2:$E$151,2,FALSE),\"\")","v":""},{"$f":"IFERROR(VLOOKUP(H1765,DropDowns!$F$2:$G$7,2,FALSE),\"Residual categories\")","v":"Residual categories"},null,null,null,0,0,0]
[0,{"$f":"IF(OR(COUNTA(O1736:O1765)>0,COUNTA(O1765:$O$5195)>0),IF(COUNTIF(B1756:B1765,B1765)=10,B1765+7,B1765),\"\")","v":""},null,"","",null,null,null,0,0,0,0,{"$f":"IFERROR(VLOOKUP(G1766,DropDowns!$D$2:$E$151,2,FALSE),\"\")","v":""},{"$f":"IFERROR(VLOOKUP(H1766,DropDowns!$F$2:$G$7,2,FALSE),\"Residual categories\")","v":"Residual categories"},null,null,null,0,0,0]
[0,{"$f":"IF(OR(COUNTA(O1737:O1766)>0,COUNTA(O1766:$O$5195)>0),IF(COUNTIF(B1757:B1766,B1766)=10,B1766+7,B1766),\"\")","v":""},null,"","",null,null,null,0,0,0,0,{"$f":"IFERROR(VLOOKUP(G1767,DropDowns!$D$2:$E$151,2,FALSE),\"\")","v":""},{"$f":"IFERROR(VLOOKUP(H1767,DropDowns!$F$2:$G$7,2,FALSE),\"Residual categories\")","v":"Residual categories"},null,null,null,0,0,0]
[0,{"$f":"IF(OR(COUNTA(O1738:O1767)>0,COUNTA(O1767:$O$5195)>0),IF(COUNTIF(B1758:B1767,B1767)=10,B1767+7,B1767),\"\")","v":""},null,"","",null,null,null,0,0,0,0,{"$f":"IFERROR(VLOOKUP(G1768,DropDowns!$D$2:$E$151,2,FALSE),\"\")","v":""},{"$f":"IFERROR(VLOOKUP(H1768,DropDowns!$F$2:$G$7,2,FALSE),\"Residual categories\")","v":"Residual categories"},null,null,null,0,0,0]
[0,{"$f":"IF(OR(COUNTA(O1739:O1768)>0,COUNTA(O1768:$O$5195)>0),IF(COUNTIF(B1759:B1768,B1768)=10,B1768+7,B1768),\"\")","v":""},null,"","",null,null,null,0,0,0,0,{"$f":"IFERROR(VLOOKUP(G1769,DropDowns!$D$2:$E$151,2,FALSE),\"\")","v":""},{"$f":"IFERROR(VLOOKUP(H1769,DropDowns!$F$2:$G$7,2,FALSE),\"Residual categories\")","v":"Residual categories"},null,null,null,0,0,0]
[0,{"$f":"IF(OR(COUNTA(O1740:O1769)>0,COUNTA(O1769:$O$5195)>0),IF(COUNTIF(B1760:B1769,B1769)=10,B1769+7,B1769),\"\")","v":""},null,"","",null,null,null,0,0,0,0,{"$f":"IFERROR(VLOOKUP(G1770,DropDowns!$D$2:$E$151,2,FALSE),\"\")","v":""},{"$f":"IFERROR(VLOOKUP(H1770,DropDowns!$F$2:$G$7,2,FALSE),\"Residual categories\")","v":"Residual categories"},null,null,null,0,0,0]
[0,{"$f":"IF(OR(COUNTA(O1741:O1770)>0,COUNTA(O1770:$O$5195)>0),IF(COUNTIF(B1761:B1770,B1770)=10,B1770+7,B1770),\"\")","v":""},null,"","",null,null,null,0,0,0,0,{"$f":"IFERROR(VLOOKUP(G1771,DropDowns!$D$2:$E$151,2,FALSE),\"\")","v":""},{"$f":"IFERROR(VLOOKUP(H1771,DropDowns!$F$2:$G$7,2,FALSE),\"Residual categories\")","v":"Residual categories"},null,null,null,0,0,0]
[0,{"$f":"IF(OR(COUNTA(O1742:O1771)>0,COUNTA(O1771:$O$5195)>0),IF(COUNTIF(B1762:B1771,B1771)=10,B1771+7,B1771),\"\")","v":""},null,"","",null,null,null,0,0,0,0,{"$f":"IFERROR(VLOOKUP(G1772,DropDowns!$D$2:$E$151,2,FALSE),\"\")","v":""},{"$f":"IFERROR(VLOOKUP(H1772,DropDowns!$F$2:$G$7,2,FALSE),\"Residual categories\")","v":"Residual categories"},null,null,null,0,0,0]
[0,{"$f":"IF(OR(COUNTA(O1743:O1772)>0,COUNTA(O1772:$O$5195)>0),IF(COUNTIF(B1763:B1772,B1772)=10,B1772+7,B1772),\"\")","v":""},null,"","",null,null,null,0,0,0,0,{"$f":"IFERROR(VLOOKUP(G1773,DropDowns!$D$2:$E$151,2,FALSE),\"\")","v":""},{"$f":"IFERROR(VLOOKUP(H1773,DropDowns!$F$2:$G$7,2,FALSE),\"Residual categories\")","v":"Residual categories"},null,null,null,0,0,0]
[0,{"$f":"IF(OR(COUNTA(O1744:O1773)>0,COUNTA(O1773:$O$5195)>0),IF(COUNTIF(B1764:B1773,B1773)=10,B1773+7,B1773),\"\")","v":""},null,"","",null,null,null,0,0,0,0,{"$f":"IFERROR(VLOOKUP(G1774,DropDowns!$D$2:$E$151,2,FALSE),\"\")","v":""},{"$f":"IFERROR(VLOOKUP(H1774,DropDowns!$F$2:$G$7,2,FALSE),\"Residual categories\")","v":"Residual categories"},null,null,null,0,0,0]
[0,{"$f":"IF(OR(COUNTA(O1745:O1774)>0,COUNTA(O1774:$O$5195)>0),IF(COUNTIF(B1765:B1774,B1774)=10,B1774+7,B1774),\"\")","v":""},null,"","",null,null,null,0,0,0,0,{"$f":"IFERROR(VLOOKUP(G1775,DropDowns!$D$2:$E$151,2,FALSE),\"\")","v":""},{"$f":"IFERROR(VLOOKUP(H1775,DropDowns!$F$2:$G$7,2,FALSE),\"Residual categories\")","v":"Residual categories"},null,null,null,0,0,0]
[0,{"$f":"IF(OR(COUNTA(O1746:O1775)>0,COUNTA(O1775:$O$5195)>0),IF(COUNTIF(B1766:B1775,B1775)=10,B1775+7,B1775),\"\")","v":""},null,"","",null,null,null,0,0,0,0,{"$f":"IFERROR(VLOOKUP(G1776,DropDowns!$D$2:$E$151,2,FALSE),\"\")","v":""},{"$f":"IFERROR(VLOOKUP(H1776,DropDowns!$F$2:$G$7,2,FALSE),\"Residual categories\")","v":"Residual categories"},null,null,null,0,0,0]
[0,{"$f":"IF(OR(COUNTA(O1747:O1776)>0,COUNTA(O1776:$O$5195)>0),IF(COUNTIF(B1767:B1776,B1776)=10,B1776+7,B1776),\"\")","v":""},null,"","",null,null,null,0,0,0,0,{"$f":"IFERROR(VLOOKUP(G1777,DropDowns!$D$2:$E$151,2,FALSE),\"\")","v":""},{"$f":"IFERROR(VLOOKUP(H1777,DropDowns!$F$2:$G$7,2,FALSE),\"Residual categories\")","v":"Residual categories"},null,null,null,0,0,0]
[0,{"$f":"IF(OR(COUNTA(O1748:O1777)>0,COUNTA(O1777:$O$5195)>0),IF(COUNTIF(B1768:B1777,B1777)=10,B1777+7,B1777),\"\")","v":""},null,"","",null,null,null,0,0,0,0,{"$f":"IFERROR(VLOOKUP(G1778,DropDowns!$D$2:$E$151,2,FALSE),\"\")","v":""},{"$f":"IFERROR(VLOOKUP(H1778,DropDowns!$F$2:$G$7,2,FALSE),\"Residual categories\")","v":"Residual categories"},null,null,null,0,0,0]
[0,{"$f":"IF(OR(COUNTA(O1749:O1778)>0,COUNTA(O1778:$O$5195)>0),IF(COUNTIF(B1769:B1778,B1778)=10,B1778+7,B1778),\"\")","v":""},null,"","",null,null,null,0,0,0,0,{"$f":"IFERROR(VLOOKUP(G1779,DropDowns!$D$2:$E$151,2,FALSE),\"\")","v":""},{"$f":"IFERROR(VLOOKUP(H1779,DropDowns!$F$2:$G$7,2,FALSE),\"Residual categories\")","v":"Residual categories"},null,null,null,0,0,0]
[0,{"$f":"IF(OR(COUNTA(O1750:O1779)>0,COUNTA(O1779:$O$5195)>0),IF(COUNTIF(B1770:B1779,B1779)=10,B1779+7,B1779),\"\")","v":""},null,"","",null,null,null,0,0,0,0,{"$f":"IFERROR(VLOOKUP(G1780,DropDowns!$D$2:$E$151,2,FALSE),\"\")","v":""},{"$f":"IFERROR(VLOOKUP(H1780,DropDowns!$F$2:$G$7,2,FALSE),\"Residual categories\")","v":"Residual categories"},null,null,null,0,0,0]
[0,{"$f":"IF(OR(COUNTA(O1751:O1780)>0,COUNTA(O1780:$O$5195)>0),IF(COUNTIF(B1771:B1780,B1780)=10,B1780+7,B1780),\"\")","v":""},null,"","",null,null,null,0,0,0,0,{"$f":"IFERROR(VLOOKUP(G1781,DropDowns!$D$2:$E$151,2,FALSE),\"\")","v":""},{"$f":"IFERROR(VLOOKUP(H1781,DropDowns!$F$2:$G$7,2,FALSE),\"Residual categories\")","v":"Residual categories"},null,null,null,0,0,0]
[0,{"$f":"IF(OR(COUNTA(O1752:O1781)>0,COUNTA(O1781:$O$5195)>0),IF(COUNTIF(B1772:B1781,B1781)=10,B1781+7,B1781),\"\")","v":""},null,"","",null,null,null,0,0,0,0,{"$f":"IFERROR(VLOOKUP(G1782,DropDowns!$D$2:$E$151,2,FALSE),\"\")","v":""},{"$f":"IFERROR(VLOOKUP(H1782,DropDowns!$F$2:$G$7,2,FALSE),\"Residual categories\")","v":"Residual categories"},null,null,null,0,0,0]
[0,{"$f":"IF(OR(COUNTA(O1753:O1782)>0,COUNTA(O1782:$O$5195)>0),IF(COUNTIF(B1773:B1782,B1782)=10,B1782+7,B1782),\"\")","v":""},null,"","",null,null,null,0,0,0,0,{"$f":"IFERROR(VLOOKUP(G1783,DropDowns!$D$2:$E$151,2,FALSE),\"\")","v":""},{"$f":"IFERROR(VLOOKUP(H1783,DropDowns!$F$2:$G$7,2,FALSE),\"Residual categories\")","v":"Residual categories"},null,null,null,0,0,0]
[0,{"$f":"IF(OR(COUNTA(O1754:O1783)>0,COUNTA(O1783:$O$5195)>0),IF(COUNTIF(B1774:B1783,B1783)=10,B1783+7,B1783),\"\")","v":""},null,"","",null,null,null,0,0,0,0,{"$f":"IFERROR(VLOOKUP(G1784,DropDowns!$D$2:$E$151,2,FALSE),\"\")","v":""},{"$f":"IFERROR(VLOOKUP(H1784,DropDowns!$F$2:$G$7,2,FALSE),\"Residual categories\")","v":"Residual categories"},null,null,null,0,0,0]
[0,{"$f":"IF(OR(COUNTA(O1755:O1784)>0,COUNTA(O1784:$O$5195)>0),IF(COUNTIF(B1775:B1784,B1784)=10,B1784+7,B1784),\"\")","v":""},null,"","",null,null,null,0,0,0,0,{"$f":"IFERROR(VLOOKUP(G1785,DropDowns!$D$2:$E$151,2,FALSE),\"\")","v":""},{"$f":"IFERROR(VLOOKUP(H1785,DropDowns!$F$2:$G$7,2,FALSE),\"Residual categories\")","v":"Residual categories"},null,null,null,0,0,0]
[0,{"$f":"IF(OR(COUNTA(O1756:O1785)>0,COUNTA(O1785:$O$5195)>0),IF(COUNTIF(B1776:B1785,B1785)=10,B1785+7,B1785),\"\")","v":""},null,"","",null,null,null,0,0,0,0,{"$f":"IFERROR(VLOOKUP(G1786,DropDowns!$D$2:$E$151,2,FALSE),\"\")","v":""},{"$f":"IFERROR(VLOOKUP(H1786,DropDowns!$F$2:$G$7,2,FALSE),\"Residual categories\")","v":"Residual categories"},null,null,null,0,0,0]
[0,{"$f":"IF(OR(COUNTA(O1757:O1786)>0,COUNTA(O1786:$O$5195)>0),IF(COUNTIF(B1777:B1786,B1786)=10,B1786+7,B1786),\"\")","v":""},null,"","",null,null,null,0,0,0,0,{"$f":"IFERROR(VLOOKUP(G1787,DropDowns!$D$2:$E$151,2,FALSE),\"\")","v":""},{"$f":"IFERROR(VLOOKUP(H1787,DropDowns!$F$2:$G$7,2,FALSE),\"Residual categories\")","v":"Residual categories"},null,null,null,0,0,0]
[0,{"$f":"IF(OR(COUNTA(O1758:O1787)>0,COUNTA(O1787:$O$5195)>0),IF(COUNTIF(B1778:B1787,B1787)=10,B1787+7,B1787),\"\")","v":""},null,"","",null,null,null,0,0,0,0,{"$f":"IFERROR(VLOOKUP(G1788,DropDowns!$D$2:$E$151,2,FALSE),\"\")","v":""},{"$f":"IFERROR(VLOOKUP(H1788,DropDowns!$F$2:$G$7,2,FALSE),\"Residual categories\")","v":"Residual categories"},null,null,null,0,0,0]
[0,{"$f":"IF(OR(COUNTA(O1759:O1788)>0,COUNTA(O1788:$O$5195)>0),IF(COUNTIF(B1779:B1788,B1788)=10,B1788+7,B1788),\"\")","v":""},null,"","",null,null,null,0,0,0,0,{"$f":"IFERROR(VLOOKUP(G1789,DropDowns!$D$2:$E$151,2,FALSE),\"\")","v":""},{"$f":"IFERROR(VLOOKUP(H1789,DropDowns!$F$2:$G$7,2,FALSE),\"Residual categories\")","v":"Residual categories"},null,null,null,0,0,0]
[0,{"$f":"IF(OR(COUNTA(O1760:O1789)>0,COUNTA(O1789:$O$5195)>0),IF(COUNTIF(B1780:B1789,B1789)=10,B1789+7,B1789),\"\")","v":""},null,"","",null,null,null,0,0,0,0,{"$f":"IFERROR(VLOOKUP(G1790,DropDowns!$D$2:$E$151,2,FALSE),\"\")","v":""},{"$f":"IFERROR(VLOOKUP(H1790,DropDowns!$F$2:$G$7,2,FALSE),\"Residual categories\")","v":"Residual categories"},null,null,null,0,0,0]
[0,{"$f":"IF(OR(COUNTA(O1761:O1790)>0,COUNTA(O1790:$O$5195)>0),IF(COUNTIF(B1781:B1790,B1790)=10,B1790+7,B1790),\"\")","v":""},null,"","",null,null,null,0,0,0,0,{"$f":"IFERROR(VLOOKUP(G1791,DropDowns!$D$2:$E$151,2,FALSE),\"\")","v":""},{"$f":"IFERROR(VLOOKUP(H1791,DropDowns!$F$2:$G$7,2,FALSE),\"Residual categories\")","v":"Residual categories"},null,null,null,0,0,0]
[0,{"$f":"IF(OR(COUNTA(O1762:O1791)>0,COUNTA(O1791:$O$5195)>0),IF(COUNTIF(B1782:B1791,B1791)=10,B1791+7,B1791),\"\")","v":""},null,"","",null,null,null,0,0,0,0,{"$f":"IFERROR(VLOOKUP(G1792,DropDowns!$D$2:$E$151,2,FALSE),\"\")","v":""},{"$f":"IFERROR(VLOOKUP(H1792,DropDowns!$F$2:$G$7,2,FALSE),\"Residual categories\")","v":"Residual categories"},null,null,null,0,0,0]
[0,{"$f":"IF(OR(COUNTA(O1763:O1792)>0,COUNTA(O1792:$O$5195)>0),IF(COUNTIF(B1783:B1792,B1792)=10,B1792+7,B1792),\"\")","v":""},null,"","",null,null,null,0,0,0,0,{"$f":"IFERROR(VLOOKUP(G1793,DropDowns!$D$2:$E$151,2,FALSE),\"\")","v":""},{"$f":"IFERROR(VLOOKUP(H1793,DropDowns!$F$2:$G$7,2,FALSE),\"Residual categories\")","v":"Residual categories"},null,null,null,0,0,0]
[0,{"$f":"IF(OR(COUNTA(O1764:O1793)>0,COUNTA(O1793:$O$5195)>0),IF(COUNTIF(B1784:B1793,B1793)=10,B1793+7,B1793),\"\")","v":""},null,"","",null,null,null,0,0,0,0,{"$f":"IFERROR(VLOOKUP(G1794,DropDowns!$D$2:$E$151,2,FALSE),\"\")","v":""},{"$f":"IFERROR(VLOOKUP(H1794,DropDowns!$F$2:$G$7,2,FALSE),\"Residual categories\")","v":"Residual categories"},null,null,null,0,0,0]
[0,{"$f":"IF(OR(COUNTA(O1765:O1794)>0,COUNTA(O1794:$O$5195)>0),IF(COUNTIF(B1785:B1794,B1794)=10,B1794+7,B1794),\"\")","v":""},null,"","",null,null,null,0,0,0,0,{"$f":"IFERROR(VLOOKUP(G1795,DropDowns!$D$2:$E$151,2,FALSE),\"\")","v":""},{"$f":"IFERROR(VLOOKUP(H1795,DropDowns!$F$2:$G$7,2,FALSE),\"Residual categories\")","v":"Residual categories"},null,null,null,0,0,0]
[0,{"$f":"IF(OR(COUNTA(O1766:O1795)>0,COUNTA(O1795:$O$5195)>0),IF(COUNTIF(B1786:B1795,B1795)=10,B1795+7,B1795),\"\")","v":""},null,"","",null,null,null,0,0,0,0,{"$f":"IFERROR(VLOOKUP(G1796,DropDowns!$D$2:$E$151,2,FALSE),\"\")","v":""},{"$f":"IFERROR(VLOOKUP(H1796,DropDowns!$F$2:$G$7,2,FALSE),\"Residual categories\")","v":"Residual categories"},null,null,null,0,0,0]
[0,{"$f":"IF(OR(COUNTA(O1767:O1796)>0,COUNTA(O1796:$O$5195)>0),IF(COUNTIF(B1787:B1796,B1796)=10,B1796+7,B1796),\"\")","v":""},null,"","",null,null,null,0,0,0,0,{"$f":"IFERROR(VLOOKUP(G1797,DropDowns!$D$2:$E$151,2,FALSE),\"\")","v":""},{"$f":"IFERROR(VLOOKUP(H1797,DropDowns!$F$2:$G$7,2,FALSE),\"Residual categories\")","v":"Residual categories"},null,null,null,0,0,0]
[0,{"$f":"IF(OR(COUNTA(O1768:O1797)>0,COUNTA(O1797:$O$5195)>0),IF(COUNTIF(B1788:B1797,B1797)=10,B1797+7,B1797),\"\")","v":""},null,"","",null,null,null,0,0,0,0,{"$f":"IFERROR(VLOOKUP(G1798,DropDowns!$D$2:$E$151,2,FALSE),\"\")","v":""},{"$f":"IFERROR(VLOOKUP(H1798,DropDowns!$F$2:$G$7,2,FALSE),\"Residual categories\")","v":"Residual categories"},null,null,null,0,0,0]
[0,{"$f":"IF(OR(COUNTA(O1769:O1798)>0,COUNTA(O1798:$O$5195)>0),IF(COUNTIF(B1789:B1798,B1798)=10,B1798+7,B1798),\"\")","v":""},null,{"$f":"IF(E1799=1,B1799,\"\")","v":""},"",null,null,null,{"$f":"IF(COUNTA(O1799:Q1799)>0,1,0)","v":0},{"$f":"IF(O1799=\"y\",1,0)","v":0},{"$f":"IF(P1799=\"y\",1,0)","v":0},{"$f":"IF(Q1799=\"y\",1,0)","v":0},{"$f":"IFERROR(VLOOKUP(G1799,DropDowns!$D$2:$E$151,2,FALSE),\"\")","v":""},{"$f":"IFERROR(VLOOKUP(H1799,DropDowns!$F$2:$G$7,2,FALSE),\"Residual categories\")","v":"Residual categories"},null,null,null,{"$f":"IF(O1799=\"yes\",1,0)","v":0},{"$f":"IF(P1799=\"yes\",1,0)","v":0},{"$f":"IF(Q1799=\"yes\",1,0)","v":0}]
[0,{"$f":"IF(OR(COUNTA(O1770:O1799)>0,COUNTA(O1799:$O$5195)>0),IF(COUNTIF(B1790:B1799,B1799)=10,B1799+7,B1799),\"\")","v":""},null,"","",null,null,null,0,0,0,0,{"$f":"IFERROR(VLOOKUP(G1800,DropDowns!$D$2:$E$151,2,FALSE),\"\")","v":""},{"$f":"IFERROR(VLOOKUP(H1800,DropDowns!$F$2:$G$7,2,FALSE),\"Residual categories\")","v":"Residual categories"},null,null,null,0,0,0]
[0,{"$f":"IF(OR(COUNTA(O1771:O1800)>0,COUNTA(O1800:$O$5195)>0),IF(COUNTIF(B1791:B1800,B1800)=10,B1800+7,B1800),\"\")","v":""},null,"","",null,null,null,0,0,0,0,{"$f":"IFERROR(VLOOKUP(G1801,DropDowns!$D$2:$E$151,2,FALSE),\"\")","v":""},{"$f":"IFERROR(VLOOKUP(H1801,DropDowns!$F$2:$G$7,2,FALSE),\"Residual categories\")","v":"Residual categories"},null,null,null,0,0,0]
[0,{"$f":"IF(OR(COUNTA(O1772:O1801)>0,COUNTA(O1801:$O$5195)>0),IF(COUNTIF(B1792:B1801,B1801)=10,B1801+7,B1801),\"\")","v":""},null,"","",null,null,null,0,0,0,0,{"$f":"IFERROR(VLOOKUP(G1802,DropDowns!$D$2:$E$151,2,FALSE),\"\")","v":""},{"$f":"IFERROR(VLOOKUP(H1802,DropDowns!$F$2:$G$7,2,FALSE),\"Residual categories\")","v":"Residual categories"},null,null,null,0,0,0]
[0,{"$f":"IF(OR(COUNTA(O1773:O1802)>0,COUNTA(O1802:$O$5195)>0),IF(COUNTIF(B1793:B1802,B1802)=10,B1802+7,B1802),\"\")","v":""},null,"","",null,null,null,0,0,0,0,{"$f":"IFERROR(VLOOKUP(G1803,DropDowns!$D$2:$E$151,2,FALSE),\"\")","v":""},{"$f":"IFERROR(VLOOKUP(H1803,DropDowns!$F$2:$G$7,2,FALSE),\"Residual categories\")","v":"Residual categories"},null,null,null,0,0,0]
[0,{"$f":"IF(OR(COUNTA(O1774:O1803)>0,COUNTA(O1803:$O$5195)>0),IF(COUNTIF(B1794:B1803,B1803)=10,B1803+7,B1803),\"\")","v":""},null,"","",null,null,null,0,0,0,0,{"$f":"IFERROR(VLOOKUP(G1804,DropDowns!$D$2:$E$151,2,FALSE),\"\")","v":""},{"$f":"IFERROR(VLOOKUP(H1804,DropDowns!$F$2:$G$7,2,FALSE),\"Residual categories\")","v":"Residual categories"},null,null,null,0,0,0]
[0,{"$f":"IF(OR(COUNTA(O1775:O1804)>0,COUNTA(O1804:$O$5195)>0),IF(COUNTIF(B1795:B1804,B1804)=10,B1804+7,B1804),\"\")","v":""},null,"","",null,null,null,0,0,0,0,{"$f":"IFERROR(VLOOKUP(G1805,DropDowns!$D$2:$E$151,2,FALSE),\"\")","v":""},{"$f":"IFERROR(VLOOKUP(H1805,DropDowns!$F$2:$G$7,2,FALSE),\"Residual categories\")","v":"Residual categories"},null,null,null,0,0,0]
[0,{"$f":"IF(OR(COUNTA(O1776:O1805)>0,COUNTA(O1805:$O$5195)>0),IF(COUNTIF(B1796:B1805,B1805)=10,B1805+7,B1805),\"\")","v":""},null,"","",null,null,null,0,0,0,0,{"$f":"IFERROR(VLOOKUP(G1806,DropDowns!$D$2:$E$151,2,FALSE),\"\")","v":""},{"$f":"IFERROR(VLOOKUP(H1806,DropDowns!$F$2:$G$7,2,FALSE),\"Residual categories\")","v":"Residual categories"},null,null,null,0,0,0]
[0,{"$f":"IF(OR(COUNTA(O1777:O1806)>0,COUNTA(O1806:$O$5195)>0),IF(COUNTIF(B1797:B1806,B1806)=10,B1806+7,B1806),\"\")","v":""},null,"","",null,null,null,0,0,0,0,{"$f":"IFERROR(VLOOKUP(G1807,DropDowns!$D$2:$E$151,2,FALSE),\"\")","v":""},{"$f":"IFERROR(VLOOKUP(H1807,DropDowns!$F$2:$G$7,2,FALSE),\"Residual categories\")","v":"Residual categories"},null,null,null,0,0,0]
[0,{"$f":"IF(OR(COUNTA(O1778:O1807)>0,COUNTA(O1807:$O$5195)>0),IF(COUNTIF(B1798:B1807,B1807)=10,B1807+7,B1807),\"\")","v":""},null,"","",null,null,null,0,0,0,0,{"$f":"IFERROR(VLOOKUP(G1808,DropDowns!$D$2:$E$151,2,FALSE),\"\")","v":""},{"$f":"IFERROR(VLOOKUP(H1808,DropDowns!$F$2:$G$7,2,FALSE),\"Residual categories\")","v":"Residual categories"},null,null,null,0,0,0]
[0,{"$f":"IF(OR(COUNTA(O1779:O1808)>0,COUNTA(O1808:$O$5195)>0),IF(COUNTIF(B1799:B1808,B1808)=10,B1808+7,B1808),\"\")","v":""},null,"",{"$f":"IF(B1809=\"\",\"\",COUNTIF(B1800:B1809,B1809))","v":""},null,null,null,0,0,0,0,{"$f":"IFERROR(VLOOKUP(G1809,DropDowns!$D$2:$E$151,2,FALSE),\"\")","v":""},{"$f":"IFERROR(VLOOKUP(H1809,DropDowns!$F$2:$G$7,2,FALSE),\"Residual categories\")","v":"Residual categories"},null,null,null,0,0,0]
[0,{"$f":"IF(OR(COUNTA(O1780:O1809)>0,COUNTA(O1809:$O$5195)>0),IF(COUNTIF(B1800:B1809,B1809)=10,B1809+7,B1809),\"\")","v":""},null,"","",null,null,null,0,0,0,0,{"$f":"IFERROR(VLOOKUP(G1810,DropDowns!$D$2:$E$151,2,FALSE),\"\")","v":""},{"$f":"IFERROR(VLOOKUP(H1810,DropDowns!$F$2:$G$7,2,FALSE),\"Residual categories\")","v":"Residual categories"},null,null,null,0,0,0]
[0,{"$f":"IF(OR(COUNTA(O1781:O1810)>0,COUNTA(O1810:$O$5195)>0),IF(COUNTIF(B1801:B1810,B1810)=10,B1810+7,B1810),\"\")","v":""},null,"","",null,null,null,0,0,0,0,{"$f":"IFERROR(VLOOKUP(G1811,DropDowns!$D$2:$E$151,2,FALSE),\"\")","v":""},{"$f":"IFERROR(VLOOKUP(H1811,DropDowns!$F$2:$G$7,2,FALSE),\"Residual categories\")","v":"Residual categories"},null,null,null,0,0,0]
[{"$f":"$E$2","v":0},{"$f":"IF(OR(COUNTA(O1782:O1811)>0,COUNTA(O1811:$O$5195)>0),IF(COUNTIF(B1802:B1811,B1811)=10,B1811+7,B1811),\"\")","v":""},null,"","",null,null,null,0,0,0,0,{"$f":"IFERROR(VLOOKUP(G1812,DropDowns!$D$2:$E$151,2,FALSE),\"\")","v":""},{"$f":"IFERROR(VLOOKUP(H1812,DropDowns!$F$2:$G$7,2,FALSE),\"Residual categories\")","v":"Residual categories"},null,null,null,0,0,0]
[0,{"$f":"IF(OR(COUNTA(O1783:O1812)>0,COUNTA(O1812:$O$5195)>0),IF(COUNTIF(B1803:B1812,B1812)=10,B1812+7,B1812),\"\")","v":""},null,"","",null,null,null,0,0,0,0,{"$f":"IFERROR(VLOOKUP(G1813,DropDowns!$D$2:$E$151,2,FALSE),\"\")","v":""},{"$f":"IFERROR(VLOOKUP(H1813,DropDowns!$F$2:$G$7,2,FALSE),\"Residual categories\")","v":"Residual categories"},null,null,null,0,0,0]
[0,{"$f":"IF(OR(COUNTA(O1784:O1813)>0,COUNTA(O1813:$O$5195)>0),IF(COUNTIF(B1804:B1813,B1813)=10,B1813+7,B1813),\"\")","v":""},null,"","",null,null,null,0,0,0,0,{"$f":"IFERROR(VLOOKUP(G1814,DropDowns!$D$2:$E$151,2,FALSE),\"\")","v":""},{"$f":"IFERROR(VLOOKUP(H1814,DropDowns!$F$2:$G$7,2,FALSE),\"Residual categories\")","v":"Residual categories"},null,null,null,0,0,0]
[0,{"$f":"IF(OR(COUNTA(O1785:O1814)>0,COUNTA(O1814:$O$5195)>0),IF(COUNTIF(B1805:B1814,B1814)=10,B1814+7,B1814),\"\")","v":""},null,"","",null,null,null,0,0,0,0,{"$f":"IFERROR(VLOOKUP(G1815,DropDowns!$D$2:$E$151,2,FALSE),\"\")","v":""},{"$f":"IFERROR(VLOOKUP(H1815,DropDowns!$F$2:$G$7,2,FALSE),\"Residual categories\")","v":"Residual categories"},null,null,null,0,0,0]
[0,{"$f":"IF(OR(COUNTA(O1786:O1815)>0,COUNTA(O1815:$O$5195)>0),IF(COUNTIF(B1806:B1815,B1815)=10,B1815+7,B1815),\"\")","v":""},null,"","",null,null,null,0,0,0,0,{"$f":"IFERROR(VLOOKUP(G1816,DropDowns!$D$2:$E$151,2,FALSE),\"\")","v":""},{"$f":"IFERROR(VLOOKUP(H1816,DropDowns!$F$2:$G$7,2,FALSE),\"Residual categories\")","v":"Residual categories"},null,null,null,0,0,0]
[0,{"$f":"IF(OR(COUNTA(O1787:O1816)>0,COUNTA(O1816:$O$5195)>0),IF(COUNTIF(B1807:B1816,B1816)=10,B1816+7,B1816),\"\")","v":""},null,"","",null,null,null,0,0,0,0,{"$f":"IFERROR(VLOOKUP(G1817,DropDowns!$D$2:$E$151,2,FALSE),\"\")","v":""},{"$f":"IFERROR(VLOOKUP(H1817,DropDowns!$F$2:$G$7,2,FALSE),\"Residual categories\")","v":"Residual categories"},null,null,null,0,0,0]
[0,{"$f":"IF(OR(COUNTA(O1788:O1817)>0,COUNTA(O1817:$O$5195)>0),IF(COUNTIF(B1808:B1817,B1817)=10,B1817+7,B1817),\"\")","v":""},null,"","",null,null,null,0,0,0,0,{"$f":"IFERROR(VLOOKUP(G1818,DropDowns!$D$2:$E$151,2,FALSE),\"\")","v":""},{"$f":"IFERROR(VLOOKUP(H1818,DropDowns!$F$2:$G$7,2,FALSE),\"Residual categories\")","v":"Residual categories"},null,null,null,0,0,0]
[0,{"$f":"IF(OR(COUNTA(O1789:O1818)>0,COUNTA(O1818:$O$5195)>0),IF(COUNTIF(B1809:B1818,B1818)=10,B1818+7,B1818),\"\")","v":""},null,"","",null,null,null,0,0,0,0,{"$f":"IFERROR(VLOOKUP(G1819,DropDowns!$D$2:$E$151,2,FALSE),\"\")","v":""},{"$f":"IFERROR(VLOOKUP(H1819,DropDowns!$F$2:$G$7,2,FALSE),\"Residual categories\")","v":"Residual categories"},null,null,null,0,0,0]
[0,{"$f":"IF(OR(COUNTA(O1790:O1819)>0,COUNTA(O1819:$O$5195)>0),IF(COUNTIF(B1810:B1819,B1819)=10,B1819+7,B1819),\"\")","v":""},null,"","",null,null,null,0,0,0,0,{"$f":"IFERROR(VLOOKUP(G1820,DropDowns!$D$2:$E$151,2,FALSE),\"\")","v":""},{"$f":"IFERROR(VLOOKUP(H1820,DropDowns!$F$2:$G$7,2,FALSE),\"Residual categories\")","v":"Residual categories"},null,null,null,0,0,0]
[0,{"$f":"IF(OR(COUNTA(O1791:O1820)>0,COUNTA(O1820:$O$5195)>0),IF(COUNTIF(B1811:B1820,B1820)=10,B1820+7,B1820),\"\")","v":""},null,"","",null,null,null,0,0,0,0,{"$f":"IFERROR(VLOOKUP(G1821,DropDowns!$D$2:$E$151,2,FALSE),\"\")","v":""},{"$f":"IFERROR(VLOOKUP(H1821,DropDowns!$F$2:$G$7,2,FALSE),\"Residual categories\")","v":"Residual categories"},null,null,null,0,0,0]
[0,{"$f":"IF(OR(COUNTA(O1792:O1821)>0,COUNTA(O1821:$O$5195)>0),IF(COUNTIF(B1812:B1821,B1821)=10,B1821+7,B1821),\"\")","v":""},null,"","",null,null,null,0,0,0,0,{"$f":"IFERROR(VLOOKUP(G1822,DropDowns!$D$2:$E$151,2,FALSE),\"\")","v":""},{"$f":"IFERROR(VLOOKUP(H1822,DropDowns!$F$2:$G$7,2,FALSE),\"Residual categories\")","v":"Residual categories"},null,null,null,0,0,0]
[0,{"$f":"IF(OR(COUNTA(O1793:O1822)>0,COUNTA(O1822:$O$5195)>0),IF(COUNTIF(B1813:B1822,B1822)=10,B1822+7,B1822),\"\")","v":""},null,"","",null,null,null,0,0,0,0,{"$f":"IFERROR(VLOOKUP(G1823,DropDowns!$D$2:$E$151,2,FALSE),\"\")","v":""},{"$f":"IFERROR(VLOOKUP(H1823,DropDowns!$F$2:$G$7,2,FALSE),\"Residual categories\")","v":"Residual categories"},null,null,null,0,0,0]
[0,{"$f":"IF(OR(COUNTA(O1794:O1823)>0,COUNTA(O1823:$O$5195)>0),IF(COUNTIF(B1814:B1823,B1823)=10,B1823+7,B1823),\"\")","v":""},null,"","",null,null,null,0,0,0,0,{"$f":"IFERROR(VLOOKUP(G1824,DropDowns!$D$2:$E$151,2,FALSE),\"\")","v":""},{"$f":"IFERROR(VLOOKUP(H1824,DropDowns!$F$2:$G$7,2,FALSE),\"Residual categories\")","v":"Residual categories"},null,null,null,0,0,0]
[0,{"$f":"IF(OR(COUNTA(O1795:O1824)>0,COUNTA(O1824:$O$5195)>0),IF(COUNTIF(B1815:B1824,B1824)=10,B1824+7,B1824),\"\")","v":""},null,"","",null,null,null,0,0,0,0,{"$f":"IFERROR(VLOOKUP(G1825,DropDowns!$D$2:$E$151,2,FALSE),\"\")","v":""},{"$f":"IFERROR(VLOOKUP(H1825,DropDowns!$F$2:$G$7,2,FALSE),\"Residual categories\")","v":"Residual categories"},null,null,null,0,0,0]
[0,{"$f":"IF(OR(COUNTA(O1796:O1825)>0,COUNTA(O1825:$O$5195)>0),IF(COUNTIF(B1816:B1825,B1825)=10,B1825+7,B1825),\"\")","v":""},null,"","",null,null,null,0,0,0,0,{"$f":"IFERROR(VLOOKUP(G1826,DropDowns!$D$2:$E$151,2,FALSE),\"\")","v":""},{"$f":"IFERROR(VLOOKUP(H1826,DropDowns!$F$2:$G$7,2,FALSE),\"Residual categories\")","v":"Residual categories"},null,null,null,0,0,0]
[0,{"$f":"IF(OR(COUNTA(O1797:O1826)>0,COUNTA(O1826:$O$5195)>0),IF(COUNTIF(B1817:B1826,B1826)=10,B1826+7,B1826),\"\")","v":""},null,"","",null,null,null,0,0,0,0,{"$f":"IFERROR(VLOOKUP(G1827,DropDowns!$D$2:$E$151,2,FALSE),\"\")","v":""},{"$f":"IFERROR(VLOOKUP(H1827,DropDowns!$F$2:$G$7,2,FALSE),\"Residual categories\")","v":"Residual categories"},null,null,null,0,0,0]
[0,{"$f":"IF(OR(COUNTA(O1798:O1827)>0,COUNTA(O1827:$O$5195)>0),IF(COUNTIF(B1818:B1827,B1827)=10,B1827+7,B1827),\"\")","v":""},null,"","",null,null,null,0,0,0,0,{"$f":"IFERROR(VLOOKUP(G1828,DropDowns!$D$2:$E$151,2,FALSE),\"\")","v":""},{"$f":"IFERROR(VLOOKUP(H1828,DropDowns!$F$2:$G$7,2,FALSE),\"Residual categories\")","v":"Residual categories"},null,null,null,0,0,0]
[0,{"$f":"IF(OR(COUNTA(O1799:O1828)>0,COUNTA(O1828:$O$5195)>0),IF(COUNTIF(B1819:B1828,B1828)=10,B1828+7,B1828),\"\")","v":""},null,"","",null,null,null,0,0,0,0,{"$f":"IFERROR(VLOOKUP(G1829,DropDowns!$D$2:$E$151,2,FALSE),\"\")","v":""},{"$f":"IFERROR(VLOOKUP(H1829,DropDowns!$F$2:$G$7,2,FALSE),\"Residual categories\")","v":"Residual categories"},null,null,null,0,0,0]
[0,{"$f":"IF(OR(COUNTA(O1800:O1829)>0,COUNTA(O1829:$O$5195)>0),IF(COUNTIF(B1820:B1829,B1829)=10,B1829+7,B1829),\"\")","v":""},null,"","",null,null,null,0,0,0,0,{"$f":"IFERROR(VLOOKUP(G1830,DropDowns!$D$2:$E$151,2,FALSE),\"\")","v":""},{"$f":"IFERROR(VLOOKUP(H1830,DropDowns!$F$2:$G$7,2,FALSE),\"Residual categories\")","v":"Residual categories"},null,null,null,0,0,0]
[0,{"$f":"IF(OR(COUNTA(O1801:O1830)>0,COUNTA(O1830:$O$5195)>0),IF(COUNTIF(B1821:B1830,B1830)=10,B1830+7,B1830),\"\")","v":""},null,"","",null,null,null,0,0,0,0,{"$f":"IFERROR(VLOOKUP(G1831,DropDowns!$D$2:$E$151,2,FALSE),\"\")","v":""},{"$f":"IFERROR(VLOOKUP(H1831,DropDowns!$F$2:$G$7,2,FALSE),\"Residual categories\")","v":"Residual categories"},null,null,null,0,0,0]
[0,{"$f":"IF(OR(COUNTA(O1802:O1831)>0,COUNTA(O1831:$O$5195)>0),IF(COUNTIF(B1822:B1831,B1831)=10,B1831+7,B1831),\"\")","v":""},null,"","",null,null,null,0,0,0,0,{"$f":"IFERROR(VLOOKUP(G1832,DropDowns!$D$2:$E$151,2,FALSE),\"\")","v":""},{"$f":"IFERROR(VLOOKUP(H1832,DropDowns!$F$2:$G$7,2,FALSE),\"Residual categories\")","v":"Residual categories"},null,null,null,0,0,0]
[0,{"$f":"IF(OR(COUNTA(O1803:O1832)>0,COUNTA(O1832:$O$5195)>0),IF(COUNTIF(B1823:B1832,B1832)=10,B1832+7,B1832),\"\")","v":""},null,"","",null,null,null,0,0,0,0,{"$f":"IFERROR(VLOOKUP(G1833,DropDowns!$D$2:$E$151,2,FALSE),\"\")","v":""},{"$f":"IFERROR(VLOOKUP(H1833,DropDowns!$F$2:$G$7,2,FALSE),\"Residual categories\")","v":"Residual categories"},null,null,null,0,0,0]
[0,{"$f":"IF(OR(COUNTA(O1804:O1833)>0,COUNTA(O1833:$O$5195)>0),IF(COUNTIF(B1824:B1833,B1833)=10,B1833+7,B1833),\"\")","v":""},null,"","",null,null,null,0,0,0,0,{"$f":"IFERROR(VLOOKUP(G1834,DropDowns!$D$2:$E$151,2,FALSE),\"\")","v":""},{"$f":"IFERROR(VLOOKUP(H1834,DropDowns!$F$2:$G$7,2,FALSE),\"Residual categories\")","v":"Residual categories"},null,null,null,0,0,0]
[0,{"$f":"IF(OR(COUNTA(O1805:O1834)>0,COUNTA(O1834:$O$5195)>0),IF(COUNTIF(B1825:B1834,B1834)=10,B1834+7,B1834),\"\")","v":""},null,"","",null,null,null,0,0,0,0,{"$f":"IFERROR(VLOOKUP(G1835,DropDowns!$D$2:$E$151,2,FALSE),\"\")","v":""},{"$f":"IFERROR(VLOOKUP(H1835,DropDowns!$F$2:$G$7,2,FALSE),\"Residual categories\")","v":"Residual categories"},null,null,null,0,0,0]
[0,{"$f":"IF(OR(COUNTA(O1806:O1835)>0,COUNTA(O1835:$O$5195)>0),IF(COUNTIF(B1826:B1835,B1835)=10,B1835+7,B1835),\"\")","v":""},null,"","",null,null,null,0,0,0,0,{"$f":"IFERROR(VLOOKUP(G1836,DropDowns!$D$2:$E$151,2,FALSE),\"\")","v":""},{"$f":"IFERROR(VLOOKUP(H1836,DropDowns!$F$2:$G$7,2,FALSE),\"Residual categories\")","v":"Residual categories"},null,null,null,0,0,0]
[0,{"$f":"IF(OR(COUNTA(O1807:O1836)>0,COUNTA(O1836:$O$5195)>0),IF(COUNTIF(B1827:B1836,B1836)=10,B1836+7,B1836),\"\")","v":""},null,"","",null,null,null,0,0,0,0,{"$f":"IFERROR(VLOOKUP(G1837,DropDowns!$D$2:$E$151,2,FALSE),\"\")","v":""},{"$f":"IFERROR(VLOOKUP(H1837,DropDowns!$F$2:$G$7,2,FALSE),\"Residual categories\")","v":"Residual categories"},null,null,null,0,0,0]
[0,{"$f":"IF(OR(COUNTA(O1808:O1837)>0,COUNTA(O1837:$O$5195)>0),IF(COUNTIF(B1828:B1837,B1837)=10,B1837+7,B1837),\"\")","v":""},null,"","",null,null,null,0,0,0,0,{"$f":"IFERROR(VLOOKUP(G1838,DropDowns!$D$2:$E$151,2,FALSE),\"\")","v":""},{"$f":"IFERROR(VLOOKUP(H1838,DropDowns!$F$2:$G$7,2,FALSE),\"Residual categories\")","v":"Residual categories"},null,null,null,0,0,0]
[0,{"$f":"IF(OR(COUNTA(O1809:O1838)>0,COUNTA(O1838:$O$5195)>0),IF(COUNTIF(B1829:B1838,B1838)=10,B1838+7,B1838),\"\")","v":""},null,"","",null,null,null,0,0,0,0,{"$f":"IFERROR(VLOOKUP(G1839,DropDowns!$D$2:$E$151,2,FALSE),\"\")","v":""},{"$f":"IFERROR(VLOOKUP(H1839,DropDowns!$F$2:$G$7,2,FALSE),\"Residual categories\")","v":"Residual categories"},null,null,null,0,0,0]
[0,{"$f":"IF(OR(COUNTA(O1810:O1839)>0,COUNTA(O1839:$O$5195)>0),IF(COUNTIF(B1830:B1839,B1839)=10,B1839+7,B1839),\"\")","v":""},null,"","",null,null,null,0,0,0,0,{"$f":"IFERROR(VLOOKUP(G1840,DropDowns!$D$2:$E$151,2,FALSE),\"\")","v":""},{"$f":"IFERROR(VLOOKUP(H1840,DropDowns!$F$2:$G$7,2,FALSE),\"Residual categories\")","v":"Residual categories"},null,null,null,0,0,0]
[0,{"$f":"IF(OR(COUNTA(O1811:O1840)>0,COUNTA(O1840:$O$5195)>0),IF(COUNTIF(B1831:B1840,B1840)=10,B1840+7,B1840),\"\")","v":""},null,"","",null,null,null,0,0,0,0,{"$f":"IFERROR(VLOOKUP(G1841,DropDowns!$D$2:$E$151,2,FALSE),\"\")","v":""},{"$f":"IFERROR(VLOOKUP(H1841,DropDowns!$F$2:$G$7,2,FALSE),\"Residual categories\")","v":"Residual categories"},null,null,null,0,0,0]
[0,{"$f":"IF(OR(COUNTA(O1812:O1841)>0,COUNTA(O1841:$O$5195)>0),IF(COUNTIF(B1832:B1841,B1841)=10,B1841+7,B1841),\"\")","v":""},null,"","",null,null,null,0,0,0,0,{"$f":"IFERROR(VLOOKUP(G1842,DropDowns!$D$2:$E$151,2,FALSE),\"\")","v":""},{"$f":"IFERROR(VLOOKUP(H1842,DropDowns!$F$2:$G$7,2,FALSE),\"Residual categories\")","v":"Residual categories"},null,null,null,0,0,0]
[0,{"$f":"IF(OR(COUNTA(O1813:O1842)>0,COUNTA(O1842:$O$5195)>0),IF(COUNTIF(B1833:B1842,B1842)=10,B1842+7,B1842),\"\")","v":""},null,"","",null,null,null,0,0,0,0,{"$f":"IFERROR(VLOOKUP(G1843,DropDowns!$D$2:$E$151,2,FALSE),\"\")","v":""},{"$f":"IFERROR(VLOOKUP(H1843,DropDowns!$F$2:$G$7,2,FALSE),\"Residual categories\")","v":"Residual categories"},null,null,null,0,0,0]
[0,{"$f":"IF(OR(COUNTA(O1814:O1843)>0,COUNTA(O1843:$O$5195)>0),IF(COUNTIF(B1834:B1843,B1843)=10,B1843+7,B1843),\"\")","v":""},null,"","",null,null,null,0,0,0,0,{"$f":"IFERROR(VLOOKUP(G1844,DropDowns!$D$2:$E$151,2,FALSE),\"\")","v":""},{"$f":"IFERROR(VLOOKUP(H1844,DropDowns!$F$2:$G$7,2,FALSE),\"Residual categories\")","v":"Residual categories"},null,null,null,0,0,0]
[0,{"$f":"IF(OR(COUNTA(O1815:O1844)>0,COUNTA(O1844:$O$5195)>0),IF(COUNTIF(B1835:B1844,B1844)=10,B1844+7,B1844),\"\")","v":""},null,"","",null,null,null,0,0,0,0,{"$f":"IFERROR(VLOOKUP(G1845,DropDowns!$D$2:$E$151,2,FALSE),\"\")","v":""},{"$f":"IFERROR(VLOOKUP(H1845,DropDowns!$F$2:$G$7,2,FALSE),\"Residual categories\")","v":"Residual categories"},null,null,null,0,0,0]
[0,{"$f":"IF(OR(COUNTA(O1816:O1845)>0,COUNTA(O1845:$O$5195)>0),IF(COUNTIF(B1836:B1845,B1845)=10,B1845+7,B1845),\"\")","v":""},null,"","",null,null,null,0,0,0,0,{"$f":"IFERROR(VLOOKUP(G1846,DropDowns!$D$2:$E$151,2,FALSE),\"\")","v":""},{"$f":"IFERROR(VLOOKUP(H1846,DropDowns!$F$2:$G$7,2,FALSE),\"Residual categories\")","v":"Residual categories"},null,null,null,0,0,0]
[0,{"$f":"IF(OR(COUNTA(O1817:O1846)>0,COUNTA(O1846:$O$5195)>0),IF(COUNTIF(B1837:B1846,B1846)=10,B1846+7,B1846),\"\")","v":""},null,"","",null,null,null,0,0,0,0,{"$f":"IFERROR(VLOOKUP(G1847,DropDowns!$D$2:$E$151,2,FALSE),\"\")","v":""},{"$f":"IFERROR(VLOOKUP(H1847,DropDowns!$F$2:$G$7,2,FALSE),\"Residual categories\")","v":"Residual categories"},null,null,null,0,0,0]
[0,{"$f":"IF(OR(COUNTA(O1818:O1847)>0,COUNTA(O1847:$O$5195)>0),IF(COUNTIF(B1838:B1847,B1847)=10,B1847+7,B1847),\"\")","v":""},null,"","",null,null,null,0,0,0,0,{"$f":"IFERROR(VLOOKUP(G1848,DropDowns!$D$2:$E$151,2,FALSE),\"\")","v":""},{"$f":"IFERROR(VLOOKUP(H1848,DropDowns!$F$2:$G$7,2,FALSE),\"Residual categories\")","v":"Residual categories"},null,null,null,0,0,0]
[0,{"$f":"IF(OR(COUNTA(O1819:O1848)>0,COUNTA(O1848:$O$5195)>0),IF(COUNTIF(B1839:B1848,B1848)=10,B1848+7,B1848),\"\")","v":""},null,"","",null,null,null,0,0,0,0,{"$f":"IFERROR(VLOOKUP(G1849,DropDowns!$D$2:$E$151,2,FALSE),\"\")","v":""},{"$f":"IFERROR(VLOOKUP(H1849,DropDowns!$F$2:$G$7,2,FALSE),\"Residual categories\")","v":"Residual categories"},null,null,null,0,0,0]
[0,{"$f":"IF(OR(COUNTA(O1820:O1849)>0,COUNTA(O1849:$O$5195)>0),IF(COUNTIF(B1840:B1849,B1849)=10,B1849+7,B1849),\"\")","v":""},null,"","",null,null,null,0,0,0,0,{"$f":"IFERROR(VLOOKUP(G1850,DropDowns!$D$2:$E$151,2,FALSE),\"\")","v":""},{"$f":"IFERROR(VLOOKUP(H1850,DropDowns!$F$2:$G$7,2,FALSE),\"Residual categories\")","v":"Residual categories"},null,null,null,0,0,0]
[0,{"$f":"IF(OR(COUNTA(O1821:O1850)>0,COUNTA(O1850:$O$5195)>0),IF(COUNTIF(B1841:B1850,B1850)=10,B1850+7,B1850),\"\")","v":""},null,"","",null,null,null,0,0,0,0,{"$f":"IFERROR(VLOOKUP(G1851,DropDowns!$D$2:$E$151,2,FALSE),\"\")","v":""},{"$f":"IFERROR(VLOOKUP(H1851,DropDowns!$F$2:$G$7,2,FALSE),\"Residual categories\")","v":"Residual categories"},null,null,null,0,0,0]
[0,{"$f":"IF(OR(COUNTA(O1822:O1851)>0,COUNTA(O1851:$O$5195)>0),IF(COUNTIF(B1842:B1851,B1851)=10,B1851+7,B1851),\"\")","v":""},null,"","",null,null,null,0,0,0,0,{"$f":"IFERROR(VLOOKUP(G1852,DropDowns!$D$2:$E$151,2,FALSE),\"\")","v":""},{"$f":"IFERROR(VLOOKUP(H1852,DropDowns!$F$2:$G$7,2,FALSE),\"Residual categories\")","v":"Residual categories"},null,null,null,0,0,0]
[0,{"$f":"IF(OR(COUNTA(O1823:O1852)>0,COUNTA(O1852:$O$5195)>0),IF(COUNTIF(B1843:B1852,B1852)=10,B1852+7,B1852),\"\")","v":""},null,"","",null,null,null,0,0,0,0,{"$f":"IFERROR(VLOOKUP(G1853,DropDowns!$D$2:$E$151,2,FALSE),\"\")","v":""},{"$f":"IFERROR(VLOOKUP(H1853,DropDowns!$F$2:$G$7,2,FALSE),\"Residual categories\")","v":"Residual categories"},null,null,null,0,0,0]
[0,{"$f":"IF(OR(COUNTA(O1824:O1853)>0,COUNTA(O1853:$O$5195)>0),IF(COUNTIF(B1844:B1853,B1853)=10,B1853+7,B1853),\"\")","v":""},null,"","",null,null,null,0,0,0,0,{"$f":"IFERROR(VLOOKUP(G1854,DropDowns!$D$2:$E$151,2,FALSE),\"\")","v":""},{"$f":"IFERROR(VLOOKUP(H1854,DropDowns!$F$2:$G$7,2,FALSE),\"Residual categories\")","v":"Residual categories"},null,null,null,0,0,0]
[0,{"$f":"IF(OR(COUNTA(O1825:O1854)>0,COUNTA(O1854:$O$5195)>0),IF(COUNTIF(B1845:B1854,B1854)=10,B1854+7,B1854),\"\")","v":""},null,"","",null,null,null,0,0,0,0,{"$f":"IFERROR(VLOOKUP(G1855,DropDowns!$D$2:$E$151,2,FALSE),\"\")","v":""},{"$f":"IFERROR(VLOOKUP(H1855,DropDowns!$F$2:$G$7,2,FALSE),\"Residual categories\")","v":"Residual categories"},null,null,null,0,0,0]
[0,{"$f":"IF(OR(COUNTA(O1826:O1855)>0,COUNTA(O1855:$O$5195)>0),IF(COUNTIF(B1846:B1855,B1855)=10,B1855+7,B1855),\"\")","v":""},null,"","",null,null,null,0,0,0,0,{"$f":"IFERROR(VLOOKUP(G1856,DropDowns!$D$2:$E$151,2,FALSE),\"\")","v":""},{"$f":"IFERROR(VLOOKUP(H1856,DropDowns!$F$2:$G$7,2,FALSE),\"Residual categories\")","v":"Residual categories"},null,null,null,0,0,0]
[0,{"$f":"IF(OR(COUNTA(O1827:O1856)>0,COUNTA(O1856:$O$5195)>0),IF(COUNTIF(B1847:B1856,B1856)=10,B1856+7,B1856),\"\")","v":""},null,"","",null,null,null,0,0,0,0,{"$f":"IFERROR(VLOOKUP(G1857,DropDowns!$D$2:$E$151,2,FALSE),\"\")","v":""},{"$f":"IFERROR(VLOOKUP(H1857,DropDowns!$F$2:$G$7,2,FALSE),\"Residual categories\")","v":"Residual categories"},null,null,null,0,0,0]
[0,{"$f":"IF(OR(COUNTA(O1828:O1857)>0,COUNTA(O1857:$O$5195)>0),IF(COUNTIF(B1848:B1857,B1857)=10,B1857+7,B1857),\"\")","v":""},null,"","",null,null,null,0,0,0,0,{"$f":"IFERROR(VLOOKUP(G1858,DropDowns!$D$2:$E$151,2,FALSE),\"\")","v":""},{"$f":"IFERROR(VLOOKUP(H1858,DropDowns!$F$2:$G$7,2,FALSE),\"Residual categories\")","v":"Residual categories"},null,null,null,0,0,0]
[0,{"$f":"IF(OR(COUNTA(O1829:O1858)>0,COUNTA(O1858:$O$5195)>0),IF(COUNTIF(B1849:B1858,B1858)=10,B1858+7,B1858),\"\")","v":""},null,"","",null,null,null,0,0,0,0,{"$f":"IFERROR(VLOOKUP(G1859,DropDowns!$D$2:$E$151,2,FALSE),\"\")","v":""},{"$f":"IFERROR(VLOOKUP(H1859,DropDowns!$F$2:$G$7,2,FALSE),\"Residual categories\")","v":"Residual categories"},null,null,null,0,0,0]
[0,{"$f":"IF(OR(COUNTA(O1830:O1859)>0,COUNTA(O1859:$O$5195)>0),IF(COUNTIF(B1850:B1859,B1859)=10,B1859+7,B1859),\"\")","v":""},null,"","",null,null,null,0,0,0,0,{"$f":"IFERROR(VLOOKUP(G1860,DropDowns!$D$2:$E$151,2,FALSE),\"\")","v":""},{"$f":"IFERROR(VLOOKUP(H1860,DropDowns!$F$2:$G$7,2,FALSE),\"Residual categories\")","v":"Residual categories"},null,null,null,0,0,0]
[0,{"$f":"IF(OR(COUNTA(O1831:O1860)>0,COUNTA(O1860:$O$5195)>0),IF(COUNTIF(B1851:B1860,B1860)=10,B1860+7,B1860),\"\")","v":""},null,"","",null,null,null,0,0,0,0,{"$f":"IFERROR(VLOOKUP(G1861,DropDowns!$D$2:$E$151,2,FALSE),\"\")","v":""},{"$f":"IFERROR(VLOOKUP(H1861,DropDowns!$F$2:$G$7,2,FALSE),\"Residual categories\")","v":"Residual categories"},null,null,null,0,0,0]
[0,{"$f":"IF(OR(COUNTA(O1832:O1861)>0,COUNTA(O1861:$O$5195)>0),IF(COUNTIF(B1852:B1861,B1861)=10,B1861+7,B1861),\"\")","v":""},null,"","",null,null,null,0,0,0,0,{"$f":"IFERROR(VLOOKUP(G1862,DropDowns!$D$2:$E$151,2,FALSE),\"\")","v":""},{"$f":"IFERROR(VLOOKUP(H1862,DropDowns!$F$2:$G$7,2,FALSE),\"Residual categories\")","v":"Residual categories"},null,null,null,0,0,0]
[0,{"$f":"IF(OR(COUNTA(O1833:O1862)>0,COUNTA(O1862:$O$5195)>0),IF(COUNTIF(B1853:B1862,B1862)=10,B1862+7,B1862),\"\")","v":""},null,{"$f":"IF(E1863=1,B1863,\"\")","v":""},"",null,null,null,{"$f":"IF(COUNTA(O1863:Q1863)>0,1,0)","v":0},{"$f":"IF(O1863=\"y\",1,0)","v":0},{"$f":"IF(P1863=\"y\",1,0)","v":0},{"$f":"IF(Q1863=\"y\",1,0)","v":0},{"$f":"IFERROR(VLOOKUP(G1863,DropDowns!$D$2:$E$151,2,FALSE),\"\")","v":""},{"$f":"IFERROR(VLOOKUP(H1863,DropDowns!$F$2:$G$7,2,FALSE),\"Residual categories\")","v":"Residual categories"},null,null,null,{"$f":"IF(O1863=\"yes\",1,0)","v":0},{"$f":"IF(P1863=\"yes\",1,0)","v":0},{"$f":"IF(Q1863=\"yes\",1,0)","v":0}]
[0,{"$f":"IF(OR(COUNTA(O1834:O1863)>0,COUNTA(O1863:$O$5195)>0),IF(COUNTIF(B1854:B1863,B1863)=10,B1863+7,B1863),\"\")","v":""},null,"","",null,null,null,0,0,0,0,{"$f":"IFERROR(VLOOKUP(G1864,DropDowns!$D$2:$E$151,2,FALSE),\"\")","v":""},{"$f":"IFERROR(VLOOKUP(H1864,DropDowns!$F$2:$G$7,2,FALSE),\"Residual categories\")","v":"Residual categories"},null,null,null,0,0,0]
[0,{"$f":"IF(OR(COUNTA(O1835:O1864)>0,COUNTA(O1864:$O$5195)>0),IF(COUNTIF(B1855:B1864,B1864)=10,B1864+7,B1864),\"\")","v":""},null,"","",null,null,null,0,0,0,0,{"$f":"IFERROR(VLOOKUP(G1865,DropDowns!$D$2:$E$151,2,FALSE),\"\")","v":""},{"$f":"IFERROR(VLOOKUP(H1865,DropDowns!$F$2:$G$7,2,FALSE),\"Residual categories\")","v":"Residual categories"},null,null,null,0,0,0]
[0,{"$f":"IF(OR(COUNTA(O1836:O1865)>0,COUNTA(O1865:$O$5195)>0),IF(COUNTIF(B1856:B1865,B1865)=10,B1865+7,B1865),\"\")","v":""},null,"","",null,null,null,0,0,0,0,{"$f":"IFERROR(VLOOKUP(G1866,DropDowns!$D$2:$E$151,2,FALSE),\"\")","v":""},{"$f":"IFERROR(VLOOKUP(H1866,DropDowns!$F$2:$G$7,2,FALSE),\"Residual categories\")","v":"Residual categories"},null,null,null,0,0,0]
[0,{"$f":"IF(OR(COUNTA(O1837:O1866)>0,COUNTA(O1866:$O$5195)>0),IF(COUNTIF(B1857:B1866,B1866)=10,B1866+7,B1866),\"\")","v":""},null,"","",null,null,null,0,0,0,0,{"$f":"IFERROR(VLOOKUP(G1867,DropDowns!$D$2:$E$151,2,FALSE),\"\")","v":""},{"$f":"IFERROR(VLOOKUP(H1867,DropDowns!$F$2:$G$7,2,FALSE),\"Residual categories\")","v":"Residual categories"},null,null,null,0,0,0]
[0,{"$f":"IF(OR(COUNTA(O1838:O1867)>0,COUNTA(O1867:$O$5195)>0),IF(COUNTIF(B1858:B1867,B1867)=10,B1867+7,B1867),\"\")","v":""},null,"","",null,null,null,0,0,0,0,{"$f":"IFERROR(VLOOKUP(G1868,DropDowns!$D$2:$E$151,2,FALSE),\"\")","v":""},{"$f":"IFERROR(VLOOKUP(H1868,DropDowns!$F$2:$G$7,2,FALSE),\"Residual categories\")","v":"Residual categories"},null,null,null,0,0,0]
[0,{"$f":"IF(OR(COUNTA(O1839:O1868)>0,COUNTA(O1868:$O$5195)>0),IF(COUNTIF(B1859:B1868,B1868)=10,B1868+7,B1868),\"\")","v":""},null,"","",null,null,null,0,0,0,0,{"$f":"IFERROR(VLOOKUP(G1869,DropDowns!$D$2:$E$151,2,FALSE),\"\")","v":""},{"$f":"IFERROR(VLOOKUP(H1869,DropDowns!$F$2:$G$7,2,FALSE),\"Residual categories\")","v":"Residual categories"},null,null,null,0,0,0]
[0,{"$f":"IF(OR(COUNTA(O1840:O1869)>0,COUNTA(O1869:$O$5195)>0),IF(COUNTIF(B1860:B1869,B1869)=10,B1869+7,B1869),\"\")","v":""},null,"","",null,null,null,0,0,0,0,{"$f":"IFERROR(VLOOKUP(G1870,DropDowns!$D$2:$E$151,2,FALSE),\"\")","v":""},{"$f":"IFERROR(VLOOKUP(H1870,DropDowns!$F$2:$G$7,2,FALSE),\"Residual categories\")","v":"Residual categories"},null,null,null,0,0,0]
[0,{"$f":"IF(OR(COUNTA(O1841:O1870)>0,COUNTA(O1870:$O$5195)>0),IF(COUNTIF(B1861:B1870,B1870)=10,B1870+7,B1870),\"\")","v":""},null,"","",null,null,null,0,0,0,0,{"$f":"IFERROR(VLOOKUP(G1871,DropDowns!$D$2:$E$151,2,FALSE),\"\")","v":""},{"$f":"IFERROR(VLOOKUP(H1871,DropDowns!$F$2:$G$7,2,FALSE),\"Residual categories\")","v":"Residual categories"},null,null,null,0,0,0]
[0,{"$f":"IF(OR(COUNTA(O1842:O1871)>0,COUNTA(O1871:$O$5195)>0),IF(COUNTIF(B1862:B1871,B1871)=10,B1871+7,B1871),\"\")","v":""},null,"","",null,null,null,0,0,0,0,{"$f":"IFERROR(VLOOKUP(G1872,DropDowns!$D$2:$E$151,2,FALSE),\"\")","v":""},{"$f":"IFERROR(VLOOKUP(H1872,DropDowns!$F$2:$G$7,2,FALSE),\"Residual categories\")","v":"Residual categories"},null,null,null,0,0,0]
[0,{"$f":"IF(OR(COUNTA(O1843:O1872)>0,COUNTA(O1872:$O$5195)>0),IF(COUNTIF(B1863:B1872,B1872)=10,B1872+7,B1872),\"\")","v":""},null,"",{"$f":"IF(B1873=\"\",\"\",COUNTIF(B1864:B1873,B1873))","v":""},null,null,null,0,0,0,0,{"$f":"IFERROR(VLOOKUP(G1873,DropDowns!$D$2:$E$151,2,FALSE),\"\")","v":""},{"$f":"IFERROR(VLOOKUP(H1873,DropDowns!$F$2:$G$7,2,FALSE),\"Residual categories\")","v":"Residual categories"},null,null,null,0,0,0]
[0,{"$f":"IF(OR(COUNTA(O1844:O1873)>0,COUNTA(O1873:$O$5195)>0),IF(COUNTIF(B1864:B1873,B1873)=10,B1873+7,B1873),\"\")","v":""},null,"","",null,null,null,0,0,0,0,{"$f":"IFERROR(VLOOKUP(G1874,DropDowns!$D$2:$E$151,2,FALSE),\"\")","v":""},{"$f":"IFERROR(VLOOKUP(H1874,DropDowns!$F$2:$G$7,2,FALSE),\"Residual categories\")","v":"Residual categories"},null,null,null,0,0,0]
[0,{"$f":"IF(OR(COUNTA(O1845:O1874)>0,COUNTA(O1874:$O$5195)>0),IF(COUNTIF(B1865:B1874,B1874)=10,B1874+7,B1874),\"\")","v":""},null,"","",null,null,null,0,0,0,0,{"$f":"IFERROR(VLOOKUP(G1875,DropDowns!$D$2:$E$151,2,FALSE),\"\")","v":""},{"$f":"IFERROR(VLOOKUP(H1875,DropDowns!$F$2:$G$7,2,FALSE),\"Residual categories\")","v":"Residual categories"},null,null,null,0,0,0]
[{"$f":"$E$2","v":0},{"$f":"IF(OR(COUNTA(O1846:O1875)>0,COUNTA(O1875:$O$5195)>0),IF(COUNTIF(B1866:B1875,B1875)=10,B1875+7,B1875),\"\")","v":""},null,"","",null,null,null,0,0,0,0,{"$f":"IFERROR(VLOOKUP(G1876,DropDowns!$D$2:$E$151,2,FALSE),\"\")","v":""},{"$f":"IFERROR(VLOOKUP(H1876,DropDowns!$F$2:$G$7,2,FALSE),\"Residual categories\")","v":"Residual categories"},null,null,null,0,0,0]
[0,{"$f":"IF(OR(COUNTA(O1847:O1876)>0,COUNTA(O1876:$O$5195)>0),IF(COUNTIF(B1867:B1876,B1876)=10,B1876+7,B1876),\"\")","v":""},null,"","",null,null,null,0,0,0,0,{"$f":"IFERROR(VLOOKUP(G1877,DropDowns!$D$2:$E$151,2,FALSE),\"\")","v":""},{"$f":"IFERROR(VLOOKUP(H1877,DropDowns!$F$2:$G$7,2,FALSE),\"Residual categories\")","v":"Residual categories"},null,null,null,0,0,0]
[0,{"$f":"IF(OR(COUNTA(O1848:O1877)>0,COUNTA(O1877:$O$5195)>0),IF(COUNTIF(B1868:B1877,B1877)=10,B1877+7,B1877),\"\")","v":""},null,"","",null,null,null,0,0,0,0,{"$f":"IFERROR(VLOOKUP(G1878,DropDowns!$D$2:$E$151,2,FALSE),\"\")","v":""},{"$f":"IFERROR(VLOOKUP(H1878,DropDowns!$F$2:$G$7,2,FALSE),\"Residual categories\")","v":"Residual categories"},null,null,null,0,0,0]
[0,{"$f":"IF(OR(COUNTA(O1849:O1878)>0,COUNTA(O1878:$O$5195)>0),IF(COUNTIF(B1869:B1878,B1878)=10,B1878+7,B1878),\"\")","v":""},null,"","",null,null,null,0,0,0,0,{"$f":"IFERROR(VLOOKUP(G1879,DropDowns!$D$2:$E$151,2,FALSE),\"\")","v":""},{"$f":"IFERROR(VLOOKUP(H1879,DropDowns!$F$2:$G$7,2,FALSE),\"Residual categories\")","v":"Residual categories"},null,null,null,0,0,0]
[0,{"$f":"IF(OR(COUNTA(O1850:O1879)>0,COUNTA(O1879:$O$5195)>0),IF(COUNTIF(B1870:B1879,B1879)=10,B1879+7,B1879),\"\")","v":""},null,"","",null,null,null,0,0,0,0,{"$f":"IFERROR(VLOOKUP(G1880,DropDowns!$D$2:$E$151,2,FALSE),\"\")","v":""},{"$f":"IFERROR(VLOOKUP(H1880,DropDowns!$F$2:$G$7,2,FALSE),\"Residual categories\")","v":"Residual categories"},null,null,null,0,0,0]
[0,{"$f":"IF(OR(COUNTA(O1851:O1880)>0,COUNTA(O1880:$O$5195)>0),IF(COUNTIF(B1871:B1880,B1880)=10,B1880+7,B1880),\"\")","v":""},null,"","",null,null,null,0,0,0,0,{"$f":"IFERROR(VLOOKUP(G1881,DropDowns!$D$2:$E$151,2,FALSE),\"\")","v":""},{"$f":"IFERROR(VLOOKUP(H1881,DropDowns!$F$2:$G$7,2,FALSE),\"Residual categories\")","v":"Residual categories"},null,null,null,0,0,0]
[0,{"$f":"IF(OR(COUNTA(O1852:O1881)>0,COUNTA(O1881:$O$5195)>0),IF(COUNTIF(B1872:B1881,B1881)=10,B1881+7,B1881),\"\")","v":""},null,"","",null,null,null,0,0,0,0,{"$f":"IFERROR(VLOOKUP(G1882,DropDowns!$D$2:$E$151,2,FALSE),\"\")","v":""},{"$f":"IFERROR(VLOOKUP(H1882,DropDowns!$F$2:$G$7,2,FALSE),\"Residual categories\")","v":"Residual categories"},null,null,null,0,0,0]
[0,{"$f":"IF(OR(COUNTA(O1853:O1882)>0,COUNTA(O1882:$O$5195)>0),IF(COUNTIF(B1873:B1882,B1882)=10,B1882+7,B1882),\"\")","v":""},null,"","",null,null,null,0,0,0,0,{"$f":"IFERROR(VLOOKUP(G1883,DropDowns!$D$2:$E$151,2,FALSE),\"\")","v":""},{"$f":"IFERROR(VLOOKUP(H1883,DropDowns!$F$2:$G$7,2,FALSE),\"Residual categories\")","v":"Residual categories"},null,null,null,0,0,0]
[0,{"$f":"IF(OR(COUNTA(O1854:O1883)>0,COUNTA(O1883:$O$5195)>0),IF(COUNTIF(B1874:B1883,B1883)=10,B1883+7,B1883),\"\")","v":""},null,"","",null,null,null,0,0,0,0,{"$f":"IFERROR(VLOOKUP(G1884,DropDowns!$D$2:$E$151,2,FALSE),\"\")","v":""},{"$f":"IFERROR(VLOOKUP(H1884,DropDowns!$F$2:$G$7,2,FALSE),\"Residual categories\")","v":"Residual categories"},null,null,null,0,0,0]
[0,{"$f":"IF(OR(COUNTA(O1855:O1884)>0,COUNTA(O1884:$O$5195)>0),IF(COUNTIF(B1875:B1884,B1884)=10,B1884+7,B1884),\"\")","v":""},null,"","",null,null,null,0,0,0,0,{"$f":"IFERROR(VLOOKUP(G1885,DropDowns!$D$2:$E$151,2,FALSE),\"\")","v":""},{"$f":"IFERROR(VLOOKUP(H1885,DropDowns!$F$2:$G$7,2,FALSE),\"Residual categories\")","v":"Residual categories"},null,null,null,0,0,0]
[0,{"$f":"IF(OR(COUNTA(O1856:O1885)>0,COUNTA(O1885:$O$5195)>0),IF(COUNTIF(B1876:B1885,B1885)=10,B1885+7,B1885),\"\")","v":""},null,"","",null,null,null,0,0,0,0,{"$f":"IFERROR(VLOOKUP(G1886,DropDowns!$D$2:$E$151,2,FALSE),\"\")","v":""},{"$f":"IFERROR(VLOOKUP(H1886,DropDowns!$F$2:$G$7,2,FALSE),\"Residual categories\")","v":"Residual categories"},null,null,null,0,0,0]
[0,{"$f":"IF(OR(COUNTA(O1857:O1886)>0,COUNTA(O1886:$O$5195)>0),IF(COUNTIF(B1877:B1886,B1886)=10,B1886+7,B1886),\"\")","v":""},null,"","",null,null,null,0,0,0,0,{"$f":"IFERROR(VLOOKUP(G1887,DropDowns!$D$2:$E$151,2,FALSE),\"\")","v":""},{"$f":"IFERROR(VLOOKUP(H1887,DropDowns!$F$2:$G$7,2,FALSE),\"Residual categories\")","v":"Residual categories"},null,null,null,0,0,0]
[0,{"$f":"IF(OR(COUNTA(O1858:O1887)>0,COUNTA(O1887:$O$5195)>0),IF(COUNTIF(B1878:B1887,B1887)=10,B1887+7,B1887),\"\")","v":""},null,"","",null,null,null,0,0,0,0,{"$f":"IFERROR(VLOOKUP(G1888,DropDowns!$D$2:$E$151,2,FALSE),\"\")","v":""},{"$f":"IFERROR(VLOOKUP(H1888,DropDowns!$F$2:$G$7,2,FALSE),\"Residual categories\")","v":"Residual categories"},null,null,null,0,0,0]
[0,{"$f":"IF(OR(COUNTA(O1859:O1888)>0,COUNTA(O1888:$O$5195)>0),IF(COUNTIF(B1879:B1888,B1888)=10,B1888+7,B1888),\"\")","v":""},null,"","",null,null,null,0,0,0,0,{"$f":"IFERROR(VLOOKUP(G1889,DropDowns!$D$2:$E$151,2,FALSE),\"\")","v":""},{"$f":"IFERROR(VLOOKUP(H1889,DropDowns!$F$2:$G$7,2,FALSE),\"Residual categories\")","v":"Residual categories"},null,null,null,0,0,0]
[0,{"$f":"IF(OR(COUNTA(O1860:O1889)>0,COUNTA(O1889:$O$5195)>0),IF(COUNTIF(B1880:B1889,B1889)=10,B1889+7,B1889),\"\")","v":""},null,"","",null,null,null,0,0,0,0,{"$f":"IFERROR(VLOOKUP(G1890,DropDowns!$D$2:$E$151,2,FALSE),\"\")","v":""},{"$f":"IFERROR(VLOOKUP(H1890,DropDowns!$F$2:$G$7,2,FALSE),\"Residual categories\")","v":"Residual categories"},null,null,null,0,0,0]
[0,{"$f":"IF(OR(COUNTA(O1861:O1890)>0,COUNTA(O1890:$O$5195)>0),IF(COUNTIF(B1881:B1890,B1890)=10,B1890+7,B1890),\"\")","v":""},null,"","",null,null,null,0,0,0,0,{"$f":"IFERROR(VLOOKUP(G1891,DropDowns!$D$2:$E$151,2,FALSE),\"\")","v":""},{"$f":"IFERROR(VLOOKUP(H1891,DropDowns!$F$2:$G$7,2,FALSE),\"Residual categories\")","v":"Residual categories"},null,null,null,0,0,0]
[0,{"$f":"IF(OR(COUNTA(O1862:O1891)>0,COUNTA(O1891:$O$5195)>0),IF(COUNTIF(B1882:B1891,B1891)=10,B1891+7,B1891),\"\")","v":""},null,"","",null,null,null,0,0,0,0,{"$f":"IFERROR(VLOOKUP(G1892,DropDowns!$D$2:$E$151,2,FALSE),\"\")","v":""},{"$f":"IFERROR(VLOOKUP(H1892,DropDowns!$F$2:$G$7,2,FALSE),\"Residual categories\")","v":"Residual categories"},null,null,null,0,0,0]
[0,{"$f":"IF(OR(COUNTA(O1863:O1892)>0,COUNTA(O1892:$O$5195)>0),IF(COUNTIF(B1883:B1892,B1892)=10,B1892+7,B1892),\"\")","v":""},null,"","",null,null,null,0,0,0,0,{"$f":"IFERROR(VLOOKUP(G1893,DropDowns!$D$2:$E$151,2,FALSE),\"\")","v":""},{"$f":"IFERROR(VLOOKUP(H1893,DropDowns!$F$2:$G$7,2,FALSE),\"Residual categories\")","v":"Residual categories"},null,null,null,0,0,0]
[0,{"$f":"IF(OR(COUNTA(O1864:O1893)>0,COUNTA(O1893:$O$5195)>0),IF(COUNTIF(B1884:B1893,B1893)=10,B1893+7,B1893),\"\")","v":""},null,"","",null,null,null,0,0,0,0,{"$f":"IFERROR(VLOOKUP(G1894,DropDowns!$D$2:$E$151,2,FALSE),\"\")","v":""},{"$f":"IFERROR(VLOOKUP(H1894,DropDowns!$F$2:$G$7,2,FALSE),\"Residual categories\")","v":"Residual categories"},null,null,null,0,0,0]
[0,{"$f":"IF(OR(COUNTA(O1865:O1894)>0,COUNTA(O1894:$O$5195)>0),IF(COUNTIF(B1885:B1894,B1894)=10,B1894+7,B1894),\"\")","v":""},null,"","",null,null,null,0,0,0,0,{"$f":"IFERROR(VLOOKUP(G1895,DropDowns!$D$2:$E$151,2,FALSE),\"\")","v":""},{"$f":"IFERROR(VLOOKUP(H1895,DropDowns!$F$2:$G$7,2,FALSE),\"Residual categories\")","v":"Residual categories"},null,null,null,0,0,0]
[0,{"$f":"IF(OR(COUNTA(O1866:O1895)>0,COUNTA(O1895:$O$5195)>0),IF(COUNTIF(B1886:B1895,B1895)=10,B1895+7,B1895),\"\")","v":""},null,"","",null,null,null,0,0,0,0,{"$f":"IFERROR(VLOOKUP(G1896,DropDowns!$D$2:$E$151,2,FALSE),\"\")","v":""},{"$f":"IFERROR(VLOOKUP(H1896,DropDowns!$F$2:$G$7,2,FALSE),\"Residual categories\")","v":"Residual categories"},null,null,null,0,0,0]
[0,{"$f":"IF(OR(COUNTA(O1867:O1896)>0,COUNTA(O1896:$O$5195)>0),IF(COUNTIF(B1887:B1896,B1896)=10,B1896+7,B1896),\"\")","v":""},null,"","",null,null,null,0,0,0,0,{"$f":"IFERROR(VLOOKUP(G1897,DropDowns!$D$2:$E$151,2,FALSE),\"\")","v":""},{"$f":"IFERROR(VLOOKUP(H1897,DropDowns!$F$2:$G$7,2,FALSE),\"Residual categories\")","v":"Residual categories"},null,null,null,0,0,0]
[0,{"$f":"IF(OR(COUNTA(O1868:O1897)>0,COUNTA(O1897:$O$5195)>0),IF(COUNTIF(B1888:B1897,B1897)=10,B1897+7,B1897),\"\")","v":""},null,"","",null,null,null,0,0,0,0,{"$f":"IFERROR(VLOOKUP(G1898,DropDowns!$D$2:$E$151,2,FALSE),\"\")","v":""},{"$f":"IFERROR(VLOOKUP(H1898,DropDowns!$F$2:$G$7,2,FALSE),\"Residual categories\")","v":"Residual categories"},null,null,null,0,0,0]
[0,{"$f":"IF(OR(COUNTA(O1869:O1898)>0,COUNTA(O1898:$O$5195)>0),IF(COUNTIF(B1889:B1898,B1898)=10,B1898+7,B1898),\"\")","v":""},null,"","",null,null,null,0,0,0,0,{"$f":"IFERROR(VLOOKUP(G1899,DropDowns!$D$2:$E$151,2,FALSE),\"\")","v":""},{"$f":"IFERROR(VLOOKUP(H1899,DropDowns!$F$2:$G$7,2,FALSE),\"Residual categories\")","v":"Residual categories"},null,null,null,0,0,0]
[0,{"$f":"IF(OR(COUNTA(O1870:O1899)>0,COUNTA(O1899:$O$5195)>0),IF(COUNTIF(B1890:B1899,B1899)=10,B1899+7,B1899),\"\")","v":""},null,"","",null,null,null,0,0,0,0,{"$f":"IFERROR(VLOOKUP(G1900,DropDowns!$D$2:$E$151,2,FALSE),\"\")","v":""},{"$f":"IFERROR(VLOOKUP(H1900,DropDowns!$F$2:$G$7,2,FALSE),\"Residual categories\")","v":"Residual categories"},null,null,null,0,0,0]
[0,{"$f":"IF(OR(COUNTA(O1871:O1900)>0,COUNTA(O1900:$O$5195)>0),IF(COUNTIF(B1891:B1900,B1900)=10,B1900+7,B1900),\"\")","v":""},null,"","",null,null,null,0,0,0,0,{"$f":"IFERROR(VLOOKUP(G1901,DropDowns!$D$2:$E$151,2,FALSE),\"\")","v":""},{"$f":"IFERROR(VLOOKUP(H1901,DropDowns!$F$2:$G$7,2,FALSE),\"Residual categories\")","v":"Residual categories"},null,null,null,0,0,0]
[0,{"$f":"IF(OR(COUNTA(O1872:O1901)>0,COUNTA(O1901:$O$5195)>0),IF(COUNTIF(B1892:B1901,B1901)=10,B1901+7,B1901),\"\")","v":""},null,"","",null,null,null,0,0,0,0,{"$f":"IFERROR(VLOOKUP(G1902,DropDowns!$D$2:$E$151,2,FALSE),\"\")","v":""},{"$f":"IFERROR(VLOOKUP(H1902,DropDowns!$F$2:$G$7,2,FALSE),\"Residual categories\")","v":"Residual categories"},null,null,null,0,0,0]
[0,{"$f":"IF(OR(COUNTA(O1873:O1902)>0,COUNTA(O1902:$O$5195)>0),IF(COUNTIF(B1893:B1902,B1902)=10,B1902+7,B1902),\"\")","v":""},null,"","",null,null,null,0,0,0,0,{"$f":"IFERROR(VLOOKUP(G1903,DropDowns!$D$2:$E$151,2,FALSE),\"\")","v":""},{"$f":"IFERROR(VLOOKUP(H1903,DropDowns!$F$2:$G$7,2,FALSE),\"Residual categories\")","v":"Residual categories"},null,null,null,0,0,0]
[0,{"$f":"IF(OR(COUNTA(O1874:O1903)>0,COUNTA(O1903:$O$5195)>0),IF(COUNTIF(B1894:B1903,B1903)=10,B1903+7,B1903),\"\")","v":""},null,"","",null,null,null,0,0,0,0,{"$f":"IFERROR(VLOOKUP(G1904,DropDowns!$D$2:$E$151,2,FALSE),\"\")","v":""},{"$f":"IFERROR(VLOOKUP(H1904,DropDowns!$F$2:$G$7,2,FALSE),\"Residual categories\")","v":"Residual categories"},null,null,null,0,0,0]
[0,{"$f":"IF(OR(COUNTA(O1875:O1904)>0,COUNTA(O1904:$O$5195)>0),IF(COUNTIF(B1895:B1904,B1904)=10,B1904+7,B1904),\"\")","v":""},null,"","",null,null,null,0,0,0,0,{"$f":"IFERROR(VLOOKUP(G1905,DropDowns!$D$2:$E$151,2,FALSE),\"\")","v":""},{"$f":"IFERROR(VLOOKUP(H1905,DropDowns!$F$2:$G$7,2,FALSE),\"Residual categories\")","v":"Residual categories"},null,null,null,0,0,0]
[0,{"$f":"IF(OR(COUNTA(O1876:O1905)>0,COUNTA(O1905:$O$5195)>0),IF(COUNTIF(B1896:B1905,B1905)=10,B1905+7,B1905),\"\")","v":""},null,"","",null,null,null,0,0,0,0,{"$f":"IFERROR(VLOOKUP(G1906,DropDowns!$D$2:$E$151,2,FALSE),\"\")","v":""},{"$f":"IFERROR(VLOOKUP(H1906,DropDowns!$F$2:$G$7,2,FALSE),\"Residual categories\")","v":"Residual categories"},null,null,null,0,0,0]
[0,{"$f":"IF(OR(COUNTA(O1877:O1906)>0,COUNTA(O1906:$O$5195)>0),IF(COUNTIF(B1897:B1906,B1906)=10,B1906+7,B1906),\"\")","v":""},null,"","",null,null,null,0,0,0,0,{"$f":"IFERROR(VLOOKUP(G1907,DropDowns!$D$2:$E$151,2,FALSE),\"\")","v":""},{"$f":"IFERROR(VLOOKUP(H1907,DropDowns!$F$2:$G$7,2,FALSE),\"Residual categories\")","v":"Residual categories"},null,null,null,0,0,0]
[0,{"$f":"IF(OR(COUNTA(O1878:O1907)>0,COUNTA(O1907:$O$5195)>0),IF(COUNTIF(B1898:B1907,B1907)=10,B1907+7,B1907),\"\")","v":""},null,"","",null,null,null,0,0,0,0,{"$f":"IFERROR(VLOOKUP(G1908,DropDowns!$D$2:$E$151,2,FALSE),\"\")","v":""},{"$f":"IFERROR(VLOOKUP(H1908,DropDowns!$F$2:$G$7,2,FALSE),\"Residual categories\")","v":"Residual categories"},null,null,null,0,0,0]
[0,{"$f":"IF(OR(COUNTA(O1879:O1908)>0,COUNTA(O1908:$O$5195)>0),IF(COUNTIF(B1899:B1908,B1908)=10,B1908+7,B1908),\"\")","v":""},null,"","",null,null,null,0,0,0,0,{"$f":"IFERROR(VLOOKUP(G1909,DropDowns!$D$2:$E$151,2,FALSE),\"\")","v":""},{"$f":"IFERROR(VLOOKUP(H1909,DropDowns!$F$2:$G$7,2,FALSE),\"Residual categories\")","v":"Residual categories"},null,null,null,0,0,0]
[0,{"$f":"IF(OR(COUNTA(O1880:O1909)>0,COUNTA(O1909:$O$5195)>0),IF(COUNTIF(B1900:B1909,B1909)=10,B1909+7,B1909),\"\")","v":""},null,"","",null,null,null,0,0,0,0,{"$f":"IFERROR(VLOOKUP(G1910,DropDowns!$D$2:$E$151,2,FALSE),\"\")","v":""},{"$f":"IFERROR(VLOOKUP(H1910,DropDowns!$F$2:$G$7,2,FALSE),\"Residual categories\")","v":"Residual categories"},null,null,null,0,0,0]
[0,{"$f":"IF(OR(COUNTA(O1881:O1910)>0,COUNTA(O1910:$O$5195)>0),IF(COUNTIF(B1901:B1910,B1910)=10,B1910+7,B1910),\"\")","v":""},null,"","",null,null,null,0,0,0,0,{"$f":"IFERROR(VLOOKUP(G1911,DropDowns!$D$2:$E$151,2,FALSE),\"\")","v":""},{"$f":"IFERROR(VLOOKUP(H1911,DropDowns!$F$2:$G$7,2,FALSE),\"Residual categories\")","v":"Residual categories"},null,null,null,0,0,0]
[0,{"$f":"IF(OR(COUNTA(O1882:O1911)>0,COUNTA(O1911:$O$5195)>0),IF(COUNTIF(B1902:B1911,B1911)=10,B1911+7,B1911),\"\")","v":""},null,"","",null,null,null,0,0,0,0,{"$f":"IFERROR(VLOOKUP(G1912,DropDowns!$D$2:$E$151,2,FALSE),\"\")","v":""},{"$f":"IFERROR(VLOOKUP(H1912,DropDowns!$F$2:$G$7,2,FALSE),\"Residual categories\")","v":"Residual categories"},null,null,null,0,0,0]
[0,{"$f":"IF(OR(COUNTA(O1883:O1912)>0,COUNTA(O1912:$O$5195)>0),IF(COUNTIF(B1903:B1912,B1912)=10,B1912+7,B1912),\"\")","v":""},null,"","",null,null,null,0,0,0,0,{"$f":"IFERROR(VLOOKUP(G1913,DropDowns!$D$2:$E$151,2,FALSE),\"\")","v":""},{"$f":"IFERROR(VLOOKUP(H1913,DropDowns!$F$2:$G$7,2,FALSE),\"Residual categories\")","v":"Residual categories"},null,null,null,0,0,0]
[0,{"$f":"IF(OR(COUNTA(O1884:O1913)>0,COUNTA(O1913:$O$5195)>0),IF(COUNTIF(B1904:B1913,B1913)=10,B1913+7,B1913),\"\")","v":""},null,"","",null,null,null,0,0,0,0,{"$f":"IFERROR(VLOOKUP(G1914,DropDowns!$D$2:$E$151,2,FALSE),\"\")","v":""},{"$f":"IFERROR(VLOOKUP(H1914,DropDowns!$F$2:$G$7,2,FALSE),\"Residual categories\")","v":"Residual categories"},null,null,null,0,0,0]
[0,{"$f":"IF(OR(COUNTA(O1885:O1914)>0,COUNTA(O1914:$O$5195)>0),IF(COUNTIF(B1905:B1914,B1914)=10,B1914+7,B1914),\"\")","v":""},null,"","",null,null,null,0,0,0,0,{"$f":"IFERROR(VLOOKUP(G1915,DropDowns!$D$2:$E$151,2,FALSE),\"\")","v":""},{"$f":"IFERROR(VLOOKUP(H1915,DropDowns!$F$2:$G$7,2,FALSE),\"Residual categories\")","v":"Residual categories"},null,null,null,0,0,0]
[0,{"$f":"IF(OR(COUNTA(O1886:O1915)>0,COUNTA(O1915:$O$5195)>0),IF(COUNTIF(B1906:B1915,B1915)=10,B1915+7,B1915),\"\")","v":""},null,"","",null,null,null,0,0,0,0,{"$f":"IFERROR(VLOOKUP(G1916,DropDowns!$D$2:$E$151,2,FALSE),\"\")","v":""},{"$f":"IFERROR(VLOOKUP(H1916,DropDowns!$F$2:$G$7,2,FALSE),\"Residual categories\")","v":"Residual categories"},null,null,null,0,0,0]
[0,{"$f":"IF(OR(COUNTA(O1887:O1916)>0,COUNTA(O1916:$O$5195)>0),IF(COUNTIF(B1907:B1916,B1916)=10,B1916+7,B1916),\"\")","v":""},null,"","",null,null,null,0,0,0,0,{"$f":"IFERROR(VLOOKUP(G1917,DropDowns!$D$2:$E$151,2,FALSE),\"\")","v":""},{"$f":"IFERROR(VLOOKUP(H1917,DropDowns!$F$2:$G$7,2,FALSE),\"Residual categories\")","v":"Residual categories"},null,null,null,0,0,0]
[0,{"$f":"IF(OR(COUNTA(O1888:O1917)>0,COUNTA(O1917:$O$5195)>0),IF(COUNTIF(B1908:B1917,B1917)=10,B1917+7,B1917),\"\")","v":""},null,"","",null,null,null,0,0,0,0,{"$f":"IFERROR(VLOOKUP(G1918,DropDowns!$D$2:$E$151,2,FALSE),\"\")","v":""},{"$f":"IFERROR(VLOOKUP(H1918,DropDowns!$F$2:$G$7,2,FALSE),\"Residual categories\")","v":"Residual categories"},null,null,null,0,0,0]
[0,{"$f":"IF(OR(COUNTA(O1889:O1918)>0,COUNTA(O1918:$O$5195)>0),IF(COUNTIF(B1909:B1918,B1918)=10,B1918+7,B1918),\"\")","v":""},null,"","",null,null,null,0,0,0,0,{"$f":"IFERROR(VLOOKUP(G1919,DropDowns!$D$2:$E$151,2,FALSE),\"\")","v":""},{"$f":"IFERROR(VLOOKUP(H1919,DropDowns!$F$2:$G$7,2,FALSE),\"Residual categories\")","v":"Residual categories"},null,null,null,0,0,0]
[0,{"$f":"IF(OR(COUNTA(O1890:O1919)>0,COUNTA(O1919:$O$5195)>0),IF(COUNTIF(B1910:B1919,B1919)=10,B1919+7,B1919),\"\")","v":""},null,"","",null,null,null,0,0,0,0,{"$f":"IFERROR(VLOOKUP(G1920,DropDowns!$D$2:$E$151,2,FALSE),\"\")","v":""},{"$f":"IFERROR(VLOOKUP(H1920,DropDowns!$F$2:$G$7,2,FALSE),\"Residual categories\")","v":"Residual categories"},null,null,null,0,0,0]
[0,{"$f":"IF(OR(COUNTA(O1891:O1920)>0,COUNTA(O1920:$O$5195)>0),IF(COUNTIF(B1911:B1920,B1920)=10,B1920+7,B1920),\"\")","v":""},null,"","",null,null,null,0,0,0,0,{"$f":"IFERROR(VLOOKUP(G1921,DropDowns!$D$2:$E$151,2,FALSE),\"\")","v":""},{"$f":"IFERROR(VLOOKUP(H1921,DropDowns!$F$2:$G$7,2,FALSE),\"Residual categories\")","v":"Residual categories"},null,null,null,0,0,0]
[0,{"$f":"IF(OR(COUNTA(O1892:O1921)>0,COUNTA(O1921:$O$5195)>0),IF(COUNTIF(B1912:B1921,B1921)=10,B1921+7,B1921),\"\")","v":""},null,"","",null,null,null,0,0,0,0,{"$f":"IFERROR(VLOOKUP(G1922,DropDowns!$D$2:$E$151,2,FALSE),\"\")","v":""},{"$f":"IFERROR(VLOOKUP(H1922,DropDowns!$F$2:$G$7,2,FALSE),\"Residual categories\")","v":"Residual categories"},null,null,null,0,0,0]
[0,{"$f":"IF(OR(COUNTA(O1893:O1922)>0,COUNTA(O1922:$O$5195)>0),IF(COUNTIF(B1913:B1922,B1922)=10,B1922+7,B1922),\"\")","v":""},null,"","",null,null,null,0,0,0,0,{"$f":"IFERROR(VLOOKUP(G1923,DropDowns!$D$2:$E$151,2,FALSE),\"\")","v":""},{"$f":"IFERROR(VLOOKUP(H1923,DropDowns!$F$2:$G$7,2,FALSE),\"Residual categories\")","v":"Residual categories"},null,null,null,0,0,0]
[0,{"$f":"IF(OR(COUNTA(O1894:O1923)>0,COUNTA(O1923:$O$5195)>0),IF(COUNTIF(B1914:B1923,B1923)=10,B1923+7,B1923),\"\")","v":""},null,"","",null,null,null,0,0,0,0,{"$f":"IFERROR(VLOOKUP(G1924,DropDowns!$D$2:$E$151,2,FALSE),\"\")","v":""},{"$f":"IFERROR(VLOOKUP(H1924,DropDowns!$F$2:$G$7,2,FALSE),\"Residual categories\")","v":"Residual categories"},null,null,null,0,0,0]
[0,{"$f":"IF(OR(COUNTA(O1895:O1924)>0,COUNTA(O1924:$O$5195)>0),IF(COUNTIF(B1915:B1924,B1924)=10,B1924+7,B1924),\"\")","v":""},null,"","",null,null,null,0,0,0,0,{"$f":"IFERROR(VLOOKUP(G1925,DropDowns!$D$2:$E$151,2,FALSE),\"\")","v":""},{"$f":"IFERROR(VLOOKUP(H1925,DropDowns!$F$2:$G$7,2,FALSE),\"Residual categories\")","v":"Residual categories"},null,null,null,0,0,0]
[0,{"$f":"IF(OR(COUNTA(O1896:O1925)>0,COUNTA(O1925:$O$5195)>0),IF(COUNTIF(B1916:B1925,B1925)=10,B1925+7,B1925),\"\")","v":""},null,"","",null,null,null,0,0,0,0,{"$f":"IFERROR(VLOOKUP(G1926,DropDowns!$D$2:$E$151,2,FALSE),\"\")","v":""},{"$f":"IFERROR(VLOOKUP(H1926,DropDowns!$F$2:$G$7,2,FALSE),\"Residual categories\")","v":"Residual categories"},null,null,null,0,0,0]
[0,{"$f":"IF(OR(COUNTA(O1897:O1926)>0,COUNTA(O1926:$O$5195)>0),IF(COUNTIF(B1917:B1926,B1926)=10,B1926+7,B1926),\"\")","v":""},null,{"$f":"IF(E1927=1,B1927,\"\")","v":""},"",null,null,null,{"$f":"IF(COUNTA(O1927:Q1927)>0,1,0)","v":0},{"$f":"IF(O1927=\"y\",1,0)","v":0},{"$f":"IF(P1927=\"y\",1,0)","v":0},{"$f":"IF(Q1927=\"y\",1,0)","v":0},{"$f":"IFERROR(VLOOKUP(G1927,DropDowns!$D$2:$E$151,2,FALSE),\"\")","v":""},{"$f":"IFERROR(VLOOKUP(H1927,DropDowns!$F$2:$G$7,2,FALSE),\"Residual categories\")","v":"Residual categories"},null,null,null,{"$f":"IF(O1927=\"yes\",1,0)","v":0},{"$f":"IF(P1927=\"yes\",1,0)","v":0},{"$f":"IF(Q1927=\"yes\",1,0)","v":0}]
[0,{"$f":"IF(OR(COUNTA(O1898:O1927)>0,COUNTA(O1927:$O$5195)>0),IF(COUNTIF(B1918:B1927,B1927)=10,B1927+7,B1927),\"\")","v":""},null,"","",null,null,null,0,0,0,0,{"$f":"IFERROR(VLOOKUP(G1928,DropDowns!$D$2:$E$151,2,FALSE),\"\")","v":""},{"$f":"IFERROR(VLOOKUP(H1928,DropDowns!$F$2:$G$7,2,FALSE),\"Residual categories\")","v":"Residual categories"},null,null,null,0,0,0]
[0,{"$f":"IF(OR(COUNTA(O1899:O1928)>0,COUNTA(O1928:$O$5195)>0),IF(COUNTIF(B1919:B1928,B1928)=10,B1928+7,B1928),\"\")","v":""},null,"","",null,null,null,0,0,0,0,{"$f":"IFERROR(VLOOKUP(G1929,DropDowns!$D$2:$E$151,2,FALSE),\"\")","v":""},{"$f":"IFERROR(VLOOKUP(H1929,DropDowns!$F$2:$G$7,2,FALSE),\"Residual categories\")","v":"Residual categories"},null,null,null,0,0,0]
[0,{"$f":"IF(OR(COUNTA(O1900:O1929)>0,COUNTA(O1929:$O$5195)>0),IF(COUNTIF(B1920:B1929,B1929)=10,B1929+7,B1929),\"\")","v":""},null,"","",null,null,null,0,0,0,0,{"$f":"IFERROR(VLOOKUP(G1930,DropDowns!$D$2:$E$151,2,FALSE),\"\")","v":""},{"$f":"IFERROR(VLOOKUP(H1930,DropDowns!$F$2:$G$7,2,FALSE),\"Residual categories\")","v":"Residual categories"},null,null,null,0,0,0]
[0,{"$f":"IF(OR(COUNTA(O1901:O1930)>0,COUNTA(O1930:$O$5195)>0),IF(COUNTIF(B1921:B1930,B1930)=10,B1930+7,B1930),\"\")","v":""},null,"","",null,null,null,0,0,0,0,{"$f":"IFERROR(VLOOKUP(G1931,DropDowns!$D$2:$E$151,2,FALSE),\"\")","v":""},{"$f":"IFERROR(VLOOKUP(H1931,DropDowns!$F$2:$G$7,2,FALSE),\"Residual categories\")","v":"Residual categories"},null,null,null,0,0,0]
[0,{"$f":"IF(OR(COUNTA(O1902:O1931)>0,COUNTA(O1931:$O$5195)>0),IF(COUNTIF(B1922:B1931,B1931)=10,B1931+7,B1931),\"\")","v":""},null,"","",null,null,null,0,0,0,0,{"$f":"IFERROR(VLOOKUP(G1932,DropDowns!$D$2:$E$151,2,FALSE),\"\")","v":""},{"$f":"IFERROR(VLOOKUP(H1932,DropDowns!$F$2:$G$7,2,FALSE),\"Residual categories\")","v":"Residual categories"},null,null,null,0,0,0]
[0,{"$f":"IF(OR(COUNTA(O1903:O1932)>0,COUNTA(O1932:$O$5195)>0),IF(COUNTIF(B1923:B1932,B1932)=10,B1932+7,B1932),\"\")","v":""},null,"","",null,null,null,0,0,0,0,{"$f":"IFERROR(VLOOKUP(G1933,DropDowns!$D$2:$E$151,2,FALSE),\"\")","v":""},{"$f":"IFERROR(VLOOKUP(H1933,DropDowns!$F$2:$G$7,2,FALSE),\"Residual categories\")","v":"Residual categories"},null,null,null,0,0,0]
[0,{"$f":"IF(OR(COUNTA(O1904:O1933)>0,COUNTA(O1933:$O$5195)>0),IF(COUNTIF(B1924:B1933,B1933)=10,B1933+7,B1933),\"\")","v":""},null,"","",null,null,null,0,0,0,0,{"$f":"IFERROR(VLOOKUP(G1934,DropDowns!$D$2:$E$151,2,FALSE),\"\")","v":""},{"$f":"IFERROR(VLOOKUP(H1934,DropDowns!$F$2:$G$7,2,FALSE),\"Residual categories\")","v":"Residual categories"},null,null,null,0,0,0]
[0,{"$f":"IF(OR(COUNTA(O1905:O1934)>0,COUNTA(O1934:$O$5195)>0),IF(COUNTIF(B1925:B1934,B1934)=10,B1934+7,B1934),\"\")","v":""},null,"","",null,null,null,0,0,0,0,{"$f":"IFERROR(VLOOKUP(G1935,DropDowns!$D$2:$E$151,2,FALSE),\"\")","v":""},{"$f":"IFERROR(VLOOKUP(H1935,DropDowns!$F$2:$G$7,2,FALSE),\"Residual categories\")","v":"Residual categories"},null,null,null,0,0,0]
[0,{"$f":"IF(OR(COUNTA(O1906:O1935)>0,COUNTA(O1935:$O$5195)>0),IF(COUNTIF(B1926:B1935,B1935)=10,B1935+7,B1935),\"\")","v":""},null,"","",null,null,null,0,0,0,0,{"$f":"IFERROR(VLOOKUP(G1936,DropDowns!$D$2:$E$151,2,FALSE),\"\")","v":""},{"$f":"IFERROR(VLOOKUP(H1936,DropDowns!$F$2:$G$7,2,FALSE),\"Residual categories\")","v":"Residual categories"},null,null,null,0,0,0]
[0,{"$f":"IF(OR(COUNTA(O1907:O1936)>0,COUNTA(O1936:$O$5195)>0),IF(COUNTIF(B1927:B1936,B1936)=10,B1936+7,B1936),\"\")","v":""},null,"",{"$f":"IF(B1937=\"\",\"\",COUNTIF(B1928:B1937,B1937))","v":""},null,null,null,0,0,0,0,{"$f":"IFERROR(VLOOKUP(G1937,DropDowns!$D$2:$E$151,2,FALSE),\"\")","v":""},{"$f":"IFERROR(VLOOKUP(H1937,DropDowns!$F$2:$G$7,2,FALSE),\"Residual categories\")","v":"Residual categories"},null,null,null,0,0,0]
[0,{"$f":"IF(OR(COUNTA(O1908:O1937)>0,COUNTA(O1937:$O$5195)>0),IF(COUNTIF(B1928:B1937,B1937)=10,B1937+7,B1937),\"\")","v":""},null,"","",null,null,null,0,0,0,0,{"$f":"IFERROR(VLOOKUP(G1938,DropDowns!$D$2:$E$151,2,FALSE),\"\")","v":""},{"$f":"IFERROR(VLOOKUP(H1938,DropDowns!$F$2:$G$7,2,FALSE),\"Residual categories\")","v":"Residual categories"},null,null,null,0,0,0]
[0,{"$f":"IF(OR(COUNTA(O1909:O1938)>0,COUNTA(O1938:$O$5195)>0),IF(COUNTIF(B1929:B1938,B1938)=10,B1938+7,B1938),\"\")","v":""},null,"","",null,null,null,0,0,0,0,{"$f":"IFERROR(VLOOKUP(G1939,DropDowns!$D$2:$E$151,2,FALSE),\"\")","v":""},{"$f":"IFERROR(VLOOKUP(H1939,DropDowns!$F$2:$G$7,2,FALSE),\"Residual categories\")","v":"Residual categories"},null,null,null,0,0,0]
[{"$f":"$E$2","v":0},{"$f":"IF(OR(COUNTA(O1910:O1939)>0,COUNTA(O1939:$O$5195)>0),IF(COUNTIF(B1930:B1939,B1939)=10,B1939+7,B1939),\"\")","v":""},null,"","",null,null,null,0,0,0,0,{"$f":"IFERROR(VLOOKUP(G1940,DropDowns!$D$2:$E$151,2,FALSE),\"\")","v":""},{"$f":"IFERROR(VLOOKUP(H1940,DropDowns!$F$2:$G$7,2,FALSE),\"Residual categories\")","v":"Residual categories"},null,null,null,0,0,0]
[0,{"$f":"IF(OR(COUNTA(O1911:O1940)>0,COUNTA(O1940:$O$5195)>0),IF(COUNTIF(B1931:B1940,B1940)=10,B1940+7,B1940),\"\")","v":""},null,"","",null,null,null,0,0,0,0,{"$f":"IFERROR(VLOOKUP(G1941,DropDowns!$D$2:$E$151,2,FALSE),\"\")","v":""},{"$f":"IFERROR(VLOOKUP(H1941,DropDowns!$F$2:$G$7,2,FALSE),\"Residual categories\")","v":"Residual categories"},null,null,null,0,0,0]
[0,{"$f":"IF(OR(COUNTA(O1912:O1941)>0,COUNTA(O1941:$O$5195)>0),IF(COUNTIF(B1932:B1941,B1941)=10,B1941+7,B1941),\"\")","v":""},null,"","",null,null,null,0,0,0,0,{"$f":"IFERROR(VLOOKUP(G1942,DropDowns!$D$2:$E$151,2,FALSE),\"\")","v":""},{"$f":"IFERROR(VLOOKUP(H1942,DropDowns!$F$2:$G$7,2,FALSE),\"Residual categories\")","v":"Residual categories"},null,null,null,0,0,0]
[0,{"$f":"IF(OR(COUNTA(O1913:O1942)>0,COUNTA(O1942:$O$5195)>0),IF(COUNTIF(B1933:B1942,B1942)=10,B1942+7,B1942),\"\")","v":""},null,"","",null,null,null,0,0,0,0,{"$f":"IFERROR(VLOOKUP(G1943,DropDowns!$D$2:$E$151,2,FALSE),\"\")","v":""},{"$f":"IFERROR(VLOOKUP(H1943,DropDowns!$F$2:$G$7,2,FALSE),\"Residual categories\")","v":"Residual categories"},null,null,null,0,0,0]
[0,{"$f":"IF(OR(COUNTA(O1914:O1943)>0,COUNTA(O1943:$O$5195)>0),IF(COUNTIF(B1934:B1943,B1943)=10,B1943+7,B1943),\"\")","v":""},null,"","",null,null,null,0,0,0,0,{"$f":"IFERROR(VLOOKUP(G1944,DropDowns!$D$2:$E$151,2,FALSE),\"\")","v":""},{"$f":"IFERROR(VLOOKUP(H1944,DropDowns!$F$2:$G$7,2,FALSE),\"Residual categories\")","v":"Residual categories"},null,null,null,0,0,0]
[0,{"$f":"IF(OR(COUNTA(O1915:O1944)>0,COUNTA(O1944:$O$5195)>0),IF(COUNTIF(B1935:B1944,B1944)=10,B1944+7,B1944),\"\")","v":""},null,"","",null,null,null,0,0,0,0,{"$f":"IFERROR(VLOOKUP(G1945,DropDowns!$D$2:$E$151,2,FALSE),\"\")","v":""},{"$f":"IFERROR(VLOOKUP(H1945,DropDowns!$F$2:$G$7,2,FALSE),\"Residual categories\")","v":"Residual categories"},null,null,null,0,0,0]
[0,{"$f":"IF(OR(COUNTA(O1916:O1945)>0,COUNTA(O1945:$O$5195)>0),IF(COUNTIF(B1936:B1945,B1945)=10,B1945+7,B1945),\"\")","v":""},null,"","",null,null,null,0,0,0,0,{"$f":"IFERROR(VLOOKUP(G1946,DropDowns!$D$2:$E$151,2,FALSE),\"\")","v":""},{"$f":"IFERROR(VLOOKUP(H1946,DropDowns!$F$2:$G$7,2,FALSE),\"Residual categories\")","v":"Residual categories"},null,null,null,0,0,0]
[0,{"$f":"IF(OR(COUNTA(O1917:O1946)>0,COUNTA(O1946:$O$5195)>0),IF(COUNTIF(B1937:B1946,B1946)=10,B1946+7,B1946),\"\")","v":""},null,"","",null,null,null,0,0,0,0,{"$f":"IFERROR(VLOOKUP(G1947,DropDowns!$D$2:$E$151,2,FALSE),\"\")","v":""},{"$f":"IFERROR(VLOOKUP(H1947,DropDowns!$F$2:$G$7,2,FALSE),\"Residual categories\")","v":"Residual categories"},null,null,null,0,0,0]
[0,{"$f":"IF(OR(COUNTA(O1918:O1947)>0,COUNTA(O1947:$O$5195)>0),IF(COUNTIF(B1938:B1947,B1947)=10,B1947+7,B1947),\"\")","v":""},null,"","",null,null,null,0,0,0,0,{"$f":"IFERROR(VLOOKUP(G1948,DropDowns!$D$2:$E$151,2,FALSE),\"\")","v":""},{"$f":"IFERROR(VLOOKUP(H1948,DropDowns!$F$2:$G$7,2,FALSE),\"Residual categories\")","v":"Residual categories"},null,null,null,0,0,0]
[0,{"$f":"IF(OR(COUNTA(O1919:O1948)>0,COUNTA(O1948:$O$5195)>0),IF(COUNTIF(B1939:B1948,B1948)=10,B1948+7,B1948),\"\")","v":""},null,"","",null,null,null,0,0,0,0,{"$f":"IFERROR(VLOOKUP(G1949,DropDowns!$D$2:$E$151,2,FALSE),\"\")","v":""},{"$f":"IFERROR(VLOOKUP(H1949,DropDowns!$F$2:$G$7,2,FALSE),\"Residual categories\")","v":"Residual categories"},null,null,null,0,0,0]
[0,{"$f":"IF(OR(COUNTA(O1920:O1949)>0,COUNTA(O1949:$O$5195)>0),IF(COUNTIF(B1940:B1949,B1949)=10,B1949+7,B1949),\"\")","v":""},null,"","",null,null,null,0,0,0,0,{"$f":"IFERROR(VLOOKUP(G1950,DropDowns!$D$2:$E$151,2,FALSE),\"\")","v":""},{"$f":"IFERROR(VLOOKUP(H1950,DropDowns!$F$2:$G$7,2,FALSE),\"Residual categories\")","v":"Residual categories"},null,null,null,0,0,0]
[0,{"$f":"IF(OR(COUNTA(O1921:O1950)>0,COUNTA(O1950:$O$5195)>0),IF(COUNTIF(B1941:B1950,B1950)=10,B1950+7,B1950),\"\")","v":""},null,"","",null,null,null,0,0,0,0,{"$f":"IFERROR(VLOOKUP(G1951,DropDowns!$D$2:$E$151,2,FALSE),\"\")","v":""},{"$f":"IFERROR(VLOOKUP(H1951,DropDowns!$F$2:$G$7,2,FALSE),\"Residual categories\")","v":"Residual categories"},null,null,null,0,0,0]
[0,{"$f":"IF(OR(COUNTA(O1922:O1951)>0,COUNTA(O1951:$O$5195)>0),IF(COUNTIF(B1942:B1951,B1951)=10,B1951+7,B1951),\"\")","v":""},null,"","",null,null,null,0,0,0,0,{"$f":"IFERROR(VLOOKUP(G1952,DropDowns!$D$2:$E$151,2,FALSE),\"\")","v":""},{"$f":"IFERROR(VLOOKUP(H1952,DropDowns!$F$2:$G$7,2,FALSE),\"Residual categories\")","v":"Residual categories"},null,null,null,0,0,0]
[0,{"$f":"IF(OR(COUNTA(O1923:O1952)>0,COUNTA(O1952:$O$5195)>0),IF(COUNTIF(B1943:B1952,B1952)=10,B1952+7,B1952),\"\")","v":""},null,"","",null,null,null,0,0,0,0,{"$f":"IFERROR(VLOOKUP(G1953,DropDowns!$D$2:$E$151,2,FALSE),\"\")","v":""},{"$f":"IFERROR(VLOOKUP(H1953,DropDowns!$F$2:$G$7,2,FALSE),\"Residual categories\")","v":"Residual categories"},null,null,null,0,0,0]
[0,{"$f":"IF(OR(COUNTA(O1924:O1953)>0,COUNTA(O1953:$O$5195)>0),IF(COUNTIF(B1944:B1953,B1953)=10,B1953+7,B1953),\"\")","v":""},null,"","",null,null,null,0,0,0,0,{"$f":"IFERROR(VLOOKUP(G1954,DropDowns!$D$2:$E$151,2,FALSE),\"\")","v":""},{"$f":"IFERROR(VLOOKUP(H1954,DropDowns!$F$2:$G$7,2,FALSE),\"Residual categories\")","v":"Residual categories"},null,null,null,0,0,0]
[0,{"$f":"IF(OR(COUNTA(O1925:O1954)>0,COUNTA(O1954:$O$5195)>0),IF(COUNTIF(B1945:B1954,B1954)=10,B1954+7,B1954),\"\")","v":""},null,"","",null,null,null,0,0,0,0,{"$f":"IFERROR(VLOOKUP(G1955,DropDowns!$D$2:$E$151,2,FALSE),\"\")","v":""},{"$f":"IFERROR(VLOOKUP(H1955,DropDowns!$F$2:$G$7,2,FALSE),\"Residual categories\")","v":"Residual categories"},null,null,null,0,0,0]
[0,{"$f":"IF(OR(COUNTA(O1926:O1955)>0,COUNTA(O1955:$O$5195)>0),IF(COUNTIF(B1946:B1955,B1955)=10,B1955+7,B1955),\"\")","v":""},null,"","",null,null,null,0,0,0,0,{"$f":"IFERROR(VLOOKUP(G1956,DropDowns!$D$2:$E$151,2,FALSE),\"\")","v":""},{"$f":"IFERROR(VLOOKUP(H1956,DropDowns!$F$2:$G$7,2,FALSE),\"Residual categories\")","v":"Residual categories"},null,null,null,0,0,0]
[0,{"$f":"IF(OR(COUNTA(O1927:O1956)>0,COUNTA(O1956:$O$5195)>0),IF(COUNTIF(B1947:B1956,B1956)=10,B1956+7,B1956),\"\")","v":""},null,"","",null,null,null,0,0,0,0,{"$f":"IFERROR(VLOOKUP(G1957,DropDowns!$D$2:$E$151,2,FALSE),\"\")","v":""},{"$f":"IFERROR(VLOOKUP(H1957,DropDowns!$F$2:$G$7,2,FALSE),\"Residual categories\")","v":"Residual categories"},null,null,null,0,0,0]
[0,{"$f":"IF(OR(COUNTA(O1928:O1957)>0,COUNTA(O1957:$O$5195)>0),IF(COUNTIF(B1948:B1957,B1957)=10,B1957+7,B1957),\"\")","v":""},null,"","",null,null,null,0,0,0,0,{"$f":"IFERROR(VLOOKUP(G1958,DropDowns!$D$2:$E$151,2,FALSE),\"\")","v":""},{"$f":"IFERROR(VLOOKUP(H1958,DropDowns!$F$2:$G$7,2,FALSE),\"Residual categories\")","v":"Residual categories"},null,null,null,0,0,0]
[0,{"$f":"IF(OR(COUNTA(O1929:O1958)>0,COUNTA(O1958:$O$5195)>0),IF(COUNTIF(B1949:B1958,B1958)=10,B1958+7,B1958),\"\")","v":""},null,"","",null,null,null,0,0,0,0,{"$f":"IFERROR(VLOOKUP(G1959,DropDowns!$D$2:$E$151,2,FALSE),\"\")","v":""},{"$f":"IFERROR(VLOOKUP(H1959,DropDowns!$F$2:$G$7,2,FALSE),\"Residual categories\")","v":"Residual categories"},null,null,null,0,0,0]
[0,{"$f":"IF(OR(COUNTA(O1930:O1959)>0,COUNTA(O1959:$O$5195)>0),IF(COUNTIF(B1950:B1959,B1959)=10,B1959+7,B1959),\"\")","v":""},null,"","",null,null,null,0,0,0,0,{"$f":"IFERROR(VLOOKUP(G1960,DropDowns!$D$2:$E$151,2,FALSE),\"\")","v":""},{"$f":"IFERROR(VLOOKUP(H1960,DropDowns!$F$2:$G$7,2,FALSE),\"Residual categories\")","v":"Residual categories"},null,null,null,0,0,0]
[0,{"$f":"IF(OR(COUNTA(O1931:O1960)>0,COUNTA(O1960:$O$5195)>0),IF(COUNTIF(B1951:B1960,B1960)=10,B1960+7,B1960),\"\")","v":""},null,"","",null,null,null,0,0,0,0,{"$f":"IFERROR(VLOOKUP(G1961,DropDowns!$D$2:$E$151,2,FALSE),\"\")","v":""},{"$f":"IFERROR(VLOOKUP(H1961,DropDowns!$F$2:$G$7,2,FALSE),\"Residual categories\")","v":"Residual categories"},null,null,null,0,0,0]
[0,{"$f":"IF(OR(COUNTA(O1932:O1961)>0,COUNTA(O1961:$O$5195)>0),IF(COUNTIF(B1952:B1961,B1961)=10,B1961+7,B1961),\"\")","v":""},null,"","",null,null,null,0,0,0,0,{"$f":"IFERROR(VLOOKUP(G1962,DropDowns!$D$2:$E$151,2,FALSE),\"\")","v":""},{"$f":"IFERROR(VLOOKUP(H1962,DropDowns!$F$2:$G$7,2,FALSE),\"Residual categories\")","v":"Residual categories"},null,null,null,0,0,0]
[0,{"$f":"IF(OR(COUNTA(O1933:O1962)>0,COUNTA(O1962:$O$5195)>0),IF(COUNTIF(B1953:B1962,B1962)=10,B1962+7,B1962),\"\")","v":""},null,"","",null,null,null,0,0,0,0,{"$f":"IFERROR(VLOOKUP(G1963,DropDowns!$D$2:$E$151,2,FALSE),\"\")","v":""},{"$f":"IFERROR(VLOOKUP(H1963,DropDowns!$F$2:$G$7,2,FALSE),\"Residual categories\")","v":"Residual categories"},null,null,null,0,0,0]
[0,{"$f":"IF(OR(COUNTA(O1934:O1963)>0,COUNTA(O1963:$O$5195)>0),IF(COUNTIF(B1954:B1963,B1963)=10,B1963+7,B1963),\"\")","v":""},null,"","",null,null,null,0,0,0,0,{"$f":"IFERROR(VLOOKUP(G1964,DropDowns!$D$2:$E$151,2,FALSE),\"\")","v":""},{"$f":"IFERROR(VLOOKUP(H1964,DropDowns!$F$2:$G$7,2,FALSE),\"Residual categories\")","v":"Residual categories"},null,null,null,0,0,0]
[0,{"$f":"IF(OR(COUNTA(O1935:O1964)>0,COUNTA(O1964:$O$5195)>0),IF(COUNTIF(B1955:B1964,B1964)=10,B1964+7,B1964),\"\")","v":""},null,"","",null,null,null,0,0,0,0,{"$f":"IFERROR(VLOOKUP(G1965,DropDowns!$D$2:$E$151,2,FALSE),\"\")","v":""},{"$f":"IFERROR(VLOOKUP(H1965,DropDowns!$F$2:$G$7,2,FALSE),\"Residual categories\")","v":"Residual categories"},null,null,null,0,0,0]
[0,{"$f":"IF(OR(COUNTA(O1936:O1965)>0,COUNTA(O1965:$O$5195)>0),IF(COUNTIF(B1956:B1965,B1965)=10,B1965+7,B1965),\"\")","v":""},null,"","",null,null,null,0,0,0,0,{"$f":"IFERROR(VLOOKUP(G1966,DropDowns!$D$2:$E$151,2,FALSE),\"\")","v":""},{"$f":"IFERROR(VLOOKUP(H1966,DropDowns!$F$2:$G$7,2,FALSE),\"Residual categories\")","v":"Residual categories"},null,null,null,0,0,0]
[0,{"$f":"IF(OR(COUNTA(O1937:O1966)>0,COUNTA(O1966:$O$5195)>0),IF(COUNTIF(B1957:B1966,B1966)=10,B1966+7,B1966),\"\")","v":""},null,"","",null,null,null,0,0,0,0,{"$f":"IFERROR(VLOOKUP(G1967,DropDowns!$D$2:$E$151,2,FALSE),\"\")","v":""},{"$f":"IFERROR(VLOOKUP(H1967,DropDowns!$F$2:$G$7,2,FALSE),\"Residual categories\")","v":"Residual categories"},null,null,null,0,0,0]
[0,{"$f":"IF(OR(COUNTA(O1938:O1967)>0,COUNTA(O1967:$O$5195)>0),IF(COUNTIF(B1958:B1967,B1967)=10,B1967+7,B1967),\"\")","v":""},null,"","",null,null,null,0,0,0,0,{"$f":"IFERROR(VLOOKUP(G1968,DropDowns!$D$2:$E$151,2,FALSE),\"\")","v":""},{"$f":"IFERROR(VLOOKUP(H1968,DropDowns!$F$2:$G$7,2,FALSE),\"Residual categories\")","v":"Residual categories"},null,null,null,0,0,0]
[0,{"$f":"IF(OR(COUNTA(O1939:O1968)>0,COUNTA(O1968:$O$5195)>0),IF(COUNTIF(B1959:B1968,B1968)=10,B1968+7,B1968),\"\")","v":""},null,"","",null,null,null,0,0,0,0,{"$f":"IFERROR(VLOOKUP(G1969,DropDowns!$D$2:$E$151,2,FALSE),\"\")","v":""},{"$f":"IFERROR(VLOOKUP(H1969,DropDowns!$F$2:$G$7,2,FALSE),\"Residual categories\")","v":"Residual categories"},null,null,null,0,0,0]
[0,{"$f":"IF(OR(COUNTA(O1940:O1969)>0,COUNTA(O1969:$O$5195)>0),IF(COUNTIF(B1960:B1969,B1969)=10,B1969+7,B1969),\"\")","v":""},null,"","",null,null,null,0,0,0,0,{"$f":"IFERROR(VLOOKUP(G1970,DropDowns!$D$2:$E$151,2,FALSE),\"\")","v":""},{"$f":"IFERROR(VLOOKUP(H1970,DropDowns!$F$2:$G$7,2,FALSE),\"Residual categories\")","v":"Residual categories"},null,null,null,0,0,0]
[0,{"$f":"IF(OR(COUNTA(O1941:O1970)>0,COUNTA(O1970:$O$5195)>0),IF(COUNTIF(B1961:B1970,B1970)=10,B1970+7,B1970),\"\")","v":""},null,"","",null,null,null,0,0,0,0,{"$f":"IFERROR(VLOOKUP(G1971,DropDowns!$D$2:$E$151,2,FALSE),\"\")","v":""},{"$f":"IFERROR(VLOOKUP(H1971,DropDowns!$F$2:$G$7,2,FALSE),\"Residual categories\")","v":"Residual categories"},null,null,null,0,0,0]
[0,{"$f":"IF(OR(COUNTA(O1942:O1971)>0,COUNTA(O1971:$O$5195)>0),IF(COUNTIF(B1962:B1971,B1971)=10,B1971+7,B1971),\"\")","v":""},null,"","",null,null,null,0,0,0,0,{"$f":"IFERROR(VLOOKUP(G1972,DropDowns!$D$2:$E$151,2,FALSE),\"\")","v":""},{"$f":"IFERROR(VLOOKUP(H1972,DropDowns!$F$2:$G$7,2,FALSE),\"Residual categories\")","v":"Residual categories"},null,null,null,0,0,0]
[0,{"$f":"IF(OR(COUNTA(O1943:O1972)>0,COUNTA(O1972:$O$5195)>0),IF(COUNTIF(B1963:B1972,B1972)=10,B1972+7,B1972),\"\")","v":""},null,"","",null,null,null,0,0,0,0,{"$f":"IFERROR(VLOOKUP(G1973,DropDowns!$D$2:$E$151,2,FALSE),\"\")","v":""},{"$f":"IFERROR(VLOOKUP(H1973,DropDowns!$F$2:$G$7,2,FALSE),\"Residual categories\")","v":"Residual categories"},null,null,null,0,0,0]
[0,{"$f":"IF(OR(COUNTA(O1944:O1973)>0,COUNTA(O1973:$O$5195)>0),IF(COUNTIF(B1964:B1973,B1973)=10,B1973+7,B1973),\"\")","v":""},null,"","",null,null,null,0,0,0,0,{"$f":"IFERROR(VLOOKUP(G1974,DropDowns!$D$2:$E$151,2,FALSE),\"\")","v":""},{"$f":"IFERROR(VLOOKUP(H1974,DropDowns!$F$2:$G$7,2,FALSE),\"Residual categories\")","v":"Residual categories"},null,null,null,0,0,0]
[0,{"$f":"IF(OR(COUNTA(O1945:O1974)>0,COUNTA(O1974:$O$5195)>0),IF(COUNTIF(B1965:B1974,B1974)=10,B1974+7,B1974),\"\")","v":""},null,"","",null,null,null,0,0,0,0,{"$f":"IFERROR(VLOOKUP(G1975,DropDowns!$D$2:$E$151,2,FALSE),\"\")","v":""},{"$f":"IFERROR(VLOOKUP(H1975,DropDowns!$F$2:$G$7,2,FALSE),\"Residual categories\")","v":"Residual categories"},null,null,null,0,0,0]
[0,{"$f":"IF(OR(COUNTA(O1946:O1975)>0,COUNTA(O1975:$O$5195)>0),IF(COUNTIF(B1966:B1975,B1975)=10,B1975+7,B1975),\"\")","v":""},null,"","",null,null,null,0,0,0,0,{"$f":"IFERROR(VLOOKUP(G1976,DropDowns!$D$2:$E$151,2,FALSE),\"\")","v":""},{"$f":"IFERROR(VLOOKUP(H1976,DropDowns!$F$2:$G$7,2,FALSE),\"Residual categories\")","v":"Residual categories"},null,null,null,0,0,0]
[0,{"$f":"IF(OR(COUNTA(O1947:O1976)>0,COUNTA(O1976:$O$5195)>0),IF(COUNTIF(B1967:B1976,B1976)=10,B1976+7,B1976),\"\")","v":""},null,"","",null,null,null,0,0,0,0,{"$f":"IFERROR(VLOOKUP(G1977,DropDowns!$D$2:$E$151,2,FALSE),\"\")","v":""},{"$f":"IFERROR(VLOOKUP(H1977,DropDowns!$F$2:$G$7,2,FALSE),\"Residual categories\")","v":"Residual categories"},null,null,null,0,0,0]
[0,{"$f":"IF(OR(COUNTA(O1948:O1977)>0,COUNTA(O1977:$O$5195)>0),IF(COUNTIF(B1968:B1977,B1977)=10,B1977+7,B1977),\"\")","v":""},null,"","",null,null,null,0,0,0,0,{"$f":"IFERROR(VLOOKUP(G1978,DropDowns!$D$2:$E$151,2,FALSE),\"\")","v":""},{"$f":"IFERROR(VLOOKUP(H1978,DropDowns!$F$2:$G$7,2,FALSE),\"Residual categories\")","v":"Residual categories"},null,null,null,0,0,0]
[0,{"$f":"IF(OR(COUNTA(O1949:O1978)>0,COUNTA(O1978:$O$5195)>0),IF(COUNTIF(B1969:B1978,B1978)=10,B1978+7,B1978),\"\")","v":""},null,"","",null,null,null,0,0,0,0,{"$f":"IFERROR(VLOOKUP(G1979,DropDowns!$D$2:$E$151,2,FALSE),\"\")","v":""},{"$f":"IFERROR(VLOOKUP(H1979,DropDowns!$F$2:$G$7,2,FALSE),\"Residual categories\")","v":"Residual categories"},null,null,null,0,0,0]
[0,{"$f":"IF(OR(COUNTA(O1950:O1979)>0,COUNTA(O1979:$O$5195)>0),IF(COUNTIF(B1970:B1979,B1979)=10,B1979+7,B1979),\"\")","v":""},null,"","",null,null,null,0,0,0,0,{"$f":"IFERROR(VLOOKUP(G1980,DropDowns!$D$2:$E$151,2,FALSE),\"\")","v":""},{"$f":"IFERROR(VLOOKUP(H1980,DropDowns!$F$2:$G$7,2,FALSE),\"Residual categories\")","v":"Residual categories"},null,null,null,0,0,0]
[0,{"$f":"IF(OR(COUNTA(O1951:O1980)>0,COUNTA(O1980:$O$5195)>0),IF(COUNTIF(B1971:B1980,B1980)=10,B1980+7,B1980),\"\")","v":""},null,"","",null,null,null,0,0,0,0,{"$f":"IFERROR(VLOOKUP(G1981,DropDowns!$D$2:$E$151,2,FALSE),\"\")","v":""},{"$f":"IFERROR(VLOOKUP(H1981,DropDowns!$F$2:$G$7,2,FALSE),\"Residual categories\")","v":"Residual categories"},null,null,null,0,0,0]
[0,{"$f":"IF(OR(COUNTA(O1952:O1981)>0,COUNTA(O1981:$O$5195)>0),IF(COUNTIF(B1972:B1981,B1981)=10,B1981+7,B1981),\"\")","v":""},null,"","",null,null,null,0,0,0,0,{"$f":"IFERROR(VLOOKUP(G1982,DropDowns!$D$2:$E$151,2,FALSE),\"\")","v":""},{"$f":"IFERROR(VLOOKUP(H1982,DropDowns!$F$2:$G$7,2,FALSE),\"Residual categories\")","v":"Residual categories"},null,null,null,0,0,0]
[0,{"$f":"IF(OR(COUNTA(O1953:O1982)>0,COUNTA(O1982:$O$5195)>0),IF(COUNTIF(B1973:B1982,B1982)=10,B1982+7,B1982),\"\")","v":""},null,"","",null,null,null,0,0,0,0,{"$f":"IFERROR(VLOOKUP(G1983,DropDowns!$D$2:$E$151,2,FALSE),\"\")","v":""},{"$f":"IFERROR(VLOOKUP(H1983,DropDowns!$F$2:$G$7,2,FALSE),\"Residual categories\")","v":"Residual categories"},null,null,null,0,0,0]
[0,{"$f":"IF(OR(COUNTA(O1954:O1983)>0,COUNTA(O1983:$O$5195)>0),IF(COUNTIF(B1974:B1983,B1983)=10,B1983+7,B1983),\"\")","v":""},null,"","",null,null,null,0,0,0,0,{"$f":"IFERROR(VLOOKUP(G1984,DropDowns!$D$2:$E$151,2,FALSE),\"\")","v":""},{"$f":"IFERROR(VLOOKUP(H1984,DropDowns!$F$2:$G$7,2,FALSE),\"Residual categories\")","v":"Residual categories"},null,null,null,0,0,0]
[0,{"$f":"IF(OR(COUNTA(O1955:O1984)>0,COUNTA(O1984:$O$5195)>0),IF(COUNTIF(B1975:B1984,B1984)=10,B1984+7,B1984),\"\")","v":""},null,"","",null,null,null,0,0,0,0,{"$f":"IFERROR(VLOOKUP(G1985,DropDowns!$D$2:$E$151,2,FALSE),\"\")","v":""},{"$f":"IFERROR(VLOOKUP(H1985,DropDowns!$F$2:$G$7,2,FALSE),\"Residual categories\")","v":"Residual categories"},null,null,null,0,0,0]
[0,{"$f":"IF(OR(COUNTA(O1956:O1985)>0,COUNTA(O1985:$O$5195)>0),IF(COUNTIF(B1976:B1985,B1985)=10,B1985+7,B1985),\"\")","v":""},null,"","",null,null,null,0,0,0,0,{"$f":"IFERROR(VLOOKUP(G1986,DropDowns!$D$2:$E$151,2,FALSE),\"\")","v":""},{"$f":"IFERROR(VLOOKUP(H1986,DropDowns!$F$2:$G$7,2,FALSE),\"Residual categories\")","v":"Residual categories"},null,null,null,0,0,0]
[0,{"$f":"IF(OR(COUNTA(O1957:O1986)>0,COUNTA(O1986:$O$5195)>0),IF(COUNTIF(B1977:B1986,B1986)=10,B1986+7,B1986),\"\")","v":""},null,"","",null,null,null,0,0,0,0,{"$f":"IFERROR(VLOOKUP(G1987,DropDowns!$D$2:$E$151,2,FALSE),\"\")","v":""},{"$f":"IFERROR(VLOOKUP(H1987,DropDowns!$F$2:$G$7,2,FALSE),\"Residual categories\")","v":"Residual categories"},null,null,null,0,0,0]
[0,{"$f":"IF(OR(COUNTA(O1958:O1987)>0,COUNTA(O1987:$O$5195)>0),IF(COUNTIF(B1978:B1987,B1987)=10,B1987+7,B1987),\"\")","v":""},null,"","",null,null,null,0,0,0,0,{"$f":"IFERROR(VLOOKUP(G1988,DropDowns!$D$2:$E$151,2,FALSE),\"\")","v":""},{"$f":"IFERROR(VLOOKUP(H1988,DropDowns!$F$2:$G$7,2,FALSE),\"Residual categories\")","v":"Residual categories"},null,null,null,0,0,0]
[0,{"$f":"IF(OR(COUNTA(O1959:O1988)>0,COUNTA(O1988:$O$5195)>0),IF(COUNTIF(B1979:B1988,B1988)=10,B1988+7,B1988),\"\")","v":""},null,"","",null,null,null,0,0,0,0,{"$f":"IFERROR(VLOOKUP(G1989,DropDowns!$D$2:$E$151,2,FALSE),\"\")","v":""},{"$f":"IFERROR(VLOOKUP(H1989,DropDowns!$F$2:$G$7,2,FALSE),\"Residual categories\")","v":"Residual categories"},null,null,null,0,0,0]
[0,{"$f":"IF(OR(COUNTA(O1960:O1989)>0,COUNTA(O1989:$O$5195)>0),IF(COUNTIF(B1980:B1989,B1989)=10,B1989+7,B1989),\"\")","v":""},null,"","",null,null,null,0,0,0,0,{"$f":"IFERROR(VLOOKUP(G1990,DropDowns!$D$2:$E$151,2,FALSE),\"\")","v":""},{"$f":"IFERROR(VLOOKUP(H1990,DropDowns!$F$2:$G$7,2,FALSE),\"Residual categories\")","v":"Residual categories"},null,null,null,0,0,0]
[0,{"$f":"IF(OR(COUNTA(O1961:O1990)>0,COUNTA(O1990:$O$5195)>0),IF(COUNTIF(B1981:B1990,B1990)=10,B1990+7,B1990),\"\")","v":""},null,{"$f":"IF(E1991=1,B1991,\"\")","v":""},"",null,null,null,{"$f":"IF(COUNTA(O1991:Q1991)>0,1,0)","v":0},{"$f":"IF(O1991=\"y\",1,0)","v":0},{"$f":"IF(P1991=\"y\",1,0)","v":0},{"$f":"IF(Q1991=\"y\",1,0)","v":0},{"$f":"IFERROR(VLOOKUP(G1991,DropDowns!$D$2:$E$151,2,FALSE),\"\")","v":""},{"$f":"IFERROR(VLOOKUP(H1991,DropDowns!$F$2:$G$7,2,FALSE),\"Residual categories\")","v":"Residual categories"},null,null,null,{"$f":"IF(O1991=\"yes\",1,0)","v":0},{"$f":"IF(P1991=\"yes\",1,0)","v":0},{"$f":"IF(Q1991=\"yes\",1,0)","v":0}]
[0,{"$f":"IF(OR(COUNTA(O1962:O1991)>0,COUNTA(O1991:$O$5195)>0),IF(COUNTIF(B1982:B1991,B1991)=10,B1991+7,B1991),\"\")","v":""},null,"","",null,null,null,0,0,0,0,{"$f":"IFERROR(VLOOKUP(G1992,DropDowns!$D$2:$E$151,2,FALSE),\"\")","v":""},{"$f":"IFERROR(VLOOKUP(H1992,DropDowns!$F$2:$G$7,2,FALSE),\"Residual categories\")","v":"Residual categories"},null,null,null,0,0,0]
[0,{"$f":"IF(OR(COUNTA(O1963:O1992)>0,COUNTA(O1992:$O$5195)>0),IF(COUNTIF(B1983:B1992,B1992)=10,B1992+7,B1992),\"\")","v":""},null,"","",null,null,null,0,0,0,0,{"$f":"IFERROR(VLOOKUP(G1993,DropDowns!$D$2:$E$151,2,FALSE),\"\")","v":""},{"$f":"IFERROR(VLOOKUP(H1993,DropDowns!$F$2:$G$7,2,FALSE),\"Residual categories\")","v":"Residual categories"},null,null,null,0,0,0]
[0,{"$f":"IF(OR(COUNTA(O1964:O1993)>0,COUNTA(O1993:$O$5195)>0),IF(COUNTIF(B1984:B1993,B1993)=10,B1993+7,B1993),\"\")","v":""},null,"","",null,null,null,0,0,0,0,{"$f":"IFERROR(VLOOKUP(G1994,DropDowns!$D$2:$E$151,2,FALSE),\"\")","v":""},{"$f":"IFERROR(VLOOKUP(H1994,DropDowns!$F$2:$G$7,2,FALSE),\"Residual categories\")","v":"Residual categories"},null,null,null,0,0,0]
[0,{"$f":"IF(OR(COUNTA(O1965:O1994)>0,COUNTA(O1994:$O$5195)>0),IF(COUNTIF(B1985:B1994,B1994)=10,B1994+7,B1994),\"\")","v":""},null,"","",null,null,null,0,0,0,0,{"$f":"IFERROR(VLOOKUP(G1995,DropDowns!$D$2:$E$151,2,FALSE),\"\")","v":""},{"$f":"IFERROR(VLOOKUP(H1995,DropDowns!$F$2:$G$7,2,FALSE),\"Residual categories\")","v":"Residual categories"},null,null,null,0,0,0]
[0,{"$f":"IF(OR(COUNTA(O1966:O1995)>0,COUNTA(O1995:$O$5195)>0),IF(COUNTIF(B1986:B1995,B1995)=10,B1995+7,B1995),\"\")","v":""},null,"","",null,null,null,0,0,0,0,{"$f":"IFERROR(VLOOKUP(G1996,DropDowns!$D$2:$E$151,2,FALSE),\"\")","v":""},{"$f":"IFERROR(VLOOKUP(H1996,DropDowns!$F$2:$G$7,2,FALSE),\"Residual categories\")","v":"Residual categories"},null,null,null,0,0,0]
[0,{"$f":"IF(OR(COUNTA(O1967:O1996)>0,COUNTA(O1996:$O$5195)>0),IF(COUNTIF(B1987:B1996,B1996)=10,B1996+7,B1996),\"\")","v":""},null,"","",null,null,null,0,0,0,0,{"$f":"IFERROR(VLOOKUP(G1997,DropDowns!$D$2:$E$151,2,FALSE),\"\")","v":""},{"$f":"IFERROR(VLOOKUP(H1997,DropDowns!$F$2:$G$7,2,FALSE),\"Residual categories\")","v":"Residual categories"},null,null,null,0,0,0]
[0,{"$f":"IF(OR(COUNTA(O1968:O1997)>0,COUNTA(O1997:$O$5195)>0),IF(COUNTIF(B1988:B1997,B1997)=10,B1997+7,B1997),\"\")","v":""},null,"","",null,null,null,0,0,0,0,{"$f":"IFERROR(VLOOKUP(G1998,DropDowns!$D$2:$E$151,2,FALSE),\"\")","v":""},{"$f":"IFERROR(VLOOKUP(H1998,DropDowns!$F$2:$G$7,2,FALSE),\"Residual categories\")","v":"Residual categories"},null,null,null,0,0,0]
[0,{"$f":"IF(OR(COUNTA(O1969:O1998)>0,COUNTA(O1998:$O$5195)>0),IF(COUNTIF(B1989:B1998,B1998)=10,B1998+7,B1998),\"\")","v":""},null,"","",null,null,null,0,0,0,0,{"$f":"IFERROR(VLOOKUP(G1999,DropDowns!$D$2:$E$151,2,FALSE),\"\")","v":""},{"$f":"IFERROR(VLOOKUP(H1999,DropDowns!$F$2:$G$7,2,FALSE),\"Residual categories\")","v":"Residual categories"},null,null,null,0,0,0]
[0,{"$f":"IF(OR(COUNTA(O1970:O1999)>0,COUNTA(O1999:$O$5195)>0),IF(COUNTIF(B1990:B1999,B1999)=10,B1999+7,B1999),\"\")","v":""},null,"","",null,null,null,0,0,0,0,{"$f":"IFERROR(VLOOKUP(G2000,DropDowns!$D$2:$E$151,2,FALSE),\"\")","v":""},{"$f":"IFERROR(VLOOKUP(H2000,DropDowns!$F$2:$G$7,2,FALSE),\"Residual categories\")","v":"Residual categories"},null,null,null,0,0,0]
[0,{"$f":"IF(OR(COUNTA(O1971:O2000)>0,COUNTA(O2000:$O$5195)>0),IF(COUNTIF(B1991:B2000,B2000)=10,B2000+7,B2000),\"\")","v":""},null,"",{"$f":"IF(B2001=\"\",\"\",COUNTIF(B1992:B2001,B2001))","v":""},null,null,null,0,0,0,0,{"$f":"IFERROR(VLOOKUP(G2001,DropDowns!$D$2:$E$151,2,FALSE),\"\")","v":""},{"$f":"IFERROR(VLOOKUP(H2001,DropDowns!$F$2:$G$7,2,FALSE),\"Residual categories\")","v":"Residual categories"},null,null,null,0,0,0]
[0,{"$f":"IF(OR(COUNTA(O1972:O2001)>0,COUNTA(O2001:$O$5195)>0),IF(COUNTIF(B1992:B2001,B2001)=10,B2001+7,B2001),\"\")","v":""},null,"","",null,null,null,0,0,0,0,{"$f":"IFERROR(VLOOKUP(G2002,DropDowns!$D$2:$E$151,2,FALSE),\"\")","v":""},{"$f":"IFERROR(VLOOKUP(H2002,DropDowns!$F$2:$G$7,2,FALSE),\"Residual categories\")","v":"Residual categories"},null,null,null,0,0,0]
[{"$f":"$E$2","v":0},{"$f":"IF(OR(COUNTA(O1974:O2003)>0,COUNTA(O2003:$O$5195)>0),IF(COUNTIF(B1994:B2003,B2003)=10,B2003+7,B2003),\"\")","v":""},null,"","",null,null,null,0,0,0,0,{"$f":"IFERROR(VLOOKUP(G2004,DropDowns!$D$2:$E$151,2,FALSE),\"\")","v":""},{"$f":"IFERROR(VLOOKUP(H2004,DropDowns!$F$2:$G$7,2,FALSE),\"Residual categories\")","v":"Residual categories"},null,null,null,0,0,0]
[0,{"$f":"IF(OR(COUNTA(O1975:O2004)>0,COUNTA(O2004:$O$5195)>0),IF(COUNTIF(B1995:B2004,B2004)=10,B2004+7,B2004),\"\")","v":""},null,"","",null,null,null,0,0,0,0,{"$f":"IFERROR(VLOOKUP(G2005,DropDowns!$D$2:$E$151,2,FALSE),\"\")","v":""},{"$f":"IFERROR(VLOOKUP(H2005,DropDowns!$F$2:$G$7,2,FALSE),\"Residual categories\")","v":"Residual categories"},null,null,null,0,0,0]
[0,{"$f":"IF(OR(COUNTA(O1976:O2005)>0,COUNTA(O2005:$O$5195)>0),IF(COUNTIF(B1996:B2005,B2005)=10,B2005+7,B2005),\"\")","v":""},null,"","",null,null,null,0,0,0,0,{"$f":"IFERROR(VLOOKUP(G2006,DropDowns!$D$2:$E$151,2,FALSE),\"\")","v":""},{"$f":"IFERROR(VLOOKUP(H2006,DropDowns!$F$2:$G$7,2,FALSE),\"Residual categories\")","v":"Residual categories"},null,null,null,0,0,0]
[0,{"$f":"IF(OR(COUNTA(O1977:O2006)>0,COUNTA(O2006:$O$5195)>0),IF(COUNTIF(B1997:B2006,B2006)=10,B2006+7,B2006),\"\")","v":""},null,"","",null,null,null,0,0,0,0,{"$f":"IFERROR(VLOOKUP(G2007,DropDowns!$D$2:$E$151,2,FALSE),\"\")","v":""},{"$f":"IFERROR(VLOOKUP(H2007,DropDowns!$F$2:$G$7,2,FALSE),\"Residual categories\")","v":"Residual categories"},null,null,null,0,0,0]
[0,{"$f":"IF(OR(COUNTA(O1979:O2008)>0,COUNTA(O2008:$O$5195)>0),IF(COUNTIF(B1999:B2008,B2008)=10,B2008+7,B2008),\"\")","v":""},null,"","",null,null,null,0,0,0,0,{"$f":"IFERROR(VLOOKUP(G2009,DropDowns!$D$2:$E$151,2,FALSE),\"\")","v":""},{"$f":"IFERROR(VLOOKUP(H2009,DropDowns!$F$2:$G$7,2,FALSE),\"Residual categories\")","v":"Residual categories"},null,null,null,0,0,0]
[0,{"$f":"IF(OR(COUNTA(O1980:O2009)>0,COUNTA(O2009:$O$5195)>0),IF(COUNTIF(B2000:B2009,B2009)=10,B2009+7,B2009),\"\")","v":""},null,"","",null,null,null,0,0,0,0,{"$f":"IFERROR(VLOOKUP(G2010,DropDowns!$D$2:$E$151,2,FALSE),\"\")","v":""},{"$f":"IFERROR(VLOOKUP(H2010,DropDowns!$F$2:$G$7,2,FALSE),\"Residual categories\")","v":"Residual categories"},null,null,null,0,0,0]
[0,{"$f":"IF(OR(COUNTA(O1982:O2011)>0,COUNTA(O2011:$O$5195)>0),IF(COUNTIF(B2002:B2011,B2011)=10,B2011+7,B2011),\"\")","v":""},null,"","",null,null,null,0,0,0,0,{"$f":"IFERROR(VLOOKUP(G2012,DropDowns!$D$2:$E$151,2,FALSE),\"\")","v":""},{"$f":"IFERROR(VLOOKUP(H2012,DropDowns!$F$2:$G$7,2,FALSE),\"Residual categories\")","v":"Residual categories"},null,null,null,0,0,0]
[0,{"$f":"IF(OR(COUNTA(O1983:O2012)>0,COUNTA(O2012:$O$5195)>0),IF(COUNTIF(B2003:B2012,B2012)=10,B2012+7,B2012),\"\")","v":""},null,"","",null,null,null,0,0,0,0,{"$f":"IFERROR(VLOOKUP(G2013,DropDowns!$D$2:$E$151,2,FALSE),\"\")","v":""},{"$f":"IFERROR(VLOOKUP(H2013,DropDowns!$F$2:$G$7,2,FALSE),\"Residual categories\")","v":"Residual categories"},null,null,null,0,0,0]
[0,{"$f":"IF(OR(COUNTA(O1984:O2013)>0,COUNTA(O2013:$O$5195)>0),IF(COUNTIF(B2004:B2013,B2013)=10,B2013+7,B2013),\"\")","v":""},null,"","",null,null,null,0,0,0,0,{"$f":"IFERROR(VLOOKUP(G2014,DropDowns!$D$2:$E$151,2,FALSE),\"\")","v":""},{"$f":"IFERROR(VLOOKUP(H2014,DropDowns!$F$2:$G$7,2,FALSE),\"Residual categories\")","v":"Residual categories"},null,null,null,0,0,0]
[0,{"$f":"IF(OR(COUNTA(O1985:O2014)>0,COUNTA(O2014:$O$5195)>0),IF(COUNTIF(B2005:B2014,B2014)=10,B2014+7,B2014),\"\")","v":""},null,"","",null,null,null,0,0,0,0,{"$f":"IFERROR(VLOOKUP(G2015,DropDowns!$D$2:$E$151,2,FALSE),\"\")","v":""},{"$f":"IFERROR(VLOOKUP(H2015,DropDowns!$F$2:$G$7,2,FALSE),\"Residual categories\")","v":"Residual categories"},null,null,null,0,0,0]
[0,{"$f":"IF(OR(COUNTA(O1987:O2016)>0,COUNTA(O2016:$O$5195)>0),IF(COUNTIF(B2007:B2016,B2016)=10,B2016+7,B2016),\"\")","v":""},null,"","",null,null,null,0,0,0,0,{"$f":"IFERROR(VLOOKUP(G2017,DropDowns!$D$2:$E$151,2,FALSE),\"\")","v":""},{"$f":"IFERROR(VLOOKUP(H2017,DropDowns!$F$2:$G$7,2,FALSE),\"Residual categories\")","v":"Residual categories"},null,null,null,0,0,0]
[0,{"$f":"IF(OR(COUNTA(O1988:O2017)>0,COUNTA(O2017:$O$5195)>0),IF(COUNTIF(B2008:B2017,B2017)=10,B2017+7,B2017),\"\")","v":""},null,"","",null,null,null,0,0,0,0,{"$f":"IFERROR(VLOOKUP(G2018,DropDowns!$D$2:$E$151,2,FALSE),\"\")","v":""},{"$f":"IFERROR(VLOOKUP(H2018,DropDowns!$F$2:$G$7,2,FALSE),\"Residual categories\")","v":"Residual categories"},null,null,null,0,0,0]
[0,{"$f":"IF(OR(COUNTA(O1990:O2019)>0,COUNTA(O2019:$O$5195)>0),IF(COUNTIF(B2010:B2019,B2019)=10,B2019+7,B2019),\"\")","v":""},null,"","",null,null,null,0,0,0,0,{"$f":"IFERROR(VLOOKUP(G2020,DropDowns!$D$2:$E$151,2,FALSE),\"\")","v":""},{"$f":"IFERROR(VLOOKUP(H2020,DropDowns!$F$2:$G$7,2,FALSE),\"Residual categories\")","v":"Residual categories"},null,null,null,0,0,0]
[0,{"$f":"IF(OR(COUNTA(O1991:O2020)>0,COUNTA(O2020:$O$5195)>0),IF(COUNTIF(B2011:B2020,B2020)=10,B2020+7,B2020),\"\")","v":""},null,"","",null,null,null,0,0,0,0,{"$f":"IFERROR(VLOOKUP(G2021,DropDowns!$D$2:$E$151,2,FALSE),\"\")","v":""},{"$f":"IFERROR(VLOOKUP(H2021,DropDowns!$F$2:$G$7,2,FALSE),\"Residual categories\")","v":"Residual categories"},null,null,null,0,0,0]
[0,{"$f":"IF(OR(COUNTA(O1992:O2021)>0,COUNTA(O2021:$O$5195)>0),IF(COUNTIF(B2012:B2021,B2021)=10,B2021+7,B2021),\"\")","v":""},null,"","",null,null,null,0,0,0,0,{"$f":"IFERROR(VLOOKUP(G2022,DropDowns!$D$2:$E$151,2,FALSE),\"\")","v":""},{"$f":"IFERROR(VLOOKUP(H2022,DropDowns!$F$2:$G$7,2,FALSE),\"Residual categories\")","v":"Residual categories"},null,null,null,0,0,0]
[0,{"$f":"IF(OR(COUNTA(O1993:O2022)>0,COUNTA(O2022:$O$5195)>0),IF(COUNTIF(B2013:B2022,B2022)=10,B2022+7,B2022),\"\")","v":""},null,"","",null,null,null,0,0,0,0,{"$f":"IFERROR(VLOOKUP(G2023,DropDowns!$D$2:$E$151,2,FALSE),\"\")","v":""},{"$f":"IFERROR(VLOOKUP(H2023,DropDowns!$F$2:$G$7,2,FALSE),\"Residual categories\")","v":"Residual categories"},null,null,null,0,0,0]
[0,{"$f":"IF(OR(COUNTA(O1995:O2024)>0,COUNTA(O2024:$O$5195)>0),IF(COUNTIF(B2015:B2024,B2024)=10,B2024+7,B2024),\"\")","v":""},null,"","",null,null,null,0,0,0,0,{"$f":"IFERROR(VLOOKUP(G2025,DropDowns!$D$2:$E$151,2,FALSE),\"\")","v":""},{"$f":"IFERROR(VLOOKUP(H2025,DropDowns!$F$2:$G$7,2,FALSE),\"Residual categories\")","v":"Residual categories"},null,null,null,0,0,0]
[0,{"$f":"IF(OR(COUNTA(O1996:O2025)>0,COUNTA(O2025:$O$5195)>0),IF(COUNTIF(B2016:B2025,B2025)=10,B2025+7,B2025),\"\")","v":""},null,"","",null,null,null,0,0,0,0,{"$f":"IFERROR(VLOOKUP(G2026,DropDowns!$D$2:$E$151,2,FALSE),\"\")","v":""},{"$f":"IFERROR(VLOOKUP(H2026,DropDowns!$F$2:$G$7,2,FALSE),\"Residual categories\")","v":"Residual categories"},null,null,null,0,0,0]
[0,{"$f":"IF(OR(COUNTA(O1998:O2027)>0,COUNTA(O2027:$O$5195)>0),IF(COUNTIF(B2018:B2027,B2027)=10,B2027+7,B2027),\"\")","v":""},null,"","",null,null,null,0,0,0,0,{"$f":"IFERROR(VLOOKUP(G2028,DropDowns!$D$2:$E$151,2,FALSE),\"\")","v":""},{"$f":"IFERROR(VLOOKUP(H2028,DropDowns!$F$2:$G$7,2,FALSE),\"Residual categories\")","v":"Residual categories"},null,null,null,0,0,0]
[0,{"$f":"IF(OR(COUNTA(O1999:O2028)>0,COUNTA(O2028:$O$5195)>0),IF(COUNTIF(B2019:B2028,B2028)=10,B2028+7,B2028),\"\")","v":""},null,"","",null,null,null,0,0,0,0,{"$f":"IFERROR(VLOOKUP(G2029,DropDowns!$D$2:$E$151,2,FALSE),\"\")","v":""},{"$f":"IFERROR(VLOOKUP(H2029,DropDowns!$F$2:$G$7,2,FALSE),\"Residual categories\")","v":"Residual categories"},null,null,null,0,0,0]
[0,{"$f":"IF(OR(COUNTA(O2000:O2029)>0,COUNTA(O2029:$O$5195)>0),IF(COUNTIF(B2020:B2029,B2029)=10,B2029+7,B2029),\"\")","v":""},null,"","",null,null,null,0,0,0,0,{"$f":"IFERROR(VLOOKUP(G2030,DropDowns!$D$2:$E$151,2,FALSE),\"\")","v":""},{"$f":"IFERROR(VLOOKUP(H2030,DropDowns!$F$2:$G$7,2,FALSE),\"Residual categories\")","v":"Residual categories"},null,null,null,0,0,0]
[0,{"$f":"IF(OR(COUNTA(O2001:O2030)>0,COUNTA(O2030:$O$5195)>0),IF(COUNTIF(B2021:B2030,B2030)=10,B2030+7,B2030),\"\")","v":""},null,"","",null,null,null,0,0,0,0,{"$f":"IFERROR(VLOOKUP(G2031,DropDowns!$D$2:$E$151,2,FALSE),\"\")","v":""},{"$f":"IFERROR(VLOOKUP(H2031,DropDowns!$F$2:$G$7,2,FALSE),\"Residual categories\")","v":"Residual categories"},null,null,null,0,0,0]
[0,{"$f":"IF(OR(COUNTA(O2003:O2032)>0,COUNTA(O2032:$O$5195)>0),IF(COUNTIF(B2023:B2032,B2032)=10,B2032+7,B2032),\"\")","v":""},null,"","",null,null,null,0,0,0,0,{"$f":"IFERROR(VLOOKUP(G2033,DropDowns!$D$2:$E$151,2,FALSE),\"\")","v":""},{"$f":"IFERROR(VLOOKUP(H2033,DropDowns!$F$2:$G$7,2,FALSE),\"Residual categories\")","v":"Residual categories"},null,null,null,0,0,0]
[0,{"$f":"IF(OR(COUNTA(O2004:O2033)>0,COUNTA(O2033:$O$5195)>0),IF(COUNTIF(B2024:B2033,B2033)=10,B2033+7,B2033),\"\")","v":""},null,"","",null,null,null,0,0,0,0,{"$f":"IFERROR(VLOOKUP(G2034,DropDowns!$D$2:$E$151,2,FALSE),\"\")","v":""},{"$f":"IFERROR(VLOOKUP(H2034,DropDowns!$F$2:$G$7,2,FALSE),\"Residual categories\")","v":"Residual categories"},null,null,null,0,0,0]
[0,{"$f":"IF(OR(COUNTA(O2006:O2035)>0,COUNTA(O2035:$O$5195)>0),IF(COUNTIF(B2026:B2035,B2035)=10,B2035+7,B2035),\"\")","v":""},null,"","",null,null,null,0,0,0,0,{"$f":"IFERROR(VLOOKUP(G2036,DropDowns!$D$2:$E$151,2,FALSE),\"\")","v":""},{"$f":"IFERROR(VLOOKUP(H2036,DropDowns!$F$2:$G$7,2,FALSE),\"Residual categories\")","v":"Residual categories"},null,null,null,0,0,0]
[0,{"$f":"IF(OR(COUNTA(O2007:O2036)>0,COUNTA(O2036:$O$5195)>0),IF(COUNTIF(B2027:B2036,B2036)=10,B2036+7,B2036),\"\")","v":""},null,"","",null,null,null,0,0,0,0,{"$f":"IFERROR(VLOOKUP(G2037,DropDowns!$D$2:$E$151,2,FALSE),\"\")","v":""},{"$f":"IFERROR(VLOOKUP(H2037,DropDowns!$F$2:$G$7,2,FALSE),\"Residual categories\")","v":"Residual categories"},null,null,null,0,0,0]
[0,{"$f":"IF(OR(COUNTA(O2009:O2038)>0,COUNTA(O2038:$O$5195)>0),IF(COUNTIF(B2029:B2038,B2038)=10,B2038+7,B2038),\"\")","v":""},null,"","",null,null,null,0,0,0,0,{"$f":"IFERROR(VLOOKUP(G2039,DropDowns!$D$2:$E$151,2,FALSE),\"\")","v":""},{"$f":"IFERROR(VLOOKUP(H2039,DropDowns!$F$2:$G$7,2,FALSE),\"Residual categories\")","v":"Residual categories"},null,null,null,0,0,0]
[0,{"$f":"IF(OR(COUNTA(O2010:O2039)>0,COUNTA(O2039:$O$5195)>0),IF(COUNTIF(B2030:B2039,B2039)=10,B2039+7,B2039),\"\")","v":""},null,"","",null,null,null,0,0,0,0,{"$f":"IFERROR(VLOOKUP(G2040,DropDowns!$D$2:$E$151,2,FALSE),\"\")","v":""},{"$f":"IFERROR(VLOOKUP(H2040,DropDowns!$F$2:$G$7,2,FALSE),\"Residual categories\")","v":"Residual categories"},null,null,null,0,0,0]
[0,{"$f":"IF(OR(COUNTA(O2011:O2040)>0,COUNTA(O2040:$O$5195)>0),IF(COUNTIF(B2031:B2040,B2040)=10,B2040+7,B2040),\"\")","v":""},null,"","",null,null,null,0,0,0,0,{"$f":"IFERROR(VLOOKUP(G2041,DropDowns!$D$2:$E$151,2,FALSE),\"\")","v":""},{"$f":"IFERROR(VLOOKUP(H2041,DropDowns!$F$2:$G$7,2,FALSE),\"Residual categories\")","v":"Residual categories"},null,null,null,0,0,0]
[0,{"$f":"IF(OR(COUNTA(O2012:O2041)>0,COUNTA(O2041:$O$5195)>0),IF(COUNTIF(B2032:B2041,B2041)=10,B2041+7,B2041),\"\")","v":""},null,"","",null,null,null,0,0,0,0,{"$f":"IFERROR(VLOOKUP(G2042,DropDowns!$D$2:$E$151,2,FALSE),\"\")","v":""},{"$f":"IFERROR(VLOOKUP(H2042,DropDowns!$F$2:$G$7,2,FALSE),\"Residual categories\")","v":"Residual categories"},null,null,null,0,0,0]
[0,{"$f":"IF(OR(COUNTA(O2014:O2043)>0,COUNTA(O2043:$O$5195)>0),IF(COUNTIF(B2034:B2043,B2043)=10,B2043+7,B2043),\"\")","v":""},null,"","",null,null,null,0,0,0,0,{"$f":"IFERROR(VLOOKUP(G2044,DropDowns!$D$2:$E$151,2,FALSE),\"\")","v":""},{"$f":"IFERROR(VLOOKUP(H2044,DropDowns!$F$2:$G$7,2,FALSE),\"Residual categories\")","v":"Residual categories"},null,null,null,0,0,0]
[0,{"$f":"IF(OR(COUNTA(O2015:O2044)>0,COUNTA(O2044:$O$5195)>0),IF(COUNTIF(B2035:B2044,B2044)=10,B2044+7,B2044),\"\")","v":""},null,"","",null,null,null,0,0,0,0,{"$f":"IFERROR(VLOOKUP(G2045,DropDowns!$D$2:$E$151,2,FALSE),\"\")","v":""},{"$f":"IFERROR(VLOOKUP(H2045,DropDowns!$F$2:$G$7,2,FALSE),\"Residual categories\")","v":"Residual categories"},null,null,null,0,0,0]
[0,{"$f":"IF(OR(COUNTA(O2017:O2046)>0,COUNTA(O2046:$O$5195)>0),IF(COUNTIF(B2037:B2046,B2046)=10,B2046+7,B2046),\"\")","v":""},null,"","",null,null,null,0,0,0,0,{"$f":"IFERROR(VLOOKUP(G2047,DropDowns!$D$2:$E$151,2,FALSE),\"\")","v":""},{"$f":"IFERROR(VLOOKUP(H2047,DropDowns!$F$2:$G$7,2,FALSE),\"Residual categories\")","v":"Residual categories"},null,null,null,0,0,0]
[0,{"$f":"IF(OR(COUNTA(O2018:O2047)>0,COUNTA(O2047:$O$5195)>0),IF(COUNTIF(B2038:B2047,B2047)=10,B2047+7,B2047),\"\")","v":""},null,"","",null,null,null,0,0,0,0,{"$f":"IFERROR(VLOOKUP(G2048,DropDowns!$D$2:$E$151,2,FALSE),\"\")","v":""},{"$f":"IFERROR(VLOOKUP(H2048,DropDowns!$F$2:$G$7,2,FALSE),\"Residual categories\")","v":"Residual categories"},null,null,null,0,0,0]
[0,{"$f":"IF(OR(COUNTA(O2019:O2048)>0,COUNTA(O2048:$O$5195)>0),IF(COUNTIF(B2039:B2048,B2048)=10,B2048+7,B2048),\"\")","v":""},null,"","",null,null,null,0,0,0,0,{"$f":"IFERROR(VLOOKUP(G2049,DropDowns!$D$2:$E$151,2,FALSE),\"\")","v":""},{"$f":"IFERROR(VLOOKUP(H2049,DropDowns!$F$2:$G$7,2,FALSE),\"Residual categories\")","v":"Residual categories"},null,null,null,0,0,0]
[0,{"$f":"IF(OR(COUNTA(O2020:O2049)>0,COUNTA(O2049:$O$5195)>0),IF(COUNTIF(B2040:B2049,B2049)=10,B2049+7,B2049),\"\")","v":""},null,"","",null,null,null,0,0,0,0,{"$f":"IFERROR(VLOOKUP(G2050,DropDowns!$D$2:$E$151,2,FALSE),\"\")","v":""},{"$f":"IFERROR(VLOOKUP(H2050,DropDowns!$F$2:$G$7,2,FALSE),\"Residual categories\")","v":"Residual categories"},null,null,null,0,0,0]
[0,{"$f":"IF(OR(COUNTA(O2022:O2051)>0,COUNTA(O2051:$O$5195)>0),IF(COUNTIF(B2042:B2051,B2051)=10,B2051+7,B2051),\"\")","v":""},null,"","",null,null,null,0,0,0,0,{"$f":"IFERROR(VLOOKUP(G2052,DropDowns!$D$2:$E$151,2,FALSE),\"\")","v":""},{"$f":"IFERROR(VLOOKUP(H2052,DropDowns!$F$2:$G$7,2,FALSE),\"Residual categories\")","v":"Residual categories"},null,null,null,0,0,0]
[0,{"$f":"IF(OR(COUNTA(O2023:O2052)>0,COUNTA(O2052:$O$5195)>0),IF(COUNTIF(B2043:B2052,B2052)=10,B2052+7,B2052),\"\")","v":""},null,"","",null,null,null,0,0,0,0,{"$f":"IFERROR(VLOOKUP(G2053,DropDowns!$D$2:$E$151,2,FALSE),\"\")","v":""},{"$f":"IFERROR(VLOOKUP(H2053,DropDowns!$F$2:$G$7,2,FALSE),\"Residual categories\")","v":"Residual categories"},null,null,null,0,0,0]
[0,{"$f":"IF(OR(COUNTA(O2025:O2054)>0,COUNTA(O2054:$O$5195)>0),IF(COUNTIF(B2045:B2054,B2054)=10,B2054+7,B2054),\"\")","v":""},null,{"$f":"IF(E2055=1,B2055,\"\")","v":""},"",null,null,null,{"$f":"IF(COUNTA(O2055:Q2055)>0,1,0)","v":0},{"$f":"IF(O2055=\"y\",1,0)","v":0},{"$f":"IF(P2055=\"y\",1,0)","v":0},{"$f":"IF(Q2055=\"y\",1,0)","v":0},{"$f":"IFERROR(VLOOKUP(G2055,DropDowns!$D$2:$E$151,2,FALSE),\"\")","v":""},{"$f":"IFERROR(VLOOKUP(H2055,DropDowns!$F$2:$G$7,2,FALSE),\"Residual categories\")","v":"Residual categories"},null,null,null,{"$f":"IF(O2055=\"yes\",1,0)","v":0},{"$f":"IF(P2055=\"yes\",1,0)","v":0},{"$f":"IF(Q2055=\"yes\",1,0)","v":0}]
[0,{"$f":"IF(OR(COUNTA(O2026:O2055)>0,COUNTA(O2055:$O$5195)>0),IF(COUNTIF(B2046:B2055,B2055)=10,B2055+7,B2055),\"\")","v":""},null,"","",null,null,null,0,0,0,0,{"$f":"IFERROR(VLOOKUP(G2056,DropDowns!$D$2:$E$151,2,FALSE),\"\")","v":""},{"$f":"IFERROR(VLOOKUP(H2056,DropDowns!$F$2:$G$7,2,FALSE),\"Residual categories\")","v":"Residual categories"},null,null,null,0,0,0]
[0,{"$f":"IF(OR(COUNTA(O2027:O2056)>0,COUNTA(O2056:$O$5195)>0),IF(COUNTIF(B2047:B2056,B2056)=10,B2056+7,B2056),\"\")","v":""},null,"","",null,null,null,0,0,0,0,{"$f":"IFERROR(VLOOKUP(G2057,DropDowns!$D$2:$E$151,2,FALSE),\"\")","v":""},{"$f":"IFERROR(VLOOKUP(H2057,DropDowns!$F$2:$G$7,2,FALSE),\"Residual categories\")","v":"Residual categories"},null,null,null,0,0,0]
[0,{"$f":"IF(OR(COUNTA(O2028:O2057)>0,COUNTA(O2057:$O$5195)>0),IF(COUNTIF(B2048:B2057,B2057)=10,B2057+7,B2057),\"\")","v":""},null,"","",null,null,null,0,0,0,0,{"$f":"IFERROR(VLOOKUP(G2058,DropDowns!$D$2:$E$151,2,FALSE),\"\")","v":""},{"$f":"IFERROR(VLOOKUP(H2058,DropDowns!$F$2:$G$7,2,FALSE),\"Residual categories\")","v":"Residual categories"},null,null,null,0,0,0]
[0,{"$f":"IF(OR(COUNTA(O2030:O2059)>0,COUNTA(O2059:$O$5195)>0),IF(COUNTIF(B2050:B2059,B2059)=10,B2059+7,B2059),\"\")","v":""},null,"","",null,null,null,0,0,0,0,{"$f":"IFERROR(VLOOKUP(G2060,DropDowns!$D$2:$E$151,2,FALSE),\"\")","v":""},{"$f":"IFERROR(VLOOKUP(H2060,DropDowns!$F$2:$G$7,2,FALSE),\"Residual categories\")","v":"Residual categories"},null,null,null,0,0,0]
[0,{"$f":"IF(OR(COUNTA(O2031:O2060)>0,COUNTA(O2060:$O$5195)>0),IF(COUNTIF(B2051:B2060,B2060)=10,B2060+7,B2060),\"\")","v":""},null,"","",null,null,null,0,0,0,0,{"$f":"IFERROR(VLOOKUP(G2061,DropDowns!$D$2:$E$151,2,FALSE),\"\")","v":""},{"$f":"IFERROR(VLOOKUP(H2061,DropDowns!$F$2:$G$7,2,FALSE),\"Residual categories\")","v":"Residual categories"},null,null,null,0,0,0]
[0,{"$f":"IF(OR(COUNTA(O2033:O2062)>0,COUNTA(O2062:$O$5195)>0),IF(COUNTIF(B2053:B2062,B2062)=10,B2062+7,B2062),\"\")","v":""},null,"","",null,null,null,0,0,0,0,{"$f":"IFERROR(VLOOKUP(G2063,DropDowns!$D$2:$E$151,2,FALSE),\"\")","v":""},{"$f":"IFERROR(VLOOKUP(H2063,DropDowns!$F$2:$G$7,2,FALSE),\"Residual categories\")","v":"Residual categories"},null,null,null,0,0,0]
[0,{"$f":"IF(OR(COUNTA(O2034:O2063)>0,COUNTA(O2063:$O$5195)>0),IF(COUNTIF(B2054:B2063,B2063)=10,B2063+7,B2063),\"\")","v":""},null,"","",null,null,null,0,0,0,0,{"$f":"IFERROR(VLOOKUP(G2064,DropDowns!$D$2:$E$151,2,FALSE),\"\")","v":""},{"$f":"IFERROR(VLOOKUP(H2064,DropDowns!$F$2:$G$7,2,FALSE),\"Residual categories\")","v":"Residual categories"},null,null,null,0,0,0]
[0,{"$f":"IF(OR(COUNTA(O2036:O2065)>0,COUNTA(O2065:$O$5195)>0),IF(COUNTIF(B2056:B2065,B2065)=10,B2065+7,B2065),\"\")","v":""},null,"","",null,null,null,0,0,0,0,{"$f":"IFERROR(VLOOKUP(G2066,DropDowns!$D$2:$E$151,2,FALSE),\"\")","v":""},{"$f":"IFERROR(VLOOKUP(H2066,DropDowns!$F$2:$G$7,2,FALSE),\"Residual categories\")","v":"Residual categories"},null,null,null,0,0,0]
[0,{"$f":"IF(OR(COUNTA(O2037:O2066)>0,COUNTA(O2066:$O$5195)>0),IF(COUNTIF(B2057:B2066,B2066)=10,B2066+7,B2066),\"\")","v":""},null,"","",null,null,null,0,0,0,0,{"$f":"IFERROR(VLOOKUP(G2067,DropDowns!$D$2:$E$151,2,FALSE),\"\")","v":""},{"$f":"IFERROR(VLOOKUP(H2067,DropDowns!$F$2:$G$7,2,FALSE),\"Residual categories\")","v":"Residual categories"},null,null,null,0,0,0]
[{"$f":"$E$2","v":0},{"$f":"IF(OR(COUNTA(O2038:O2067)>0,COUNTA(O2067:$O$5195)>0),IF(COUNTIF(B2058:B2067,B2067)=10,B2067+7,B2067),\"\")","v":""},null,"","",null,null,null,0,0,0,0,{"$f":"IFERROR(VLOOKUP(G2068,DropDowns!$D$2:$E$151,2,FALSE),\"\")","v":""},{"$f":"IFERROR(VLOOKUP(H2068,DropDowns!$F$2:$G$7,2,FALSE),\"Residual categories\")","v":"Residual categories"},null,null,null,0,0,0]
[0,{"$f":"IF(OR(COUNTA(O2039:O2068)>0,COUNTA(O2068:$O$5195)>0),IF(COUNTIF(B2059:B2068,B2068)=10,B2068+7,B2068),\"\")","v":""},null,"","",null,null,null,0,0,0,0,{"$f":"IFERROR(VLOOKUP(G2069,DropDowns!$D$2:$E$151,2,FALSE),\"\")","v":""},{"$f":"IFERROR(VLOOKUP(H2069,DropDowns!$F$2:$G$7,2,FALSE),\"Residual categories\")","v":"Residual categories"},null,null,null,0,0,0]
[0,{"$f":"IF(OR(COUNTA(O2041:O2070)>0,COUNTA(O2070:$O$5195)>0),IF(COUNTIF(B2061:B2070,B2070)=10,B2070+7,B2070),\"\")","v":""},null,"","",null,null,null,0,0,0,0,{"$f":"IFERROR(VLOOKUP(G2071,DropDowns!$D$2:$E$151,2,FALSE),\"\")","v":""},{"$f":"IFERROR(VLOOKUP(H2071,DropDowns!$F$2:$G$7,2,FALSE),\"Residual categories\")","v":"Residual categories"},null,null,null,0,0,0]
[0,{"$f":"IF(OR(COUNTA(O2042:O2071)>0,COUNTA(O2071:$O$5195)>0),IF(COUNTIF(B2062:B2071,B2071)=10,B2071+7,B2071),\"\")","v":""},null,"","",null,null,null,0,0,0,0,{"$f":"IFERROR(VLOOKUP(G2072,DropDowns!$D$2:$E$151,2,FALSE),\"\")","v":""},{"$f":"IFERROR(VLOOKUP(H2072,DropDowns!$F$2:$G$7,2,FALSE),\"Residual categories\")","v":"Residual categories"},null,null,null,0,0,0]
[0,{"$f":"IF(OR(COUNTA(O2044:O2073)>0,COUNTA(O2073:$O$5195)>0),IF(COUNTIF(B2064:B2073,B2073)=10,B2073+7,B2073),\"\")","v":""},null,"","",null,null,null,0,0,0,0,{"$f":"IFERROR(VLOOKUP(G2074,DropDowns!$D$2:$E$151,2,FALSE),\"\")","v":""},{"$f":"IFERROR(VLOOKUP(H2074,DropDowns!$F$2:$G$7,2,FALSE),\"Residual categories\")","v":"Residual categories"},null,null,null,0,0,0]
[0,{"$f":"IF(OR(COUNTA(O2045:O2074)>0,COUNTA(O2074:$O$5195)>0),IF(COUNTIF(B2065:B2074,B2074)=10,B2074+7,B2074),\"\")","v":""},null,"","",null,null,null,0,0,0,0,{"$f":"IFERROR(VLOOKUP(G2075,DropDowns!$D$2:$E$151,2,FALSE),\"\")","v":""},{"$f":"IFERROR(VLOOKUP(H2075,DropDowns!$F$2:$G$7,2,FALSE),\"Residual categories\")","v":"Residual categories"},null,null,null,0,0,0]
[0,{"$f":"IF(OR(COUNTA(O2046:O2075)>0,COUNTA(O2075:$O$5195)>0),IF(COUNTIF(B2066:B2075,B2075)=10,B2075+7,B2075),\"\")","v":""},null,"","",null,null,null,0,0,0,0,{"$f":"IFERROR(VLOOKUP(G2076,DropDowns!$D$2:$E$151,2,FALSE),\"\")","v":""},{"$f":"IFERROR(VLOOKUP(H2076,DropDowns!$F$2:$G$7,2,FALSE),\"Residual categories\")","v":"Residual categories"},null,null,null,0,0,0]
[0,{"$f":"IF(OR(COUNTA(O2047:O2076)>0,COUNTA(O2076:$O$5195)>0),IF(COUNTIF(B2067:B2076,B2076)=10,B2076+7,B2076),\"\")","v":""},null,"","",null,null,null,0,0,0,0,{"$f":"IFERROR(VLOOKUP(G2077,DropDowns!$D$2:$E$151,2,FALSE),\"\")","v":""},{"$f":"IFERROR(VLOOKUP(H2077,DropDowns!$F$2:$G$7,2,FALSE),\"Residual categories\")","v":"Residual categories"},null,null,null,0,0,0]
[0,{"$f":"IF(OR(COUNTA(O2049:O2078)>0,COUNTA(O2078:$O$5195)>0),IF(COUNTIF(B2069:B2078,B2078)=10,B2078+7,B2078),\"\")","v":""},null,"","",null,null,null,0,0,0,0,{"$f":"IFERROR(VLOOKUP(G2079,DropDowns!$D$2:$E$151,2,FALSE),\"\")","v":""},{"$f":"IFERROR(VLOOKUP(H2079,DropDowns!$F$2:$G$7,2,FALSE),\"Residual categories\")","v":"Residual categories"},null,null,null,0,0,0]
[0,{"$f":"IF(OR(COUNTA(O2050:O2079)>0,COUNTA(O2079:$O$5195)>0),IF(COUNTIF(B2070:B2079,B2079)=10,B2079+7,B2079),\"\")","v":""},null,"","",null,null,null,0,0,0,0,{"$f":"IFERROR(VLOOKUP(G2080,DropDowns!$D$2:$E$151,2,FALSE),\"\")","v":""},{"$f":"IFERROR(VLOOKUP(H2080,DropDowns!$F$2:$G$7,2,FALSE),\"Residual categories\")","v":"Residual categories"},null,null,null,0,0,0]
[0,{"$f":"IF(OR(COUNTA(O2052:O2081)>0,COUNTA(O2081:$O$5195)>0),IF(COUNTIF(B2072:B2081,B2081)=10,B2081+7,B2081),\"\")","v":""},null,"","",null,null,null,0,0,0,0,{"$f":"IFERROR(VLOOKUP(G2082,DropDowns!$D$2:$E$151,2,FALSE),\"\")","v":""},{"$f":"IFERROR(VLOOKUP(H2082,DropDowns!$F$2:$G$7,2,FALSE),\"Residual categories\")","v":"Residual categories"},null,null,null,0,0,0]
[0,{"$f":"IF(OR(COUNTA(O2053:O2082)>0,COUNTA(O2082:$O$5195)>0),IF(COUNTIF(B2073:B2082,B2082)=10,B2082+7,B2082),\"\")","v":""},null,"","",null,null,null,0,0,0,0,{"$f":"IFERROR(VLOOKUP(G2083,DropDowns!$D$2:$E$151,2,FALSE),\"\")","v":""},{"$f":"IFERROR(VLOOKUP(H2083,DropDowns!$F$2:$G$7,2,FALSE),\"Residual categories\")","v":"Residual categories"},null,null,null,0,0,0]
[0,{"$f":"IF(OR(COUNTA(O2054:O2083)>0,COUNTA(O2083:$O$5195)>0),IF(COUNTIF(B2074:B2083,B2083)=10,B2083+7,B2083),\"\")","v":""},null,"","",null,null,null,0,0,0,0,{"$f":"IFERROR(VLOOKUP(G2084,DropDowns!$D$2:$E$151,2,FALSE),\"\")","v":""},{"$f":"IFERROR(VLOOKUP(H2084,DropDowns!$F$2:$G$7,2,FALSE),\"Residual categories\")","v":"Residual categories"},null,null,null,0,0,0]
[0,{"$f":"IF(OR(COUNTA(O2055:O2084)>0,COUNTA(O2084:$O$5195)>0),IF(COUNTIF(B2075:B2084,B2084)=10,B2084+7,B2084),\"\")","v":""},null,"","",null,null,null,0,0,0,0,{"$f":"IFERROR(VLOOKUP(G2085,DropDowns!$D$2:$E$151,2,FALSE),\"\")","v":""},{"$f":"IFERROR(VLOOKUP(H2085,DropDowns!$F$2:$G$7,2,FALSE),\"Residual categories\")","v":"Residual categories"},null,null,null,0,0,0]
[0,{"$f":"IF(OR(COUNTA(O2057:O2086)>0,COUNTA(O2086:$O$5195)>0),IF(COUNTIF(B2077:B2086,B2086)=10,B2086+7,B2086),\"\")","v":""},null,"","",null,null,null,0,0,0,0,{"$f":"IFERROR(VLOOKUP(G2087,DropDowns!$D$2:$E$151,2,FALSE),\"\")","v":""},{"$f":"IFERROR(VLOOKUP(H2087,DropDowns!$F$2:$G$7,2,FALSE),\"Residual categories\")","v":"Residual categories"},null,null,null,0,0,0]
[0,{"$f":"IF(OR(COUNTA(O2058:O2087)>0,COUNTA(O2087:$O$5195)>0),IF(COUNTIF(B2078:B2087,B2087)=10,B2087+7,B2087),\"\")","v":""},null,"","",null,null,null,0,0,0,0,{"$f":"IFERROR(VLOOKUP(G2088,DropDowns!$D$2:$E$151,2,FALSE),\"\")","v":""},{"$f":"IFERROR(VLOOKUP(H2088,DropDowns!$F$2:$G$7,2,FALSE),\"Residual categories\")","v":"Residual categories"},null,null,null,0,0,0]
[0,{"$f":"IF(OR(COUNTA(O2060:O2089)>0,COUNTA(O2089:$O$5195)>0),IF(COUNTIF(B2080:B2089,B2089)=10,B2089+7,B2089),\"\")","v":""},null,"","",null,null,null,0,0,0,0,{"$f":"IFERROR(VLOOKUP(G2090,DropDowns!$D$2:$E$151,2,FALSE),\"\")","v":""},{"$f":"IFERROR(VLOOKUP(H2090,DropDowns!$F$2:$G$7,2,FALSE),\"Residual categories\")","v":"Residual categories"},null,null,null,0,0,0]
[0,{"$f":"IF(OR(COUNTA(O2061:O2090)>0,COUNTA(O2090:$O$5195)>0),IF(COUNTIF(B2081:B2090,B2090)=10,B2090+7,B2090),\"\")","v":""},null,"","",null,null,null,0,0,0,0,{"$f":"IFERROR(VLOOKUP(G2091,DropDowns!$D$2:$E$151,2,FALSE),\"\")","v":""},{"$f":"IFERROR(VLOOKUP(H2091,DropDowns!$F$2:$G$7,2,FALSE),\"Residual categories\")","v":"Residual categories"},null,null,null,0,0,0]
[0,{"$f":"IF(OR(COUNTA(O2062:O2091)>0,COUNTA(O2091:$O$5195)>0),IF(COUNTIF(B2082:B2091,B2091)=10,B2091+7,B2091),\"\")","v":""},null,"","",null,null,null,0,0,0,0,{"$f":"IFERROR(VLOOKUP(G2092,DropDowns!$D$2:$E$151,2,FALSE),\"\")","v":""},{"$f":"IFERROR(VLOOKUP(H2092,DropDowns!$F$2:$G$7,2,FALSE),\"Residual categories\")","v":"Residual categories"},null,null,null,0,0,0]
[0,{"$f":"IF(OR(COUNTA(O2063:O2092)>0,COUNTA(O2092:$O$5195)>0),IF(COUNTIF(B2083:B2092,B2092)=10,B2092+7,B2092),\"\")","v":""},null,"","",null,null,null,0,0,0,0,{"$f":"IFERROR(VLOOKUP(G2093,DropDowns!$D$2:$E$151,2,FALSE),\"\")","v":""},{"$f":"IFERROR(VLOOKUP(H2093,DropDowns!$F$2:$G$7,2,FALSE),\"Residual categories\")","v":"Residual categories"},null,null,null,0,0,0]
[0,{"$f":"IF(OR(COUNTA(O2065:O2094)>0,COUNTA(O2094:$O$5195)>0),IF(COUNTIF(B2085:B2094,B2094)=10,B2094+7,B2094),\"\")","v":""},null,"","",null,null,null,0,0,0,0,{"$f":"IFERROR(VLOOKUP(G2095,DropDowns!$D$2:$E$151,2,FALSE),\"\")","v":""},{"$f":"IFERROR(VLOOKUP(H2095,DropDowns!$F$2:$G$7,2,FALSE),\"Residual categories\")","v":"Residual categories"},null,null,null,0,0,0]
[0,{"$f":"IF(OR(COUNTA(O2066:O2095)>0,COUNTA(O2095:$O$5195)>0),IF(COUNTIF(B2086:B2095,B2095)=10,B2095+7,B2095),\"\")","v":""},null,"","",null,null,null,0,0,0,0,{"$f":"IFERROR(VLOOKUP(G2096,DropDowns!$D$2:$E$151,2,FALSE),\"\")","v":""},{"$f":"IFERROR(VLOOKUP(H2096,DropDowns!$F$2:$G$7,2,FALSE),\"Residual categories\")","v":"Residual categories"},null,null,null,0,0,0]
[0,{"$f":"IF(OR(COUNTA(O2068:O2097)>0,COUNTA(O2097:$O$5195)>0),IF(COUNTIF(B2088:B2097,B2097)=10,B2097+7,B2097),\"\")","v":""},null,"","",null,null,null,0,0,0,0,{"$f":"IFERROR(VLOOKUP(G2098,DropDowns!$D$2:$E$151,2,FALSE),\"\")","v":""},{"$f":"IFERROR(VLOOKUP(H2098,DropDowns!$F$2:$G$7,2,FALSE),\"Residual categories\")","v":"Residual categories"},null,null,null,0,0,0]
[0,{"$f":"IF(OR(COUNTA(O2069:O2098)>0,COUNTA(O2098:$O$5195)>0),IF(COUNTIF(B2089:B2098,B2098)=10,B2098+7,B2098),\"\")","v":""},null,"","",null,null,null,0,0,0,0,{"$f":"IFERROR(VLOOKUP(G2099,DropDowns!$D$2:$E$151,2,FALSE),\"\")","v":""},{"$f":"IFERROR(VLOOKUP(H2099,DropDowns!$F$2:$G$7,2,FALSE),\"Residual categories\")","v":"Residual categories"},null,null,null,0,0,0]
[0,{"$f":"IF(OR(COUNTA(O2071:O2100)>0,COUNTA(O2100:$O$5195)>0),IF(COUNTIF(B2091:B2100,B2100)=10,B2100+7,B2100),\"\")","v":""},null,"","",null,null,null,0,0,0,0,{"$f":"IFERROR(VLOOKUP(G2101,DropDowns!$D$2:$E$151,2,FALSE),\"\")","v":""},{"$f":"IFERROR(VLOOKUP(H2101,DropDowns!$F$2:$G$7,2,FALSE),\"Residual categories\")","v":"Residual categories"},null,null,null,0,0,0]
[0,{"$f":"IF(OR(COUNTA(O2072:O2101)>0,COUNTA(O2101:$O$5195)>0),IF(COUNTIF(B2092:B2101,B2101)=10,B2101+7,B2101),\"\")","v":""},null,"","",null,null,null,0,0,0,0,{"$f":"IFERROR(VLOOKUP(G2102,DropDowns!$D$2:$E$151,2,FALSE),\"\")","v":""},{"$f":"IFERROR(VLOOKUP(H2102,DropDowns!$F$2:$G$7,2,FALSE),\"Residual categories\")","v":"Residual categories"},null,null,null,0,0,0]
[0,{"$f":"IF(OR(COUNTA(O2073:O2102)>0,COUNTA(O2102:$O$5195)>0),IF(COUNTIF(B2093:B2102,B2102)=10,B2102+7,B2102),\"\")","v":""},null,"","",null,null,null,0,0,0,0,{"$f":"IFERROR(VLOOKUP(G2103,DropDowns!$D$2:$E$151,2,FALSE),\"\")","v":""},{"$f":"IFERROR(VLOOKUP(H2103,DropDowns!$F$2:$G$7,2,FALSE),\"Residual categories\")","v":"Residual categories"},null,null,null,0,0,0]
[0,{"$f":"IF(OR(COUNTA(O2074:O2103)>0,COUNTA(O2103:$O$5195)>0),IF(COUNTIF(B2094:B2103,B2103)=10,B2103+7,B2103),\"\")","v":""},null,"","",null,null,null,0,0,0,0,{"$f":"IFERROR(VLOOKUP(G2104,DropDowns!$D$2:$E$151,2,FALSE),\"\")","v":""},{"$f":"IFERROR(VLOOKUP(H2104,DropDowns!$F$2:$G$7,2,FALSE),\"Residual categories\")","v":"Residual categories"},null,null,null,0,0,0]
[0,{"$f":"IF(OR(COUNTA(O2076:O2105)>0,COUNTA(O2105:$O$5195)>0),IF(COUNTIF(B2096:B2105,B2105)=10,B2105+7,B2105),\"\")","v":""},null,"","",null,null,null,0,0,0,0,{"$f":"IFERROR(VLOOKUP(G2106,DropDowns!$D$2:$E$151,2,FALSE),\"\")","v":""},{"$f":"IFERROR(VLOOKUP(H2106,DropDowns!$F$2:$G$7,2,FALSE),\"Residual categories\")","v":"Residual categories"},null,null,null,0,0,0]
[0,{"$f":"IF(OR(COUNTA(O2077:O2106)>0,COUNTA(O2106:$O$5195)>0),IF(COUNTIF(B2097:B2106,B2106)=10,B2106+7,B2106),\"\")","v":""},null,"","",null,null,null,0,0,0,0,{"$f":"IFERROR(VLOOKUP(G2107,DropDowns!$D$2:$E$151,2,FALSE),\"\")","v":""},{"$f":"IFERROR(VLOOKUP(H2107,DropDowns!$F$2:$G$7,2,FALSE),\"Residual categories\")","v":"Residual categories"},null,null,null,0,0,0]
[0,{"$f":"IF(OR(COUNTA(O2079:O2108)>0,COUNTA(O2108:$O$5195)>0),IF(COUNTIF(B2099:B2108,B2108)=10,B2108+7,B2108),\"\")","v":""},null,"","",null,null,null,0,0,0,0,{"$f":"IFERROR(VLOOKUP(G2109,DropDowns!$D$2:$E$151,2,FALSE),\"\")","v":""},{"$f":"IFERROR(VLOOKUP(H2109,DropDowns!$F$2:$G$7,2,FALSE),\"Residual categories\")","v":"Residual categories"},null,null,null,0,0,0]
[0,{"$f":"IF(OR(COUNTA(O2080:O2109)>0,COUNTA(O2109:$O$5195)>0),IF(COUNTIF(B2100:B2109,B2109)=10,B2109+7,B2109),\"\")","v":""},null,"","",null,null,null,0,0,0,0,{"$f":"IFERROR(VLOOKUP(G2110,DropDowns!$D$2:$E$151,2,FALSE),\"\")","v":""},{"$f":"IFERROR(VLOOKUP(H2110,DropDowns!$F$2:$G$7,2,FALSE),\"Residual categories\")","v":"Residual categories"},null,null,null,0,0,0]
[0,{"$f":"IF(OR(COUNTA(O2081:O2110)>0,COUNTA(O2110:$O$5195)>0),IF(COUNTIF(B2101:B2110,B2110)=10,B2110+7,B2110),\"\")","v":""},null,"","",null,null,null,0,0,0,0,{"$f":"IFERROR(VLOOKUP(G2111,DropDowns!$D$2:$E$151,2,FALSE),\"\")","v":""},{"$f":"IFERROR(VLOOKUP(H2111,DropDowns!$F$2:$G$7,2,FALSE),\"Residual categories\")","v":"Residual categories"},null,null,null,0,0,0]
[0,{"$f":"IF(OR(COUNTA(O2082:O2111)>0,COUNTA(O2111:$O$5195)>0),IF(COUNTIF(B2102:B2111,B2111)=10,B2111+7,B2111),\"\")","v":""},null,"","",null,null,null,0,0,0,0,{"$f":"IFERROR(VLOOKUP(G2112,DropDowns!$D$2:$E$151,2,FALSE),\"\")","v":""},{"$f":"IFERROR(VLOOKUP(H2112,DropDowns!$F$2:$G$7,2,FALSE),\"Residual categories\")","v":"Residual categories"},null,null,null,0,0,0]
[0,{"$f":"IF(OR(COUNTA(O2084:O2113)>0,COUNTA(O2113:$O$5195)>0),IF(COUNTIF(B2104:B2113,B2113)=10,B2113+7,B2113),\"\")","v":""},null,"","",null,null,null,0,0,0,0,{"$f":"IFERROR(VLOOKUP(G2114,DropDowns!$D$2:$E$151,2,FALSE),\"\")","v":""},{"$f":"IFERROR(VLOOKUP(H2114,DropDowns!$F$2:$G$7,2,FALSE),\"Residual categories\")","v":"Residual categories"},null,null,null,0,0,0]
[0,{"$f":"IF(OR(COUNTA(O2085:O2114)>0,COUNTA(O2114:$O$5195)>0),IF(COUNTIF(B2105:B2114,B2114)=10,B2114+7,B2114),\"\")","v":""},null,"","",null,null,null,0,0,0,0,{"$f":"IFERROR(VLOOKUP(G2115,DropDowns!$D$2:$E$151,2,FALSE),\"\")","v":""},{"$f":"IFERROR(VLOOKUP(H2115,DropDowns!$F$2:$G$7,2,FALSE),\"Residual categories\")","v":"Residual categories"},null,null,null,0,0,0]
[0,{"$f":"IF(OR(COUNTA(O2087:O2116)>0,COUNTA(O2116:$O$5195)>0),IF(COUNTIF(B2107:B2116,B2116)=10,B2116+7,B2116),\"\")","v":""},null,"","",null,null,null,0,0,0,0,{"$f":"IFERROR(VLOOKUP(G2117,DropDowns!$D$2:$E$151,2,FALSE),\"\")","v":""},{"$f":"IFERROR(VLOOKUP(H2117,DropDowns!$F$2:$G$7,2,FALSE),\"Residual categories\")","v":"Residual categories"},null,null,null,0,0,0]
[0,{"$f":"IF(OR(COUNTA(O2088:O2117)>0,COUNTA(O2117:$O$5195)>0),IF(COUNTIF(B2108:B2117,B2117)=10,B2117+7,B2117),\"\")","v":""},null,"","",null,null,null,0,0,0,0,{"$f":"IFERROR(VLOOKUP(G2118,DropDowns!$D$2:$E$151,2,FALSE),\"\")","v":""},{"$f":"IFERROR(VLOOKUP(H2118,DropDowns!$F$2:$G$7,2,FALSE),\"Residual categories\")","v":"Residual categories"},null,null,null,0,0,0]
[0,{"$f":"IF(OR(COUNTA(O2089:O2118)>0,COUNTA(O2118:$O$5195)>0),IF(COUNTIF(B2109:B2118,B2118)=10,B2118+7,B2118),\"\")","v":""},null,{"$f":"IF(E2119=1,B2119,\"\")","v":""},"",null,null,null,{"$f":"IF(COUNTA(O2119:Q2119)>0,1,0)","v":0},{"$f":"IF(O2119=\"y\",1,0)","v":0},{"$f":"IF(P2119=\"y\",1,0)","v":0},{"$f":"IF(Q2119=\"y\",1,0)","v":0},{"$f":"IFERROR(VLOOKUP(G2119,DropDowns!$D$2:$E$151,2,FALSE),\"\")","v":""},{"$f":"IFERROR(VLOOKUP(H2119,DropDowns!$F$2:$G$7,2,FALSE),\"Residual categories\")","v":"Residual categories"},null,null,null,{"$f":"IF(O2119=\"yes\",1,0)","v":0},{"$f":"IF(P2119=\"yes\",1,0)","v":0},{"$f":"IF(Q2119=\"yes\",1,0)","v":0}]
[0,{"$f":"IF(OR(COUNTA(O2090:O2119)>0,COUNTA(O2119:$O$5195)>0),IF(COUNTIF(B2110:B2119,B2119)=10,B2119+7,B2119),\"\")","v":""},null,"","",null,null,null,0,0,0,0,{"$f":"IFERROR(VLOOKUP(G2120,DropDowns!$D$2:$E$151,2,FALSE),\"\")","v":""},{"$f":"IFERROR(VLOOKUP(H2120,DropDowns!$F$2:$G$7,2,FALSE),\"Residual categories\")","v":"Residual categories"},null,null,null,0,0,0]
[0,{"$f":"IF(OR(COUNTA(O2092:O2121)>0,COUNTA(O2121:$O$5195)>0),IF(COUNTIF(B2112:B2121,B2121)=10,B2121+7,B2121),\"\")","v":""},null,"","",null,null,null,0,0,0,0,{"$f":"IFERROR(VLOOKUP(G2122,DropDowns!$D$2:$E$151,2,FALSE),\"\")","v":""},{"$f":"IFERROR(VLOOKUP(H2122,DropDowns!$F$2:$G$7,2,FALSE),\"Residual categories\")","v":"Residual categories"},null,null,null,0,0,0]
[0,{"$f":"IF(OR(COUNTA(O2093:O2122)>0,COUNTA(O2122:$O$5195)>0),IF(COUNTIF(B2113:B2122,B2122)=10,B2122+7,B2122),\"\")","v":""},null,"","",null,null,null,0,0,0,0,{"$f":"IFERROR(VLOOKUP(G2123,DropDowns!$D$2:$E$151,2,FALSE),\"\")","v":""},{"$f":"IFERROR(VLOOKUP(H2123,DropDowns!$F$2:$G$7,2,FALSE),\"Residual categories\")","v":"Residual categories"},null,null,null,0,0,0]
[0,{"$f":"IF(OR(COUNTA(O2095:O2124)>0,COUNTA(O2124:$O$5195)>0),IF(COUNTIF(B2115:B2124,B2124)=10,B2124+7,B2124),\"\")","v":""},null,"","",null,null,null,0,0,0,0,{"$f":"IFERROR(VLOOKUP(G2125,DropDowns!$D$2:$E$151,2,FALSE),\"\")","v":""},{"$f":"IFERROR(VLOOKUP(H2125,DropDowns!$F$2:$G$7,2,FALSE),\"Residual categories\")","v":"Residual categories"},null,null,null,0,0,0]
[0,{"$f":"IF(OR(COUNTA(O2096:O2125)>0,COUNTA(O2125:$O$5195)>0),IF(COUNTIF(B2116:B2125,B2125)=10,B2125+7,B2125),\"\")","v":""},null,"","",null,null,null,0,0,0,0,{"$f":"IFERROR(VLOOKUP(G2126,DropDowns!$D$2:$E$151,2,FALSE),\"\")","v":""},{"$f":"IFERROR(VLOOKUP(H2126,DropDowns!$F$2:$G$7,2,FALSE),\"Residual categories\")","v":"Residual categories"},null,null,null,0,0,0]
[0,{"$f":"IF(OR(COUNTA(O2098:O2127)>0,COUNTA(O2127:$O$5195)>0),IF(COUNTIF(B2118:B2127,B2127)=10,B2127+7,B2127),\"\")","v":""},null,"","",null,null,null,0,0,0,0,{"$f":"IFERROR(VLOOKUP(G2128,DropDowns!$D$2:$E$151,2,FALSE),\"\")","v":""},{"$f":"IFERROR(VLOOKUP(H2128,DropDowns!$F$2:$G$7,2,FALSE),\"Residual categories\")","v":"Residual categories"},null,null,null,0,0,0]
[0,{"$f":"IF(OR(COUNTA(O2099:O2128)>0,COUNTA(O2128:$O$5195)>0),IF(COUNTIF(B2119:B2128,B2128)=10,B2128+7,B2128),\"\")","v":""},null,"",{"$f":"IF(B2129=\"\",\"\",COUNTIF(B2120:B2129,B2129))","v":""},null,null,null,0,0,0,0,{"$f":"IFERROR(VLOOKUP(G2129,DropDowns!$D$2:$E$151,2,FALSE),\"\")","v":""},{"$f":"IFERROR(VLOOKUP(H2129,DropDowns!$F$2:$G$7,2,FALSE),\"Residual categories\")","v":"Residual categories"},null,null,null,0,0,0]
[0,{"$f":"IF(OR(COUNTA(O2100:O2129)>0,COUNTA(O2129:$O$5195)>0),IF(COUNTIF(B2120:B2129,B2129)=10,B2129+7,B2129),\"\")","v":""},null,"","",null,null,null,0,0,0,0,{"$f":"IFERROR(VLOOKUP(G2130,DropDowns!$D$2:$E$151,2,FALSE),\"\")","v":""},{"$f":"IFERROR(VLOOKUP(H2130,DropDowns!$F$2:$G$7,2,FALSE),\"Residual categories\")","v":"Residual categories"},null,null,null,0,0,0]
[0,{"$f":"IF(OR(COUNTA(O2101:O2130)>0,COUNTA(O2130:$O$5195)>0),IF(COUNTIF(B2121:B2130,B2130)=10,B2130+7,B2130),\"\")","v":""},null,"","",null,null,null,0,0,0,0,{"$f":"IFERROR(VLOOKUP(G2131,DropDowns!$D$2:$E$151,2,FALSE),\"\")","v":""},{"$f":"IFERROR(VLOOKUP(H2131,DropDowns!$F$2:$G$7,2,FALSE),\"Residual categories\")","v":"Residual categories"},null,null,null,0,0,0]
[0,{"$f":"IF(OR(COUNTA(O2103:O2132)>0,COUNTA(O2132:$O$5195)>0),IF(COUNTIF(B2123:B2132,B2132)=10,B2132+7,B2132),\"\")","v":""},null,"","",null,null,null,0,0,0,0,{"$f":"IFERROR(VLOOKUP(G2133,DropDowns!$D$2:$E$151,2,FALSE),\"\")","v":""},{"$f":"IFERROR(VLOOKUP(H2133,DropDowns!$F$2:$G$7,2,FALSE),\"Residual categories\")","v":"Residual categories"},null,null,null,0,0,0]
[0,{"$f":"IF(OR(COUNTA(O2104:O2133)>0,COUNTA(O2133:$O$5195)>0),IF(COUNTIF(B2124:B2133,B2133)=10,B2133+7,B2133),\"\")","v":""},null,"","",null,null,null,0,0,0,0,{"$f":"IFERROR(VLOOKUP(G2134,DropDowns!$D$2:$E$151,2,FALSE),\"\")","v":""},{"$f":"IFERROR(VLOOKUP(H2134,DropDowns!$F$2:$G$7,2,FALSE),\"Residual categories\")","v":"Residual categories"},null,null,null,0,0,0]
[0,{"$f":"IF(OR(COUNTA(O2106:O2135)>0,COUNTA(O2135:$O$5195)>0),IF(COUNTIF(B2126:B2135,B2135)=10,B2135+7,B2135),\"\")","v":""},null,"","",null,null,null,0,0,0,0,{"$f":"IFERROR(VLOOKUP(G2136,DropDowns!$D$2:$E$151,2,FALSE),\"\")","v":""},{"$f":"IFERROR(VLOOKUP(H2136,DropDowns!$F$2:$G$7,2,FALSE),\"Residual categories\")","v":"Residual categories"},null,null,null,0,0,0]
[0,{"$f":"IF(OR(COUNTA(O2107:O2136)>0,COUNTA(O2136:$O$5195)>0),IF(COUNTIF(B2127:B2136,B2136)=10,B2136+7,B2136),\"\")","v":""},null,"","",null,null,null,0,0,0,0,{"$f":"IFERROR(VLOOKUP(G2137,DropDowns!$D$2:$E$151,2,FALSE),\"\")","v":""},{"$f":"IFERROR(VLOOKUP(H2137,DropDowns!$F$2:$G$7,2,FALSE),\"Residual categories\")","v":"Residual categories"},null,null,null,0,0,0]
[0,{"$f":"IF(OR(COUNTA(O2108:O2137)>0,COUNTA(O2137:$O$5195)>0),IF(COUNTIF(B2128:B2137,B2137)=10,B2137+7,B2137),\"\")","v":""},null,"","",null,null,null,0,0,0,0,{"$f":"IFERROR(VLOOKUP(G2138,DropDowns!$D$2:$E$151,2,FALSE),\"\")","v":""},{"$f":"IFERROR(VLOOKUP(H2138,DropDowns!$F$2:$G$7,2,FALSE),\"Residual categories\")","v":"Residual categories"},null,null,null,0,0,0]
[0,{"$f":"IF(OR(COUNTA(O2109:O2138)>0,COUNTA(O2138:$O$5195)>0),IF(COUNTIF(B2129:B2138,B2138)=10,B2138+7,B2138),\"\")","v":""},null,"","",null,null,null,0,0,0,0,{"$f":"IFERROR(VLOOKUP(G2139,DropDowns!$D$2:$E$151,2,FALSE),\"\")","v":""},{"$f":"IFERROR(VLOOKUP(H2139,DropDowns!$F$2:$G$7,2,FALSE),\"Residual categories\")","v":"Residual categories"},null,null,null,0,0,0]
[0,{"$f":"IF(OR(COUNTA(O2111:O2140)>0,COUNTA(O2140:$O$5195)>0),IF(COUNTIF(B2131:B2140,B2140)=10,B2140+7,B2140),\"\")","v":""},null,"","",null,null,null,0,0,0,0,{"$f":"IFERROR(VLOOKUP(G2141,DropDowns!$D$2:$E$151,2,FALSE),\"\")","v":""},{"$f":"IFERROR(VLOOKUP(H2141,DropDowns!$F$2:$G$7,2,FALSE),\"Residual categories\")","v":"Residual categories"},null,null,null,0,0,0]
[0,{"$f":"IF(OR(COUNTA(O2112:O2141)>0,COUNTA(O2141:$O$5195)>0),IF(COUNTIF(B2132:B2141,B2141)=10,B2141+7,B2141),\"\")","v":""},null,"","",null,null,null,0,0,0,0,{"$f":"IFERROR(VLOOKUP(G2142,DropDowns!$D$2:$E$151,2,FALSE),\"\")","v":""},{"$f":"IFERROR(VLOOKUP(H2142,DropDowns!$F$2:$G$7,2,FALSE),\"Residual categories\")","v":"Residual categories"},null,null,null,0,0,0]
[0,{"$f":"IF(OR(COUNTA(O2114:O2143)>0,COUNTA(O2143:$O$5195)>0),IF(COUNTIF(B2134:B2143,B2143)=10,B2143+7,B2143),\"\")","v":""},null,"","",null,null,null,0,0,0,0,{"$f":"IFERROR(VLOOKUP(G2144,DropDowns!$D$2:$E$151,2,FALSE),\"\")","v":""},{"$f":"IFERROR(VLOOKUP(H2144,DropDowns!$F$2:$G$7,2,FALSE),\"Residual categories\")","v":"Residual categories"},null,null,null,0,0,0]
[0,{"$f":"IF(OR(COUNTA(O2115:O2144)>0,COUNTA(O2144:$O$5195)>0),IF(COUNTIF(B2135:B2144,B2144)=10,B2144+7,B2144),\"\")","v":""},null,"","",null,null,null,0,0,0,0,{"$f":"IFERROR(VLOOKUP(G2145,DropDowns!$D$2:$E$151,2,FALSE),\"\")","v":""},{"$f":"IFERROR(VLOOKUP(H2145,DropDowns!$F$2:$G$7,2,FALSE),\"Residual categories\")","v":"Residual categories"},null,null,null,0,0,0]
[0,{"$f":"IF(OR(COUNTA(O2116:O2145)>0,COUNTA(O2145:$O$5195)>0),IF(COUNTIF(B2136:B2145,B2145)=10,B2145+7,B2145),\"\")","v":""},null,"","",null,null,null,0,0,0,0,{"$f":"IFERROR(VLOOKUP(G2146,DropDowns!$D$2:$E$151,2,FALSE),\"\")","v":""},{"$f":"IFERROR(VLOOKUP(H2146,DropDowns!$F$2:$G$7,2,FALSE),\"Residual categories\")","v":"Residual categories"},null,null,null,0,0,0]
[0,{"$f":"IF(OR(COUNTA(O2117:O2146)>0,COUNTA(O2146:$O$5195)>0),IF(COUNTIF(B2137:B2146,B2146)=10,B2146+7,B2146),\"\")","v":""},null,"","",null,null,null,0,0,0,0,{"$f":"IFERROR(VLOOKUP(G2147,DropDowns!$D$2:$E$151,2,FALSE),\"\")","v":""},{"$f":"IFERROR(VLOOKUP(H2147,DropDowns!$F$2:$G$7,2,FALSE),\"Residual categories\")","v":"Residual categories"},null,null,null,0,0,0]
[0,{"$f":"IF(OR(COUNTA(O2119:O2148)>0,COUNTA(O2148:$O$5195)>0),IF(COUNTIF(B2139:B2148,B2148)=10,B2148+7,B2148),\"\")","v":""},null,"","",null,null,null,0,0,0,0,{"$f":"IFERROR(VLOOKUP(G2149,DropDowns!$D$2:$E$151,2,FALSE),\"\")","v":""},{"$f":"IFERROR(VLOOKUP(H2149,DropDowns!$F$2:$G$7,2,FALSE),\"Residual categories\")","v":"Residual categories"},null,null,null,0,0,0]
[0,{"$f":"IF(OR(COUNTA(O2120:O2149)>0,COUNTA(O2149:$O$5195)>0),IF(COUNTIF(B2140:B2149,B2149)=10,B2149+7,B2149),\"\")","v":""},null,"","",null,null,null,0,0,0,0,{"$f":"IFERROR(VLOOKUP(G2150,DropDowns!$D$2:$E$151,2,FALSE),\"\")","v":""},{"$f":"IFERROR(VLOOKUP(H2150,DropDowns!$F$2:$G$7,2,FALSE),\"Residual categories\")","v":"Residual categories"},null,null,null,0,0,0]
[0,{"$f":"IF(OR(COUNTA(O2122:O2151)>0,COUNTA(O2151:$O$5195)>0),IF(COUNTIF(B2142:B2151,B2151)=10,B2151+7,B2151),\"\")","v":""},null,"","",null,null,null,0,0,0,0,{"$f":"IFERROR(VLOOKUP(G2152,DropDowns!$D$2:$E$151,2,FALSE),\"\")","v":""},{"$f":"IFERROR(VLOOKUP(H2152,DropDowns!$F$2:$G$7,2,FALSE),\"Residual categories\")","v":"Residual categories"},null,null,null,0,0,0]
[0,{"$f":"IF(OR(COUNTA(O2123:O2152)>0,COUNTA(O2152:$O$5195)>0),IF(COUNTIF(B2143:B2152,B2152)=10,B2152+7,B2152),\"\")","v":""},null,"","",null,null,null,0,0,0,0,{"$f":"IFERROR(VLOOKUP(G2153,DropDowns!$D$2:$E$151,2,FALSE),\"\")","v":""},{"$f":"IFERROR(VLOOKUP(H2153,DropDowns!$F$2:$G$7,2,FALSE),\"Residual categories\")","v":"Residual categories"},null,null,null,0,0,0]
[0,{"$f":"IF(OR(COUNTA(O2124:O2153)>0,COUNTA(O2153:$O$5195)>0),IF(COUNTIF(B2144:B2153,B2153)=10,B2153+7,B2153),\"\")","v":""},null,"","",null,null,null,0,0,0,0,{"$f":"IFERROR(VLOOKUP(G2154,DropDowns!$D$2:$E$151,2,FALSE),\"\")","v":""},{"$f":"IFERROR(VLOOKUP(H2154,DropDowns!$F$2:$G$7,2,FALSE),\"Residual categories\")","v":"Residual categories"},null,null,null,0,0,0]
[0,{"$f":"IF(OR(COUNTA(O2125:O2154)>0,COUNTA(O2154:$O$5195)>0),IF(COUNTIF(B2145:B2154,B2154)=10,B2154+7,B2154),\"\")","v":""},null,"","",null,null,null,0,0,0,0,{"$f":"IFERROR(VLOOKUP(G2155,DropDowns!$D$2:$E$151,2,FALSE),\"\")","v":""},{"$f":"IFERROR(VLOOKUP(H2155,DropDowns!$F$2:$G$7,2,FALSE),\"Residual categories\")","v":"Residual categories"},null,null,null,0,0,0]
[0,{"$f":"IF(OR(COUNTA(O2127:O2156)>0,COUNTA(O2156:$O$5195)>0),IF(COUNTIF(B2147:B2156,B2156)=10,B2156+7,B2156),\"\")","v":""},null,"","",null,null,null,0,0,0,0,{"$f":"IFERROR(VLOOKUP(G2157,DropDowns!$D$2:$E$151,2,FALSE),\"\")","v":""},{"$f":"IFERROR(VLOOKUP(H2157,DropDowns!$F$2:$G$7,2,FALSE),\"Residual categories\")","v":"Residual categories"},null,null,null,0,0,0]
[0,{"$f":"IF(OR(COUNTA(O2128:O2157)>0,COUNTA(O2157:$O$5195)>0),IF(COUNTIF(B2148:B2157,B2157)=10,B2157+7,B2157),\"\")","v":""},null,"","",null,null,null,0,0,0,0,{"$f":"IFERROR(VLOOKUP(G2158,DropDowns!$D$2:$E$151,2,FALSE),\"\")","v":""},{"$f":"IFERROR(VLOOKUP(H2158,DropDowns!$F$2:$G$7,2,FALSE),\"Residual categories\")","v":"Residual categories"},null,null,null,0,0,0]
[0,{"$f":"IF(OR(COUNTA(O2130:O2159)>0,COUNTA(O2159:$O$5195)>0),IF(COUNTIF(B2150:B2159,B2159)=10,B2159+7,B2159),\"\")","v":""},null,"","",null,null,null,0,0,0,0,{"$f":"IFERROR(VLOOKUP(G2160,DropDowns!$D$2:$E$151,2,FALSE),\"\")","v":""},{"$f":"IFERROR(VLOOKUP(H2160,DropDowns!$F$2:$G$7,2,FALSE),\"Residual categories\")","v":"Residual categories"},null,null,null,0,0,0]
[0,{"$f":"IF(OR(COUNTA(O2131:O2160)>0,COUNTA(O2160:$O$5195)>0),IF(COUNTIF(B2151:B2160,B2160)=10,B2160+7,B2160),\"\")","v":""},null,"","",null,null,null,0,0,0,0,{"$f":"IFERROR(VLOOKUP(G2161,DropDowns!$D$2:$E$151,2,FALSE),\"\")","v":""},{"$f":"IFERROR(VLOOKUP(H2161,DropDowns!$F$2:$G$7,2,FALSE),\"Residual categories\")","v":"Residual categories"},null,null,null,0,0,0]
[0,{"$f":"IF(OR(COUNTA(O2133:O2162)>0,COUNTA(O2162:$O$5195)>0),IF(COUNTIF(B2153:B2162,B2162)=10,B2162+7,B2162),\"\")","v":""},null,"","",null,null,null,0,0,0,0,{"$f":"IFERROR(VLOOKUP(G2163,DropDowns!$D$2:$E$151,2,FALSE),\"\")","v":""},{"$f":"IFERROR(VLOOKUP(H2163,DropDowns!$F$2:$G$7,2,FALSE),\"Residual categories\")","v":"Residual categories"},null,null,null,0,0,0]
[0,{"$f":"IF(OR(COUNTA(O2134:O2163)>0,COUNTA(O2163:$O$5195)>0),IF(COUNTIF(B2154:B2163,B2163)=10,B2163+7,B2163),\"\")","v":""},null,"","",null,null,null,0,0,0,0,{"$f":"IFERROR(VLOOKUP(G2164,DropDowns!$D$2:$E$151,2,FALSE),\"\")","v":""},{"$f":"IFERROR(VLOOKUP(H2164,DropDowns!$F$2:$G$7,2,FALSE),\"Residual categories\")","v":"Residual categories"},null,null,null,0,0,0]
[0,{"$f":"IF(OR(COUNTA(O2135:O2164)>0,COUNTA(O2164:$O$5195)>0),IF(COUNTIF(B2155:B2164,B2164)=10,B2164+7,B2164),\"\")","v":""},null,"","",null,null,null,0,0,0,0,{"$f":"IFERROR(VLOOKUP(G2165,DropDowns!$D$2:$E$151,2,FALSE),\"\")","v":""},{"$f":"IFERROR(VLOOKUP(H2165,DropDowns!$F$2:$G$7,2,FALSE),\"Residual categories\")","v":"Residual categories"},null,null,null,0,0,0]
[0,{"$f":"IF(OR(COUNTA(O2136:O2165)>0,COUNTA(O2165:$O$5195)>0),IF(COUNTIF(B2156:B2165,B2165)=10,B2165+7,B2165),\"\")","v":""},null,"","",null,null,null,0,0,0,0,{"$f":"IFERROR(VLOOKUP(G2166,DropDowns!$D$2:$E$151,2,FALSE),\"\")","v":""},{"$f":"IFERROR(VLOOKUP(H2166,DropDowns!$F$2:$G$7,2,FALSE),\"Residual categories\")","v":"Residual categories"},null,null,null,0,0,0]
[0,{"$f":"IF(OR(COUNTA(O2138:O2167)>0,COUNTA(O2167:$O$5195)>0),IF(COUNTIF(B2158:B2167,B2167)=10,B2167+7,B2167),\"\")","v":""},null,"","",null,null,null,0,0,0,0,{"$f":"IFERROR(VLOOKUP(G2168,DropDowns!$D$2:$E$151,2,FALSE),\"\")","v":""},{"$f":"IFERROR(VLOOKUP(H2168,DropDowns!$F$2:$G$7,2,FALSE),\"Residual categories\")","v":"Residual categories"},null,null,null,0,0,0]
[0,{"$f":"IF(OR(COUNTA(O2139:O2168)>0,COUNTA(O2168:$O$5195)>0),IF(COUNTIF(B2159:B2168,B2168)=10,B2168+7,B2168),\"\")","v":""},null,"","",null,null,null,0,0,0,0,{"$f":"IFERROR(VLOOKUP(G2169,DropDowns!$D$2:$E$151,2,FALSE),\"\")","v":""},{"$f":"IFERROR(VLOOKUP(H2169,DropDowns!$F$2:$G$7,2,FALSE),\"Residual categories\")","v":"Residual categories"},null,null,null,0,0,0]
[0,{"$f":"IF(OR(COUNTA(O2141:O2170)>0,COUNTA(O2170:$O$5195)>0),IF(COUNTIF(B2161:B2170,B2170)=10,B2170+7,B2170),\"\")","v":""},null,"","",null,null,null,0,0,0,0,{"$f":"IFERROR(VLOOKUP(G2171,DropDowns!$D$2:$E$151,2,FALSE),\"\")","v":""},{"$f":"IFERROR(VLOOKUP(H2171,DropDowns!$F$2:$G$7,2,FALSE),\"Residual categories\")","v":"Residual categories"},null,null,null,0,0,0]
[0,{"$f":"IF(OR(COUNTA(O2142:O2171)>0,COUNTA(O2171:$O$5195)>0),IF(COUNTIF(B2162:B2171,B2171)=10,B2171+7,B2171),\"\")","v":""},null,"","",null,null,null,0,0,0,0,{"$f":"IFERROR(VLOOKUP(G2172,DropDowns!$D$2:$E$151,2,FALSE),\"\")","v":""},{"$f":"IFERROR(VLOOKUP(H2172,DropDowns!$F$2:$G$7,2,FALSE),\"Residual categories\")","v":"Residual categories"},null,null,null,0,0,0]
[0,{"$f":"IF(OR(COUNTA(O2143:O2172)>0,COUNTA(O2172:$O$5195)>0),IF(COUNTIF(B2163:B2172,B2172)=10,B2172+7,B2172),\"\")","v":""},null,"","",null,null,null,0,0,0,0,{"$f":"IFERROR(VLOOKUP(G2173,DropDowns!$D$2:$E$151,2,FALSE),\"\")","v":""},{"$f":"IFERROR(VLOOKUP(H2173,DropDowns!$F$2:$G$7,2,FALSE),\"Residual categories\")","v":"Residual categories"},null,null,null,0,0,0]
[0,{"$f":"IF(OR(COUNTA(O2144:O2173)>0,COUNTA(O2173:$O$5195)>0),IF(COUNTIF(B2164:B2173,B2173)=10,B2173+7,B2173),\"\")","v":""},null,"","",null,null,null,0,0,0,0,{"$f":"IFERROR(VLOOKUP(G2174,DropDowns!$D$2:$E$151,2,FALSE),\"\")","v":""},{"$f":"IFERROR(VLOOKUP(H2174,DropDowns!$F$2:$G$7,2,FALSE),\"Residual categories\")","v":"Residual categories"},null,null,null,0,0,0]
[0,{"$f":"IF(OR(COUNTA(O2146:O2175)>0,COUNTA(O2175:$O$5195)>0),IF(COUNTIF(B2166:B2175,B2175)=10,B2175+7,B2175),\"\")","v":""},null,"","",null,null,null,0,0,0,0,{"$f":"IFERROR(VLOOKUP(G2176,DropDowns!$D$2:$E$151,2,FALSE),\"\")","v":""},{"$f":"IFERROR(VLOOKUP(H2176,DropDowns!$F$2:$G$7,2,FALSE),\"Residual categories\")","v":"Residual categories"},null,null,null,0,0,0]
[0,{"$f":"IF(OR(COUNTA(O2147:O2176)>0,COUNTA(O2176:$O$5195)>0),IF(COUNTIF(B2167:B2176,B2176)=10,B2176+7,B2176),\"\")","v":""},null,"","",null,null,null,0,0,0,0,{"$f":"IFERROR(VLOOKUP(G2177,DropDowns!$D$2:$E$151,2,FALSE),\"\")","v":""},{"$f":"IFERROR(VLOOKUP(H2177,DropDowns!$F$2:$G$7,2,FALSE),\"Residual categories\")","v":"Residual categories"},null,null,null,0,0,0]
[0,{"$f":"IF(OR(COUNTA(O2149:O2178)>0,COUNTA(O2178:$O$5195)>0),IF(COUNTIF(B2169:B2178,B2178)=10,B2178+7,B2178),\"\")","v":""},null,"","",null,null,null,0,0,0,0,{"$f":"IFERROR(VLOOKUP(G2179,DropDowns!$D$2:$E$151,2,FALSE),\"\")","v":""},{"$f":"IFERROR(VLOOKUP(H2179,DropDowns!$F$2:$G$7,2,FALSE),\"Residual categories\")","v":"Residual categories"},null,null,null,0,0,0]
[0,{"$f":"IF(OR(COUNTA(O2150:O2179)>0,COUNTA(O2179:$O$5195)>0),IF(COUNTIF(B2170:B2179,B2179)=10,B2179+7,B2179),\"\")","v":""},null,"","",null,null,null,0,0,0,0,{"$f":"IFERROR(VLOOKUP(G2180,DropDowns!$D$2:$E$151,2,FALSE),\"\")","v":""},{"$f":"IFERROR(VLOOKUP(H2180,DropDowns!$F$2:$G$7,2,FALSE),\"Residual categories\")","v":"Residual categories"},null,null,null,0,0,0]
[0,{"$f":"IF(OR(COUNTA(O2151:O2180)>0,COUNTA(O2180:$O$5195)>0),IF(COUNTIF(B2171:B2180,B2180)=10,B2180+7,B2180),\"\")","v":""},null,"","",null,null,null,0,0,0,0,{"$f":"IFERROR(VLOOKUP(G2181,DropDowns!$D$2:$E$151,2,FALSE),\"\")","v":""},{"$f":"IFERROR(VLOOKUP(H2181,DropDowns!$F$2:$G$7,2,FALSE),\"Residual categories\")","v":"Residual categories"},null,null,null,0,0,0]
[0,{"$f":"IF(OR(COUNTA(O2152:O2181)>0,COUNTA(O2181:$O$5195)>0),IF(COUNTIF(B2172:B2181,B2181)=10,B2181+7,B2181),\"\")","v":""},null,"","",null,null,null,0,0,0,0,{"$f":"IFERROR(VLOOKUP(G2182,DropDowns!$D$2:$E$151,2,FALSE),\"\")","v":""},{"$f":"IFERROR(VLOOKUP(H2182,DropDowns!$F$2:$G$7,2,FALSE),\"Residual categories\")","v":"Residual categories"},null,null,null,0,0,0]
[0,{"$f":"IF(OR(COUNTA(O2154:O2183)>0,COUNTA(O2183:$O$5195)>0),IF(COUNTIF(B2174:B2183,B2183)=10,B2183+7,B2183),\"\")","v":""},null,"","",null,null,null,0,0,0,0,{"$f":"IFERROR(VLOOKUP(G2184,DropDowns!$D$2:$E$151,2,FALSE),\"\")","v":""},{"$f":"IFERROR(VLOOKUP(H2184,DropDowns!$F$2:$G$7,2,FALSE),\"Residual categories\")","v":"Residual categories"},null,null,null,0,0,0]
[0,{"$f":"IF(OR(COUNTA(O2155:O2184)>0,COUNTA(O2184:$O$5195)>0),IF(COUNTIF(B2175:B2184,B2184)=10,B2184+7,B2184),\"\")","v":""},null,"","",null,null,null,0,0,0,0,{"$f":"IFERROR(VLOOKUP(G2185,DropDowns!$D$2:$E$151,2,FALSE),\"\")","v":""},{"$f":"IFERROR(VLOOKUP(H2185,DropDowns!$F$2:$G$7,2,FALSE),\"Residual categories\")","v":"Residual categories"},null,null,null,0,0,0]
[0,{"$f":"IF(OR(COUNTA(O2157:O2186)>0,COUNTA(O2186:$O$5195)>0),IF(COUNTIF(B2177:B2186,B2186)=10,B2186+7,B2186),\"\")","v":""},null,"","",null,null,null,0,0,0,0,{"$f":"IFERROR(VLOOKUP(G2187,DropDowns!$D$2:$E$151,2,FALSE),\"\")","v":""},{"$f":"IFERROR(VLOOKUP(H2187,DropDowns!$F$2:$G$7,2,FALSE),\"Residual categories\")","v":"Residual categories"},null,null,null,0,0,0]
[0,{"$f":"IF(OR(COUNTA(O2158:O2187)>0,COUNTA(O2187:$O$5195)>0),IF(COUNTIF(B2178:B2187,B2187)=10,B2187+7,B2187),\"\")","v":""},null,"","",null,null,null,0,0,0,0,{"$f":"IFERROR(VLOOKUP(G2188,DropDowns!$D$2:$E$151,2,FALSE),\"\")","v":""},{"$f":"IFERROR(VLOOKUP(H2188,DropDowns!$F$2:$G$7,2,FALSE),\"Residual categories\")","v":"Residual categories"},null,null,null,0,0,0]
[0,{"$f":"IF(OR(COUNTA(O2159:O2188)>0,COUNTA(O2188:$O$5195)>0),IF(COUNTIF(B2179:B2188,B2188)=10,B2188+7,B2188),\"\")","v":""},null,"","",null,null,null,0,0,0,0,{"$f":"IFERROR(VLOOKUP(G2189,DropDowns!$D$2:$E$151,2,FALSE),\"\")","v":""},{"$f":"IFERROR(VLOOKUP(H2189,DropDowns!$F$2:$G$7,2,FALSE),\"Residual categories\")","v":"Residual categories"},null,null,null,0,0,0]
[0,{"$f":"IF(OR(COUNTA(O2160:O2189)>0,COUNTA(O2189:$O$5195)>0),IF(COUNTIF(B2180:B2189,B2189)=10,B2189+7,B2189),\"\")","v":""},null,"","",null,null,null,0,0,0,0,{"$f":"IFERROR(VLOOKUP(G2190,DropDowns!$D$2:$E$151,2,FALSE),\"\")","v":""},{"$f":"IFERROR(VLOOKUP(H2190,DropDowns!$F$2:$G$7,2,FALSE),\"Residual categories\")","v":"Residual categories"},null,null,null,0,0,0]
[0,{"$f":"IF(OR(COUNTA(O2162:O2191)>0,COUNTA(O2191:$O$5195)>0),IF(COUNTIF(B2182:B2191,B2191)=10,B2191+7,B2191),\"\")","v":""},null,"","",null,null,null,0,0,0,0,{"$f":"IFERROR(VLOOKUP(G2192,DropDowns!$D$2:$E$151,2,FALSE),\"\")","v":""},{"$f":"IFERROR(VLOOKUP(H2192,DropDowns!$F$2:$G$7,2,FALSE),\"Residual categories\")","v":"Residual categories"},null,null,null,0,0,0]
[0,{"$f":"IF(OR(COUNTA(O2163:O2192)>0,COUNTA(O2192:$O$5195)>0),IF(COUNTIF(B2183:B2192,B2192)=10,B2192+7,B2192),\"\")","v":""},null,"",{"$f":"IF(B2193=\"\",\"\",COUNTIF(B2184:B2193,B2193))","v":""},null,null,null,0,0,0,0,{"$f":"IFERROR(VLOOKUP(G2193,DropDowns!$D$2:$E$151,2,FALSE),\"\")","v":""},{"$f":"IFERROR(VLOOKUP(H2193,DropDowns!$F$2:$G$7,2,FALSE),\"Residual categories\")","v":"Residual categories"},null,null,null,0,0,0]
[0,{"$f":"IF(OR(COUNTA(O2165:O2194)>0,COUNTA(O2194:$O$5195)>0),IF(COUNTIF(B2185:B2194,B2194)=10,B2194+7,B2194),\"\")","v":""},null,"","",null,null,null,0,0,0,0,{"$f":"IFERROR(VLOOKUP(G2195,DropDowns!$D$2:$E$151,2,FALSE),\"\")","v":""},{"$f":"IFERROR(VLOOKUP(H2195,DropDowns!$F$2:$G$7,2,FALSE),\"Residual categories\")","v":"Residual categories"},null,null,null,0,0,0]
[{"$f":"$E$2","v":0},{"$f":"IF(OR(COUNTA(O2166:O2195)>0,COUNTA(O2195:$O$5195)>0),IF(COUNTIF(B2186:B2195,B2195)=10,B2195+7,B2195),\"\")","v":""},null,"","",null,null,null,0,0,0,0,{"$f":"IFERROR(VLOOKUP(G2196,DropDowns!$D$2:$E$151,2,FALSE),\"\")","v":""},{"$f":"IFERROR(VLOOKUP(H2196,DropDowns!$F$2:$G$7,2,FALSE),\"Residual categories\")","v":"Residual categories"},null,null,null,0,0,0]
[0,{"$f":"IF(OR(COUNTA(O2168:O2197)>0,COUNTA(O2197:$O$5195)>0),IF(COUNTIF(B2188:B2197,B2197)=10,B2197+7,B2197),\"\")","v":""},null,"","",null,null,null,0,0,0,0,{"$f":"IFERROR(VLOOKUP(G2198,DropDowns!$D$2:$E$151,2,FALSE),\"\")","v":""},{"$f":"IFERROR(VLOOKUP(H2198,DropDowns!$F$2:$G$7,2,FALSE),\"Residual categories\")","v":"Residual categories"},null,null,null,0,0,0]
[0,{"$f":"IF(OR(COUNTA(O2169:O2198)>0,COUNTA(O2198:$O$5195)>0),IF(COUNTIF(B2189:B2198,B2198)=10,B2198+7,B2198),\"\")","v":""},null,"","",null,null,null,0,0,0,0,{"$f":"IFERROR(VLOOKUP(G2199,DropDowns!$D$2:$E$151,2,FALSE),\"\")","v":""},{"$f":"IFERROR(VLOOKUP(H2199,DropDowns!$F$2:$G$7,2,FALSE),\"Residual categories\")","v":"Residual categories"},null,null,null,0,0,0]
[0,{"$f":"IF(OR(COUNTA(O2170:O2199)>0,COUNTA(O2199:$O$5195)>0),IF(COUNTIF(B2190:B2199,B2199)=10,B2199+7,B2199),\"\")","v":""},null,"","",null,null,null,0,0,0,0,{"$f":"IFERROR(VLOOKUP(G2200,DropDowns!$D$2:$E$151,2,FALSE),\"\")","v":""},{"$f":"IFERROR(VLOOKUP(H2200,DropDowns!$F$2:$G$7,2,FALSE),\"Residual categories\")","v":"Residual categories"},null,null,null,0,0,0]
[0,{"$f":"IF(OR(COUNTA(O2171:O2200)>0,COUNTA(O2200:$O$5195)>0),IF(COUNTIF(B2191:B2200,B2200)=10,B2200+7,B2200),\"\")","v":""},null,"","",null,null,null,0,0,0,0,{"$f":"IFERROR(VLOOKUP(G2201,DropDowns!$D$2:$E$151,2,FALSE),\"\")","v":""},{"$f":"IFERROR(VLOOKUP(H2201,DropDowns!$F$2:$G$7,2,FALSE),\"Residual categories\")","v":"Residual categories"},null,null,null,0,0,0]
[0,{"$f":"IF(OR(COUNTA(O2173:O2202)>0,COUNTA(O2202:$O$5195)>0),IF(COUNTIF(B2193:B2202,B2202)=10,B2202+7,B2202),\"\")","v":""},null,"","",null,null,null,0,0,0,0,{"$f":"IFERROR(VLOOKUP(G2203,DropDowns!$D$2:$E$151,2,FALSE),\"\")","v":""},{"$f":"IFERROR(VLOOKUP(H2203,DropDowns!$F$2:$G$7,2,FALSE),\"Residual categories\")","v":"Residual categories"},null,null,null,0,0,0]
[0,{"$f":"IF(OR(COUNTA(O2174:O2203)>0,COUNTA(O2203:$O$5195)>0),IF(COUNTIF(B2194:B2203,B2203)=10,B2203+7,B2203),\"\")","v":""},null,"","",null,null,null,0,0,0,0,{"$f":"IFERROR(VLOOKUP(G2204,DropDowns!$D$2:$E$151,2,FALSE),\"\")","v":""},{"$f":"IFERROR(VLOOKUP(H2204,DropDowns!$F$2:$G$7,2,FALSE),\"Residual categories\")","v":"Residual categories"},null,null,null,0,0,0]
[0,{"$f":"IF(OR(COUNTA(O2176:O2205)>0,COUNTA(O2205:$O$5195)>0),IF(COUNTIF(B2196:B2205,B2205)=10,B2205+7,B2205),\"\")","v":""},null,"","",null,null,null,0,0,0,0,{"$f":"IFERROR(VLOOKUP(G2206,DropDowns!$D$2:$E$151,2,FALSE),\"\")","v":""},{"$f":"IFERROR(VLOOKUP(H2206,DropDowns!$F$2:$G$7,2,FALSE),\"Residual categories\")","v":"Residual categories"},null,null,null,0,0,0]
[0,{"$f":"IF(OR(COUNTA(O2177:O2206)>0,COUNTA(O2206:$O$5195)>0),IF(COUNTIF(B2197:B2206,B2206)=10,B2206+7,B2206),\"\")","v":""},null,"","",null,null,null,0,0,0,0,{"$f":"IFERROR(VLOOKUP(G2207,DropDowns!$D$2:$E$151,2,FALSE),\"\")","v":""},{"$f":"IFERROR(VLOOKUP(H2207,DropDowns!$F$2:$G$7,2,FALSE),\"Residual categories\")","v":"Residual categories"},null,null,null,0,0,0]
[0,{"$f":"IF(OR(COUNTA(O2178:O2207)>0,COUNTA(O2207:$O$5195)>0),IF(COUNTIF(B2198:B2207,B2207)=10,B2207+7,B2207),\"\")","v":""},null,"","",null,null,null,0,0,0,0,{"$f":"IFERROR(VLOOKUP(G2208,DropDowns!$D$2:$E$151,2,FALSE),\"\")","v":""},{"$f":"IFERROR(VLOOKUP(H2208,DropDowns!$F$2:$G$7,2,FALSE),\"Residual categories\")","v":"Residual categories"},null,null,null,0,0,0]
[0,{"$f":"IF(OR(COUNTA(O2179:O2208)>0,COUNTA(O2208:$O$5195)>0),IF(COUNTIF(B2199:B2208,B2208)=10,B2208+7,B2208),\"\")","v":""},null,"","",null,null,null,0,0,0,0,{"$f":"IFERROR(VLOOKUP(G2209,DropDowns!$D$2:$E$151,2,FALSE),\"\")","v":""},{"$f":"IFERROR(VLOOKUP(H2209,DropDowns!$F$2:$G$7,2,FALSE),\"Residual categories\")","v":"Residual categories"},null,null,null,0,0,0]
[0,{"$f":"IF(OR(COUNTA(O2181:O2210)>0,COUNTA(O2210:$O$5195)>0),IF(COUNTIF(B2201:B2210,B2210)=10,B2210+7,B2210),\"\")","v":""},null,"","",null,null,null,0,0,0,0,{"$f":"IFERROR(VLOOKUP(G2211,DropDowns!$D$2:$E$151,2,FALSE),\"\")","v":""},{"$f":"IFERROR(VLOOKUP(H2211,DropDowns!$F$2:$G$7,2,FALSE),\"Residual categories\")","v":"Residual categories"},null,null,null,0,0,0]
[0,{"$f":"IF(OR(COUNTA(O2182:O2211)>0,COUNTA(O2211:$O$5195)>0),IF(COUNTIF(B2202:B2211,B2211)=10,B2211+7,B2211),\"\")","v":""},null,"","",null,null,null,0,0,0,0,{"$f":"IFERROR(VLOOKUP(G2212,DropDowns!$D$2:$E$151,2,FALSE),\"\")","v":""},{"$f":"IFERROR(VLOOKUP(H2212,DropDowns!$F$2:$G$7,2,FALSE),\"Residual categories\")","v":"Residual categories"},null,null,null,0,0,0]
[0,{"$f":"IF(OR(COUNTA(O2184:O2213)>0,COUNTA(O2213:$O$5195)>0),IF(COUNTIF(B2204:B2213,B2213)=10,B2213+7,B2213),\"\")","v":""},null,"","",null,null,null,0,0,0,0,{"$f":"IFERROR(VLOOKUP(G2214,DropDowns!$D$2:$E$151,2,FALSE),\"\")","v":""},{"$f":"IFERROR(VLOOKUP(H2214,DropDowns!$F$2:$G$7,2,FALSE),\"Residual categories\")","v":"Residual categories"},null,null,null,0,0,0]
[0,{"$f":"IF(OR(COUNTA(O2185:O2214)>0,COUNTA(O2214:$O$5195)>0),IF(COUNTIF(B2205:B2214,B2214)=10,B2214+7,B2214),\"\")","v":""},null,"","",null,null,null,0,0,0,0,{"$f":"IFERROR(VLOOKUP(G2215,DropDowns!$D$2:$E$151,2,FALSE),\"\")","v":""},{"$f":"IFERROR(VLOOKUP(H2215,DropDowns!$F$2:$G$7,2,FALSE),\"Residual categories\")","v":"Residual categories"},null,null,null,0,0,0]
[0,{"$f":"IF(OR(COUNTA(O2186:O2215)>0,COUNTA(O2215:$O$5195)>0),IF(COUNTIF(B2206:B2215,B2215)=10,B2215+7,B2215),\"\")","v":""},null,"","",null,null,null,0,0,0,0,{"$f":"IFERROR(VLOOKUP(G2216,DropDowns!$D$2:$E$151,2,FALSE),\"\")","v":""},{"$f":"IFERROR(VLOOKUP(H2216,DropDowns!$F$2:$G$7,2,FALSE),\"Residual categories\")","v":"Residual categories"},null,null,null,0,0,0]
[0,{"$f":"IF(OR(COUNTA(O2187:O2216)>0,COUNTA(O2216:$O$5195)>0),IF(COUNTIF(B2207:B2216,B2216)=10,B2216+7,B2216),\"\")","v":""},null,"","",null,null,null,0,0,0,0,{"$f":"IFERROR(VLOOKUP(G2217,DropDowns!$D$2:$E$151,2,FALSE),\"\")","v":""},{"$f":"IFERROR(VLOOKUP(H2217,DropDowns!$F$2:$G$7,2,FALSE),\"Residual categories\")","v":"Residual categories"},null,null,null,0,0,0]
[0,{"$f":"IF(OR(COUNTA(O2189:O2218)>0,COUNTA(O2218:$O$5195)>0),IF(COUNTIF(B2209:B2218,B2218)=10,B2218+7,B2218),\"\")","v":""},null,"","",null,null,null,0,0,0,0,{"$f":"IFERROR(VLOOKUP(G2219,DropDowns!$D$2:$E$151,2,FALSE),\"\")","v":""},{"$f":"IFERROR(VLOOKUP(H2219,DropDowns!$F$2:$G$7,2,FALSE),\"Residual categories\")","v":"Residual categories"},null,null,null,0,0,0]
[0,{"$f":"IF(OR(COUNTA(O2190:O2219)>0,COUNTA(O2219:$O$5195)>0),IF(COUNTIF(B2210:B2219,B2219)=10,B2219+7,B2219),\"\")","v":""},null,"","",null,null,null,0,0,0,0,{"$f":"IFERROR(VLOOKUP(G2220,DropDowns!$D$2:$E$151,2,FALSE),\"\")","v":""},{"$f":"IFERROR(VLOOKUP(H2220,DropDowns!$F$2:$G$7,2,FALSE),\"Residual categories\")","v":"Residual categories"},null,null,null,0,0,0]
[0,{"$f":"IF(OR(COUNTA(O2192:O2221)>0,COUNTA(O2221:$O$5195)>0),IF(COUNTIF(B2212:B2221,B2221)=10,B2221+7,B2221),\"\")","v":""},null,"","",null,null,null,0,0,0,0,{"$f":"IFERROR(VLOOKUP(G2222,DropDowns!$D$2:$E$151,2,FALSE),\"\")","v":""},{"$f":"IFERROR(VLOOKUP(H2222,DropDowns!$F$2:$G$7,2,FALSE),\"Residual categories\")","v":"Residual categories"},null,null,null,0,0,0]
[0,{"$f":"IF(OR(COUNTA(O2193:O2222)>0,COUNTA(O2222:$O$5195)>0),IF(COUNTIF(B2213:B2222,B2222)=10,B2222+7,B2222),\"\")","v":""},null,"","",null,null,null,0,0,0,0,{"$f":"IFERROR(VLOOKUP(G2223,DropDowns!$D$2:$E$151,2,FALSE),\"\")","v":""},{"$f":"IFERROR(VLOOKUP(H2223,DropDowns!$F$2:$G$7,2,FALSE),\"Residual categories\")","v":"Residual categories"},null,null,null,0,0,0]
[0,{"$f":"IF(OR(COUNTA(O2195:O2224)>0,COUNTA(O2224:$O$5195)>0),IF(COUNTIF(B2215:B2224,B2224)=10,B2224+7,B2224),\"\")","v":""},null,"","",null,null,null,0,0,0,0,{"$f":"IFERROR(VLOOKUP(G2225,DropDowns!$D$2:$E$151,2,FALSE),\"\")","v":""},{"$f":"IFERROR(VLOOKUP(H2225,DropDowns!$F$2:$G$7,2,FALSE),\"Residual categories\")","v":"Residual categories"},null,null,null,0,0,0]
[0,{"$f":"IF(OR(COUNTA(O2196:O2225)>0,COUNTA(O2225:$O$5195)>0),IF(COUNTIF(B2216:B2225,B2225)=10,B2225+7,B2225),\"\")","v":""},null,"","",null,null,null,0,0,0,0,{"$f":"IFERROR(VLOOKUP(G2226,DropDowns!$D$2:$E$151,2,FALSE),\"\")","v":""},{"$f":"IFERROR(VLOOKUP(H2226,DropDowns!$F$2:$G$7,2,FALSE),\"Residual categories\")","v":"Residual categories"},null,null,null,0,0,0]
[0,{"$f":"IF(OR(COUNTA(O2197:O2226)>0,COUNTA(O2226:$O$5195)>0),IF(COUNTIF(B2217:B2226,B2226)=10,B2226+7,B2226),\"\")","v":""},null,"","",null,null,null,0,0,0,0,{"$f":"IFERROR(VLOOKUP(G2227,DropDowns!$D$2:$E$151,2,FALSE),\"\")","v":""},{"$f":"IFERROR(VLOOKUP(H2227,DropDowns!$F$2:$G$7,2,FALSE),\"Residual categories\")","v":"Residual categories"},null,null,null,0,0,0]
[0,{"$f":"IF(OR(COUNTA(O2198:O2227)>0,COUNTA(O2227:$O$5195)>0),IF(COUNTIF(B2218:B2227,B2227)=10,B2227+7,B2227),\"\")","v":""},null,"","",null,null,null,0,0,0,0,{"$f":"IFERROR(VLOOKUP(G2228,DropDowns!$D$2:$E$151,2,FALSE),\"\")","v":""},{"$f":"IFERROR(VLOOKUP(H2228,DropDowns!$F$2:$G$7,2,FALSE),\"Residual categories\")","v":"Residual categories"},null,null,null,0,0,0]
[0,{"$f":"IF(OR(COUNTA(O2200:O2229)>0,COUNTA(O2229:$O$5195)>0),IF(COUNTIF(B2220:B2229,B2229)=10,B2229+7,B2229),\"\")","v":""},null,"","",null,null,null,0,0,0,0,{"$f":"IFERROR(VLOOKUP(G2230,DropDowns!$D$2:$E$151,2,FALSE),\"\")","v":""},{"$f":"IFERROR(VLOOKUP(H2230,DropDowns!$F$2:$G$7,2,FALSE),\"Residual categories\")","v":"Residual categories"},null,null,null,0,0,0]
[0,{"$f":"IF(OR(COUNTA(O2201:O2230)>0,COUNTA(O2230:$O$5195)>0),IF(COUNTIF(B2221:B2230,B2230)=10,B2230+7,B2230),\"\")","v":""},null,"","",null,null,null,0,0,0,0,{"$f":"IFERROR(VLOOKUP(G2231,DropDowns!$D$2:$E$151,2,FALSE),\"\")","v":""},{"$f":"IFERROR(VLOOKUP(H2231,DropDowns!$F$2:$G$7,2,FALSE),\"Residual categories\")","v":"Residual categories"},null,null,null,0,0,0]
[0,{"$f":"IF(OR(COUNTA(O2203:O2232)>0,COUNTA(O2232:$O$5195)>0),IF(COUNTIF(B2223:B2232,B2232)=10,B2232+7,B2232),\"\")","v":""},null,"","",null,null,null,0,0,0,0,{"$f":"IFERROR(VLOOKUP(G2233,DropDowns!$D$2:$E$151,2,FALSE),\"\")","v":""},{"$f":"IFERROR(VLOOKUP(H2233,DropDowns!$F$2:$G$7,2,FALSE),\"Residual categories\")","v":"Residual categories"},null,null,null,0,0,0]
[0,{"$f":"IF(OR(COUNTA(O2204:O2233)>0,COUNTA(O2233:$O$5195)>0),IF(COUNTIF(B2224:B2233,B2233)=10,B2233+7,B2233),\"\")","v":""},null,"","",null,null,null,0,0,0,0,{"$f":"IFERROR(VLOOKUP(G2234,DropDowns!$D$2:$E$151,2,FALSE),\"\")","v":""},{"$f":"IFERROR(VLOOKUP(H2234,DropDowns!$F$2:$G$7,2,FALSE),\"Residual categories\")","v":"Residual categories"},null,null,null,0,0,0]
[0,{"$f":"IF(OR(COUNTA(O2205:O2234)>0,COUNTA(O2234:$O$5195)>0),IF(COUNTIF(B2225:B2234,B2234)=10,B2234+7,B2234),\"\")","v":""},null,"","",null,null,null,0,0,0,0,{"$f":"IFERROR(VLOOKUP(G2235,DropDowns!$D$2:$E$151,2,FALSE),\"\")","v":""},{"$f":"IFERROR(VLOOKUP(H2235,DropDowns!$F$2:$G$7,2,FALSE),\"Residual categories\")","v":"Residual categories"},null,null,null,0,0,0]
[0,{"$f":"IF(OR(COUNTA(O2206:O2235)>0,COUNTA(O2235:$O$5195)>0),IF(COUNTIF(B2226:B2235,B2235)=10,B2235+7,B2235),\"\")","v":""},null,"","",null,null,null,0,0,0,0,{"$f":"IFERROR(VLOOKUP(G2236,DropDowns!$D$2:$E$151,2,FALSE),\"\")","v":""},{"$f":"IFERROR(VLOOKUP(H2236,DropDowns!$F$2:$G$7,2,FALSE),\"Residual categories\")","v":"Residual categories"},null,null,null,0,0,0]
[0,{"$f":"IF(OR(COUNTA(O2208:O2237)>0,COUNTA(O2237:$O$5195)>0),IF(COUNTIF(B2228:B2237,B2237)=10,B2237+7,B2237),\"\")","v":""},null,"","",null,null,null,0,0,0,0,{"$f":"IFERROR(VLOOKUP(G2238,DropDowns!$D$2:$E$151,2,FALSE),\"\")","v":""},{"$f":"IFERROR(VLOOKUP(H2238,DropDowns!$F$2:$G$7,2,FALSE),\"Residual categories\")","v":"Residual categories"},null,null,null,0,0,0]
[0,{"$f":"IF(OR(COUNTA(O2209:O2238)>0,COUNTA(O2238:$O$5195)>0),IF(COUNTIF(B2229:B2238,B2238)=10,B2238+7,B2238),\"\")","v":""},null,"","",null,null,null,0,0,0,0,{"$f":"IFERROR(VLOOKUP(G2239,DropDowns!$D$2:$E$151,2,FALSE),\"\")","v":""},{"$f":"IFERROR(VLOOKUP(H2239,DropDowns!$F$2:$G$7,2,FALSE),\"Residual categories\")","v":"Residual categories"},null,null,null,0,0,0]
[0,{"$f":"IF(OR(COUNTA(O2211:O2240)>0,COUNTA(O2240:$O$5195)>0),IF(COUNTIF(B2231:B2240,B2240)=10,B2240+7,B2240),\"\")","v":""},null,"","",null,null,null,0,0,0,0,{"$f":"IFERROR(VLOOKUP(G2241,DropDowns!$D$2:$E$151,2,FALSE),\"\")","v":""},{"$f":"IFERROR(VLOOKUP(H2241,DropDowns!$F$2:$G$7,2,FALSE),\"Residual categories\")","v":"Residual categories"},null,null,null,0,0,0]
[0,{"$f":"IF(OR(COUNTA(O2212:O2241)>0,COUNTA(O2241:$O$5195)>0),IF(COUNTIF(B2232:B2241,B2241)=10,B2241+7,B2241),\"\")","v":""},null,"","",null,null,null,0,0,0,0,{"$f":"IFERROR(VLOOKUP(G2242,DropDowns!$D$2:$E$151,2,FALSE),\"\")","v":""},{"$f":"IFERROR(VLOOKUP(H2242,DropDowns!$F$2:$G$7,2,FALSE),\"Residual categories\")","v":"Residual categories"},null,null,null,0,0,0]
[0,{"$f":"IF(OR(COUNTA(O2213:O2242)>0,COUNTA(O2242:$O$5195)>0),IF(COUNTIF(B2233:B2242,B2242)=10,B2242+7,B2242),\"\")","v":""},null,"","",null,null,null,0,0,0,0,{"$f":"IFERROR(VLOOKUP(G2243,DropDowns!$D$2:$E$151,2,FALSE),\"\")","v":""},{"$f":"IFERROR(VLOOKUP(H2243,DropDowns!$F$2:$G$7,2,FALSE),\"Residual categories\")","v":"Residual categories"},null,null,null,0,0,0]
[0,{"$f":"IF(OR(COUNTA(O2214:O2243)>0,COUNTA(O2243:$O$5195)>0),IF(COUNTIF(B2234:B2243,B2243)=10,B2243+7,B2243),\"\")","v":""},null,"","",null,null,null,0,0,0,0,{"$f":"IFERROR(VLOOKUP(G2244,DropDowns!$D$2:$E$151,2,FALSE),\"\")","v":""},{"$f":"IFERROR(VLOOKUP(H2244,DropDowns!$F$2:$G$7,2,FALSE),\"Residual categories\")","v":"Residual categories"},null,null,null,0,0,0]
[0,{"$f":"IF(OR(COUNTA(O2216:O2245)>0,COUNTA(O2245:$O$5195)>0),IF(COUNTIF(B2236:B2245,B2245)=10,B2245+7,B2245),\"\")","v":""},null,"","",null,null,null,0,0,0,0,{"$f":"IFERROR(VLOOKUP(G2246,DropDowns!$D$2:$E$151,2,FALSE),\"\")","v":""},{"$f":"IFERROR(VLOOKUP(H2246,DropDowns!$F$2:$G$7,2,FALSE),\"Residual categories\")","v":"Residual categories"},null,null,null,0,0,0]
[0,{"$f":"IF(OR(COUNTA(O2217:O2246)>0,COUNTA(O2246:$O$5195)>0),IF(COUNTIF(B2237:B2246,B2246)=10,B2246+7,B2246),\"\")","v":""},null,{"$f":"IF(E2247=1,B2247,\"\")","v":""},"",null,null,null,{"$f":"IF(COUNTA(O2247:Q2247)>0,1,0)","v":0},{"$f":"IF(O2247=\"y\",1,0)","v":0},{"$f":"IF(P2247=\"y\",1,0)","v":0},{"$f":"IF(Q2247=\"y\",1,0)","v":0},{"$f":"IFERROR(VLOOKUP(G2247,DropDowns!$D$2:$E$151,2,FALSE),\"\")","v":""},{"$f":"IFERROR(VLOOKUP(H2247,DropDowns!$F$2:$G$7,2,FALSE),\"Residual categories\")","v":"Residual categories"},null,null,null,{"$f":"IF(O2247=\"yes\",1,0)","v":0},{"$f":"IF(P2247=\"yes\",1,0)","v":0},{"$f":"IF(Q2247=\"yes\",1,0)","v":0}]
[0,{"$f":"IF(OR(COUNTA(O2219:O2248)>0,COUNTA(O2248:$O$5195)>0),IF(COUNTIF(B2239:B2248,B2248)=10,B2248+7,B2248),\"\")","v":""},null,"","",null,null,null,0,0,0,0,{"$f":"IFERROR(VLOOKUP(G2249,DropDowns!$D$2:$E$151,2,FALSE),\"\")","v":""},{"$f":"IFERROR(VLOOKUP(H2249,DropDowns!$F$2:$G$7,2,FALSE),\"Residual categories\")","v":"Residual categories"},null,null,null,0,0,0]
[0,{"$f":"IF(OR(COUNTA(O2220:O2249)>0,COUNTA(O2249:$O$5195)>0),IF(COUNTIF(B2240:B2249,B2249)=10,B2249+7,B2249),\"\")","v":""},null,"","",null,null,null,0,0,0,0,{"$f":"IFERROR(VLOOKUP(G2250,DropDowns!$D$2:$E$151,2,FALSE),\"\")","v":""},{"$f":"IFERROR(VLOOKUP(H2250,DropDowns!$F$2:$G$7,2,FALSE),\"Residual categories\")","v":"Residual categories"},null,null,null,0,0,0]
[0,{"$f":"IF(OR(COUNTA(O2221:O2250)>0,COUNTA(O2250:$O$5195)>0),IF(COUNTIF(B2241:B2250,B2250)=10,B2250+7,B2250),\"\")","v":""},null,"","",null,null,null,0,0,0,0,{"$f":"IFERROR(VLOOKUP(G2251,DropDowns!$D$2:$E$151,2,FALSE),\"\")","v":""},{"$f":"IFERROR(VLOOKUP(H2251,DropDowns!$F$2:$G$7,2,FALSE),\"Residual categories\")","v":"Residual categories"},null,null,null,0,0,0]
[0,{"$f":"IF(OR(COUNTA(O2222:O2251)>0,COUNTA(O2251:$O$5195)>0),IF(COUNTIF(B2242:B2251,B2251)=10,B2251+7,B2251),\"\")","v":""},null,"","",null,null,null,0,0,0,0,{"$f":"IFERROR(VLOOKUP(G2252,DropDowns!$D$2:$E$151,2,FALSE),\"\")","v":""},{"$f":"IFERROR(VLOOKUP(H2252,DropDowns!$F$2:$G$7,2,FALSE),\"Residual categories\")","v":"Residual categories"},null,null,null,0,0,0]
[0,{"$f":"IF(OR(COUNTA(O2224:O2253)>0,COUNTA(O2253:$O$5195)>0),IF(COUNTIF(B2244:B2253,B2253)=10,B2253+7,B2253),\"\")","v":""},null,"","",null,null,null,0,0,0,0,{"$f":"IFERROR(VLOOKUP(G2254,DropDowns!$D$2:$E$151,2,FALSE),\"\")","v":""},{"$f":"IFERROR(VLOOKUP(H2254,DropDowns!$F$2:$G$7,2,FALSE),\"Residual categories\")","v":"Residual categories"},null,null,null,0,0,0]
[0,{"$f":"IF(OR(COUNTA(O2225:O2254)>0,COUNTA(O2254:$O$5195)>0),IF(COUNTIF(B2245:B2254,B2254)=10,B2254+7,B2254),\"\")","v":""},null,"","",null,null,null,0,0,0,0,{"$f":"IFERROR(VLOOKUP(G2255,DropDowns!$D$2:$E$151,2,FALSE),\"\")","v":""},{"$f":"IFERROR(VLOOKUP(H2255,DropDowns!$F$2:$G$7,2,FALSE),\"Residual categories\")","v":"Residual categories"},null,null,null,0,0,0]
[0,{"$f":"IF(OR(COUNTA(O2227:O2256)>0,COUNTA(O2256:$O$5195)>0),IF(COUNTIF(B2247:B2256,B2256)=10,B2256+7,B2256),\"\")","v":""},null,"",{"$f":"IF(B2257=\"\",\"\",COUNTIF(B2248:B2257,B2257))","v":""},null,null,null,0,0,0,0,{"$f":"IFERROR(VLOOKUP(G2257,DropDowns!$D$2:$E$151,2,FALSE),\"\")","v":""},{"$f":"IFERROR(VLOOKUP(H2257,DropDowns!$F$2:$G$7,2,FALSE),\"Residual categories\")","v":"Residual categories"},null,null,null,0,0,0]
[0,{"$f":"IF(OR(COUNTA(O2228:O2257)>0,COUNTA(O2257:$O$5195)>0),IF(COUNTIF(B2248:B2257,B2257)=10,B2257+7,B2257),\"\")","v":""},null,"","",null,null,null,0,0,0,0,{"$f":"IFERROR(VLOOKUP(G2258,DropDowns!$D$2:$E$151,2,FALSE),\"\")","v":""},{"$f":"IFERROR(VLOOKUP(H2258,DropDowns!$F$2:$G$7,2,FALSE),\"Residual categories\")","v":"Residual categories"},null,null,null,0,0,0]
[{"$f":"$E$2","v":0},{"$f":"IF(OR(COUNTA(O2230:O2259)>0,COUNTA(O2259:$O$5195)>0),IF(COUNTIF(B2250:B2259,B2259)=10,B2259+7,B2259),\"\")","v":""},null,"","",null,null,null,0,0,0,0,{"$f":"IFERROR(VLOOKUP(G2260,DropDowns!$D$2:$E$151,2,FALSE),\"\")","v":""},{"$f":"IFERROR(VLOOKUP(H2260,DropDowns!$F$2:$G$7,2,FALSE),\"Residual categories\")","v":"Residual categories"},null,null,null,0,0,0]
[0,{"$f":"IF(OR(COUNTA(O2231:O2260)>0,COUNTA(O2260:$O$5195)>0),IF(COUNTIF(B2251:B2260,B2260)=10,B2260+7,B2260),\"\")","v":""},null,"","",null,null,null,0,0,0,0,{"$f":"IFERROR(VLOOKUP(G2261,DropDowns!$D$2:$E$151,2,FALSE),\"\")","v":""},{"$f":"IFERROR(VLOOKUP(H2261,DropDowns!$F$2:$G$7,2,FALSE),\"Residual categories\")","v":"Residual categories"},null,null,null,0,0,0]
[0,{"$f":"IF(OR(COUNTA(O2232:O2261)>0,COUNTA(O2261:$O$5195)>0),IF(COUNTIF(B2252:B2261,B2261)=10,B2261+7,B2261),\"\")","v":""},null,"","",null,null,null,0,0,0,0,{"$f":"IFERROR(VLOOKUP(G2262,DropDowns!$D$2:$E$151,2,FALSE),\"\")","v":""},{"$f":"IFERROR(VLOOKUP(H2262,DropDowns!$F$2:$G$7,2,FALSE),\"Residual categories\")","v":"Residual categories"},null,null,null,0,0,0]
[0,{"$f":"IF(OR(COUNTA(O2233:O2262)>0,COUNTA(O2262:$O$5195)>0),IF(COUNTIF(B2253:B2262,B2262)=10,B2262+7,B2262),\"\")","v":""},null,"","",null,null,null,0,0,0,0,{"$f":"IFERROR(VLOOKUP(G2263,DropDowns!$D$2:$E$151,2,FALSE),\"\")","v":""},{"$f":"IFERROR(VLOOKUP(H2263,DropDowns!$F$2:$G$7,2,FALSE),\"Residual categories\")","v":"Residual categories"},null,null,null,0,0,0]
[0,{"$f":"IF(OR(COUNTA(O2235:O2264)>0,COUNTA(O2264:$O$5195)>0),IF(COUNTIF(B2255:B2264,B2264)=10,B2264+7,B2264),\"\")","v":""},null,"","",null,null,null,0,0,0,0,{"$f":"IFERROR(VLOOKUP(G2265,DropDowns!$D$2:$E$151,2,FALSE),\"\")","v":""},{"$f":"IFERROR(VLOOKUP(H2265,DropDowns!$F$2:$G$7,2,FALSE),\"Residual categories\")","v":"Residual categories"},null,null,null,0,0,0]
[0,{"$f":"IF(OR(COUNTA(O2236:O2265)>0,COUNTA(O2265:$O$5195)>0),IF(COUNTIF(B2256:B2265,B2265)=10,B2265+7,B2265),\"\")","v":""},null,"","",null,null,null,0,0,0,0,{"$f":"IFERROR(VLOOKUP(G2266,DropDowns!$D$2:$E$151,2,FALSE),\"\")","v":""},{"$f":"IFERROR(VLOOKUP(H2266,DropDowns!$F$2:$G$7,2,FALSE),\"Residual categories\")","v":"Residual categories"},null,null,null,0,0,0]
[0,{"$f":"IF(OR(COUNTA(O2238:O2267)>0,COUNTA(O2267:$O$5195)>0),IF(COUNTIF(B2258:B2267,B2267)=10,B2267+7,B2267),\"\")","v":""},null,"","",null,null,null,0,0,0,0,{"$f":"IFERROR(VLOOKUP(G2268,DropDowns!$D$2:$E$151,2,FALSE),\"\")","v":""},{"$f":"IFERROR(VLOOKUP(H2268,DropDowns!$F$2:$G$7,2,FALSE),\"Residual categories\")","v":"Residual categories"},null,null,null,0,0,0]
[0,{"$f":"IF(OR(COUNTA(O2239:O2268)>0,COUNTA(O2268:$O$5195)>0),IF(COUNTIF(B2259:B2268,B2268)=10,B2268+7,B2268),\"\")","v":""},null,"","",null,null,null,0,0,0,0,{"$f":"IFERROR(VLOOKUP(G2269,DropDowns!$D$2:$E$151,2,FALSE),\"\")","v":""},{"$f":"IFERROR(VLOOKUP(H2269,DropDowns!$F$2:$G$7,2,FALSE),\"Residual categories\")","v":"Residual categories"},null,null,null,0,0,0]
[0,{"$f":"IF(OR(COUNTA(O2240:O2269)>0,COUNTA(O2269:$O$5195)>0),IF(COUNTIF(B2260:B2269,B2269)=10,B2269+7,B2269),\"\")","v":""},null,"","",null,null,null,0,0,0,0,{"$f":"IFERROR(VLOOKUP(G2270,DropDowns!$D$2:$E$151,2,FALSE),\"\")","v":""},{"$f":"IFERROR(VLOOKUP(H2270,DropDowns!$F$2:$G$7,2,FALSE),\"Residual categories\")","v":"Residual categories"},null,null,null,0,0,0]
[0,{"$f":"IF(OR(COUNTA(O2241:O2270)>0,COUNTA(O2270:$O$5195)>0),IF(COUNTIF(B2261:B2270,B2270)=10,B2270+7,B2270),\"\")","v":""},null,"","",null,null,null,0,0,0,0,{"$f":"IFERROR(VLOOKUP(G2271,DropDowns!$D$2:$E$151,2,FALSE),\"\")","v":""},{"$f":"IFERROR(VLOOKUP(H2271,DropDowns!$F$2:$G$7,2,FALSE),\"Residual categories\")","v":"Residual categories"},null,null,null,0,0,0]
[0,{"$f":"IF(OR(COUNTA(O2243:O2272)>0,COUNTA(O2272:$O$5195)>0),IF(COUNTIF(B2263:B2272,B2272)=10,B2272+7,B2272),\"\")","v":""},null,"","",null,null,null,0,0,0,0,{"$f":"IFERROR(VLOOKUP(G2273,DropDowns!$D$2:$E$151,2,FALSE),\"\")","v":""},{"$f":"IFERROR(VLOOKUP(H2273,DropDowns!$F$2:$G$7,2,FALSE),\"Residual categories\")","v":"Residual categories"},null,null,null,0,0,0]
[0,{"$f":"IF(OR(COUNTA(O2244:O2273)>0,COUNTA(O2273:$O$5195)>0),IF(COUNTIF(B2264:B2273,B2273)=10,B2273+7,B2273),\"\")","v":""},null,"","",null,null,null,0,0,0,0,{"$f":"IFERROR(VLOOKUP(G2274,DropDowns!$D$2:$E$151,2,FALSE),\"\")","v":""},{"$f":"IFERROR(VLOOKUP(H2274,DropDowns!$F$2:$G$7,2,FALSE),\"Residual categories\")","v":"Residual categories"},null,null,null,0,0,0]
[0,{"$f":"IF(OR(COUNTA(O2246:O2275)>0,COUNTA(O2275:$O$5195)>0),IF(COUNTIF(B2266:B2275,B2275)=10,B2275+7,B2275),\"\")","v":""},null,"","",null,null,null,0,0,0,0,{"$f":"IFERROR(VLOOKUP(G2276,DropDowns!$D$2:$E$151,2,FALSE),\"\")","v":""},{"$f":"IFERROR(VLOOKUP(H2276,DropDowns!$F$2:$G$7,2,FALSE),\"Residual categories\")","v":"Residual categories"},null,null,null,0,0,0]
[0,{"$f":"IF(OR(COUNTA(O2247:O2276)>0,COUNTA(O2276:$O$5195)>0),IF(COUNTIF(B2267:B2276,B2276)=10,B2276+7,B2276),\"\")","v":""},null,"","",null,null,null,0,0,0,0,{"$f":"IFERROR(VLOOKUP(G2277,DropDowns!$D$2:$E$151,2,FALSE),\"\")","v":""},{"$f":"IFERROR(VLOOKUP(H2277,DropDowns!$F$2:$G$7,2,FALSE),\"Residual categories\")","v":"Residual categories"},null,null,null,0,0,0]
[0,{"$f":"IF(OR(COUNTA(O2248:O2277)>0,COUNTA(O2277:$O$5195)>0),IF(COUNTIF(B2268:B2277,B2277)=10,B2277+7,B2277),\"\")","v":""},null,"","",null,null,null,0,0,0,0,{"$f":"IFERROR(VLOOKUP(G2278,DropDowns!$D$2:$E$151,2,FALSE),\"\")","v":""},{"$f":"IFERROR(VLOOKUP(H2278,DropDowns!$F$2:$G$7,2,FALSE),\"Residual categories\")","v":"Residual categories"},null,null,null,0,0,0]
[0,{"$f":"IF(OR(COUNTA(O2249:O2278)>0,COUNTA(O2278:$O$5195)>0),IF(COUNTIF(B2269:B2278,B2278)=10,B2278+7,B2278),\"\")","v":""},null,"","",null,null,null,0,0,0,0,{"$f":"IFERROR(VLOOKUP(G2279,DropDowns!$D$2:$E$151,2,FALSE),\"\")","v":""},{"$f":"IFERROR(VLOOKUP(H2279,DropDowns!$F$2:$G$7,2,FALSE),\"Residual categories\")","v":"Residual categories"},null,null,null,0,0,0]
[0,{"$f":"IF(OR(COUNTA(O2251:O2280)>0,COUNTA(O2280:$O$5195)>0),IF(COUNTIF(B2271:B2280,B2280)=10,B2280+7,B2280),\"\")","v":""},null,"","",null,null,null,0,0,0,0,{"$f":"IFERROR(VLOOKUP(G2281,DropDowns!$D$2:$E$151,2,FALSE),\"\")","v":""},{"$f":"IFERROR(VLOOKUP(H2281,DropDowns!$F$2:$G$7,2,FALSE),\"Residual categories\")","v":"Residual categories"},null,null,null,0,0,0]
[0,{"$f":"IF(OR(COUNTA(O2252:O2281)>0,COUNTA(O2281:$O$5195)>0),IF(COUNTIF(B2272:B2281,B2281)=10,B2281+7,B2281),\"\")","v":""},null,"","",null,null,null,0,0,0,0,{"$f":"IFERROR(VLOOKUP(G2282,DropDowns!$D$2:$E$151,2,FALSE),\"\")","v":""},{"$f":"IFERROR(VLOOKUP(H2282,DropDowns!$F$2:$G$7,2,FALSE),\"Residual categories\")","v":"Residual categories"},null,null,null,0,0,0]
[0,{"$f":"IF(OR(COUNTA(O2254:O2283)>0,COUNTA(O2283:$O$5195)>0),IF(COUNTIF(B2274:B2283,B2283)=10,B2283+7,B2283),\"\")","v":""},null,"","",null,null,null,0,0,0,0,{"$f":"IFERROR(VLOOKUP(G2284,DropDowns!$D$2:$E$151,2,FALSE),\"\")","v":""},{"$f":"IFERROR(VLOOKUP(H2284,DropDowns!$F$2:$G$7,2,FALSE),\"Residual categories\")","v":"Residual categories"},null,null,null,0,0,0]
[0,{"$f":"IF(OR(COUNTA(O2255:O2284)>0,COUNTA(O2284:$O$5195)>0),IF(COUNTIF(B2275:B2284,B2284)=10,B2284+7,B2284),\"\")","v":""},null,"","",null,null,null,0,0,0,0,{"$f":"IFERROR(VLOOKUP(G2285,DropDowns!$D$2:$E$151,2,FALSE),\"\")","v":""},{"$f":"IFERROR(VLOOKUP(H2285,DropDowns!$F$2:$G$7,2,FALSE),\"Residual categories\")","v":"Residual categories"},null,null,null,0,0,0]
[0,{"$f":"IF(OR(COUNTA(O2257:O2286)>0,COUNTA(O2286:$O$5195)>0),IF(COUNTIF(B2277:B2286,B2286)=10,B2286+7,B2286),\"\")","v":""},null,"","",null,null,null,0,0,0,0,{"$f":"IFERROR(VLOOKUP(G2287,DropDowns!$D$2:$E$151,2,FALSE),\"\")","v":""},{"$f":"IFERROR(VLOOKUP(H2287,DropDowns!$F$2:$G$7,2,FALSE),\"Residual categories\")","v":"Residual categories"},null,null,null,0,0,0]
[0,{"$f":"IF(OR(COUNTA(O2258:O2287)>0,COUNTA(O2287:$O$5195)>0),IF(COUNTIF(B2278:B2287,B2287)=10,B2287+7,B2287),\"\")","v":""},null,"","",null,null,null,0,0,0,0,{"$f":"IFERROR(VLOOKUP(G2288,DropDowns!$D$2:$E$151,2,FALSE),\"\")","v":""},{"$f":"IFERROR(VLOOKUP(H2288,DropDowns!$F$2:$G$7,2,FALSE),\"Residual categories\")","v":"Residual categories"},null,null,null,0,0,0]
[0,{"$f":"IF(OR(COUNTA(O2259:O2288)>0,COUNTA(O2288:$O$5195)>0),IF(COUNTIF(B2279:B2288,B2288)=10,B2288+7,B2288),\"\")","v":""},null,"","",null,null,null,0,0,0,0,{"$f":"IFERROR(VLOOKUP(G2289,DropDowns!$D$2:$E$151,2,FALSE),\"\")","v":""},{"$f":"IFERROR(VLOOKUP(H2289,DropDowns!$F$2:$G$7,2,FALSE),\"Residual categories\")","v":"Residual categories"},null,null,null,0,0,0]
[0,{"$f":"IF(OR(COUNTA(O2260:O2289)>0,COUNTA(O2289:$O$5195)>0),IF(COUNTIF(B2280:B2289,B2289)=10,B2289+7,B2289),\"\")","v":""},null,"","",null,null,null,0,0,0,0,{"$f":"IFERROR(VLOOKUP(G2290,DropDowns!$D$2:$E$151,2,FALSE),\"\")","v":""},{"$f":"IFERROR(VLOOKUP(H2290,DropDowns!$F$2:$G$7,2,FALSE),\"Residual categories\")","v":"Residual categories"},null,null,null,0,0,0]
[0,{"$f":"IF(OR(COUNTA(O2262:O2291)>0,COUNTA(O2291:$O$5195)>0),IF(COUNTIF(B2282:B2291,B2291)=10,B2291+7,B2291),\"\")","v":""},null,"","",null,null,null,0,0,0,0,{"$f":"IFERROR(VLOOKUP(G2292,DropDowns!$D$2:$E$151,2,FALSE),\"\")","v":""},{"$f":"IFERROR(VLOOKUP(H2292,DropDowns!$F$2:$G$7,2,FALSE),\"Residual categories\")","v":"Residual categories"},null,null,null,0,0,0]
[0,{"$f":"IF(OR(COUNTA(O2263:O2292)>0,COUNTA(O2292:$O$5195)>0),IF(COUNTIF(B2283:B2292,B2292)=10,B2292+7,B2292),\"\")","v":""},null,"","",null,null,null,0,0,0,0,{"$f":"IFERROR(VLOOKUP(G2293,DropDowns!$D$2:$E$151,2,FALSE),\"\")","v":""},{"$f":"IFERROR(VLOOKUP(H2293,DropDowns!$F$2:$G$7,2,FALSE),\"Residual categories\")","v":"Residual categories"},null,null,null,0,0,0]
[0,{"$f":"IF(OR(COUNTA(O2265:O2294)>0,COUNTA(O2294:$O$5195)>0),IF(COUNTIF(B2285:B2294,B2294)=10,B2294+7,B2294),\"\")","v":""},null,"","",null,null,null,0,0,0,0,{"$f":"IFERROR(VLOOKUP(G2295,DropDowns!$D$2:$E$151,2,FALSE),\"\")","v":""},{"$f":"IFERROR(VLOOKUP(H2295,DropDowns!$F$2:$G$7,2,FALSE),\"Residual categories\")","v":"Residual categories"},null,null,null,0,0,0]
[0,{"$f":"IF(OR(COUNTA(O2266:O2295)>0,COUNTA(O2295:$O$5195)>0),IF(COUNTIF(B2286:B2295,B2295)=10,B2295+7,B2295),\"\")","v":""},null,"","",null,null,null,0,0,0,0,{"$f":"IFERROR(VLOOKUP(G2296,DropDowns!$D$2:$E$151,2,FALSE),\"\")","v":""},{"$f":"IFERROR(VLOOKUP(H2296,DropDowns!$F$2:$G$7,2,FALSE),\"Residual categories\")","v":"Residual categories"},null,null,null,0,0,0]
[0,{"$f":"IF(OR(COUNTA(O2267:O2296)>0,COUNTA(O2296:$O$5195)>0),IF(COUNTIF(B2287:B2296,B2296)=10,B2296+7,B2296),\"\")","v":""},null,"","",null,null,null,0,0,0,0,{"$f":"IFERROR(VLOOKUP(G2297,DropDowns!$D$2:$E$151,2,FALSE),\"\")","v":""},{"$f":"IFERROR(VLOOKUP(H2297,DropDowns!$F$2:$G$7,2,FALSE),\"Residual categories\")","v":"Residual categories"},null,null,null,0,0,0]
[0,{"$f":"IF(OR(COUNTA(O2268:O2297)>0,COUNTA(O2297:$O$5195)>0),IF(COUNTIF(B2288:B2297,B2297)=10,B2297+7,B2297),\"\")","v":""},null,"","",null,null,null,0,0,0,0,{"$f":"IFERROR(VLOOKUP(G2298,DropDowns!$D$2:$E$151,2,FALSE),\"\")","v":""},{"$f":"IFERROR(VLOOKUP(H2298,DropDowns!$F$2:$G$7,2,FALSE),\"Residual categories\")","v":"Residual categories"},null,null,null,0,0,0]
[0,{"$f":"IF(OR(COUNTA(O2270:O2299)>0,COUNTA(O2299:$O$5195)>0),IF(COUNTIF(B2290:B2299,B2299)=10,B2299+7,B2299),\"\")","v":""},null,"","",null,null,null,0,0,0,0,{"$f":"IFERROR(VLOOKUP(G2300,DropDowns!$D$2:$E$151,2,FALSE),\"\")","v":""},{"$f":"IFERROR(VLOOKUP(H2300,DropDowns!$F$2:$G$7,2,FALSE),\"Residual categories\")","v":"Residual categories"},null,null,null,0,0,0]
[0,{"$f":"IF(OR(COUNTA(O2271:O2300)>0,COUNTA(O2300:$O$5195)>0),IF(COUNTIF(B2291:B2300,B2300)=10,B2300+7,B2300),\"\")","v":""},null,"","",null,null,null,0,0,0,0,{"$f":"IFERROR(VLOOKUP(G2301,DropDowns!$D$2:$E$151,2,FALSE),\"\")","v":""},{"$f":"IFERROR(VLOOKUP(H2301,DropDowns!$F$2:$G$7,2,FALSE),\"Residual categories\")","v":"Residual categories"},null,null,null,0,0,0]
[0,{"$f":"IF(OR(COUNTA(O2273:O2302)>0,COUNTA(O2302:$O$5195)>0),IF(COUNTIF(B2293:B2302,B2302)=10,B2302+7,B2302),\"\")","v":""},null,"","",null,null,null,0,0,0,0,{"$f":"IFERROR(VLOOKUP(G2303,DropDowns!$D$2:$E$151,2,FALSE),\"\")","v":""},{"$f":"IFERROR(VLOOKUP(H2303,DropDowns!$F$2:$G$7,2,FALSE),\"Residual categories\")","v":"Residual categories"},null,null,null,0,0,0]
[0,{"$f":"IF(OR(COUNTA(O2274:O2303)>0,COUNTA(O2303:$O$5195)>0),IF(COUNTIF(B2294:B2303,B2303)=10,B2303+7,B2303),\"\")","v":""},null,"","",null,null,null,0,0,0,0,{"$f":"IFERROR(VLOOKUP(G2304,DropDowns!$D$2:$E$151,2,FALSE),\"\")","v":""},{"$f":"IFERROR(VLOOKUP(H2304,DropDowns!$F$2:$G$7,2,FALSE),\"Residual categories\")","v":"Residual categories"},null,null,null,0,0,0]
[0,{"$f":"IF(OR(COUNTA(O2275:O2304)>0,COUNTA(O2304:$O$5195)>0),IF(COUNTIF(B2295:B2304,B2304)=10,B2304+7,B2304),\"\")","v":""},null,"","",null,null,null,0,0,0,0,{"$f":"IFERROR(VLOOKUP(G2305,DropDowns!$D$2:$E$151,2,FALSE),\"\")","v":""},{"$f":"IFERROR(VLOOKUP(H2305,DropDowns!$F$2:$G$7,2,FALSE),\"Residual categories\")","v":"Residual categories"},null,null,null,0,0,0]
[0,{"$f":"IF(OR(COUNTA(O2276:O2305)>0,COUNTA(O2305:$O$5195)>0),IF(COUNTIF(B2296:B2305,B2305)=10,B2305+7,B2305),\"\")","v":""},null,"","",null,null,null,0,0,0,0,{"$f":"IFERROR(VLOOKUP(G2306,DropDowns!$D$2:$E$151,2,FALSE),\"\")","v":""},{"$f":"IFERROR(VLOOKUP(H2306,DropDowns!$F$2:$G$7,2,FALSE),\"Residual categories\")","v":"Residual categories"},null,null,null,0,0,0]
[0,{"$f":"IF(OR(COUNTA(O2278:O2307)>0,COUNTA(O2307:$O$5195)>0),IF(COUNTIF(B2298:B2307,B2307)=10,B2307+7,B2307),\"\")","v":""},null,"","",null,null,null,0,0,0,0,{"$f":"IFERROR(VLOOKUP(G2308,DropDowns!$D$2:$E$151,2,FALSE),\"\")","v":""},{"$f":"IFERROR(VLOOKUP(H2308,DropDowns!$F$2:$G$7,2,FALSE),\"Residual categories\")","v":"Residual categories"},null,null,null,0,0,0]
[0,{"$f":"IF(OR(COUNTA(O2279:O2308)>0,COUNTA(O2308:$O$5195)>0),IF(COUNTIF(B2299:B2308,B2308)=10,B2308+7,B2308),\"\")","v":""},null,"","",null,null,null,0,0,0,0,{"$f":"IFERROR(VLOOKUP(G2309,DropDowns!$D$2:$E$151,2,FALSE),\"\")","v":""},{"$f":"IFERROR(VLOOKUP(H2309,DropDowns!$F$2:$G$7,2,FALSE),\"Residual categories\")","v":"Residual categories"},null,null,null,0,0,0]
[0,{"$f":"IF(OR(COUNTA(O2281:O2310)>0,COUNTA(O2310:$O$5195)>0),IF(COUNTIF(B2301:B2310,B2310)=10,B2310+7,B2310),\"\")","v":""},null,{"$f":"IF(E2311=1,B2311,\"\")","v":""},"",null,null,null,{"$f":"IF(COUNTA(O2311:Q2311)>0,1,0)","v":0},{"$f":"IF(O2311=\"y\",1,0)","v":0},{"$f":"IF(P2311=\"y\",1,0)","v":0},{"$f":"IF(Q2311=\"y\",1,0)","v":0},{"$f":"IFERROR(VLOOKUP(G2311,DropDowns!$D$2:$E$151,2,FALSE),\"\")","v":""},{"$f":"IFERROR(VLOOKUP(H2311,DropDowns!$F$2:$G$7,2,FALSE),\"Residual categories\")","v":"Residual categories"},null,null,null,{"$f":"IF(O2311=\"yes\",1,0)","v":0},{"$f":"IF(P2311=\"yes\",1,0)","v":0},{"$f":"IF(Q2311=\"yes\",1,0)","v":0}]
[0,{"$f":"IF(OR(COUNTA(O2282:O2311)>0,COUNTA(O2311:$O$5195)>0),IF(COUNTIF(B2302:B2311,B2311)=10,B2311+7,B2311),\"\")","v":""},null,"","",null,null,null,0,0,0,0,{"$f":"IFERROR(VLOOKUP(G2312,DropDowns!$D$2:$E$151,2,FALSE),\"\")","v":""},{"$f":"IFERROR(VLOOKUP(H2312,DropDowns!$F$2:$G$7,2,FALSE),\"Residual categories\")","v":"Residual categories"},null,null,null,0,0,0]
[0,{"$f":"IF(OR(COUNTA(O2283:O2312)>0,COUNTA(O2312:$O$5195)>0),IF(COUNTIF(B2303:B2312,B2312)=10,B2312+7,B2312),\"\")","v":""},null,"","",null,null,null,0,0,0,0,{"$f":"IFERROR(VLOOKUP(G2313,DropDowns!$D$2:$E$151,2,FALSE),\"\")","v":""},{"$f":"IFERROR(VLOOKUP(H2313,DropDowns!$F$2:$G$7,2,FALSE),\"Residual categories\")","v":"Residual categories"},null,null,null,0,0,0]
[0,{"$f":"IF(OR(COUNTA(O2284:O2313)>0,COUNTA(O2313:$O$5195)>0),IF(COUNTIF(B2304:B2313,B2313)=10,B2313+7,B2313),\"\")","v":""},null,"","",null,null,null,0,0,0,0,{"$f":"IFERROR(VLOOKUP(G2314,DropDowns!$D$2:$E$151,2,FALSE),\"\")","v":""},{"$f":"IFERROR(VLOOKUP(H2314,DropDowns!$F$2:$G$7,2,FALSE),\"Residual categories\")","v":"Residual categories"},null,null,null,0,0,0]
[0,{"$f":"IF(OR(COUNTA(O2286:O2315)>0,COUNTA(O2315:$O$5195)>0),IF(COUNTIF(B2306:B2315,B2315)=10,B2315+7,B2315),\"\")","v":""},null,"","",null,null,null,0,0,0,0,{"$f":"IFERROR(VLOOKUP(G2316,DropDowns!$D$2:$E$151,2,FALSE),\"\")","v":""},{"$f":"IFERROR(VLOOKUP(H2316,DropDowns!$F$2:$G$7,2,FALSE),\"Residual categories\")","v":"Residual categories"},null,null,null,0,0,0]
[0,{"$f":"IF(OR(COUNTA(O2287:O2316)>0,COUNTA(O2316:$O$5195)>0),IF(COUNTIF(B2307:B2316,B2316)=10,B2316+7,B2316),\"\")","v":""},null,"","",null,null,null,0,0,0,0,{"$f":"IFERROR(VLOOKUP(G2317,DropDowns!$D$2:$E$151,2,FALSE),\"\")","v":""},{"$f":"IFERROR(VLOOKUP(H2317,DropDowns!$F$2:$G$7,2,FALSE),\"Residual categories\")","v":"Residual categories"},null,null,null,0,0,0]
[0,{"$f":"IF(OR(COUNTA(O2289:O2318)>0,COUNTA(O2318:$O$5195)>0),IF(COUNTIF(B2309:B2318,B2318)=10,B2318+7,B2318),\"\")","v":""},null,"","",null,null,null,0,0,0,0,{"$f":"IFERROR(VLOOKUP(G2319,DropDowns!$D$2:$E$151,2,FALSE),\"\")","v":""},{"$f":"IFERROR(VLOOKUP(H2319,DropDowns!$F$2:$G$7,2,FALSE),\"Residual categories\")","v":"Residual categories"},null,null,null,0,0,0]
[0,{"$f":"IF(OR(COUNTA(O2290:O2319)>0,COUNTA(O2319:$O$5195)>0),IF(COUNTIF(B2310:B2319,B2319)=10,B2319+7,B2319),\"\")","v":""},null,"","",null,null,null,0,0,0,0,{"$f":"IFERROR(VLOOKUP(G2320,DropDowns!$D$2:$E$151,2,FALSE),\"\")","v":""},{"$f":"IFERROR(VLOOKUP(H2320,DropDowns!$F$2:$G$7,2,FALSE),\"Residual categories\")","v":"Residual categories"},null,null,null,0,0,0]
[0,{"$f":"IF(OR(COUNTA(O2292:O2321)>0,COUNTA(O2321:$O$5195)>0),IF(COUNTIF(B2312:B2321,B2321)=10,B2321+7,B2321),\"\")","v":""},null,"","",null,null,null,0,0,0,0,{"$f":"IFERROR(VLOOKUP(G2322,DropDowns!$D$2:$E$151,2,FALSE),\"\")","v":""},{"$f":"IFERROR(VLOOKUP(H2322,DropDowns!$F$2:$G$7,2,FALSE),\"Residual categories\")","v":"Residual categories"},null,null,null,0,0,0]
[0,{"$f":"IF(OR(COUNTA(O2293:O2322)>0,COUNTA(O2322:$O$5195)>0),IF(COUNTIF(B2313:B2322,B2322)=10,B2322+7,B2322),\"\")","v":""},null,"","",null,null,null,0,0,0,0,{"$f":"IFERROR(VLOOKUP(G2323,DropDowns!$D$2:$E$151,2,FALSE),\"\")","v":""},{"$f":"IFERROR(VLOOKUP(H2323,DropDowns!$F$2:$G$7,2,FALSE),\"Residual categories\")","v":"Residual categories"},null,null,null,0,0,0]
[{"$f":"$E$2","v":0},{"$f":"IF(OR(COUNTA(O2294:O2323)>0,COUNTA(O2323:$O$5195)>0),IF(COUNTIF(B2314:B2323,B2323)=10,B2323+7,B2323),\"\")","v":""},null,"","",null,null,null,0,0,0,0,{"$f":"IFERROR(VLOOKUP(G2324,DropDowns!$D$2:$E$151,2,FALSE),\"\")","v":""},{"$f":"IFERROR(VLOOKUP(H2324,DropDowns!$F$2:$G$7,2,FALSE),\"Residual categories\")","v":"Residual categories"},null,null,null,0,0,0]
[0,{"$f":"IF(OR(COUNTA(O2295:O2324)>0,COUNTA(O2324:$O$5195)>0),IF(COUNTIF(B2315:B2324,B2324)=10,B2324+7,B2324),\"\")","v":""},null,"","",null,null,null,0,0,0,0,{"$f":"IFERROR(VLOOKUP(G2325,DropDowns!$D$2:$E$151,2,FALSE),\"\")","v":""},{"$f":"IFERROR(VLOOKUP(H2325,DropDowns!$F$2:$G$7,2,FALSE),\"Residual categories\")","v":"Residual categories"},null,null,null,0,0,0]
[0,{"$f":"IF(OR(COUNTA(O2297:O2326)>0,COUNTA(O2326:$O$5195)>0),IF(COUNTIF(B2317:B2326,B2326)=10,B2326+7,B2326),\"\")","v":""},null,"","",null,null,null,0,0,0,0,{"$f":"IFERROR(VLOOKUP(G2327,DropDowns!$D$2:$E$151,2,FALSE),\"\")","v":""},{"$f":"IFERROR(VLOOKUP(H2327,DropDowns!$F$2:$G$7,2,FALSE),\"Residual categories\")","v":"Residual categories"},null,null,null,0,0,0]
[0,{"$f":"IF(OR(COUNTA(O2298:O2327)>0,COUNTA(O2327:$O$5195)>0),IF(COUNTIF(B2318:B2327,B2327)=10,B2327+7,B2327),\"\")","v":""},null,"","",null,null,null,0,0,0,0,{"$f":"IFERROR(VLOOKUP(G2328,DropDowns!$D$2:$E$151,2,FALSE),\"\")","v":""},{"$f":"IFERROR(VLOOKUP(H2328,DropDowns!$F$2:$G$7,2,FALSE),\"Residual categories\")","v":"Residual categories"},null,null,null,0,0,0]
[0,{"$f":"IF(OR(COUNTA(O2300:O2329)>0,COUNTA(O2329:$O$5195)>0),IF(COUNTIF(B2320:B2329,B2329)=10,B2329+7,B2329),\"\")","v":""},null,"","",null,null,null,0,0,0,0,{"$f":"IFERROR(VLOOKUP(G2330,DropDowns!$D$2:$E$151,2,FALSE),\"\")","v":""},{"$f":"IFERROR(VLOOKUP(H2330,DropDowns!$F$2:$G$7,2,FALSE),\"Residual categories\")","v":"Residual categories"},null,null,null,0,0,0]
[0,{"$f":"IF(OR(COUNTA(O2301:O2330)>0,COUNTA(O2330:$O$5195)>0),IF(COUNTIF(B2321:B2330,B2330)=10,B2330+7,B2330),\"\")","v":""},null,"","",null,null,null,0,0,0,0,{"$f":"IFERROR(VLOOKUP(G2331,DropDowns!$D$2:$E$151,2,FALSE),\"\")","v":""},{"$f":"IFERROR(VLOOKUP(H2331,DropDowns!$F$2:$G$7,2,FALSE),\"Residual categories\")","v":"Residual categories"},null,null,null,0,0,0]
[0,{"$f":"IF(OR(COUNTA(O2302:O2331)>0,COUNTA(O2331:$O$5195)>0),IF(COUNTIF(B2322:B2331,B2331)=10,B2331+7,B2331),\"\")","v":""},null,"","",null,null,null,0,0,0,0,{"$f":"IFERROR(VLOOKUP(G2332,DropDowns!$D$2:$E$151,2,FALSE),\"\")","v":""},{"$f":"IFERROR(VLOOKUP(H2332,DropDowns!$F$2:$G$7,2,FALSE),\"Residual categories\")","v":"Residual categories"},null,null,null,0,0,0]
[0,{"$f":"IF(OR(COUNTA(O2303:O2332)>0,COUNTA(O2332:$O$5195)>0),IF(COUNTIF(B2323:B2332,B2332)=10,B2332+7,B2332),\"\")","v":""},null,"","",null,null,null,0,0,0,0,{"$f":"IFERROR(VLOOKUP(G2333,DropDowns!$D$2:$E$151,2,FALSE),\"\")","v":""},{"$f":"IFERROR(VLOOKUP(H2333,DropDowns!$F$2:$G$7,2,FALSE),\"Residual categories\")","v":"Residual categories"},null,null,null,0,0,0]
[0,{"$f":"IF(OR(COUNTA(O2305:O2334)>0,COUNTA(O2334:$O$5195)>0),IF(COUNTIF(B2325:B2334,B2334)=10,B2334+7,B2334),\"\")","v":""},null,"","",null,null,null,0,0,0,0,{"$f":"IFERROR(VLOOKUP(G2335,DropDowns!$D$2:$E$151,2,FALSE),\"\")","v":""},{"$f":"IFERROR(VLOOKUP(H2335,DropDowns!$F$2:$G$7,2,FALSE),\"Residual categories\")","v":"Residual categories"},null,null,null,0,0,0]
[0,{"$f":"IF(OR(COUNTA(O2306:O2335)>0,COUNTA(O2335:$O$5195)>0),IF(COUNTIF(B2326:B2335,B2335)=10,B2335+7,B2335),\"\")","v":""},null,"","",null,null,null,0,0,0,0,{"$f":"IFERROR(VLOOKUP(G2336,DropDowns!$D$2:$E$151,2,FALSE),\"\")","v":""},{"$f":"IFERROR(VLOOKUP(H2336,DropDowns!$F$2:$G$7,2,FALSE),\"Residual categories\")","v":"Residual categories"},null,null,null,0,0,0]
[0,{"$f":"IF(OR(COUNTA(O2308:O2337)>0,COUNTA(O2337:$O$5195)>0),IF(COUNTIF(B2328:B2337,B2337)=10,B2337+7,B2337),\"\")","v":""},null,"","",null,null,null,0,0,0,0,{"$f":"IFERROR(VLOOKUP(G2338,DropDowns!$D$2:$E$151,2,FALSE),\"\")","v":""},{"$f":"IFERROR(VLOOKUP(H2338,DropDowns!$F$2:$G$7,2,FALSE),\"Residual categories\")","v":"Residual categories"},null,null,null,0,0,0]
[0,{"$f":"IF(OR(COUNTA(O2309:O2338)>0,COUNTA(O2338:$O$5195)>0),IF(COUNTIF(B2329:B2338,B2338)=10,B2338+7,B2338),\"\")","v":""},null,"","",null,null,null,0,0,0,0,{"$f":"IFERROR(VLOOKUP(G2339,DropDowns!$D$2:$E$151,2,FALSE),\"\")","v":""},{"$f":"IFERROR(VLOOKUP(H2339,DropDowns!$F$2:$G$7,2,FALSE),\"Residual categories\")","v":"Residual categories"},null,null,null,0,0,0]
[0,{"$f":"IF(OR(COUNTA(O2310:O2339)>0,COUNTA(O2339:$O$5195)>0),IF(COUNTIF(B2330:B2339,B2339)=10,B2339+7,B2339),\"\")","v":""},null,"","",null,null,null,0,0,0,0,{"$f":"IFERROR(VLOOKUP(G2340,DropDowns!$D$2:$E$151,2,FALSE),\"\")","v":""},{"$f":"IFERROR(VLOOKUP(H2340,DropDowns!$F$2:$G$7,2,FALSE),\"Residual categories\")","v":"Residual categories"},null,null,null,0,0,0]
[0,{"$f":"IF(OR(COUNTA(O2311:O2340)>0,COUNTA(O2340:$O$5195)>0),IF(COUNTIF(B2331:B2340,B2340)=10,B2340+7,B2340),\"\")","v":""},null,"","",null,null,null,0,0,0,0,{"$f":"IFERROR(VLOOKUP(G2341,DropDowns!$D$2:$E$151,2,FALSE),\"\")","v":""},{"$f":"IFERROR(VLOOKUP(H2341,DropDowns!$F$2:$G$7,2,FALSE),\"Residual categories\")","v":"Residual categories"},null,null,null,0,0,0]
[0,{"$f":"IF(OR(COUNTA(O2313:O2342)>0,COUNTA(O2342:$O$5195)>0),IF(COUNTIF(B2333:B2342,B2342)=10,B2342+7,B2342),\"\")","v":""},null,"","",null,null,null,0,0,0,0,{"$f":"IFERROR(VLOOKUP(G2343,DropDowns!$D$2:$E$151,2,FALSE),\"\")","v":""},{"$f":"IFERROR(VLOOKUP(H2343,DropDowns!$F$2:$G$7,2,FALSE),\"Residual categories\")","v":"Residual categories"},null,null,null,0,0,0]
[0,{"$f":"IF(OR(COUNTA(O2314:O2343)>0,COUNTA(O2343:$O$5195)>0),IF(COUNTIF(B2334:B2343,B2343)=10,B2343+7,B2343),\"\")","v":""},null,"","",null,null,null,0,0,0,0,{"$f":"IFERROR(VLOOKUP(G2344,DropDowns!$D$2:$E$151,2,FALSE),\"\")","v":""},{"$f":"IFERROR(VLOOKUP(H2344,DropDowns!$F$2:$G$7,2,FALSE),\"Residual categories\")","v":"Residual categories"},null,null,null,0,0,0]
[0,{"$f":"IF(OR(COUNTA(O2316:O2345)>0,COUNTA(O2345:$O$5195)>0),IF(COUNTIF(B2336:B2345,B2345)=10,B2345+7,B2345),\"\")","v":""},null,"","",null,null,null,0,0,0,0,{"$f":"IFERROR(VLOOKUP(G2346,DropDowns!$D$2:$E$151,2,FALSE),\"\")","v":""},{"$f":"IFERROR(VLOOKUP(H2346,DropDowns!$F$2:$G$7,2,FALSE),\"Residual categories\")","v":"Residual categories"},null,null,null,0,0,0]
[0,{"$f":"IF(OR(COUNTA(O2317:O2346)>0,COUNTA(O2346:$O$5195)>0),IF(COUNTIF(B2337:B2346,B2346)=10,B2346+7,B2346),\"\")","v":""},null,"","",null,null,null,0,0,0,0,{"$f":"IFERROR(VLOOKUP(G2347,DropDowns!$D$2:$E$151,2,FALSE),\"\")","v":""},{"$f":"IFERROR(VLOOKUP(H2347,DropDowns!$F$2:$G$7,2,FALSE),\"Residual categories\")","v":"Residual categories"},null,null,null,0,0,0]
[0,{"$f":"IF(OR(COUNTA(O2319:O2348)>0,COUNTA(O2348:$O$5195)>0),IF(COUNTIF(B2339:B2348,B2348)=10,B2348+7,B2348),\"\")","v":""},null,"","",null,null,null,0,0,0,0,{"$f":"IFERROR(VLOOKUP(G2349,DropDowns!$D$2:$E$151,2,FALSE),\"\")","v":""},{"$f":"IFERROR(VLOOKUP(H2349,DropDowns!$F$2:$G$7,2,FALSE),\"Residual categories\")","v":"Residual categories"},null,null,null,0,0,0]
[0,{"$f":"IF(OR(COUNTA(O2320:O2349)>0,COUNTA(O2349:$O$5195)>0),IF(COUNTIF(B2340:B2349,B2349)=10,B2349+7,B2349),\"\")","v":""},null,"","",null,null,null,0,0,0,0,{"$f":"IFERROR(VLOOKUP(G2350,DropDowns!$D$2:$E$151,2,FALSE),\"\")","v":""},{"$f":"IFERROR(VLOOKUP(H2350,DropDowns!$F$2:$G$7,2,FALSE),\"Residual categories\")","v":"Residual categories"},null,null,null,0,0,0]
[0,{"$f":"IF(OR(COUNTA(O2321:O2350)>0,COUNTA(O2350:$O$5195)>0),IF(COUNTIF(B2341:B2350,B2350)=10,B2350+7,B2350),\"\")","v":""},null,"","",null,null,null,0,0,0,0,{"$f":"IFERROR(VLOOKUP(G2351,DropDowns!$D$2:$E$151,2,FALSE),\"\")","v":""},{"$f":"IFERROR(VLOOKUP(H2351,DropDowns!$F$2:$G$7,2,FALSE),\"Residual categories\")","v":"Residual categories"},null,null,null,0,0,0]
[0,{"$f":"IF(OR(COUNTA(O2322:O2351)>0,COUNTA(O2351:$O$5195)>0),IF(COUNTIF(B2342:B2351,B2351)=10,B2351+7,B2351),\"\")","v":""},null,"","",null,null,null,0,0,0,0,{"$f":"IFERROR(VLOOKUP(G2352,DropDowns!$D$2:$E$151,2,FALSE),\"\")","v":""},{"$f":"IFERROR(VLOOKUP(H2352,DropDowns!$F$2:$G$7,2,FALSE),\"Residual categories\")","v":"Residual categories"},null,null,null,0,0,0]
[0,{"$f":"IF(OR(COUNTA(O2324:O2353)>0,COUNTA(O2353:$O$5195)>0),IF(COUNTIF(B2344:B2353,B2353)=10,B2353+7,B2353),\"\")","v":""},null,"","",null,null,null,0,0,0,0,{"$f":"IFERROR(VLOOKUP(G2354,DropDowns!$D$2:$E$151,2,FALSE),\"\")","v":""},{"$f":"IFERROR(VLOOKUP(H2354,DropDowns!$F$2:$G$7,2,FALSE),\"Residual categories\")","v":"Residual categories"},null,null,null,0,0,0]
[0,{"$f":"IF(OR(COUNTA(O2325:O2354)>0,COUNTA(O2354:$O$5195)>0),IF(COUNTIF(B2345:B2354,B2354)=10,B2354+7,B2354),\"\")","v":""},null,"","",null,null,null,0,0,0,0,{"$f":"IFERROR(VLOOKUP(G2355,DropDowns!$D$2:$E$151,2,FALSE),\"\")","v":""},{"$f":"IFERROR(VLOOKUP(H2355,DropDowns!$F$2:$G$7,2,FALSE),\"Residual categories\")","v":"Residual categories"},null,null,null,0,0,0]
[0,{"$f":"IF(OR(COUNTA(O2327:O2356)>0,COUNTA(O2356:$O$5195)>0),IF(COUNTIF(B2347:B2356,B2356)=10,B2356+7,B2356),\"\")","v":""},null,"","",null,null,null,0,0,0,0,{"$f":"IFERROR(VLOOKUP(G2357,DropDowns!$D$2:$E$151,2,FALSE),\"\")","v":""},{"$f":"IFERROR(VLOOKUP(H2357,DropDowns!$F$2:$G$7,2,FALSE),\"Residual categories\")","v":"Residual categories"},null,null,null,0,0,0]
[0,{"$f":"IF(OR(COUNTA(O2328:O2357)>0,COUNTA(O2357:$O$5195)>0),IF(COUNTIF(B2348:B2357,B2357)=10,B2357+7,B2357),\"\")","v":""},null,"","",null,null,null,0,0,0,0,{"$f":"IFERROR(VLOOKUP(G2358,DropDowns!$D$2:$E$151,2,FALSE),\"\")","v":""},{"$f":"IFERROR(VLOOKUP(H2358,DropDowns!$F$2:$G$7,2,FALSE),\"Residual categories\")","v":"Residual categories"},null,null,null,0,0,0]
[0,{"$f":"IF(OR(COUNTA(O2329:O2358)>0,COUNTA(O2358:$O$5195)>0),IF(COUNTIF(B2349:B2358,B2358)=10,B2358+7,B2358),\"\")","v":""},null,"","",null,null,null,0,0,0,0,{"$f":"IFERROR(VLOOKUP(G2359,DropDowns!$D$2:$E$151,2,FALSE),\"\")","v":""},{"$f":"IFERROR(VLOOKUP(H2359,DropDowns!$F$2:$G$7,2,FALSE),\"Residual categories\")","v":"Residual categories"},null,null,null,0,0,0]
[0,{"$f":"IF(OR(COUNTA(O2330:O2359)>0,COUNTA(O2359:$O$5195)>0),IF(COUNTIF(B2350:B2359,B2359)=10,B2359+7,B2359),\"\")","v":""},null,"","",null,null,null,0,0,0,0,{"$f":"IFERROR(VLOOKUP(G2360,DropDowns!$D$2:$E$151,2,FALSE),\"\")","v":""},{"$f":"IFERROR(VLOOKUP(H2360,DropDowns!$F$2:$G$7,2,FALSE),\"Residual categories\")","v":"Residual categories"},null,null,null,0,0,0]
[0,{"$f":"IF(OR(COUNTA(O2332:O2361)>0,COUNTA(O2361:$O$5195)>0),IF(COUNTIF(B2352:B2361,B2361)=10,B2361+7,B2361),\"\")","v":""},null,"","",null,null,null,0,0,0,0,{"$f":"IFERROR(VLOOKUP(G2362,DropDowns!$D$2:$E$151,2,FALSE),\"\")","v":""},{"$f":"IFERROR(VLOOKUP(H2362,DropDowns!$F$2:$G$7,2,FALSE),\"Residual categories\")","v":"Residual categories"},null,null,null,0,0,0]
[0,{"$f":"IF(OR(COUNTA(O2333:O2362)>0,COUNTA(O2362:$O$5195)>0),IF(COUNTIF(B2353:B2362,B2362)=10,B2362+7,B2362),\"\")","v":""},null,"","",null,null,null,0,0,0,0,{"$f":"IFERROR(VLOOKUP(G2363,DropDowns!$D$2:$E$151,2,FALSE),\"\")","v":""},{"$f":"IFERROR(VLOOKUP(H2363,DropDowns!$F$2:$G$7,2,FALSE),\"Residual categories\")","v":"Residual categories"},null,null,null,0,0,0]
[0,{"$f":"IF(OR(COUNTA(O2335:O2364)>0,COUNTA(O2364:$O$5195)>0),IF(COUNTIF(B2355:B2364,B2364)=10,B2364+7,B2364),\"\")","v":""},null,"","",null,null,null,0,0,0,0,{"$f":"IFERROR(VLOOKUP(G2365,DropDowns!$D$2:$E$151,2,FALSE),\"\")","v":""},{"$f":"IFERROR(VLOOKUP(H2365,DropDowns!$F$2:$G$7,2,FALSE),\"Residual categories\")","v":"Residual categories"},null,null,null,0,0,0]
[0,{"$f":"IF(OR(COUNTA(O2336:O2365)>0,COUNTA(O2365:$O$5195)>0),IF(COUNTIF(B2356:B2365,B2365)=10,B2365+7,B2365),\"\")","v":""},null,"","",null,null,null,0,0,0,0,{"$f":"IFERROR(VLOOKUP(G2366,DropDowns!$D$2:$E$151,2,FALSE),\"\")","v":""},{"$f":"IFERROR(VLOOKUP(H2366,DropDowns!$F$2:$G$7,2,FALSE),\"Residual categories\")","v":"Residual categories"},null,null,null,0,0,0]
[0,{"$f":"IF(OR(COUNTA(O2337:O2366)>0,COUNTA(O2366:$O$5195)>0),IF(COUNTIF(B2357:B2366,B2366)=10,B2366+7,B2366),\"\")","v":""},null,"","",null,null,null,0,0,0,0,{"$f":"IFERROR(VLOOKUP(G2367,DropDowns!$D$2:$E$151,2,FALSE),\"\")","v":""},{"$f":"IFERROR(VLOOKUP(H2367,DropDowns!$F$2:$G$7,2,FALSE),\"Residual categories\")","v":"Residual categories"},null,null,null,0,0,0]
[0,{"$f":"IF(OR(COUNTA(O2338:O2367)>0,COUNTA(O2367:$O$5195)>0),IF(COUNTIF(B2358:B2367,B2367)=10,B2367+7,B2367),\"\")","v":""},null,"","",null,null,null,0,0,0,0,{"$f":"IFERROR(VLOOKUP(G2368,DropDowns!$D$2:$E$151,2,FALSE),\"\")","v":""},{"$f":"IFERROR(VLOOKUP(H2368,DropDowns!$F$2:$G$7,2,FALSE),\"Residual categories\")","v":"Residual categories"},null,null,null,0,0,0]
[0,{"$f":"IF(OR(COUNTA(O2340:O2369)>0,COUNTA(O2369:$O$5195)>0),IF(COUNTIF(B2360:B2369,B2369)=10,B2369+7,B2369),\"\")","v":""},null,"","",null,null,null,0,0,0,0,{"$f":"IFERROR(VLOOKUP(G2370,DropDowns!$D$2:$E$151,2,FALSE),\"\")","v":""},{"$f":"IFERROR(VLOOKUP(H2370,DropDowns!$F$2:$G$7,2,FALSE),\"Residual categories\")","v":"Residual categories"},null,null,null,0,0,0]
[0,{"$f":"IF(OR(COUNTA(O2341:O2370)>0,COUNTA(O2370:$O$5195)>0),IF(COUNTIF(B2361:B2370,B2370)=10,B2370+7,B2370),\"\")","v":""},null,"","",null,null,null,0,0,0,0,{"$f":"IFERROR(VLOOKUP(G2371,DropDowns!$D$2:$E$151,2,FALSE),\"\")","v":""},{"$f":"IFERROR(VLOOKUP(H2371,DropDowns!$F$2:$G$7,2,FALSE),\"Residual categories\")","v":"Residual categories"},null,null,null,0,0,0]
[0,{"$f":"IF(OR(COUNTA(O2343:O2372)>0,COUNTA(O2372:$O$5195)>0),IF(COUNTIF(B2363:B2372,B2372)=10,B2372+7,B2372),\"\")","v":""},null,"","",null,null,null,0,0,0,0,{"$f":"IFERROR(VLOOKUP(G2373,DropDowns!$D$2:$E$151,2,FALSE),\"\")","v":""},{"$f":"IFERROR(VLOOKUP(H2373,DropDowns!$F$2:$G$7,2,FALSE),\"Residual categories\")","v":"Residual categories"},null,null,null,0,0,0]
[0,{"$f":"IF(OR(COUNTA(O2344:O2373)>0,COUNTA(O2373:$O$5195)>0),IF(COUNTIF(B2364:B2373,B2373)=10,B2373+7,B2373),\"\")","v":""},null,"","",null,null,null,0,0,0,0,{"$f":"IFERROR(VLOOKUP(G2374,DropDowns!$D$2:$E$151,2,FALSE),\"\")","v":""},{"$f":"IFERROR(VLOOKUP(H2374,DropDowns!$F$2:$G$7,2,FALSE),\"Residual categories\")","v":"Residual categories"},null,null,null,0,0,0]
[0,{"$f":"IF(OR(COUNTA(O2345:O2374)>0,COUNTA(O2374:$O$5195)>0),IF(COUNTIF(B2365:B2374,B2374)=10,B2374+7,B2374),\"\")","v":""},null,{"$f":"IF(E2375=1,B2375,\"\")","v":""},"",null,null,null,{"$f":"IF(COUNTA(O2375:Q2375)>0,1,0)","v":0},{"$f":"IF(O2375=\"y\",1,0)","v":0},{"$f":"IF(P2375=\"y\",1,0)","v":0},{"$f":"IF(Q2375=\"y\",1,0)","v":0},{"$f":"IFERROR(VLOOKUP(G2375,DropDowns!$D$2:$E$151,2,FALSE),\"\")","v":""},{"$f":"IFERROR(VLOOKUP(H2375,DropDowns!$F$2:$G$7,2,FALSE),\"Residual categories\")","v":"Residual categories"},null,null,null,{"$f":"IF(O2375=\"yes\",1,0)","v":0},{"$f":"IF(P2375=\"yes\",1,0)","v":0},{"$f":"IF(Q2375=\"yes\",1,0)","v":0}]
[0,{"$f":"IF(OR(COUNTA(O2346:O2375)>0,COUNTA(O2375:$O$5195)>0),IF(COUNTIF(B2366:B2375,B2375)=10,B2375+7,B2375),\"\")","v":""},null,"","",null,null,null,0,0,0,0,{"$f":"IFERROR(VLOOKUP(G2376,DropDowns!$D$2:$E$151,2,FALSE),\"\")","v":""},{"$f":"IFERROR(VLOOKUP(H2376,DropDowns!$F$2:$G$7,2,FALSE),\"Residual categories\")","v":"Residual categories"},null,null,null,0,0,0]
[0,{"$f":"IF(OR(COUNTA(O2348:O2377)>0,COUNTA(O2377:$O$5195)>0),IF(COUNTIF(B2368:B2377,B2377)=10,B2377+7,B2377),\"\")","v":""},null,"","",null,null,null,0,0,0,0,{"$f":"IFERROR(VLOOKUP(G2378,DropDowns!$D$2:$E$151,2,FALSE),\"\")","v":""},{"$f":"IFERROR(VLOOKUP(H2378,DropDowns!$F$2:$G$7,2,FALSE),\"Residual categories\")","v":"Residual categories"},null,null,null,0,0,0]
[0,{"$f":"IF(OR(COUNTA(O2349:O2378)>0,COUNTA(O2378:$O$5195)>0),IF(COUNTIF(B2369:B2378,B2378)=10,B2378+7,B2378),\"\")","v":""},null,"","",null,null,null,0,0,0,0,{"$f":"IFERROR(VLOOKUP(G2379,DropDowns!$D$2:$E$151,2,FALSE),\"\")","v":""},{"$f":"IFERROR(VLOOKUP(H2379,DropDowns!$F$2:$G$7,2,FALSE),\"Residual categories\")","v":"Residual categories"},null,null,null,0,0,0]
[0,{"$f":"IF(OR(COUNTA(O2351:O2380)>0,COUNTA(O2380:$O$5195)>0),IF(COUNTIF(B2371:B2380,B2380)=10,B2380+7,B2380),\"\")","v":""},null,"","",null,null,null,0,0,0,0,{"$f":"IFERROR(VLOOKUP(G2381,DropDowns!$D$2:$E$151,2,FALSE),\"\")","v":""},{"$f":"IFERROR(VLOOKUP(H2381,DropDowns!$F$2:$G$7,2,FALSE),\"Residual categories\")","v":"Residual categories"},null,null,null,0,0,0]
[0,{"$f":"IF(OR(COUNTA(O2352:O2381)>0,COUNTA(O2381:$O$5195)>0),IF(COUNTIF(B2372:B2381,B2381)=10,B2381+7,B2381),\"\")","v":""},null,"","",null,null,null,0,0,0,0,{"$f":"IFERROR(VLOOKUP(G2382,DropDowns!$D$2:$E$151,2,FALSE),\"\")","v":""},{"$f":"IFERROR(VLOOKUP(H2382,DropDowns!$F$2:$G$7,2,FALSE),\"Residual categories\")","v":"Residual categories"},null,null,null,0,0,0]
[0,{"$f":"IF(OR(COUNTA(O2354:O2383)>0,COUNTA(O2383:$O$5195)>0),IF(COUNTIF(B2374:B2383,B2383)=10,B2383+7,B2383),\"\")","v":""},null,"","",null,null,null,0,0,0,0,{"$f":"IFERROR(VLOOKUP(G2384,DropDowns!$D$2:$E$151,2,FALSE),\"\")","v":""},{"$f":"IFERROR(VLOOKUP(H2384,DropDowns!$F$2:$G$7,2,FALSE),\"Residual categories\")","v":"Residual categories"},null,null,null,0,0,0]
[0,{"$f":"IF(OR(COUNTA(O2355:O2384)>0,COUNTA(O2384:$O$5195)>0),IF(COUNTIF(B2375:B2384,B2384)=10,B2384+7,B2384),\"\")","v":""},null,"",{"$f":"IF(B2385=\"\",\"\",COUNTIF(B2376:B2385,B2385))","v":""},null,null,null,0,0,0,0,{"$f":"IFERROR(VLOOKUP(G2385,DropDowns!$D$2:$E$151,2,FALSE),\"\")","v":""},{"$f":"IFERROR(VLOOKUP(H2385,DropDowns!$F$2:$G$7,2,FALSE),\"Residual categories\")","v":"Residual categories"},null,null,null,0,0,0]
[0,{"$f":"IF(OR(COUNTA(O2356:O2385)>0,COUNTA(O2385:$O$5195)>0),IF(COUNTIF(B2376:B2385,B2385)=10,B2385+7,B2385),\"\")","v":""},null,"","",null,null,null,0,0,0,0,{"$f":"IFERROR(VLOOKUP(G2386,DropDowns!$D$2:$E$151,2,FALSE),\"\")","v":""},{"$f":"IFERROR(VLOOKUP(H2386,DropDowns!$F$2:$G$7,2,FALSE),\"Residual categories\")","v":"Residual categories"},null,null,null,0,0,0]
[0,{"$f":"IF(OR(COUNTA(O2357:O2386)>0,COUNTA(O2386:$O$5195)>0),IF(COUNTIF(B2377:B2386,B2386)=10,B2386+7,B2386),\"\")","v":""},null,"","",null,null,null,0,0,0,0,{"$f":"IFERROR(VLOOKUP(G2387,DropDowns!$D$2:$E$151,2,FALSE),\"\")","v":""},{"$f":"IFERROR(VLOOKUP(H2387,DropDowns!$F$2:$G$7,2,FALSE),\"Residual categories\")","v":"Residual categories"},null,null,null,0,0,0]
[0,{"$f":"IF(OR(COUNTA(O2359:O2388)>0,COUNTA(O2388:$O$5195)>0),IF(COUNTIF(B2379:B2388,B2388)=10,B2388+7,B2388),\"\")","v":""},null,"","",null,null,null,0,0,0,0,{"$f":"IFERROR(VLOOKUP(G2389,DropDowns!$D$2:$E$151,2,FALSE),\"\")","v":""},{"$f":"IFERROR(VLOOKUP(H2389,DropDowns!$F$2:$G$7,2,FALSE),\"Residual categories\")","v":"Residual categories"},null,null,null,0,0,0]
[0,{"$f":"IF(OR(COUNTA(O2360:O2389)>0,COUNTA(O2389:$O$5195)>0),IF(COUNTIF(B2380:B2389,B2389)=10,B2389+7,B2389),\"\")","v":""},null,"","",null,null,null,0,0,0,0,{"$f":"IFERROR(VLOOKUP(G2390,DropDowns!$D$2:$E$151,2,FALSE),\"\")","v":""},{"$f":"IFERROR(VLOOKUP(H2390,DropDowns!$F$2:$G$7,2,FALSE),\"Residual categories\")","v":"Residual categories"},null,null,null,0,0,0]
[0,{"$f":"IF(OR(COUNTA(O2362:O2391)>0,COUNTA(O2391:$O$5195)>0),IF(COUNTIF(B2382:B2391,B2391)=10,B2391+7,B2391),\"\")","v":""},null,"","",null,null,null,0,0,0,0,{"$f":"IFERROR(VLOOKUP(G2392,DropDowns!$D$2:$E$151,2,FALSE),\"\")","v":""},{"$f":"IFERROR(VLOOKUP(H2392,DropDowns!$F$2:$G$7,2,FALSE),\"Residual categories\")","v":"Residual categories"},null,null,null,0,0,0]
[0,{"$f":"IF(OR(COUNTA(O2363:O2392)>0,COUNTA(O2392:$O$5195)>0),IF(COUNTIF(B2383:B2392,B2392)=10,B2392+7,B2392),\"\")","v":""},null,"","",null,null,null,0,0,0,0,{"$f":"IFERROR(VLOOKUP(G2393,DropDowns!$D$2:$E$151,2,FALSE),\"\")","v":""},{"$f":"IFERROR(VLOOKUP(H2393,DropDowns!$F$2:$G$7,2,FALSE),\"Residual categories\")","v":"Residual categories"},null,null,null,0,0,0]
[0,{"$f":"IF(OR(COUNTA(O2364:O2393)>0,COUNTA(O2393:$O$5195)>0),IF(COUNTIF(B2384:B2393,B2393)=10,B2393+7,B2393),\"\")","v":""},null,"","",null,null,null,0,0,0,0,{"$f":"IFERROR(VLOOKUP(G2394,DropDowns!$D$2:$E$151,2,FALSE),\"\")","v":""},{"$f":"IFERROR(VLOOKUP(H2394,DropDowns!$F$2:$G$7,2,FALSE),\"Residual categories\")","v":"Residual categories"},null,null,null,0,0,0]
[0,{"$f":"IF(OR(COUNTA(O2365:O2394)>0,COUNTA(O2394:$O$5195)>0),IF(COUNTIF(B2385:B2394,B2394)=10,B2394+7,B2394),\"\")","v":""},null,"","",null,null,null,0,0,0,0,{"$f":"IFERROR(VLOOKUP(G2395,DropDowns!$D$2:$E$151,2,FALSE),\"\")","v":""},{"$f":"IFERROR(VLOOKUP(H2395,DropDowns!$F$2:$G$7,2,FALSE),\"Residual categories\")","v":"Residual categories"},null,null,null,0,0,0]
[0,{"$f":"IF(OR(COUNTA(O2367:O2396)>0,COUNTA(O2396:$O$5195)>0),IF(COUNTIF(B2387:B2396,B2396)=10,B2396+7,B2396),\"\")","v":""},null,"","",null,null,null,0,0,0,0,{"$f":"IFERROR(VLOOKUP(G2397,DropDowns!$D$2:$E$151,2,FALSE),\"\")","v":""},{"$f":"IFERROR(VLOOKUP(H2397,DropDowns!$F$2:$G$7,2,FALSE),\"Residual categories\")","v":"Residual categories"},null,null,null,0,0,0]
[0,{"$f":"IF(OR(COUNTA(O2368:O2397)>0,COUNTA(O2397:$O$5195)>0),IF(COUNTIF(B2388:B2397,B2397)=10,B2397+7,B2397),\"\")","v":""},null,"","",null,null,null,0,0,0,0,{"$f":"IFERROR(VLOOKUP(G2398,DropDowns!$D$2:$E$151,2,FALSE),\"\")","v":""},{"$f":"IFERROR(VLOOKUP(H2398,DropDowns!$F$2:$G$7,2,FALSE),\"Residual categories\")","v":"Residual categories"},null,null,null,0,0,0]
[0,{"$f":"IF(OR(COUNTA(O2370:O2399)>0,COUNTA(O2399:$O$5195)>0),IF(COUNTIF(B2390:B2399,B2399)=10,B2399+7,B2399),\"\")","v":""},null,"","",null,null,null,0,0,0,0,{"$f":"IFERROR(VLOOKUP(G2400,DropDowns!$D$2:$E$151,2,FALSE),\"\")","v":""},{"$f":"IFERROR(VLOOKUP(H2400,DropDowns!$F$2:$G$7,2,FALSE),\"Residual categories\")","v":"Residual categories"},null,null,null,0,0,0]
[0,{"$f":"IF(OR(COUNTA(O2371:O2400)>0,COUNTA(O2400:$O$5195)>0),IF(COUNTIF(B2391:B2400,B2400)=10,B2400+7,B2400),\"\")","v":""},null,"","",null,null,null,0,0,0,0,{"$f":"IFERROR(VLOOKUP(G2401,DropDowns!$D$2:$E$151,2,FALSE),\"\")","v":""},{"$f":"IFERROR(VLOOKUP(H2401,DropDowns!$F$2:$G$7,2,FALSE),\"Residual categories\")","v":"Residual categories"},null,null,null,0,0,0]
[0,{"$f":"IF(OR(COUNTA(O2372:O2401)>0,COUNTA(O2401:$O$5195)>0),IF(COUNTIF(B2392:B2401,B2401)=10,B2401+7,B2401),\"\")","v":""},null,"","",null,null,null,0,0,0,0,{"$f":"IFERROR(VLOOKUP(G2402,DropDowns!$D$2:$E$151,2,FALSE),\"\")","v":""},{"$f":"IFERROR(VLOOKUP(H2402,DropDowns!$F$2:$G$7,2,FALSE),\"Residual categories\")","v":"Residual categories"},null,null,null,0,0,0]
[0,{"$f":"IF(OR(COUNTA(O2373:O2402)>0,COUNTA(O2402:$O$5195)>0),IF(COUNTIF(B2393:B2402,B2402)=10,B2402+7,B2402),\"\")","v":""},null,"","",null,null,null,0,0,0,0,{"$f":"IFERROR(VLOOKUP(G2403,DropDowns!$D$2:$E$151,2,FALSE),\"\")","v":""},{"$f":"IFERROR(VLOOKUP(H2403,DropDowns!$F$2:$G$7,2,FALSE),\"Residual categories\")","v":"Residual categories"},null,null,null,0,0,0]
[0,{"$f":"IF(OR(COUNTA(O2375:O2404)>0,COUNTA(O2404:$O$5195)>0),IF(COUNTIF(B2395:B2404,B2404)=10,B2404+7,B2404),\"\")","v":""},null,"","",null,null,null,0,0,0,0,{"$f":"IFERROR(VLOOKUP(G2405,DropDowns!$D$2:$E$151,2,FALSE),\"\")","v":""},{"$f":"IFERROR(VLOOKUP(H2405,DropDowns!$F$2:$G$7,2,FALSE),\"Residual categories\")","v":"Residual categories"},null,null,null,0,0,0]
[0,{"$f":"IF(OR(COUNTA(O2376:O2405)>0,COUNTA(O2405:$O$5195)>0),IF(COUNTIF(B2396:B2405,B2405)=10,B2405+7,B2405),\"\")","v":""},null,"","",null,null,null,0,0,0,0,{"$f":"IFERROR(VLOOKUP(G2406,DropDowns!$D$2:$E$151,2,FALSE),\"\")","v":""},{"$f":"IFERROR(VLOOKUP(H2406,DropDowns!$F$2:$G$7,2,FALSE),\"Residual categories\")","v":"Residual categories"},null,null,null,0,0,0]
[0,{"$f":"IF(OR(COUNTA(O2378:O2407)>0,COUNTA(O2407:$O$5195)>0),IF(COUNTIF(B2398:B2407,B2407)=10,B2407+7,B2407),\"\")","v":""},null,"","",null,null,null,0,0,0,0,{"$f":"IFERROR(VLOOKUP(G2408,DropDowns!$D$2:$E$151,2,FALSE),\"\")","v":""},{"$f":"IFERROR(VLOOKUP(H2408,DropDowns!$F$2:$G$7,2,FALSE),\"Residual categories\")","v":"Residual categories"},null,null,null,0,0,0]
[0,{"$f":"IF(OR(COUNTA(O2379:O2408)>0,COUNTA(O2408:$O$5195)>0),IF(COUNTIF(B2399:B2408,B2408)=10,B2408+7,B2408),\"\")","v":""},null,"","",null,null,null,0,0,0,0,{"$f":"IFERROR(VLOOKUP(G2409,DropDowns!$D$2:$E$151,2,FALSE),\"\")","v":""},{"$f":"IFERROR(VLOOKUP(H2409,DropDowns!$F$2:$G$7,2,FALSE),\"Residual categories\")","v":"Residual categories"},null,null,null,0,0,0]
[0,{"$f":"IF(OR(COUNTA(O2380:O2409)>0,COUNTA(O2409:$O$5195)>0),IF(COUNTIF(B2400:B2409,B2409)=10,B2409+7,B2409),\"\")","v":""},null,"","",null,null,null,0,0,0,0,{"$f":"IFERROR(VLOOKUP(G2410,DropDowns!$D$2:$E$151,2,FALSE),\"\")","v":""},{"$f":"IFERROR(VLOOKUP(H2410,DropDowns!$F$2:$G$7,2,FALSE),\"Residual categories\")","v":"Residual categories"},null,null,null,0,0,0]
[0,{"$f":"IF(OR(COUNTA(O2381:O2410)>0,COUNTA(O2410:$O$5195)>0),IF(COUNTIF(B2401:B2410,B2410)=10,B2410+7,B2410),\"\")","v":""},null,"","",null,null,null,0,0,0,0,{"$f":"IFERROR(VLOOKUP(G2411,DropDowns!$D$2:$E$151,2,FALSE),\"\")","v":""},{"$f":"IFERROR(VLOOKUP(H2411,DropDowns!$F$2:$G$7,2,FALSE),\"Residual categories\")","v":"Residual categories"},null,null,null,0,0,0]
[0,{"$f":"IF(OR(COUNTA(O2383:O2412)>0,COUNTA(O2412:$O$5195)>0),IF(COUNTIF(B2403:B2412,B2412)=10,B2412+7,B2412),\"\")","v":""},null,"","",null,null,null,0,0,0,0,{"$f":"IFERROR(VLOOKUP(G2413,DropDowns!$D$2:$E$151,2,FALSE),\"\")","v":""},{"$f":"IFERROR(VLOOKUP(H2413,DropDowns!$F$2:$G$7,2,FALSE),\"Residual categories\")","v":"Residual categories"},null,null,null,0,0,0]
[0,{"$f":"IF(OR(COUNTA(O2384:O2413)>0,COUNTA(O2413:$O$5195)>0),IF(COUNTIF(B2404:B2413,B2413)=10,B2413+7,B2413),\"\")","v":""},null,"","",null,null,null,0,0,0,0,{"$f":"IFERROR(VLOOKUP(G2414,DropDowns!$D$2:$E$151,2,FALSE),\"\")","v":""},{"$f":"IFERROR(VLOOKUP(H2414,DropDowns!$F$2:$G$7,2,FALSE),\"Residual categories\")","v":"Residual categories"},null,null,null,0,0,0]
[0,{"$f":"IF(OR(COUNTA(O2386:O2415)>0,COUNTA(O2415:$O$5195)>0),IF(COUNTIF(B2406:B2415,B2415)=10,B2415+7,B2415),\"\")","v":""},null,"","",null,null,null,0,0,0,0,{"$f":"IFERROR(VLOOKUP(G2416,DropDowns!$D$2:$E$151,2,FALSE),\"\")","v":""},{"$f":"IFERROR(VLOOKUP(H2416,DropDowns!$F$2:$G$7,2,FALSE),\"Residual categories\")","v":"Residual categories"},null,null,null,0,0,0]
[0,{"$f":"IF(OR(COUNTA(O2387:O2416)>0,COUNTA(O2416:$O$5195)>0),IF(COUNTIF(B2407:B2416,B2416)=10,B2416+7,B2416),\"\")","v":""},null,"","",null,null,null,0,0,0,0,{"$f":"IFERROR(VLOOKUP(G2417,DropDowns!$D$2:$E$151,2,FALSE),\"\")","v":""},{"$f":"IFERROR(VLOOKUP(H2417,DropDowns!$F$2:$G$7,2,FALSE),\"Residual categories\")","v":"Residual categories"},null,null,null,0,0,0]
[0,{"$f":"IF(OR(COUNTA(O2389:O2418)>0,COUNTA(O2418:$O$5195)>0),IF(COUNTIF(B2409:B2418,B2418)=10,B2418+7,B2418),\"\")","v":""},null,"","",null,null,null,0,0,0,0,{"$f":"IFERROR(VLOOKUP(G2419,DropDowns!$D$2:$E$151,2,FALSE),\"\")","v":""},{"$f":"IFERROR(VLOOKUP(H2419,DropDowns!$F$2:$G$7,2,FALSE),\"Residual categories\")","v":"Residual categories"},null,null,null,0,0,0]
[0,{"$f":"IF(OR(COUNTA(O2390:O2419)>0,COUNTA(O2419:$O$5195)>0),IF(COUNTIF(B2410:B2419,B2419)=10,B2419+7,B2419),\"\")","v":""},null,"","",null,null,null,0,0,0,0,{"$f":"IFERROR(VLOOKUP(G2420,DropDowns!$D$2:$E$151,2,FALSE),\"\")","v":""},{"$f":"IFERROR(VLOOKUP(H2420,DropDowns!$F$2:$G$7,2,FALSE),\"Residual categories\")","v":"Residual categories"},null,null,null,0,0,0]
[0,{"$f":"IF(OR(COUNTA(O2391:O2420)>0,COUNTA(O2420:$O$5195)>0),IF(COUNTIF(B2411:B2420,B2420)=10,B2420+7,B2420),\"\")","v":""},null,"","",null,null,null,0,0,0,0,{"$f":"IFERROR(VLOOKUP(G2421,DropDowns!$D$2:$E$151,2,FALSE),\"\")","v":""},{"$f":"IFERROR(VLOOKUP(H2421,DropDowns!$F$2:$G$7,2,FALSE),\"Residual categories\")","v":"Residual categories"},null,null,null,0,0,0]
[0,{"$f":"IF(OR(COUNTA(O2392:O2421)>0,COUNTA(O2421:$O$5195)>0),IF(COUNTIF(B2412:B2421,B2421)=10,B2421+7,B2421),\"\")","v":""},null,"","",null,null,null,0,0,0,0,{"$f":"IFERROR(VLOOKUP(G2422,DropDowns!$D$2:$E$151,2,FALSE),\"\")","v":""},{"$f":"IFERROR(VLOOKUP(H2422,DropDowns!$F$2:$G$7,2,FALSE),\"Residual categories\")","v":"Residual categories"},null,null,null,0,0,0]
[0,{"$f":"IF(OR(COUNTA(O2394:O2423)>0,COUNTA(O2423:$O$5195)>0),IF(COUNTIF(B2414:B2423,B2423)=10,B2423+7,B2423),\"\")","v":""},null,"","",null,null,null,0,0,0,0,{"$f":"IFERROR(VLOOKUP(G2424,DropDowns!$D$2:$E$151,2,FALSE),\"\")","v":""},{"$f":"IFERROR(VLOOKUP(H2424,DropDowns!$F$2:$G$7,2,FALSE),\"Residual categories\")","v":"Residual categories"},null,null,null,0,0,0]
[0,{"$f":"IF(OR(COUNTA(O2395:O2424)>0,COUNTA(O2424:$O$5195)>0),IF(COUNTIF(B2415:B2424,B2424)=10,B2424+7,B2424),\"\")","v":""},null,"","",null,null,null,0,0,0,0,{"$f":"IFERROR(VLOOKUP(G2425,DropDowns!$D$2:$E$151,2,FALSE),\"\")","v":""},{"$f":"IFERROR(VLOOKUP(H2425,DropDowns!$F$2:$G$7,2,FALSE),\"Residual categories\")","v":"Residual categories"},null,null,null,0,0,0]
[0,{"$f":"IF(OR(COUNTA(O2397:O2426)>0,COUNTA(O2426:$O$5195)>0),IF(COUNTIF(B2417:B2426,B2426)=10,B2426+7,B2426),\"\")","v":""},null,"","",null,null,null,0,0,0,0,{"$f":"IFERROR(VLOOKUP(G2427,DropDowns!$D$2:$E$151,2,FALSE),\"\")","v":""},{"$f":"IFERROR(VLOOKUP(H2427,DropDowns!$F$2:$G$7,2,FALSE),\"Residual categories\")","v":"Residual categories"},null,null,null,0,0,0]
[0,{"$f":"IF(OR(COUNTA(O2398:O2427)>0,COUNTA(O2427:$O$5195)>0),IF(COUNTIF(B2418:B2427,B2427)=10,B2427+7,B2427),\"\")","v":""},null,"","",null,null,null,0,0,0,0,{"$f":"IFERROR(VLOOKUP(G2428,DropDowns!$D$2:$E$151,2,FALSE),\"\")","v":""},{"$f":"IFERROR(VLOOKUP(H2428,DropDowns!$F$2:$G$7,2,FALSE),\"Residual categories\")","v":"Residual categories"},null,null,null,0,0,0]
[0,{"$f":"IF(OR(COUNTA(O2399:O2428)>0,COUNTA(O2428:$O$5195)>0),IF(COUNTIF(B2419:B2428,B2428)=10,B2428+7,B2428),\"\")","v":""},null,"","",null,null,null,0,0,0,0,{"$f":"IFERROR(VLOOKUP(G2429,DropDowns!$D$2:$E$151,2,FALSE),\"\")","v":""},{"$f":"IFERROR(VLOOKUP(H2429,DropDowns!$F$2:$G$7,2,FALSE),\"Residual categories\")","v":"Residual categories"},null,null,null,0,0,0]
[0,{"$f":"IF(OR(COUNTA(O2400:O2429)>0,COUNTA(O2429:$O$5195)>0),IF(COUNTIF(B2420:B2429,B2429)=10,B2429+7,B2429),\"\")","v":""},null,"","",null,null,null,0,0,0,0,{"$f":"IFERROR(VLOOKUP(G2430,DropDowns!$D$2:$E$151,2,FALSE),\"\")","v":""},{"$f":"IFERROR(VLOOKUP(H2430,DropDowns!$F$2:$G$7,2,FALSE),\"Residual categories\")","v":"Residual categories"},null,null,null,0,0,0]
[0,{"$f":"IF(OR(COUNTA(O2402:O2431)>0,COUNTA(O2431:$O$5195)>0),IF(COUNTIF(B2422:B2431,B2431)=10,B2431+7,B2431),\"\")","v":""},null,"","",null,null,null,0,0,0,0,{"$f":"IFERROR(VLOOKUP(G2432,DropDowns!$D$2:$E$151,2,FALSE),\"\")","v":""},{"$f":"IFERROR(VLOOKUP(H2432,DropDowns!$F$2:$G$7,2,FALSE),\"Residual categories\")","v":"Residual categories"},null,null,null,0,0,0]
[0,{"$f":"IF(OR(COUNTA(O2403:O2432)>0,COUNTA(O2432:$O$5195)>0),IF(COUNTIF(B2423:B2432,B2432)=10,B2432+7,B2432),\"\")","v":""},null,"","",null,null,null,0,0,0,0,{"$f":"IFERROR(VLOOKUP(G2433,DropDowns!$D$2:$E$151,2,FALSE),\"\")","v":""},{"$f":"IFERROR(VLOOKUP(H2433,DropDowns!$F$2:$G$7,2,FALSE),\"Residual categories\")","v":"Residual categories"},null,null,null,0,0,0]
[0,{"$f":"IF(OR(COUNTA(O2405:O2434)>0,COUNTA(O2434:$O$5195)>0),IF(COUNTIF(B2425:B2434,B2434)=10,B2434+7,B2434),\"\")","v":""},null,"","",null,null,null,0,0,0,0,{"$f":"IFERROR(VLOOKUP(G2435,DropDowns!$D$2:$E$151,2,FALSE),\"\")","v":""},{"$f":"IFERROR(VLOOKUP(H2435,DropDowns!$F$2:$G$7,2,FALSE),\"Residual categories\")","v":"Residual categories"},null,null,null,0,0,0]
[0,{"$f":"IF(OR(COUNTA(O2406:O2435)>0,COUNTA(O2435:$O$5195)>0),IF(COUNTIF(B2426:B2435,B2435)=10,B2435+7,B2435),\"\")","v":""},null,"","",null,null,null,0,0,0,0,{"$f":"IFERROR(VLOOKUP(G2436,DropDowns!$D$2:$E$151,2,FALSE),\"\")","v":""},{"$f":"IFERROR(VLOOKUP(H2436,DropDowns!$F$2:$G$7,2,FALSE),\"Residual categories\")","v":"Residual categories"},null,null,null,0,0,0]
[0,{"$f":"IF(OR(COUNTA(O2407:O2436)>0,COUNTA(O2436:$O$5195)>0),IF(COUNTIF(B2427:B2436,B2436)=10,B2436+7,B2436),\"\")","v":""},null,"","",null,null,null,0,0,0,0,{"$f":"IFERROR(VLOOKUP(G2437,DropDowns!$D$2:$E$151,2,FALSE),\"\")","v":""},{"$f":"IFERROR(VLOOKUP(H2437,DropDowns!$F$2:$G$7,2,FALSE),\"Residual categories\")","v":"Residual categories"},null,null,null,0,0,0]
[0,{"$f":"IF(OR(COUNTA(O2408:O2437)>0,COUNTA(O2437:$O$5195)>0),IF(COUNTIF(B2428:B2437,B2437)=10,B2437+7,B2437),\"\")","v":""},null,"","",null,null,null,0,0,0,0,{"$f":"IFERROR(VLOOKUP(G2438,DropDowns!$D$2:$E$151,2,FALSE),\"\")","v":""},{"$f":"IFERROR(VLOOKUP(H2438,DropDowns!$F$2:$G$7,2,FALSE),\"Residual categories\")","v":"Residual categories"},null,null,null,0,0,0]
[0,{"$f":"IF(OR(COUNTA(O2410:O2439)>0,COUNTA(O2439:$O$5195)>0),IF(COUNTIF(B2430:B2439,B2439)=10,B2439+7,B2439),\"\")","v":""},null,"","",null,null,null,0,0,0,0,{"$f":"IFERROR(VLOOKUP(G2440,DropDowns!$D$2:$E$151,2,FALSE),\"\")","v":""},{"$f":"IFERROR(VLOOKUP(H2440,DropDowns!$F$2:$G$7,2,FALSE),\"Residual categories\")","v":"Residual categories"},null,null,null,0,0,0]
[0,{"$f":"IF(OR(COUNTA(O2411:O2440)>0,COUNTA(O2440:$O$5195)>0),IF(COUNTIF(B2431:B2440,B2440)=10,B2440+7,B2440),\"\")","v":""},null,"","",null,null,null,0,0,0,0,{"$f":"IFERROR(VLOOKUP(G2441,DropDowns!$D$2:$E$151,2,FALSE),\"\")","v":""},{"$f":"IFERROR(VLOOKUP(H2441,DropDowns!$F$2:$G$7,2,FALSE),\"Residual categories\")","v":"Residual categories"},null,null,null,0,0,0]
[0,{"$f":"IF(OR(COUNTA(O2413:O2442)>0,COUNTA(O2442:$O$5195)>0),IF(COUNTIF(B2433:B2442,B2442)=10,B2442+7,B2442),\"\")","v":""},null,"","",null,null,null,0,0,0,0,{"$f":"IFERROR(VLOOKUP(G2443,DropDowns!$D$2:$E$151,2,FALSE),\"\")","v":""},{"$f":"IFERROR(VLOOKUP(H2443,DropDowns!$F$2:$G$7,2,FALSE),\"Residual categories\")","v":"Residual categories"},null,null,null,0,0,0]
[0,{"$f":"IF(OR(COUNTA(O2414:O2443)>0,COUNTA(O2443:$O$5195)>0),IF(COUNTIF(B2434:B2443,B2443)=10,B2443+7,B2443),\"\")","v":""},null,"","",null,null,null,0,0,0,0,{"$f":"IFERROR(VLOOKUP(G2444,DropDowns!$D$2:$E$151,2,FALSE),\"\")","v":""},{"$f":"IFERROR(VLOOKUP(H2444,DropDowns!$F$2:$G$7,2,FALSE),\"Residual categories\")","v":"Residual categories"},null,null,null,0,0,0]
[0,{"$f":"IF(OR(COUNTA(O2416:O2445)>0,COUNTA(O2445:$O$5195)>0),IF(COUNTIF(B2436:B2445,B2445)=10,B2445+7,B2445),\"\")","v":""},null,"","",null,null,null,0,0,0,0,{"$f":"IFERROR(VLOOKUP(G2446,DropDowns!$D$2:$E$151,2,FALSE),\"\")","v":""},{"$f":"IFERROR(VLOOKUP(H2446,DropDowns!$F$2:$G$7,2,FALSE),\"Residual categories\")","v":"Residual categories"},null,null,null,0,0,0]
[0,{"$f":"IF(OR(COUNTA(O2417:O2446)>0,COUNTA(O2446:$O$5195)>0),IF(COUNTIF(B2437:B2446,B2446)=10,B2446+7,B2446),\"\")","v":""},null,"","",null,null,null,0,0,0,0,{"$f":"IFERROR(VLOOKUP(G2447,DropDowns!$D$2:$E$151,2,FALSE),\"\")","v":""},{"$f":"IFERROR(VLOOKUP(H2447,DropDowns!$F$2:$G$7,2,FALSE),\"Residual categories\")","v":"Residual categories"},null,null,null,0,0,0]
[0,{"$f":"IF(OR(COUNTA(O2418:O2447)>0,COUNTA(O2447:$O$5195)>0),IF(COUNTIF(B2438:B2447,B2447)=10,B2447+7,B2447),\"\")","v":""},null,"","",null,null,null,0,0,0,0,{"$f":"IFERROR(VLOOKUP(G2448,DropDowns!$D$2:$E$151,2,FALSE),\"\")","v":""},{"$f":"IFERROR(VLOOKUP(H2448,DropDowns!$F$2:$G$7,2,FALSE),\"Residual categories\")","v":"Residual categories"},null,null,null,0,0,0]
[0,{"$f":"IF(OR(COUNTA(O2419:O2448)>0,COUNTA(O2448:$O$5195)>0),IF(COUNTIF(B2439:B2448,B2448)=10,B2448+7,B2448),\"\")","v":""},null,"",{"$f":"IF(B2449=\"\",\"\",COUNTIF(B2440:B2449,B2449))","v":""},null,null,null,0,0,0,0,{"$f":"IFERROR(VLOOKUP(G2449,DropDowns!$D$2:$E$151,2,FALSE),\"\")","v":""},{"$f":"IFERROR(VLOOKUP(H2449,DropDowns!$F$2:$G$7,2,FALSE),\"Residual categories\")","v":"Residual categories"},null,null,null,0,0,0]
[0,{"$f":"IF(OR(COUNTA(O2421:O2450)>0,COUNTA(O2450:$O$5195)>0),IF(COUNTIF(B2441:B2450,B2450)=10,B2450+7,B2450),\"\")","v":""},null,"","",null,null,null,0,0,0,0,{"$f":"IFERROR(VLOOKUP(G2451,DropDowns!$D$2:$E$151,2,FALSE),\"\")","v":""},{"$f":"IFERROR(VLOOKUP(H2451,DropDowns!$F$2:$G$7,2,FALSE),\"Residual categories\")","v":"Residual categories"},null,null,null,0,0,0]
[{"$f":"$E$2","v":0},{"$f":"IF(OR(COUNTA(O2422:O2451)>0,COUNTA(O2451:$O$5195)>0),IF(COUNTIF(B2442:B2451,B2451)=10,B2451+7,B2451),\"\")","v":""},null,"","",null,null,null,0,0,0,0,{"$f":"IFERROR(VLOOKUP(G2452,DropDowns!$D$2:$E$151,2,FALSE),\"\")","v":""},{"$f":"IFERROR(VLOOKUP(H2452,DropDowns!$F$2:$G$7,2,FALSE),\"Residual categories\")","v":"Residual categories"},null,null,null,0,0,0]
[0,{"$f":"IF(OR(COUNTA(O2424:O2453)>0,COUNTA(O2453:$O$5195)>0),IF(COUNTIF(B2444:B2453,B2453)=10,B2453+7,B2453),\"\")","v":""},null,"","",null,null,null,0,0,0,0,{"$f":"IFERROR(VLOOKUP(G2454,DropDowns!$D$2:$E$151,2,FALSE),\"\")","v":""},{"$f":"IFERROR(VLOOKUP(H2454,DropDowns!$F$2:$G$7,2,FALSE),\"Residual categories\")","v":"Residual categories"},null,null,null,0,0,0]
[0,{"$f":"IF(OR(COUNTA(O2425:O2454)>0,COUNTA(O2454:$O$5195)>0),IF(COUNTIF(B2445:B2454,B2454)=10,B2454+7,B2454),\"\")","v":""},null,"","",null,null,null,0,0,0,0,{"$f":"IFERROR(VLOOKUP(G2455,DropDowns!$D$2:$E$151,2,FALSE),\"\")","v":""},{"$f":"IFERROR(VLOOKUP(H2455,DropDowns!$F$2:$G$7,2,FALSE),\"Residual categories\")","v":"Residual categories"},null,null,null,0,0,0]
[0,{"$f":"IF(OR(COUNTA(O2426:O2455)>0,COUNTA(O2455:$O$5195)>0),IF(COUNTIF(B2446:B2455,B2455)=10,B2455+7,B2455),\"\")","v":""},null,"","",null,null,null,0,0,0,0,{"$f":"IFERROR(VLOOKUP(G2456,DropDowns!$D$2:$E$151,2,FALSE),\"\")","v":""},{"$f":"IFERROR(VLOOKUP(H2456,DropDowns!$F$2:$G$7,2,FALSE),\"Residual categories\")","v":"Residual categories"},null,null,null,0,0,0]
[0,{"$f":"IF(OR(COUNTA(O2427:O2456)>0,COUNTA(O2456:$O$5195)>0),IF(COUNTIF(B2447:B2456,B2456)=10,B2456+7,B2456),\"\")","v":""},null,"","",null,null,null,0,0,0,0,{"$f":"IFERROR(VLOOKUP(G2457,DropDowns!$D$2:$E$151,2,FALSE),\"\")","v":""},{"$f":"IFERROR(VLOOKUP(H2457,DropDowns!$F$2:$G$7,2,FALSE),\"Residual categories\")","v":"Residual categories"},null,null,null,0,0,0]
[0,{"$f":"IF(OR(COUNTA(O2429:O2458)>0,COUNTA(O2458:$O$5195)>0),IF(COUNTIF(B2449:B2458,B2458)=10,B2458+7,B2458),\"\")","v":""},null,"","",null,null,null,0,0,0,0,{"$f":"IFERROR(VLOOKUP(G2459,DropDowns!$D$2:$E$151,2,FALSE),\"\")","v":""},{"$f":"IFERROR(VLOOKUP(H2459,DropDowns!$F$2:$G$7,2,FALSE),\"Residual categories\")","v":"Residual categories"},null,null,null,0,0,0]
[0,{"$f":"IF(OR(COUNTA(O2430:O2459)>0,COUNTA(O2459:$O$5195)>0),IF(COUNTIF(B2450:B2459,B2459)=10,B2459+7,B2459),\"\")","v":""},null,"","",null,null,null,0,0,0,0,{"$f":"IFERROR(VLOOKUP(G2460,DropDowns!$D$2:$E$151,2,FALSE),\"\")","v":""},{"$f":"IFERROR(VLOOKUP(H2460,DropDowns!$F$2:$G$7,2,FALSE),\"Residual categories\")","v":"Residual categories"},null,null,null,0,0,0]
[0,{"$f":"IF(OR(COUNTA(O2432:O2461)>0,COUNTA(O2461:$O$5195)>0),IF(COUNTIF(B2452:B2461,B2461)=10,B2461+7,B2461),\"\")","v":""},null,"","",null,null,null,0,0,0,0,{"$f":"IFERROR(VLOOKUP(G2462,DropDowns!$D$2:$E$151,2,FALSE),\"\")","v":""},{"$f":"IFERROR(VLOOKUP(H2462,DropDowns!$F$2:$G$7,2,FALSE),\"Residual categories\")","v":"Residual categories"},null,null,null,0,0,0]
[0,{"$f":"IF(OR(COUNTA(O2433:O2462)>0,COUNTA(O2462:$O$5195)>0),IF(COUNTIF(B2453:B2462,B2462)=10,B2462+7,B2462),\"\")","v":""},null,"","",null,null,null,0,0,0,0,{"$f":"IFERROR(VLOOKUP(G2463,DropDowns!$D$2:$E$151,2,FALSE),\"\")","v":""},{"$f":"IFERROR(VLOOKUP(H2463,DropDowns!$F$2:$G$7,2,FALSE),\"Residual categories\")","v":"Residual categories"},null,null,null,0,0,0]
[0,{"$f":"IF(OR(COUNTA(O2434:O2463)>0,COUNTA(O2463:$O$5195)>0),IF(COUNTIF(B2454:B2463,B2463)=10,B2463+7,B2463),\"\")","v":""},null,"","",null,null,null,0,0,0,0,{"$f":"IFERROR(VLOOKUP(G2464,DropDowns!$D$2:$E$151,2,FALSE),\"\")","v":""},{"$f":"IFERROR(VLOOKUP(H2464,DropDowns!$F$2:$G$7,2,FALSE),\"Residual categories\")","v":"Residual categories"},null,null,null,0,0,0]
[0,{"$f":"IF(OR(COUNTA(O2435:O2464)>0,COUNTA(O2464:$O$5195)>0),IF(COUNTIF(B2455:B2464,B2464)=10,B2464+7,B2464),\"\")","v":""},null,"","",null,null,null,0,0,0,0,{"$f":"IFERROR(VLOOKUP(G2465,DropDowns!$D$2:$E$151,2,FALSE),\"\")","v":""},{"$f":"IFERROR(VLOOKUP(H2465,DropDowns!$F$2:$G$7,2,FALSE),\"Residual categories\")","v":"Residual categories"},null,null,null,0,0,0]
[0,{"$f":"IF(OR(COUNTA(O2437:O2466)>0,COUNTA(O2466:$O$5195)>0),IF(COUNTIF(B2457:B2466,B2466)=10,B2466+7,B2466),\"\")","v":""},null,"","",null,null,null,0,0,0,0,{"$f":"IFERROR(VLOOKUP(G2467,DropDowns!$D$2:$E$151,2,FALSE),\"\")","v":""},{"$f":"IFERROR(VLOOKUP(H2467,DropDowns!$F$2:$G$7,2,FALSE),\"Residual categories\")","v":"Residual categories"},null,null,null,0,0,0]
[0,{"$f":"IF(OR(COUNTA(O2438:O2467)>0,COUNTA(O2467:$O$5195)>0),IF(COUNTIF(B2458:B2467,B2467)=10,B2467+7,B2467),\"\")","v":""},null,"","",null,null,null,0,0,0,0,{"$f":"IFERROR(VLOOKUP(G2468,DropDowns!$D$2:$E$151,2,FALSE),\"\")","v":""},{"$f":"IFERROR(VLOOKUP(H2468,DropDowns!$F$2:$G$7,2,FALSE),\"Residual categories\")","v":"Residual categories"},null,null,null,0,0,0]
[0,{"$f":"IF(OR(COUNTA(O2440:O2469)>0,COUNTA(O2469:$O$5195)>0),IF(COUNTIF(B2460:B2469,B2469)=10,B2469+7,B2469),\"\")","v":""},null,"","",null,null,null,0,0,0,0,{"$f":"IFERROR(VLOOKUP(G2470,DropDowns!$D$2:$E$151,2,FALSE),\"\")","v":""},{"$f":"IFERROR(VLOOKUP(H2470,DropDowns!$F$2:$G$7,2,FALSE),\"Residual categories\")","v":"Residual categories"},null,null,null,0,0,0]
[0,{"$f":"IF(OR(COUNTA(O2441:O2470)>0,COUNTA(O2470:$O$5195)>0),IF(COUNTIF(B2461:B2470,B2470)=10,B2470+7,B2470),\"\")","v":""},null,"","",null,null,null,0,0,0,0,{"$f":"IFERROR(VLOOKUP(G2471,DropDowns!$D$2:$E$151,2,FALSE),\"\")","v":""},{"$f":"IFERROR(VLOOKUP(H2471,DropDowns!$F$2:$G$7,2,FALSE),\"Residual categories\")","v":"Residual categories"},null,null,null,0,0,0]
[0,{"$f":"IF(OR(COUNTA(O2442:O2471)>0,COUNTA(O2471:$O$5195)>0),IF(COUNTIF(B2462:B2471,B2471)=10,B2471+7,B2471),\"\")","v":""},null,"","",null,null,null,0,0,0,0,{"$f":"IFERROR(VLOOKUP(G2472,DropDowns!$D$2:$E$151,2,FALSE),\"\")","v":""},{"$f":"IFERROR(VLOOKUP(H2472,DropDowns!$F$2:$G$7,2,FALSE),\"Residual categories\")","v":"Residual categories"},null,null,null,0,0,0]
[0,{"$f":"IF(OR(COUNTA(O2443:O2472)>0,COUNTA(O2472:$O$5195)>0),IF(COUNTIF(B2463:B2472,B2472)=10,B2472+7,B2472),\"\")","v":""},null,"","",null,null,null,0,0,0,0,{"$f":"IFERROR(VLOOKUP(G2473,DropDowns!$D$2:$E$151,2,FALSE),\"\")","v":""},{"$f":"IFERROR(VLOOKUP(H2473,DropDowns!$F$2:$G$7,2,FALSE),\"Residual categories\")","v":"Residual categories"},null,null,null,0,0,0]
[0,{"$f":"IF(OR(COUNTA(O2445:O2474)>0,COUNTA(O2474:$O$5195)>0),IF(COUNTIF(B2465:B2474,B2474)=10,B2474+7,B2474),\"\")","v":""},null,"","",null,null,null,0,0,0,0,{"$f":"IFERROR(VLOOKUP(G2475,DropDowns!$D$2:$E$151,2,FALSE),\"\")","v":""},{"$f":"IFERROR(VLOOKUP(H2475,DropDowns!$F$2:$G$7,2,FALSE),\"Residual categories\")","v":"Residual categories"},null,null,null,0,0,0]
[0,{"$f":"IF(OR(COUNTA(O2446:O2475)>0,COUNTA(O2475:$O$5195)>0),IF(COUNTIF(B2466:B2475,B2475)=10,B2475+7,B2475),\"\")","v":""},null,"","",null,null,null,0,0,0,0,{"$f":"IFERROR(VLOOKUP(G2476,DropDowns!$D$2:$E$151,2,FALSE),\"\")","v":""},{"$f":"IFERROR(VLOOKUP(H2476,DropDowns!$F$2:$G$7,2,FALSE),\"Residual categories\")","v":"Residual categories"},null,null,null,0,0,0]
[0,{"$f":"IF(OR(COUNTA(O2448:O2477)>0,COUNTA(O2477:$O$5195)>0),IF(COUNTIF(B2468:B2477,B2477)=10,B2477+7,B2477),\"\")","v":""},null,"","",null,null,null,0,0,0,0,{"$f":"IFERROR(VLOOKUP(G2478,DropDowns!$D$2:$E$151,2,FALSE),\"\")","v":""},{"$f":"IFERROR(VLOOKUP(H2478,DropDowns!$F$2:$G$7,2,FALSE),\"Residual categories\")","v":"Residual categories"},null,null,null,0,0,0]
[0,{"$f":"IF(OR(COUNTA(O2449:O2478)>0,COUNTA(O2478:$O$5195)>0),IF(COUNTIF(B2469:B2478,B2478)=10,B2478+7,B2478),\"\")","v":""},null,"","",null,null,null,0,0,0,0,{"$f":"IFERROR(VLOOKUP(G2479,DropDowns!$D$2:$E$151,2,FALSE),\"\")","v":""},{"$f":"IFERROR(VLOOKUP(H2479,DropDowns!$F$2:$G$7,2,FALSE),\"Residual categories\")","v":"Residual categories"},null,null,null,0,0,0]
[0,{"$f":"IF(OR(COUNTA(O2451:O2480)>0,COUNTA(O2480:$O$5195)>0),IF(COUNTIF(B2471:B2480,B2480)=10,B2480+7,B2480),\"\")","v":""},null,"","",null,null,null,0,0,0,0,{"$f":"IFERROR(VLOOKUP(G2481,DropDowns!$D$2:$E$151,2,FALSE),\"\")","v":""},{"$f":"IFERROR(VLOOKUP(H2481,DropDowns!$F$2:$G$7,2,FALSE),\"Residual categories\")","v":"Residual categories"},null,null,null,0,0,0]
[0,{"$f":"IF(OR(COUNTA(O2452:O2481)>0,COUNTA(O2481:$O$5195)>0),IF(COUNTIF(B2472:B2481,B2481)=10,B2481+7,B2481),\"\")","v":""},null,"","",null,null,null,0,0,0,0,{"$f":"IFERROR(VLOOKUP(G2482,DropDowns!$D$2:$E$151,2,FALSE),\"\")","v":""},{"$f":"IFERROR(VLOOKUP(H2482,DropDowns!$F$2:$G$7,2,FALSE),\"Residual categories\")","v":"Residual categories"},null,null,null,0,0,0]
[0,{"$f":"IF(OR(COUNTA(O2453:O2482)>0,COUNTA(O2482:$O$5195)>0),IF(COUNTIF(B2473:B2482,B2482)=10,B2482+7,B2482),\"\")","v":""},null,"","",null,null,null,0,0,0,0,{"$f":"IFERROR(VLOOKUP(G2483,DropDowns!$D$2:$E$151,2,FALSE),\"\")","v":""},{"$f":"IFERROR(VLOOKUP(H2483,DropDowns!$F$2:$G$7,2,FALSE),\"Residual categories\")","v":"Residual categories"},null,null,null,0,0,0]
[0,{"$f":"IF(OR(COUNTA(O2454:O2483)>0,COUNTA(O2483:$O$5195)>0),IF(COUNTIF(B2474:B2483,B2483)=10,B2483+7,B2483),\"\")","v":""},null,"","",null,null,null,0,0,0,0,{"$f":"IFERROR(VLOOKUP(G2484,DropDowns!$D$2:$E$151,2,FALSE),\"\")","v":""},{"$f":"IFERROR(VLOOKUP(H2484,DropDowns!$F$2:$G$7,2,FALSE),\"Residual categories\")","v":"Residual categories"},null,null,null,0,0,0]
[0,{"$f":"IF(OR(COUNTA(O2456:O2485)>0,COUNTA(O2485:$O$5195)>0),IF(COUNTIF(B2476:B2485,B2485)=10,B2485+7,B2485),\"\")","v":""},null,"","",null,null,null,0,0,0,0,{"$f":"IFERROR(VLOOKUP(G2486,DropDowns!$D$2:$E$151,2,FALSE),\"\")","v":""},{"$f":"IFERROR(VLOOKUP(H2486,DropDowns!$F$2:$G$7,2,FALSE),\"Residual categories\")","v":"Residual categories"},null,null,null,0,0,0]
[0,{"$f":"IF(OR(COUNTA(O2457:O2486)>0,COUNTA(O2486:$O$5195)>0),IF(COUNTIF(B2477:B2486,B2486)=10,B2486+7,B2486),\"\")","v":""},null,"","",null,null,null,0,0,0,0,{"$f":"IFERROR(VLOOKUP(G2487,DropDowns!$D$2:$E$151,2,FALSE),\"\")","v":""},{"$f":"IFERROR(VLOOKUP(H2487,DropDowns!$F$2:$G$7,2,FALSE),\"Residual categories\")","v":"Residual categories"},null,null,null,0,0,0]
[0,{"$f":"IF(OR(COUNTA(O2459:O2488)>0,COUNTA(O2488:$O$5195)>0),IF(COUNTIF(B2479:B2488,B2488)=10,B2488+7,B2488),\"\")","v":""},null,"","",null,null,null,0,0,0,0,{"$f":"IFERROR(VLOOKUP(G2489,DropDowns!$D$2:$E$151,2,FALSE),\"\")","v":""},{"$f":"IFERROR(VLOOKUP(H2489,DropDowns!$F$2:$G$7,2,FALSE),\"Residual categories\")","v":"Residual categories"},null,null,null,0,0,0]
[0,{"$f":"IF(OR(COUNTA(O2460:O2489)>0,COUNTA(O2489:$O$5195)>0),IF(COUNTIF(B2480:B2489,B2489)=10,B2489+7,B2489),\"\")","v":""},null,"","",null,null,null,0,0,0,0,{"$f":"IFERROR(VLOOKUP(G2490,DropDowns!$D$2:$E$151,2,FALSE),\"\")","v":""},{"$f":"IFERROR(VLOOKUP(H2490,DropDowns!$F$2:$G$7,2,FALSE),\"Residual categories\")","v":"Residual categories"},null,null,null,0,0,0]
[0,{"$f":"IF(OR(COUNTA(O2461:O2490)>0,COUNTA(O2490:$O$5195)>0),IF(COUNTIF(B2481:B2490,B2490)=10,B2490+7,B2490),\"\")","v":""},null,"","",null,null,null,0,0,0,0,{"$f":"IFERROR(VLOOKUP(G2491,DropDowns!$D$2:$E$151,2,FALSE),\"\")","v":""},{"$f":"IFERROR(VLOOKUP(H2491,DropDowns!$F$2:$G$7,2,FALSE),\"Residual categories\")","v":"Residual categories"},null,null,null,0,0,0]
[0,{"$f":"IF(OR(COUNTA(O2462:O2491)>0,COUNTA(O2491:$O$5195)>0),IF(COUNTIF(B2482:B2491,B2491)=10,B2491+7,B2491),\"\")","v":""},null,"","",null,null,null,0,0,0,0,{"$f":"IFERROR(VLOOKUP(G2492,DropDowns!$D$2:$E$151,2,FALSE),\"\")","v":""},{"$f":"IFERROR(VLOOKUP(H2492,DropDowns!$F$2:$G$7,2,FALSE),\"Residual categories\")","v":"Residual categories"},null,null,null,0,0,0]
[0,{"$f":"IF(OR(COUNTA(O2464:O2493)>0,COUNTA(O2493:$O$5195)>0),IF(COUNTIF(B2484:B2493,B2493)=10,B2493+7,B2493),\"\")","v":""},null,"","",null,null,null,0,0,0,0,{"$f":"IFERROR(VLOOKUP(G2494,DropDowns!$D$2:$E$151,2,FALSE),\"\")","v":""},{"$f":"IFERROR(VLOOKUP(H2494,DropDowns!$F$2:$G$7,2,FALSE),\"Residual categories\")","v":"Residual categories"},null,null,null,0,0,0]
[0,{"$f":"IF(OR(COUNTA(O2465:O2494)>0,COUNTA(O2494:$O$5195)>0),IF(COUNTIF(B2485:B2494,B2494)=10,B2494+7,B2494),\"\")","v":""},null,"","",null,null,null,0,0,0,0,{"$f":"IFERROR(VLOOKUP(G2495,DropDowns!$D$2:$E$151,2,FALSE),\"\")","v":""},{"$f":"IFERROR(VLOOKUP(H2495,DropDowns!$F$2:$G$7,2,FALSE),\"Residual categories\")","v":"Residual categories"},null,null,null,0,0,0]
[0,{"$f":"IF(OR(COUNTA(O2467:O2496)>0,COUNTA(O2496:$O$5195)>0),IF(COUNTIF(B2487:B2496,B2496)=10,B2496+7,B2496),\"\")","v":""},null,"","",null,null,null,0,0,0,0,{"$f":"IFERROR(VLOOKUP(G2497,DropDowns!$D$2:$E$151,2,FALSE),\"\")","v":""},{"$f":"IFERROR(VLOOKUP(H2497,DropDowns!$F$2:$G$7,2,FALSE),\"Residual categories\")","v":"Residual categories"},null,null,null,0,0,0]
[0,{"$f":"IF(OR(COUNTA(O2468:O2497)>0,COUNTA(O2497:$O$5195)>0),IF(COUNTIF(B2488:B2497,B2497)=10,B2497+7,B2497),\"\")","v":""},null,"","",null,null,null,0,0,0,0,{"$f":"IFERROR(VLOOKUP(G2498,DropDowns!$D$2:$E$151,2,FALSE),\"\")","v":""},{"$f":"IFERROR(VLOOKUP(H2498,DropDowns!$F$2:$G$7,2,FALSE),\"Residual categories\")","v":"Residual categories"},null,null,null,0,0,0]
[0,{"$f":"IF(OR(COUNTA(O2469:O2498)>0,COUNTA(O2498:$O$5195)>0),IF(COUNTIF(B2489:B2498,B2498)=10,B2498+7,B2498),\"\")","v":""},null,"","",null,null,null,0,0,0,0,{"$f":"IFERROR(VLOOKUP(G2499,DropDowns!$D$2:$E$151,2,FALSE),\"\")","v":""},{"$f":"IFERROR(VLOOKUP(H2499,DropDowns!$F$2:$G$7,2,FALSE),\"Residual categories\")","v":"Residual categories"},null,null,null,0,0,0]
[0,{"$f":"IF(OR(COUNTA(O2470:O2499)>0,COUNTA(O2499:$O$5195)>0),IF(COUNTIF(B2490:B2499,B2499)=10,B2499+7,B2499),\"\")","v":""},null,"","",null,null,null,0,0,0,0,{"$f":"IFERROR(VLOOKUP(G2500,DropDowns!$D$2:$E$151,2,FALSE),\"\")","v":""},{"$f":"IFERROR(VLOOKUP(H2500,DropDowns!$F$2:$G$7,2,FALSE),\"Residual categories\")","v":"Residual categories"},null,null,null,0,0,0]
[0,{"$f":"IF(OR(COUNTA(O2472:O2501)>0,COUNTA(O2501:$O$5195)>0),IF(COUNTIF(B2492:B2501,B2501)=10,B2501+7,B2501),\"\")","v":""},null,"","",null,null,null,0,0,0,0,{"$f":"IFERROR(VLOOKUP(G2502,DropDowns!$D$2:$E$151,2,FALSE),\"\")","v":""},{"$f":"IFERROR(VLOOKUP(H2502,DropDowns!$F$2:$G$7,2,FALSE),\"Residual categories\")","v":"Residual categories"},null,null,null,0,0,0]
[0,{"$f":"IF(OR(COUNTA(O2473:O2502)>0,COUNTA(O2502:$O$5195)>0),IF(COUNTIF(B2493:B2502,B2502)=10,B2502+7,B2502),\"\")","v":""},null,{"$f":"IF(E2503=1,B2503,\"\")","v":""},"",null,null,null,{"$f":"IF(COUNTA(O2503:Q2503)>0,1,0)","v":0},{"$f":"IF(O2503=\"y\",1,0)","v":0},{"$f":"IF(P2503=\"y\",1,0)","v":0},{"$f":"IF(Q2503=\"y\",1,0)","v":0},{"$f":"IFERROR(VLOOKUP(G2503,DropDowns!$D$2:$E$151,2,FALSE),\"\")","v":""},{"$f":"IFERROR(VLOOKUP(H2503,DropDowns!$F$2:$G$7,2,FALSE),\"Residual categories\")","v":"Residual categories"},null,null,null,{"$f":"IF(O2503=\"yes\",1,0)","v":0},{"$f":"IF(P2503=\"yes\",1,0)","v":0},{"$f":"IF(Q2503=\"yes\",1,0)","v":0}]
[0,{"$f":"IF(OR(COUNTA(O2475:O2504)>0,COUNTA(O2504:$O$5195)>0),IF(COUNTIF(B2495:B2504,B2504)=10,B2504+7,B2504),\"\")","v":""},null,"","",null,null,null,0,0,0,0,{"$f":"IFERROR(VLOOKUP(G2505,DropDowns!$D$2:$E$151,2,FALSE),\"\")","v":""},{"$f":"IFERROR(VLOOKUP(H2505,DropDowns!$F$2:$G$7,2,FALSE),\"Residual categories\")","v":"Residual categories"},null,null,null,0,0,0]
[0,{"$f":"IF(OR(COUNTA(O2476:O2505)>0,COUNTA(O2505:$O$5195)>0),IF(COUNTIF(B2496:B2505,B2505)=10,B2505+7,B2505),\"\")","v":""},null,"","",null,null,null,0,0,0,0,{"$f":"IFERROR(VLOOKUP(G2506,DropDowns!$D$2:$E$151,2,FALSE),\"\")","v":""},{"$f":"IFERROR(VLOOKUP(H2506,DropDowns!$F$2:$G$7,2,FALSE),\"Residual categories\")","v":"Residual categories"},null,null,null,0,0,0]
[0,{"$f":"IF(OR(COUNTA(O2478:O2507)>0,COUNTA(O2507:$O$5195)>0),IF(COUNTIF(B2498:B2507,B2507)=10,B2507+7,B2507),\"\")","v":""},null,"","",null,null,null,0,0,0,0,{"$f":"IFERROR(VLOOKUP(G2508,DropDowns!$D$2:$E$151,2,FALSE),\"\")","v":""},{"$f":"IFERROR(VLOOKUP(H2508,DropDowns!$F$2:$G$7,2,FALSE),\"Residual categories\")","v":"Residual categories"},null,null,null,0,0,0]
[0,{"$f":"IF(OR(COUNTA(O2479:O2508)>0,COUNTA(O2508:$O$5195)>0),IF(COUNTIF(B2499:B2508,B2508)=10,B2508+7,B2508),\"\")","v":""},null,"","",null,null,null,0,0,0,0,{"$f":"IFERROR(VLOOKUP(G2509,DropDowns!$D$2:$E$151,2,FALSE),\"\")","v":""},{"$f":"IFERROR(VLOOKUP(H2509,DropDowns!$F$2:$G$7,2,FALSE),\"Residual categories\")","v":"Residual categories"},null,null,null,0,0,0]
[0,{"$f":"IF(OR(COUNTA(O2480:O2509)>0,COUNTA(O2509:$O$5195)>0),IF(COUNTIF(B2500:B2509,B2509)=10,B2509+7,B2509),\"\")","v":""},null,"","",null,null,null,0,0,0,0,{"$f":"IFERROR(VLOOKUP(G2510,DropDowns!$D$2:$E$151,2,FALSE),\"\")","v":""},{"$f":"IFERROR(VLOOKUP(H2510,DropDowns!$F$2:$G$7,2,FALSE),\"Residual categories\")","v":"Residual categories"},null,null,null,0,0,0]
[0,{"$f":"IF(OR(COUNTA(O2481:O2510)>0,COUNTA(O2510:$O$5195)>0),IF(COUNTIF(B2501:B2510,B2510)=10,B2510+7,B2510),\"\")","v":""},null,"","",null,null,null,0,0,0,0,{"$f":"IFERROR(VLOOKUP(G2511,DropDowns!$D$2:$E$151,2,FALSE),\"\")","v":""},{"$f":"IFERROR(VLOOKUP(H2511,DropDowns!$F$2:$G$7,2,FALSE),\"Residual categories\")","v":"Residual categories"},null,null,null,0,0,0]
[0,{"$f":"IF(OR(COUNTA(O2483:O2512)>0,COUNTA(O2512:$O$5195)>0),IF(COUNTIF(B2503:B2512,B2512)=10,B2512+7,B2512),\"\")","v":""},null,"",{"$f":"IF(B2513=\"\",\"\",COUNTIF(B2504:B2513,B2513))","v":""},null,null,null,0,0,0,0,{"$f":"IFERROR(VLOOKUP(G2513,DropDowns!$D$2:$E$151,2,FALSE),\"\")","v":""},{"$f":"IFERROR(VLOOKUP(H2513,DropDowns!$F$2:$G$7,2,FALSE),\"Residual categories\")","v":"Residual categories"},null,null,null,0,0,0]
[0,{"$f":"IF(OR(COUNTA(O2484:O2513)>0,COUNTA(O2513:$O$5195)>0),IF(COUNTIF(B2504:B2513,B2513)=10,B2513+7,B2513),\"\")","v":""},null,"","",null,null,null,0,0,0,0,{"$f":"IFERROR(VLOOKUP(G2514,DropDowns!$D$2:$E$151,2,FALSE),\"\")","v":""},{"$f":"IFERROR(VLOOKUP(H2514,DropDowns!$F$2:$G$7,2,FALSE),\"Residual categories\")","v":"Residual categories"},null,null,null,0,0,0]
[{"$f":"$E$2","v":0},{"$f":"IF(OR(COUNTA(O2486:O2515)>0,COUNTA(O2515:$O$5195)>0),IF(COUNTIF(B2506:B2515,B2515)=10,B2515+7,B2515),\"\")","v":""},null,"","",null,null,null,0,0,0,0,{"$f":"IFERROR(VLOOKUP(G2516,DropDowns!$D$2:$E$151,2,FALSE),\"\")","v":""},{"$f":"IFERROR(VLOOKUP(H2516,DropDowns!$F$2:$G$7,2,FALSE),\"Residual categories\")","v":"Residual categories"},null,null,null,0,0,0]
[0,{"$f":"IF(OR(COUNTA(O2487:O2516)>0,COUNTA(O2516:$O$5195)>0),IF(COUNTIF(B2507:B2516,B2516)=10,B2516+7,B2516),\"\")","v":""},null,"","",null,null,null,0,0,0,0,{"$f":"IFERROR(VLOOKUP(G2517,DropDowns!$D$2:$E$151,2,FALSE),\"\")","v":""},{"$f":"IFERROR(VLOOKUP(H2517,DropDowns!$F$2:$G$7,2,FALSE),\"Residual categories\")","v":"Residual categories"},null,null,null,0,0,0]
[0,{"$f":"IF(OR(COUNTA(O2488:O2517)>0,COUNTA(O2517:$O$5195)>0),IF(COUNTIF(B2508:B2517,B2517)=10,B2517+7,B2517),\"\")","v":""},null,"","",null,null,null,0,0,0,0,{"$f":"IFERROR(VLOOKUP(G2518,DropDowns!$D$2:$E$151,2,FALSE),\"\")","v":""},{"$f":"IFERROR(VLOOKUP(H2518,DropDowns!$F$2:$G$7,2,FALSE),\"Residual categories\")","v":"Residual categories"},null,null,null,0,0,0]
[0,{"$f":"IF(OR(COUNTA(O2489:O2518)>0,COUNTA(O2518:$O$5195)>0),IF(COUNTIF(B2509:B2518,B2518)=10,B2518+7,B2518),\"\")","v":""},null,"","",null,null,null,0,0,0,0,{"$f":"IFERROR(VLOOKUP(G2519,DropDowns!$D$2:$E$151,2,FALSE),\"\")","v":""},{"$f":"IFERROR(VLOOKUP(H2519,DropDowns!$F$2:$G$7,2,FALSE),\"Residual categories\")","v":"Residual categories"},null,null,null,0,0,0]
[0,{"$f":"IF(OR(COUNTA(O2491:O2520)>0,COUNTA(O2520:$O$5195)>0),IF(COUNTIF(B2511:B2520,B2520)=10,B2520+7,B2520),\"\")","v":""},null,"","",null,null,null,0,0,0,0,{"$f":"IFERROR(VLOOKUP(G2521,DropDowns!$D$2:$E$151,2,FALSE),\"\")","v":""},{"$f":"IFERROR(VLOOKUP(H2521,DropDowns!$F$2:$G$7,2,FALSE),\"Residual categories\")","v":"Residual categories"},null,null,null,0,0,0]
[0,{"$f":"IF(OR(COUNTA(O2492:O2521)>0,COUNTA(O2521:$O$5195)>0),IF(COUNTIF(B2512:B2521,B2521)=10,B2521+7,B2521),\"\")","v":""},null,"","",null,null,null,0,0,0,0,{"$f":"IFERROR(VLOOKUP(G2522,DropDowns!$D$2:$E$151,2,FALSE),\"\")","v":""},{"$f":"IFERROR(VLOOKUP(H2522,DropDowns!$F$2:$G$7,2,FALSE),\"Residual categories\")","v":"Residual categories"},null,null,null,0,0,0]
[0,{"$f":"IF(OR(COUNTA(O2494:O2523)>0,COUNTA(O2523:$O$5195)>0),IF(COUNTIF(B2514:B2523,B2523)=10,B2523+7,B2523),\"\")","v":""},null,"","",null,null,null,0,0,0,0,{"$f":"IFERROR(VLOOKUP(G2524,DropDowns!$D$2:$E$151,2,FALSE),\"\")","v":""},{"$f":"IFERROR(VLOOKUP(H2524,DropDowns!$F$2:$G$7,2,FALSE),\"Residual categories\")","v":"Residual categories"},null,null,null,0,0,0]
[0,{"$f":"IF(OR(COUNTA(O2495:O2524)>0,COUNTA(O2524:$O$5195)>0),IF(COUNTIF(B2515:B2524,B2524)=10,B2524+7,B2524),\"\")","v":""},null,"","",null,null,null,0,0,0,0,{"$f":"IFERROR(VLOOKUP(G2525,DropDowns!$D$2:$E$151,2,FALSE),\"\")","v":""},{"$f":"IFERROR(VLOOKUP(H2525,DropDowns!$F$2:$G$7,2,FALSE),\"Residual categories\")","v":"Residual categories"},null,null,null,0,0,0]
[0,{"$f":"IF(OR(COUNTA(O2496:O2525)>0,COUNTA(O2525:$O$5195)>0),IF(COUNTIF(B2516:B2525,B2525)=10,B2525+7,B2525),\"\")","v":""},null,"","",null,null,null,0,0,0,0,{"$f":"IFERROR(VLOOKUP(G2526,DropDowns!$D$2:$E$151,2,FALSE),\"\")","v":""},{"$f":"IFERROR(VLOOKUP(H2526,DropDowns!$F$2:$G$7,2,FALSE),\"Residual categories\")","v":"Residual categories"},null,null,null,0,0,0]
[0,{"$f":"IF(OR(COUNTA(O2497:O2526)>0,COUNTA(O2526:$O$5195)>0),IF(COUNTIF(B2517:B2526,B2526)=10,B2526+7,B2526),\"\")","v":""},null,"","",null,null,null,0,0,0,0,{"$f":"IFERROR(VLOOKUP(G2527,DropDowns!$D$2:$E$151,2,FALSE),\"\")","v":""},{"$f":"IFERROR(VLOOKUP(H2527,DropDowns!$F$2:$G$7,2,FALSE),\"Residual categories\")","v":"Residual categories"},null,null,null,0,0,0]
[0,{"$f":"IF(OR(COUNTA(O2499:O2528)>0,COUNTA(O2528:$O$5195)>0),IF(COUNTIF(B2519:B2528,B2528)=10,B2528+7,B2528),\"\")","v":""},null,"","",null,null,null,0,0,0,0,{"$f":"IFERROR(VLOOKUP(G2529,DropDowns!$D$2:$E$151,2,FALSE),\"\")","v":""},{"$f":"IFERROR(VLOOKUP(H2529,DropDowns!$F$2:$G$7,2,FALSE),\"Residual categories\")","v":"Residual categories"},null,null,null,0,0,0]
[0,{"$f":"IF(OR(COUNTA(O2500:O2529)>0,COUNTA(O2529:$O$5195)>0),IF(COUNTIF(B2520:B2529,B2529)=10,B2529+7,B2529),\"\")","v":""},null,"","",null,null,null,0,0,0,0,{"$f":"IFERROR(VLOOKUP(G2530,DropDowns!$D$2:$E$151,2,FALSE),\"\")","v":""},{"$f":"IFERROR(VLOOKUP(H2530,DropDowns!$F$2:$G$7,2,FALSE),\"Residual categories\")","v":"Residual categories"},null,null,null,0,0,0]
[0,{"$f":"IF(OR(COUNTA(O2502:O2531)>0,COUNTA(O2531:$O$5195)>0),IF(COUNTIF(B2522:B2531,B2531)=10,B2531+7,B2531),\"\")","v":""},null,"","",null,null,null,0,0,0,0,{"$f":"IFERROR(VLOOKUP(G2532,DropDowns!$D$2:$E$151,2,FALSE),\"\")","v":""},{"$f":"IFERROR(VLOOKUP(H2532,DropDowns!$F$2:$G$7,2,FALSE),\"Residual categories\")","v":"Residual categories"},null,null,null,0,0,0]
[0,{"$f":"IF(OR(COUNTA(O2503:O2532)>0,COUNTA(O2532:$O$5195)>0),IF(COUNTIF(B2523:B2532,B2532)=10,B2532+7,B2532),\"\")","v":""},null,"","",null,null,null,0,0,0,0,{"$f":"IFERROR(VLOOKUP(G2533,DropDowns!$D$2:$E$151,2,FALSE),\"\")","v":""},{"$f":"IFERROR(VLOOKUP(H2533,DropDowns!$F$2:$G$7,2,FALSE),\"Residual categories\")","v":"Residual categories"},null,null,null,0,0,0]
[0,{"$f":"IF(OR(COUNTA(O2504:O2533)>0,COUNTA(O2533:$O$5195)>0),IF(COUNTIF(B2524:B2533,B2533)=10,B2533+7,B2533),\"\")","v":""},null,"","",null,null,null,0,0,0,0,{"$f":"IFERROR(VLOOKUP(G2534,DropDowns!$D$2:$E$151,2,FALSE),\"\")","v":""},{"$f":"IFERROR(VLOOKUP(H2534,DropDowns!$F$2:$G$7,2,FALSE),\"Residual categories\")","v":"Residual categories"},null,null,null,0,0,0]
[0,{"$f":"IF(OR(COUNTA(O2505:O2534)>0,COUNTA(O2534:$O$5195)>0),IF(COUNTIF(B2525:B2534,B2534)=10,B2534+7,B2534),\"\")","v":""},null,"","",null,null,null,0,0,0,0,{"$f":"IFERROR(VLOOKUP(G2535,DropDowns!$D$2:$E$151,2,FALSE),\"\")","v":""},{"$f":"IFERROR(VLOOKUP(H2535,DropDowns!$F$2:$G$7,2,FALSE),\"Residual categories\")","v":"Residual categories"},null,null,null,0,0,0]
[0,{"$f":"IF(OR(COUNTA(O2507:O2536)>0,COUNTA(O2536:$O$5195)>0),IF(COUNTIF(B2527:B2536,B2536)=10,B2536+7,B2536),\"\")","v":""},null,"","",null,null,null,0,0,0,0,{"$f":"IFERROR(VLOOKUP(G2537,DropDowns!$D$2:$E$151,2,FALSE),\"\")","v":""},{"$f":"IFERROR(VLOOKUP(H2537,DropDowns!$F$2:$G$7,2,FALSE),\"Residual categories\")","v":"Residual categories"},null,null,null,0,0,0]
[0,{"$f":"IF(OR(COUNTA(O2508:O2537)>0,COUNTA(O2537:$O$5195)>0),IF(COUNTIF(B2528:B2537,B2537)=10,B2537+7,B2537),\"\")","v":""},null,"","",null,null,null,0,0,0,0,{"$f":"IFERROR(VLOOKUP(G2538,DropDowns!$D$2:$E$151,2,FALSE),\"\")","v":""},{"$f":"IFERROR(VLOOKUP(H2538,DropDowns!$F$2:$G$7,2,FALSE),\"Residual categories\")","v":"Residual categories"},null,null,null,0,0,0]
[0,{"$f":"IF(OR(COUNTA(O2510:O2539)>0,COUNTA(O2539:$O$5195)>0),IF(COUNTIF(B2530:B2539,B2539)=10,B2539+7,B2539),\"\")","v":""},null,"","",null,null,null,0,0,0,0,{"$f":"IFERROR(VLOOKUP(G2540,DropDowns!$D$2:$E$151,2,FALSE),\"\")","v":""},{"$f":"IFERROR(VLOOKUP(H2540,DropDowns!$F$2:$G$7,2,FALSE),\"Residual categories\")","v":"Residual categories"},null,null,null,0,0,0]
[0,{"$f":"IF(OR(COUNTA(O2511:O2540)>0,COUNTA(O2540:$O$5195)>0),IF(COUNTIF(B2531:B2540,B2540)=10,B2540+7,B2540),\"\")","v":""},null,"","",null,null,null,0,0,0,0,{"$f":"IFERROR(VLOOKUP(G2541,DropDowns!$D$2:$E$151,2,FALSE),\"\")","v":""},{"$f":"IFERROR(VLOOKUP(H2541,DropDowns!$F$2:$G$7,2,FALSE),\"Residual categories\")","v":"Residual categories"},null,null,null,0,0,0]
[0,{"$f":"IF(OR(COUNTA(O2513:O2542)>0,COUNTA(O2542:$O$5195)>0),IF(COUNTIF(B2533:B2542,B2542)=10,B2542+7,B2542),\"\")","v":""},null,"","",null,null,null,0,0,0,0,{"$f":"IFERROR(VLOOKUP(G2543,DropDowns!$D$2:$E$151,2,FALSE),\"\")","v":""},{"$f":"IFERROR(VLOOKUP(H2543,DropDowns!$F$2:$G$7,2,FALSE),\"Residual categories\")","v":"Residual categories"},null,null,null,0,0,0]
[0,{"$f":"IF(OR(COUNTA(O2514:O2543)>0,COUNTA(O2543:$O$5195)>0),IF(COUNTIF(B2534:B2543,B2543)=10,B2543+7,B2543),\"\")","v":""},null,"","",null,null,null,0,0,0,0,{"$f":"IFERROR(VLOOKUP(G2544,DropDowns!$D$2:$E$151,2,FALSE),\"\")","v":""},{"$f":"IFERROR(VLOOKUP(H2544,DropDowns!$F$2:$G$7,2,FALSE),\"Residual categories\")","v":"Residual categories"},null,null,null,0,0,0]
[0,{"$f":"IF(OR(COUNTA(O2515:O2544)>0,COUNTA(O2544:$O$5195)>0),IF(COUNTIF(B2535:B2544,B2544)=10,B2544+7,B2544),\"\")","v":""},null,"","",null,null,null,0,0,0,0,{"$f":"IFERROR(VLOOKUP(G2545,DropDowns!$D$2:$E$151,2,FALSE),\"\")","v":""},{"$f":"IFERROR(VLOOKUP(H2545,DropDowns!$F$2:$G$7,2,FALSE),\"Residual categories\")","v":"Residual categories"},null,null,null,0,0,0]
[0,{"$f":"IF(OR(COUNTA(O2516:O2545)>0,COUNTA(O2545:$O$5195)>0),IF(COUNTIF(B2536:B2545,B2545)=10,B2545+7,B2545),\"\")","v":""},null,"","",null,null,null,0,0,0,0,{"$f":"IFERROR(VLOOKUP(G2546,DropDowns!$D$2:$E$151,2,FALSE),\"\")","v":""},{"$f":"IFERROR(VLOOKUP(H2546,DropDowns!$F$2:$G$7,2,FALSE),\"Residual categories\")","v":"Residual categories"},null,null,null,0,0,0]
[0,{"$f":"IF(OR(COUNTA(O2518:O2547)>0,COUNTA(O2547:$O$5195)>0),IF(COUNTIF(B2538:B2547,B2547)=10,B2547+7,B2547),\"\")","v":""},null,"","",null,null,null,0,0,0,0,{"$f":"IFERROR(VLOOKUP(G2548,DropDowns!$D$2:$E$151,2,FALSE),\"\")","v":""},{"$f":"IFERROR(VLOOKUP(H2548,DropDowns!$F$2:$G$7,2,FALSE),\"Residual categories\")","v":"Residual categories"},null,null,null,0,0,0]
[0,{"$f":"IF(OR(COUNTA(O2519:O2548)>0,COUNTA(O2548:$O$5195)>0),IF(COUNTIF(B2539:B2548,B2548)=10,B2548+7,B2548),\"\")","v":""},null,"","",null,null,null,0,0,0,0,{"$f":"IFERROR(VLOOKUP(G2549,DropDowns!$D$2:$E$151,2,FALSE),\"\")","v":""},{"$f":"IFERROR(VLOOKUP(H2549,DropDowns!$F$2:$G$7,2,FALSE),\"Residual categories\")","v":"Residual categories"},null,null,null,0,0,0]
[0,{"$f":"IF(OR(COUNTA(O2521:O2550)>0,COUNTA(O2550:$O$5195)>0),IF(COUNTIF(B2541:B2550,B2550)=10,B2550+7,B2550),\"\")","v":""},null,"","",null,null,null,0,0,0,0,{"$f":"IFERROR(VLOOKUP(G2551,DropDowns!$D$2:$E$151,2,FALSE),\"\")","v":""},{"$f":"IFERROR(VLOOKUP(H2551,DropDowns!$F$2:$G$7,2,FALSE),\"Residual categories\")","v":"Residual categories"},null,null,null,0,0,0]
[0,{"$f":"IF(OR(COUNTA(O2522:O2551)>0,COUNTA(O2551:$O$5195)>0),IF(COUNTIF(B2542:B2551,B2551)=10,B2551+7,B2551),\"\")","v":""},null,"","",null,null,null,0,0,0,0,{"$f":"IFERROR(VLOOKUP(G2552,DropDowns!$D$2:$E$151,2,FALSE),\"\")","v":""},{"$f":"IFERROR(VLOOKUP(H2552,DropDowns!$F$2:$G$7,2,FALSE),\"Residual categories\")","v":"Residual categories"},null,null,null,0,0,0]
[0,{"$f":"IF(OR(COUNTA(O2523:O2552)>0,COUNTA(O2552:$O$5195)>0),IF(COUNTIF(B2543:B2552,B2552)=10,B2552+7,B2552),\"\")","v":""},null,"","",null,null,null,0,0,0,0,{"$f":"IFERROR(VLOOKUP(G2553,DropDowns!$D$2:$E$151,2,FALSE),\"\")","v":""},{"$f":"IFERROR(VLOOKUP(H2553,DropDowns!$F$2:$G$7,2,FALSE),\"Residual categories\")","v":"Residual categories"},null,null,null,0,0,0]
[0,{"$f":"IF(OR(COUNTA(O2524:O2553)>0,COUNTA(O2553:$O$5195)>0),IF(COUNTIF(B2544:B2553,B2553)=10,B2553+7,B2553),\"\")","v":""},null,"","",null,null,null,0,0,0,0,{"$f":"IFERROR(VLOOKUP(G2554,DropDowns!$D$2:$E$151,2,FALSE),\"\")","v":""},{"$f":"IFERROR(VLOOKUP(H2554,DropDowns!$F$2:$G$7,2,FALSE),\"Residual categories\")","v":"Residual categories"},null,null,null,0,0,0]
[0,{"$f":"IF(OR(COUNTA(O2526:O2555)>0,COUNTA(O2555:$O$5195)>0),IF(COUNTIF(B2546:B2555,B2555)=10,B2555+7,B2555),\"\")","v":""},null,"","",null,null,null,0,0,0,0,{"$f":"IFERROR(VLOOKUP(G2556,DropDowns!$D$2:$E$151,2,FALSE),\"\")","v":""},{"$f":"IFERROR(VLOOKUP(H2556,DropDowns!$F$2:$G$7,2,FALSE),\"Residual categories\")","v":"Residual categories"},null,null,null,0,0,0]
[0,{"$f":"IF(OR(COUNTA(O2527:O2556)>0,COUNTA(O2556:$O$5195)>0),IF(COUNTIF(B2547:B2556,B2556)=10,B2556+7,B2556),\"\")","v":""},null,"","",null,null,null,0,0,0,0,{"$f":"IFERROR(VLOOKUP(G2557,DropDowns!$D$2:$E$151,2,FALSE),\"\")","v":""},{"$f":"IFERROR(VLOOKUP(H2557,DropDowns!$F$2:$G$7,2,FALSE),\"Residual categories\")","v":"Residual categories"},null,null,null,0,0,0]
[0,{"$f":"IF(OR(COUNTA(O2529:O2558)>0,COUNTA(O2558:$O$5195)>0),IF(COUNTIF(B2549:B2558,B2558)=10,B2558+7,B2558),\"\")","v":""},null,"","",null,null,null,0,0,0,0,{"$f":"IFERROR(VLOOKUP(G2559,DropDowns!$D$2:$E$151,2,FALSE),\"\")","v":""},{"$f":"IFERROR(VLOOKUP(H2559,DropDowns!$F$2:$G$7,2,FALSE),\"Residual categories\")","v":"Residual categories"},null,null,null,0,0,0]
[0,{"$f":"IF(OR(COUNTA(O2530:O2559)>0,COUNTA(O2559:$O$5195)>0),IF(COUNTIF(B2550:B2559,B2559)=10,B2559+7,B2559),\"\")","v":""},null,"","",null,null,null,0,0,0,0,{"$f":"IFERROR(VLOOKUP(G2560,DropDowns!$D$2:$E$151,2,FALSE),\"\")","v":""},{"$f":"IFERROR(VLOOKUP(H2560,DropDowns!$F$2:$G$7,2,FALSE),\"Residual categories\")","v":"Residual categories"},null,null,null,0,0,0]
[0,{"$f":"IF(OR(COUNTA(O2531:O2560)>0,COUNTA(O2560:$O$5195)>0),IF(COUNTIF(B2551:B2560,B2560)=10,B2560+7,B2560),\"\")","v":""},null,"","",null,null,null,0,0,0,0,{"$f":"IFERROR(VLOOKUP(G2561,DropDowns!$D$2:$E$151,2,FALSE),\"\")","v":""},{"$f":"IFERROR(VLOOKUP(H2561,DropDowns!$F$2:$G$7,2,FALSE),\"Residual categories\")","v":"Residual categories"},null,null,null,0,0,0]
[0,{"$f":"IF(OR(COUNTA(O2532:O2561)>0,COUNTA(O2561:$O$5195)>0),IF(COUNTIF(B2552:B2561,B2561)=10,B2561+7,B2561),\"\")","v":""},null,"","",null,null,null,0,0,0,0,{"$f":"IFERROR(VLOOKUP(G2562,DropDowns!$D$2:$E$151,2,FALSE),\"\")","v":""},{"$f":"IFERROR(VLOOKUP(H2562,DropDowns!$F$2:$G$7,2,FALSE),\"Residual categories\")","v":"Residual categories"},null,null,null,0,0,0]
[0,{"$f":"IF(OR(COUNTA(O2534:O2563)>0,COUNTA(O2563:$O$5195)>0),IF(COUNTIF(B2554:B2563,B2563)=10,B2563+7,B2563),\"\")","v":""},null,"","",null,null,null,0,0,0,0,{"$f":"IFERROR(VLOOKUP(G2564,DropDowns!$D$2:$E$151,2,FALSE),\"\")","v":""},{"$f":"IFERROR(VLOOKUP(H2564,DropDowns!$F$2:$G$7,2,FALSE),\"Residual categories\")","v":"Residual categories"},null,null,null,0,0,0]
[0,{"$f":"IF(OR(COUNTA(O2535:O2564)>0,COUNTA(O2564:$O$5195)>0),IF(COUNTIF(B2555:B2564,B2564)=10,B2564+7,B2564),\"\")","v":""},null,"","",null,null,null,0,0,0,0,{"$f":"IFERROR(VLOOKUP(G2565,DropDowns!$D$2:$E$151,2,FALSE),\"\")","v":""},{"$f":"IFERROR(VLOOKUP(H2565,DropDowns!$F$2:$G$7,2,FALSE),\"Residual categories\")","v":"Residual categories"},null,null,null,0,0,0]
[0,{"$f":"IF(OR(COUNTA(O2537:O2566)>0,COUNTA(O2566:$O$5195)>0),IF(COUNTIF(B2557:B2566,B2566)=10,B2566+7,B2566),\"\")","v":""},null,{"$f":"IF(E2567=1,B2567,\"\")","v":""},"",null,null,null,{"$f":"IF(COUNTA(O2567:Q2567)>0,1,0)","v":0},{"$f":"IF(O2567=\"y\",1,0)","v":0},{"$f":"IF(P2567=\"y\",1,0)","v":0},{"$f":"IF(Q2567=\"y\",1,0)","v":0},{"$f":"IFERROR(VLOOKUP(G2567,DropDowns!$D$2:$E$151,2,FALSE),\"\")","v":""},{"$f":"IFERROR(VLOOKUP(H2567,DropDowns!$F$2:$G$7,2,FALSE),\"Residual categories\")","v":"Residual categories"},null,null,null,{"$f":"IF(O2567=\"yes\",1,0)","v":0},{"$f":"IF(P2567=\"yes\",1,0)","v":0},{"$f":"IF(Q2567=\"yes\",1,0)","v":0}]
[0,{"$f":"IF(OR(COUNTA(O2538:O2567)>0,COUNTA(O2567:$O$5195)>0),IF(COUNTIF(B2558:B2567,B2567)=10,B2567+7,B2567),\"\")","v":""},null,"","",null,null,null,0,0,0,0,{"$f":"IFERROR(VLOOKUP(G2568,DropDowns!$D$2:$E$151,2,FALSE),\"\")","v":""},{"$f":"IFERROR(VLOOKUP(H2568,DropDowns!$F$2:$G$7,2,FALSE),\"Residual categories\")","v":"Residual categories"},null,null,null,0,0,0]
[0,{"$f":"IF(OR(COUNTA(O2539:O2568)>0,COUNTA(O2568:$O$5195)>0),IF(COUNTIF(B2559:B2568,B2568)=10,B2568+7,B2568),\"\")","v":""},null,"","",null,null,null,0,0,0,0,{"$f":"IFERROR(VLOOKUP(G2569,DropDowns!$D$2:$E$151,2,FALSE),\"\")","v":""},{"$f":"IFERROR(VLOOKUP(H2569,DropDowns!$F$2:$G$7,2,FALSE),\"Residual categories\")","v":"Residual categories"},null,null,null,0,0,0]
[0,{"$f":"IF(OR(COUNTA(O2540:O2569)>0,COUNTA(O2569:$O$5195)>0),IF(COUNTIF(B2560:B2569,B2569)=10,B2569+7,B2569),\"\")","v":""},null,"","",null,null,null,0,0,0,0,{"$f":"IFERROR(VLOOKUP(G2570,DropDowns!$D$2:$E$151,2,FALSE),\"\")","v":""},{"$f":"IFERROR(VLOOKUP(H2570,DropDowns!$F$2:$G$7,2,FALSE),\"Residual categories\")","v":"Residual categories"},null,null,null,0,0,0]
[0,{"$f":"IF(OR(COUNTA(O2542:O2571)>0,COUNTA(O2571:$O$5195)>0),IF(COUNTIF(B2562:B2571,B2571)=10,B2571+7,B2571),\"\")","v":""},null,"","",null,null,null,0,0,0,0,{"$f":"IFERROR(VLOOKUP(G2572,DropDowns!$D$2:$E$151,2,FALSE),\"\")","v":""},{"$f":"IFERROR(VLOOKUP(H2572,DropDowns!$F$2:$G$7,2,FALSE),\"Residual categories\")","v":"Residual categories"},null,null,null,0,0,0]
[0,{"$f":"IF(OR(COUNTA(O2543:O2572)>0,COUNTA(O2572:$O$5195)>0),IF(COUNTIF(B2563:B2572,B2572)=10,B2572+7,B2572),\"\")","v":""},null,"","",null,null,null,0,0,0,0,{"$f":"IFERROR(VLOOKUP(G2573,DropDowns!$D$2:$E$151,2,FALSE),\"\")","v":""},{"$f":"IFERROR(VLOOKUP(H2573,DropDowns!$F$2:$G$7,2,FALSE),\"Residual categories\")","v":"Residual categories"},null,null,null,0,0,0]
[0,{"$f":"IF(OR(COUNTA(O2545:O2574)>0,COUNTA(O2574:$O$5195)>0),IF(COUNTIF(B2565:B2574,B2574)=10,B2574+7,B2574),\"\")","v":""},null,"","",null,null,null,0,0,0,0,{"$f":"IFERROR(VLOOKUP(G2575,DropDowns!$D$2:$E$151,2,FALSE),\"\")","v":""},{"$f":"IFERROR(VLOOKUP(H2575,DropDowns!$F$2:$G$7,2,FALSE),\"Residual categories\")","v":"Residual categories"},null,null,null,0,0,0]
[0,{"$f":"IF(OR(COUNTA(O2546:O2575)>0,COUNTA(O2575:$O$5195)>0),IF(COUNTIF(B2566:B2575,B2575)=10,B2575+7,B2575),\"\")","v":""},null,"","",null,null,null,0,0,0,0,{"$f":"IFERROR(VLOOKUP(G2576,DropDowns!$D$2:$E$151,2,FALSE),\"\")","v":""},{"$f":"IFERROR(VLOOKUP(H2576,DropDowns!$F$2:$G$7,2,FALSE),\"Residual categories\")","v":"Residual categories"},null,null,null,0,0,0]
[0,{"$f":"IF(OR(COUNTA(O2548:O2577)>0,COUNTA(O2577:$O$5195)>0),IF(COUNTIF(B2568:B2577,B2577)=10,B2577+7,B2577),\"\")","v":""},null,"","",null,null,null,0,0,0,0,{"$f":"IFERROR(VLOOKUP(G2578,DropDowns!$D$2:$E$151,2,FALSE),\"\")","v":""},{"$f":"IFERROR(VLOOKUP(H2578,DropDowns!$F$2:$G$7,2,FALSE),\"Residual categories\")","v":"Residual categories"},null,null,null,0,0,0]
[0,{"$f":"IF(OR(COUNTA(O2549:O2578)>0,COUNTA(O2578:$O$5195)>0),IF(COUNTIF(B2569:B2578,B2578)=10,B2578+7,B2578),\"\")","v":""},null,"","",null,null,null,0,0,0,0,{"$f":"IFERROR(VLOOKUP(G2579,DropDowns!$D$2:$E$151,2,FALSE),\"\")","v":""},{"$f":"IFERROR(VLOOKUP(H2579,DropDowns!$F$2:$G$7,2,FALSE),\"Residual categories\")","v":"Residual categories"},null,null,null,0,0,0]
[{"$f":"$E$2","v":0},{"$f":"IF(OR(COUNTA(O2550:O2579)>0,COUNTA(O2579:$O$5195)>0),IF(COUNTIF(B2570:B2579,B2579)=10,B2579+7,B2579),\"\")","v":""},null,"","",null,null,null,0,0,0,0,{"$f":"IFERROR(VLOOKUP(G2580,DropDowns!$D$2:$E$151,2,FALSE),\"\")","v":""},{"$f":"IFERROR(VLOOKUP(H2580,DropDowns!$F$2:$G$7,2,FALSE),\"Residual categories\")","v":"Residual categories"},null,null,null,0,0,0]
[0,{"$f":"IF(OR(COUNTA(O2551:O2580)>0,COUNTA(O2580:$O$5195)>0),IF(COUNTIF(B2571:B2580,B2580)=10,B2580+7,B2580),\"\")","v":""},null,"","",null,null,null,0,0,0,0,{"$f":"IFERROR(VLOOKUP(G2581,DropDowns!$D$2:$E$151,2,FALSE),\"\")","v":""},{"$f":"IFERROR(VLOOKUP(H2581,DropDowns!$F$2:$G$7,2,FALSE),\"Residual categories\")","v":"Residual categories"},null,null,null,0,0,0]
[0,{"$f":"IF(OR(COUNTA(O2553:O2582)>0,COUNTA(O2582:$O$5195)>0),IF(COUNTIF(B2573:B2582,B2582)=10,B2582+7,B2582),\"\")","v":""},null,"","",null,null,null,0,0,0,0,{"$f":"IFERROR(VLOOKUP(G2583,DropDowns!$D$2:$E$151,2,FALSE),\"\")","v":""},{"$f":"IFERROR(VLOOKUP(H2583,DropDowns!$F$2:$G$7,2,FALSE),\"Residual categories\")","v":"Residual categories"},null,null,null,0,0,0]
[0,{"$f":"IF(OR(COUNTA(O2554:O2583)>0,COUNTA(O2583:$O$5195)>0),IF(COUNTIF(B2574:B2583,B2583)=10,B2583+7,B2583),\"\")","v":""},null,"","",null,null,null,0,0,0,0,{"$f":"IFERROR(VLOOKUP(G2584,DropDowns!$D$2:$E$151,2,FALSE),\"\")","v":""},{"$f":"IFERROR(VLOOKUP(H2584,DropDowns!$F$2:$G$7,2,FALSE),\"Residual categories\")","v":"Residual categories"},null,null,null,0,0,0]
[0,{"$f":"IF(OR(COUNTA(O2556:O2585)>0,COUNTA(O2585:$O$5195)>0),IF(COUNTIF(B2576:B2585,B2585)=10,B2585+7,B2585),\"\")","v":""},null,"","",null,null,null,0,0,0,0,{"$f":"IFERROR(VLOOKUP(G2586,DropDowns!$D$2:$E$151,2,FALSE),\"\")","v":""},{"$f":"IFERROR(VLOOKUP(H2586,DropDowns!$F$2:$G$7,2,FALSE),\"Residual categories\")","v":"Residual categories"},null,null,null,0,0,0]
[0,{"$f":"IF(OR(COUNTA(O2557:O2586)>0,COUNTA(O2586:$O$5195)>0),IF(COUNTIF(B2577:B2586,B2586)=10,B2586+7,B2586),\"\")","v":""},null,"","",null,null,null,0,0,0,0,{"$f":"IFERROR(VLOOKUP(G2587,DropDowns!$D$2:$E$151,2,FALSE),\"\")","v":""},{"$f":"IFERROR(VLOOKUP(H2587,DropDowns!$F$2:$G$7,2,FALSE),\"Residual categories\")","v":"Residual categories"},null,null,null,0,0,0]
[0,{"$f":"IF(OR(COUNTA(O2558:O2587)>0,COUNTA(O2587:$O$5195)>0),IF(COUNTIF(B2578:B2587,B2587)=10,B2587+7,B2587),\"\")","v":""},null,"","",null,null,null,0,0,0,0,{"$f":"IFERROR(VLOOKUP(G2588,DropDowns!$D$2:$E$151,2,FALSE),\"\")","v":""},{"$f":"IFERROR(VLOOKUP(H2588,DropDowns!$F$2:$G$7,2,FALSE),\"Residual categories\")","v":"Residual categories"},null,null,null,0,0,0]
[0,{"$f":"IF(OR(COUNTA(O2559:O2588)>0,COUNTA(O2588:$O$5195)>0),IF(COUNTIF(B2579:B2588,B2588)=10,B2588+7,B2588),\"\")","v":""},null,"","",null,null,null,0,0,0,0,{"$f":"IFERROR(VLOOKUP(G2589,DropDowns!$D$2:$E$151,2,FALSE),\"\")","v":""},{"$f":"IFERROR(VLOOKUP(H2589,DropDowns!$F$2:$G$7,2,FALSE),\"Residual categories\")","v":"Residual categories"},null,null,null,0,0,0]
[0,{"$f":"IF(OR(COUNTA(O2561:O2590)>0,COUNTA(O2590:$O$5195)>0),IF(COUNTIF(B2581:B2590,B2590)=10,B2590+7,B2590),\"\")","v":""},null,"","",null,null,null,0,0,0,0,{"$f":"IFERROR(VLOOKUP(G2591,DropDowns!$D$2:$E$151,2,FALSE),\"\")","v":""},{"$f":"IFERROR(VLOOKUP(H2591,DropDowns!$F$2:$G$7,2,FALSE),\"Residual categories\")","v":"Residual categories"},null,null,null,0,0,0]
[0,{"$f":"IF(OR(COUNTA(O2562:O2591)>0,COUNTA(O2591:$O$5195)>0),IF(COUNTIF(B2582:B2591,B2591)=10,B2591+7,B2591),\"\")","v":""},null,"","",null,null,null,0,0,0,0,{"$f":"IFERROR(VLOOKUP(G2592,DropDowns!$D$2:$E$151,2,FALSE),\"\")","v":""},{"$f":"IFERROR(VLOOKUP(H2592,DropDowns!$F$2:$G$7,2,FALSE),\"Residual categories\")","v":"Residual categories"},null,null,null,0,0,0]
[0,{"$f":"IF(OR(COUNTA(O2564:O2593)>0,COUNTA(O2593:$O$5195)>0),IF(COUNTIF(B2584:B2593,B2593)=10,B2593+7,B2593),\"\")","v":""},null,"","",null,null,null,0,0,0,0,{"$f":"IFERROR(VLOOKUP(G2594,DropDowns!$D$2:$E$151,2,FALSE),\"\")","v":""},{"$f":"IFERROR(VLOOKUP(H2594,DropDowns!$F$2:$G$7,2,FALSE),\"Residual categories\")","v":"Residual categories"},null,null,null,0,0,0]
[0,{"$f":"IF(OR(COUNTA(O2565:O2594)>0,COUNTA(O2594:$O$5195)>0),IF(COUNTIF(B2585:B2594,B2594)=10,B2594+7,B2594),\"\")","v":""},null,"","",null,null,null,0,0,0,0,{"$f":"IFERROR(VLOOKUP(G2595,DropDowns!$D$2:$E$151,2,FALSE),\"\")","v":""},{"$f":"IFERROR(VLOOKUP(H2595,DropDowns!$F$2:$G$7,2,FALSE),\"Residual categories\")","v":"Residual categories"},null,null,null,0,0,0]
[0,{"$f":"IF(OR(COUNTA(O2566:O2595)>0,COUNTA(O2595:$O$5195)>0),IF(COUNTIF(B2586:B2595,B2595)=10,B2595+7,B2595),\"\")","v":""},null,"","",null,null,null,0,0,0,0,{"$f":"IFERROR(VLOOKUP(G2596,DropDowns!$D$2:$E$151,2,FALSE),\"\")","v":""},{"$f":"IFERROR(VLOOKUP(H2596,DropDowns!$F$2:$G$7,2,FALSE),\"Residual categories\")","v":"Residual categories"},null,null,null,0,0,0]
[0,{"$f":"IF(OR(COUNTA(O2567:O2596)>0,COUNTA(O2596:$O$5195)>0),IF(COUNTIF(B2587:B2596,B2596)=10,B2596+7,B2596),\"\")","v":""},null,"","",null,null,null,0,0,0,0,{"$f":"IFERROR(VLOOKUP(G2597,DropDowns!$D$2:$E$151,2,FALSE),\"\")","v":""},{"$f":"IFERROR(VLOOKUP(H2597,DropDowns!$F$2:$G$7,2,FALSE),\"Residual categories\")","v":"Residual categories"},null,null,null,0,0,0]
[0,{"$f":"IF(OR(COUNTA(O2569:O2598)>0,COUNTA(O2598:$O$5195)>0),IF(COUNTIF(B2589:B2598,B2598)=10,B2598+7,B2598),\"\")","v":""},null,"","",null,null,null,0,0,0,0,{"$f":"IFERROR(VLOOKUP(G2599,DropDowns!$D$2:$E$151,2,FALSE),\"\")","v":""},{"$f":"IFERROR(VLOOKUP(H2599,DropDowns!$F$2:$G$7,2,FALSE),\"Residual categories\")","v":"Residual categories"},null,null,null,0,0,0]
[0,{"$f":"IF(OR(COUNTA(O2570:O2599)>0,COUNTA(O2599:$O$5195)>0),IF(COUNTIF(B2590:B2599,B2599)=10,B2599+7,B2599),\"\")","v":""},null,"","",null,null,null,0,0,0,0,{"$f":"IFERROR(VLOOKUP(G2600,DropDowns!$D$2:$E$151,2,FALSE),\"\")","v":""},{"$f":"IFERROR(VLOOKUP(H2600,DropDowns!$F$2:$G$7,2,FALSE),\"Residual categories\")","v":"Residual categories"},null,null,null,0,0,0]
[0,{"$f":"IF(OR(COUNTA(O2572:O2601)>0,COUNTA(O2601:$O$5195)>0),IF(COUNTIF(B2592:B2601,B2601)=10,B2601+7,B2601),\"\")","v":""},null,"","",null,null,null,0,0,0,0,{"$f":"IFERROR(VLOOKUP(G2602,DropDowns!$D$2:$E$151,2,FALSE),\"\")","v":""},{"$f":"IFERROR(VLOOKUP(H2602,DropDowns!$F$2:$G$7,2,FALSE),\"Residual categories\")","v":"Residual categories"},null,null,null,0,0,0]
[0,{"$f":"IF(OR(COUNTA(O2573:O2602)>0,COUNTA(O2602:$O$5195)>0),IF(COUNTIF(B2593:B2602,B2602)=10,B2602+7,B2602),\"\")","v":""},null,"","",null,null,null,0,0,0,0,{"$f":"IFERROR(VLOOKUP(G2603,DropDowns!$D$2:$E$151,2,FALSE),\"\")","v":""},{"$f":"IFERROR(VLOOKUP(H2603,DropDowns!$F$2:$G$7,2,FALSE),\"Residual categories\")","v":"Residual categories"},null,null,null,0,0,0]
[0,{"$f":"IF(OR(COUNTA(O2575:O2604)>0,COUNTA(O2604:$O$5195)>0),IF(COUNTIF(B2595:B2604,B2604)=10,B2604+7,B2604),\"\")","v":""},null,"","",null,null,null,0,0,0,0,{"$f":"IFERROR(VLOOKUP(G2605,DropDowns!$D$2:$E$151,2,FALSE),\"\")","v":""},{"$f":"IFERROR(VLOOKUP(H2605,DropDowns!$F$2:$G$7,2,FALSE),\"Residual categories\")","v":"Residual categories"},null,null,null,0,0,0]
[0,{"$f":"IF(OR(COUNTA(O2576:O2605)>0,COUNTA(O2605:$O$5195)>0),IF(COUNTIF(B2596:B2605,B2605)=10,B2605+7,B2605),\"\")","v":""},null,"","",null,null,null,0,0,0,0,{"$f":"IFERROR(VLOOKUP(G2606,DropDowns!$D$2:$E$151,2,FALSE),\"\")","v":""},{"$f":"IFERROR(VLOOKUP(H2606,DropDowns!$F$2:$G$7,2,FALSE),\"Residual categories\")","v":"Residual categories"},null,null,null,0,0,0]
[0,{"$f":"IF(OR(COUNTA(O2577:O2606)>0,COUNTA(O2606:$O$5195)>0),IF(COUNTIF(B2597:B2606,B2606)=10,B2606+7,B2606),\"\")","v":""},null,"","",null,null,null,0,0,0,0,{"$f":"IFERROR(VLOOKUP(G2607,DropDowns!$D$2:$E$151,2,FALSE),\"\")","v":""},{"$f":"IFERROR(VLOOKUP(H2607,DropDowns!$F$2:$G$7,2,FALSE),\"Residual categories\")","v":"Residual categories"},null,null,null,0,0,0]
[0,{"$f":"IF(OR(COUNTA(O2578:O2607)>0,COUNTA(O2607:$O$5195)>0),IF(COUNTIF(B2598:B2607,B2607)=10,B2607+7,B2607),\"\")","v":""},null,"","",null,null,null,0,0,0,0,{"$f":"IFERROR(VLOOKUP(G2608,DropDowns!$D$2:$E$151,2,FALSE),\"\")","v":""},{"$f":"IFERROR(VLOOKUP(H2608,DropDowns!$F$2:$G$7,2,FALSE),\"Residual categories\")","v":"Residual categories"},null,null,null,0,0,0]
[0,{"$f":"IF(OR(COUNTA(O2580:O2609)>0,COUNTA(O2609:$O$5195)>0),IF(COUNTIF(B2600:B2609,B2609)=10,B2609+7,B2609),\"\")","v":""},null,"","",null,null,null,0,0,0,0,{"$f":"IFERROR(VLOOKUP(G2610,DropDowns!$D$2:$E$151,2,FALSE),\"\")","v":""},{"$f":"IFERROR(VLOOKUP(H2610,DropDowns!$F$2:$G$7,2,FALSE),\"Residual categories\")","v":"Residual categories"},null,null,null,0,0,0]
[0,{"$f":"IF(OR(COUNTA(O2581:O2610)>0,COUNTA(O2610:$O$5195)>0),IF(COUNTIF(B2601:B2610,B2610)=10,B2610+7,B2610),\"\")","v":""},null,"","",null,null,null,0,0,0,0,{"$f":"IFERROR(VLOOKUP(G2611,DropDowns!$D$2:$E$151,2,FALSE),\"\")","v":""},{"$f":"IFERROR(VLOOKUP(H2611,DropDowns!$F$2:$G$7,2,FALSE),\"Residual categories\")","v":"Residual categories"},null,null,null,0,0,0]
[0,{"$f":"IF(OR(COUNTA(O2583:O2612)>0,COUNTA(O2612:$O$5195)>0),IF(COUNTIF(B2603:B2612,B2612)=10,B2612+7,B2612),\"\")","v":""},null,"","",null,null,null,0,0,0,0,{"$f":"IFERROR(VLOOKUP(G2613,DropDowns!$D$2:$E$151,2,FALSE),\"\")","v":""},{"$f":"IFERROR(VLOOKUP(H2613,DropDowns!$F$2:$G$7,2,FALSE),\"Residual categories\")","v":"Residual categories"},null,null,null,0,0,0]
[0,{"$f":"IF(OR(COUNTA(O2584:O2613)>0,COUNTA(O2613:$O$5195)>0),IF(COUNTIF(B2604:B2613,B2613)=10,B2613+7,B2613),\"\")","v":""},null,"","",null,null,null,0,0,0,0,{"$f":"IFERROR(VLOOKUP(G2614,DropDowns!$D$2:$E$151,2,FALSE),\"\")","v":""},{"$f":"IFERROR(VLOOKUP(H2614,DropDowns!$F$2:$G$7,2,FALSE),\"Residual categories\")","v":"Residual categories"},null,null,null,0,0,0]
[0,{"$f":"IF(OR(COUNTA(O2585:O2614)>0,COUNTA(O2614:$O$5195)>0),IF(COUNTIF(B2605:B2614,B2614)=10,B2614+7,B2614),\"\")","v":""},null,"","",null,null,null,0,0,0,0,{"$f":"IFERROR(VLOOKUP(G2615,DropDowns!$D$2:$E$151,2,FALSE),\"\")","v":""},{"$f":"IFERROR(VLOOKUP(H2615,DropDowns!$F$2:$G$7,2,FALSE),\"Residual categories\")","v":"Residual categories"},null,null,null,0,0,0]
[0,{"$f":"IF(OR(COUNTA(O2586:O2615)>0,COUNTA(O2615:$O$5195)>0),IF(COUNTIF(B2606:B2615,B2615)=10,B2615+7,B2615),\"\")","v":""},null,"","",null,null,null,0,0,0,0,{"$f":"IFERROR(VLOOKUP(G2616,DropDowns!$D$2:$E$151,2,FALSE),\"\")","v":""},{"$f":"IFERROR(VLOOKUP(H2616,DropDowns!$F$2:$G$7,2,FALSE),\"Residual categories\")","v":"Residual categories"},null,null,null,0,0,0]
[0,{"$f":"IF(OR(COUNTA(O2588:O2617)>0,COUNTA(O2617:$O$5195)>0),IF(COUNTIF(B2608:B2617,B2617)=10,B2617+7,B2617),\"\")","v":""},null,"","",null,null,null,0,0,0,0,{"$f":"IFERROR(VLOOKUP(G2618,DropDowns!$D$2:$E$151,2,FALSE),\"\")","v":""},{"$f":"IFERROR(VLOOKUP(H2618,DropDowns!$F$2:$G$7,2,FALSE),\"Residual categories\")","v":"Residual categories"},null,null,null,0,0,0]
[0,{"$f":"IF(OR(COUNTA(O2589:O2618)>0,COUNTA(O2618:$O$5195)>0),IF(COUNTIF(B2609:B2618,B2618)=10,B2618+7,B2618),\"\")","v":""},null,"","",null,null,null,0,0,0,0,{"$f":"IFERROR(VLOOKUP(G2619,DropDowns!$D$2:$E$151,2,FALSE),\"\")","v":""},{"$f":"IFERROR(VLOOKUP(H2619,DropDowns!$F$2:$G$7,2,FALSE),\"Residual categories\")","v":"Residual categories"},null,null,null,0,0,0]
[0,{"$f":"IF(OR(COUNTA(O2591:O2620)>0,COUNTA(O2620:$O$5195)>0),IF(COUNTIF(B2611:B2620,B2620)=10,B2620+7,B2620),\"\")","v":""},null,"","",null,null,null,0,0,0,0,{"$f":"IFERROR(VLOOKUP(G2621,DropDowns!$D$2:$E$151,2,FALSE),\"\")","v":""},{"$f":"IFERROR(VLOOKUP(H2621,DropDowns!$F$2:$G$7,2,FALSE),\"Residual categories\")","v":"Residual categories"},null,null,null,0,0,0]
[0,{"$f":"IF(OR(COUNTA(O2592:O2621)>0,COUNTA(O2621:$O$5195)>0),IF(COUNTIF(B2612:B2621,B2621)=10,B2621+7,B2621),\"\")","v":""},null,"","",null,null,null,0,0,0,0,{"$f":"IFERROR(VLOOKUP(G2622,DropDowns!$D$2:$E$151,2,FALSE),\"\")","v":""},{"$f":"IFERROR(VLOOKUP(H2622,DropDowns!$F$2:$G$7,2,FALSE),\"Residual categories\")","v":"Residual categories"},null,null,null,0,0,0]
[0,{"$f":"IF(OR(COUNTA(O2593:O2622)>0,COUNTA(O2622:$O$5195)>0),IF(COUNTIF(B2613:B2622,B2622)=10,B2622+7,B2622),\"\")","v":""},null,"","",null,null,null,0,0,0,0,{"$f":"IFERROR(VLOOKUP(G2623,DropDowns!$D$2:$E$151,2,FALSE),\"\")","v":""},{"$f":"IFERROR(VLOOKUP(H2623,DropDowns!$F$2:$G$7,2,FALSE),\"Residual categories\")","v":"Residual categories"},null,null,null,0,0,0]
[0,{"$f":"IF(OR(COUNTA(O2594:O2623)>0,COUNTA(O2623:$O$5195)>0),IF(COUNTIF(B2614:B2623,B2623)=10,B2623+7,B2623),\"\")","v":""},null,"","",null,null,null,0,0,0,0,{"$f":"IFERROR(VLOOKUP(G2624,DropDowns!$D$2:$E$151,2,FALSE),\"\")","v":""},{"$f":"IFERROR(VLOOKUP(H2624,DropDowns!$F$2:$G$7,2,FALSE),\"Residual categories\")","v":"Residual categories"},null,null,null,0,0,0]
[0,{"$f":"IF(OR(COUNTA(O2596:O2625)>0,COUNTA(O2625:$O$5195)>0),IF(COUNTIF(B2616:B2625,B2625)=10,B2625+7,B2625),\"\")","v":""},null,"","",null,null,null,0,0,0,0,{"$f":"IFERROR(VLOOKUP(G2626,DropDowns!$D$2:$E$151,2,FALSE),\"\")","v":""},{"$f":"IFERROR(VLOOKUP(H2626,DropDowns!$F$2:$G$7,2,FALSE),\"Residual categories\")","v":"Residual categories"},null,null,null,0,0,0]
[0,{"$f":"IF(OR(COUNTA(O2597:O2626)>0,COUNTA(O2626:$O$5195)>0),IF(COUNTIF(B2617:B2626,B2626)=10,B2626+7,B2626),\"\")","v":""},null,"","",null,null,null,0,0,0,0,{"$f":"IFERROR(VLOOKUP(G2627,DropDowns!$D$2:$E$151,2,FALSE),\"\")","v":""},{"$f":"IFERROR(VLOOKUP(H2627,DropDowns!$F$2:$G$7,2,FALSE),\"Residual categories\")","v":"Residual categories"},null,null,null,0,0,0]
[0,{"$f":"IF(OR(COUNTA(O2599:O2628)>0,COUNTA(O2628:$O$5195)>0),IF(COUNTIF(B2619:B2628,B2628)=10,B2628+7,B2628),\"\")","v":""},null,"","",null,null,null,0,0,0,0,{"$f":"IFERROR(VLOOKUP(G2629,DropDowns!$D$2:$E$151,2,FALSE),\"\")","v":""},{"$f":"IFERROR(VLOOKUP(H2629,DropDowns!$F$2:$G$7,2,FALSE),\"Residual categories\")","v":"Residual categories"},null,null,null,0,0,0]
[0,{"$f":"IF(OR(COUNTA(O2600:O2629)>0,COUNTA(O2629:$O$5195)>0),IF(COUNTIF(B2620:B2629,B2629)=10,B2629+7,B2629),\"\")","v":""},null,"","",null,null,null,0,0,0,0,{"$f":"IFERROR(VLOOKUP(G2630,DropDowns!$D$2:$E$151,2,FALSE),\"\")","v":""},{"$f":"IFERROR(VLOOKUP(H2630,DropDowns!$F$2:$G$7,2,FALSE),\"Residual categories\")","v":"Residual categories"},null,null,null,0,0,0]
[0,{"$f":"IF(OR(COUNTA(O2601:O2630)>0,COUNTA(O2630:$O$5195)>0),IF(COUNTIF(B2621:B2630,B2630)=10,B2630+7,B2630),\"\")","v":""},null,{"$f":"IF(E2631=1,B2631,\"\")","v":""},"",null,null,null,{"$f":"IF(COUNTA(O2631:Q2631)>0,1,0)","v":0},{"$f":"IF(O2631=\"y\",1,0)","v":0},{"$f":"IF(P2631=\"y\",1,0)","v":0},{"$f":"IF(Q2631=\"y\",1,0)","v":0},{"$f":"IFERROR(VLOOKUP(G2631,DropDowns!$D$2:$E$151,2,FALSE),\"\")","v":""},{"$f":"IFERROR(VLOOKUP(H2631,DropDowns!$F$2:$G$7,2,FALSE),\"Residual categories\")","v":"Residual categories"},null,null,null,{"$f":"IF(O2631=\"yes\",1,0)","v":0},{"$f":"IF(P2631=\"yes\",1,0)","v":0},{"$f":"IF(Q2631=\"yes\",1,0)","v":0}]
[0,{"$f":"IF(OR(COUNTA(O2602:O2631)>0,COUNTA(O2631:$O$5195)>0),IF(COUNTIF(B2622:B2631,B2631)=10,B2631+7,B2631),\"\")","v":""},null,"","",null,null,null,0,0,0,0,{"$f":"IFERROR(VLOOKUP(G2632,DropDowns!$D$2:$E$151,2,FALSE),\"\")","v":""},{"$f":"IFERROR(VLOOKUP(H2632,DropDowns!$F$2:$G$7,2,FALSE),\"Residual categories\")","v":"Residual categories"},null,null,null,0,0,0]
[0,{"$f":"IF(OR(COUNTA(O2604:O2633)>0,COUNTA(O2633:$O$5195)>0),IF(COUNTIF(B2624:B2633,B2633)=10,B2633+7,B2633),\"\")","v":""},null,"","",null,null,null,0,0,0,0,{"$f":"IFERROR(VLOOKUP(G2634,DropDowns!$D$2:$E$151,2,FALSE),\"\")","v":""},{"$f":"IFERROR(VLOOKUP(H2634,DropDowns!$F$2:$G$7,2,FALSE),\"Residual categories\")","v":"Residual categories"},null,null,null,0,0,0]
[0,{"$f":"IF(OR(COUNTA(O2605:O2634)>0,COUNTA(O2634:$O$5195)>0),IF(COUNTIF(B2625:B2634,B2634)=10,B2634+7,B2634),\"\")","v":""},null,"","",null,null,null,0,0,0,0,{"$f":"IFERROR(VLOOKUP(G2635,DropDowns!$D$2:$E$151,2,FALSE),\"\")","v":""},{"$f":"IFERROR(VLOOKUP(H2635,DropDowns!$F$2:$G$7,2,FALSE),\"Residual categories\")","v":"Residual categories"},null,null,null,0,0,0]
[0,{"$f":"IF(OR(COUNTA(O2607:O2636)>0,COUNTA(O2636:$O$5195)>0),IF(COUNTIF(B2627:B2636,B2636)=10,B2636+7,B2636),\"\")","v":""},null,"","",null,null,null,0,0,0,0,{"$f":"IFERROR(VLOOKUP(G2637,DropDowns!$D$2:$E$151,2,FALSE),\"\")","v":""},{"$f":"IFERROR(VLOOKUP(H2637,DropDowns!$F$2:$G$7,2,FALSE),\"Residual categories\")","v":"Residual categories"},null,null,null,0,0,0]
[0,{"$f":"IF(OR(COUNTA(O2608:O2637)>0,COUNTA(O2637:$O$5195)>0),IF(COUNTIF(B2628:B2637,B2637)=10,B2637+7,B2637),\"\")","v":""},null,"","",null,null,null,0,0,0,0,{"$f":"IFERROR(VLOOKUP(G2638,DropDowns!$D$2:$E$151,2,FALSE),\"\")","v":""},{"$f":"IFERROR(VLOOKUP(H2638,DropDowns!$F$2:$G$7,2,FALSE),\"Residual categories\")","v":"Residual categories"},null,null,null,0,0,0]
[0,{"$f":"IF(OR(COUNTA(O2610:O2639)>0,COUNTA(O2639:$O$5195)>0),IF(COUNTIF(B2630:B2639,B2639)=10,B2639+7,B2639),\"\")","v":""},null,"","",null,null,null,0,0,0,0,{"$f":"IFERROR(VLOOKUP(G2640,DropDowns!$D$2:$E$151,2,FALSE),\"\")","v":""},{"$f":"IFERROR(VLOOKUP(H2640,DropDowns!$F$2:$G$7,2,FALSE),\"Residual categories\")","v":"Residual categories"},null,null,null,0,0,0]
[0,{"$f":"IF(OR(COUNTA(O2611:O2640)>0,COUNTA(O2640:$O$5195)>0),IF(COUNTIF(B2631:B2640,B2640)=10,B2640+7,B2640),\"\")","v":""},null,"",{"$f":"IF(B2641=\"\",\"\",COUNTIF(B2632:B2641,B2641))","v":""},null,null,null,0,0,0,0,{"$f":"IFERROR(VLOOKUP(G2641,DropDowns!$D$2:$E$151,2,FALSE),\"\")","v":""},{"$f":"IFERROR(VLOOKUP(H2641,DropDowns!$F$2:$G$7,2,FALSE),\"Residual categories\")","v":"Residual categories"},null,null,null,0,0,0]
[0,{"$f":"IF(OR(COUNTA(O2612:O2641)>0,COUNTA(O2641:$O$5195)>0),IF(COUNTIF(B2632:B2641,B2641)=10,B2641+7,B2641),\"\")","v":""},null,"","",null,null,null,0,0,0,0,{"$f":"IFERROR(VLOOKUP(G2642,DropDowns!$D$2:$E$151,2,FALSE),\"\")","v":""},{"$f":"IFERROR(VLOOKUP(H2642,DropDowns!$F$2:$G$7,2,FALSE),\"Residual categories\")","v":"Residual categories"},null,null,null,0,0,0]
[0,{"$f":"IF(OR(COUNTA(O2613:O2642)>0,COUNTA(O2642:$O$5195)>0),IF(COUNTIF(B2633:B2642,B2642)=10,B2642+7,B2642),\"\")","v":""},null,"","",null,null,null,0,0,0,0,{"$f":"IFERROR(VLOOKUP(G2643,DropDowns!$D$2:$E$151,2,FALSE),\"\")","v":""},{"$f":"IFERROR(VLOOKUP(H2643,DropDowns!$F$2:$G$7,2,FALSE),\"Residual categories\")","v":"Residual categories"},null,null,null,0,0,0]
[0,{"$f":"IF(OR(COUNTA(O2615:O2644)>0,COUNTA(O2644:$O$5195)>0),IF(COUNTIF(B2635:B2644,B2644)=10,B2644+7,B2644),\"\")","v":""},null,"","",null,null,null,0,0,0,0,{"$f":"IFERROR(VLOOKUP(G2645,DropDowns!$D$2:$E$151,2,FALSE),\"\")","v":""},{"$f":"IFERROR(VLOOKUP(H2645,DropDowns!$F$2:$G$7,2,FALSE),\"Residual categories\")","v":"Residual categories"},null,null,null,0,0,0]
[0,{"$f":"IF(OR(COUNTA(O2616:O2645)>0,COUNTA(O2645:$O$5195)>0),IF(COUNTIF(B2636:B2645,B2645)=10,B2645+7,B2645),\"\")","v":""},null,"","",null,null,null,0,0,0,0,{"$f":"IFERROR(VLOOKUP(G2646,DropDowns!$D$2:$E$151,2,FALSE),\"\")","v":""},{"$f":"IFERROR(VLOOKUP(H2646,DropDowns!$F$2:$G$7,2,FALSE),\"Residual categories\")","v":"Residual categories"},null,null,null,0,0,0]
[0,{"$f":"IF(OR(COUNTA(O2618:O2647)>0,COUNTA(O2647:$O$5195)>0),IF(COUNTIF(B2638:B2647,B2647)=10,B2647+7,B2647),\"\")","v":""},null,"","",null,null,null,0,0,0,0,{"$f":"IFERROR(VLOOKUP(G2648,DropDowns!$D$2:$E$151,2,FALSE),\"\")","v":""},{"$f":"IFERROR(VLOOKUP(H2648,DropDowns!$F$2:$G$7,2,FALSE),\"Residual categories\")","v":"Residual categories"},null,null,null,0,0,0]
[0,{"$f":"IF(OR(COUNTA(O2619:O2648)>0,COUNTA(O2648:$O$5195)>0),IF(COUNTIF(B2639:B2648,B2648)=10,B2648+7,B2648),\"\")","v":""},null,"","",null,null,null,0,0,0,0,{"$f":"IFERROR(VLOOKUP(G2649,DropDowns!$D$2:$E$151,2,FALSE),\"\")","v":""},{"$f":"IFERROR(VLOOKUP(H2649,DropDowns!$F$2:$G$7,2,FALSE),\"Residual categories\")","v":"Residual categories"},null,null,null,0,0,0]
[0,{"$f":"IF(OR(COUNTA(O2620:O2649)>0,COUNTA(O2649:$O$5195)>0),IF(COUNTIF(B2640:B2649,B2649)=10,B2649+7,B2649),\"\")","v":""},null,"","",null,null,null,0,0,0,0,{"$f":"IFERROR(VLOOKUP(G2650,DropDowns!$D$2:$E$151,2,FALSE),\"\")","v":""},{"$f":"IFERROR(VLOOKUP(H2650,DropDowns!$F$2:$G$7,2,FALSE),\"Residual categories\")","v":"Residual categories"},null,null,null,0,0,0]
[0,{"$f":"IF(OR(COUNTA(O2621:O2650)>0,COUNTA(O2650:$O$5195)>0),IF(COUNTIF(B2641:B2650,B2650)=10,B2650+7,B2650),\"\")","v":""},null,"","",null,null,null,0,0,0,0,{"$f":"IFERROR(VLOOKUP(G2651,DropDowns!$D$2:$E$151,2,FALSE),\"\")","v":""},{"$f":"IFERROR(VLOOKUP(H2651,DropDowns!$F$2:$G$7,2,FALSE),\"Residual categories\")","v":"Residual categories"},null,null,null,0,0,0]
[0,{"$f":"IF(OR(COUNTA(O2623:O2652)>0,COUNTA(O2652:$O$5195)>0),IF(COUNTIF(B2643:B2652,B2652)=10,B2652+7,B2652),\"\")","v":""},null,"","",null,null,null,0,0,0,0,{"$f":"IFERROR(VLOOKUP(G2653,DropDowns!$D$2:$E$151,2,FALSE),\"\")","v":""},{"$f":"IFERROR(VLOOKUP(H2653,DropDowns!$F$2:$G$7,2,FALSE),\"Residual categories\")","v":"Residual categories"},null,null,null,0,0,0]
[0,{"$f":"IF(OR(COUNTA(O2624:O2653)>0,COUNTA(O2653:$O$5195)>0),IF(COUNTIF(B2644:B2653,B2653)=10,B2653+7,B2653),\"\")","v":""},null,"","",null,null,null,0,0,0,0,{"$f":"IFERROR(VLOOKUP(G2654,DropDowns!$D$2:$E$151,2,FALSE),\"\")","v":""},{"$f":"IFERROR(VLOOKUP(H2654,DropDowns!$F$2:$G$7,2,FALSE),\"Residual categories\")","v":"Residual categories"},null,null,null,0,0,0]
[0,{"$f":"IF(OR(COUNTA(O2626:O2655)>0,COUNTA(O2655:$O$5195)>0),IF(COUNTIF(B2646:B2655,B2655)=10,B2655+7,B2655),\"\")","v":""},null,"","",null,null,null,0,0,0,0,{"$f":"IFERROR(VLOOKUP(G2656,DropDowns!$D$2:$E$151,2,FALSE),\"\")","v":""},{"$f":"IFERROR(VLOOKUP(H2656,DropDowns!$F$2:$G$7,2,FALSE),\"Residual categories\")","v":"Residual categories"},null,null,null,0,0,0]
[0,{"$f":"IF(OR(COUNTA(O2627:O2656)>0,COUNTA(O2656:$O$5195)>0),IF(COUNTIF(B2647:B2656,B2656)=10,B2656+7,B2656),\"\")","v":""},null,"","",null,null,null,0,0,0,0,{"$f":"IFERROR(VLOOKUP(G2657,DropDowns!$D$2:$E$151,2,FALSE),\"\")","v":""},{"$f":"IFERROR(VLOOKUP(H2657,DropDowns!$F$2:$G$7,2,FALSE),\"Residual categories\")","v":"Residual categories"},null,null,null,0,0,0]
[0,{"$f":"IF(OR(COUNTA(O2628:O2657)>0,COUNTA(O2657:$O$5195)>0),IF(COUNTIF(B2648:B2657,B2657)=10,B2657+7,B2657),\"\")","v":""},null,"","",null,null,null,0,0,0,0,{"$f":"IFERROR(VLOOKUP(G2658,DropDowns!$D$2:$E$151,2,FALSE),\"\")","v":""},{"$f":"IFERROR(VLOOKUP(H2658,DropDowns!$F$2:$G$7,2,FALSE),\"Residual categories\")","v":"Residual categories"},null,null,null,0,0,0]
[0,{"$f":"IF(OR(COUNTA(O2629:O2658)>0,COUNTA(O2658:$O$5195)>0),IF(COUNTIF(B2649:B2658,B2658)=10,B2658+7,B2658),\"\")","v":""},null,"","",null,null,null,0,0,0,0,{"$f":"IFERROR(VLOOKUP(G2659,DropDowns!$D$2:$E$151,2,FALSE),\"\")","v":""},{"$f":"IFERROR(VLOOKUP(H2659,DropDowns!$F$2:$G$7,2,FALSE),\"Residual categories\")","v":"Residual categories"},null,null,null,0,0,0]
[0,{"$f":"IF(OR(COUNTA(O2631:O2660)>0,COUNTA(O2660:$O$5195)>0),IF(COUNTIF(B2651:B2660,B2660)=10,B2660+7,B2660),\"\")","v":""},null,"","",null,null,null,0,0,0,0,{"$f":"IFERROR(VLOOKUP(G2661,DropDowns!$D$2:$E$151,2,FALSE),\"\")","v":""},{"$f":"IFERROR(VLOOKUP(H2661,DropDowns!$F$2:$G$7,2,FALSE),\"Residual categories\")","v":"Residual categories"},null,null,null,0,0,0]
[0,{"$f":"IF(OR(COUNTA(O2632:O2661)>0,COUNTA(O2661:$O$5195)>0),IF(COUNTIF(B2652:B2661,B2661)=10,B2661+7,B2661),\"\")","v":""},null,"","",null,null,null,0,0,0,0,{"$f":"IFERROR(VLOOKUP(G2662,DropDowns!$D$2:$E$151,2,FALSE),\"\")","v":""},{"$f":"IFERROR(VLOOKUP(H2662,DropDowns!$F$2:$G$7,2,FALSE),\"Residual categories\")","v":"Residual categories"},null,null,null,0,0,0]
[0,{"$f":"IF(OR(COUNTA(O2634:O2663)>0,COUNTA(O2663:$O$5195)>0),IF(COUNTIF(B2654:B2663,B2663)=10,B2663+7,B2663),\"\")","v":""},null,"","",null,null,null,0,0,0,0,{"$f":"IFERROR(VLOOKUP(G2664,DropDowns!$D$2:$E$151,2,FALSE),\"\")","v":""},{"$f":"IFERROR(VLOOKUP(H2664,DropDowns!$F$2:$G$7,2,FALSE),\"Residual categories\")","v":"Residual categories"},null,null,null,0,0,0]
[0,{"$f":"IF(OR(COUNTA(O2635:O2664)>0,COUNTA(O2664:$O$5195)>0),IF(COUNTIF(B2655:B2664,B2664)=10,B2664+7,B2664),\"\")","v":""},null,"","",null,null,null,0,0,0,0,{"$f":"IFERROR(VLOOKUP(G2665,DropDowns!$D$2:$E$151,2,FALSE),\"\")","v":""},{"$f":"IFERROR(VLOOKUP(H2665,DropDowns!$F$2:$G$7,2,FALSE),\"Residual categories\")","v":"Residual categories"},null,null,null,0,0,0]
[0,{"$f":"IF(OR(COUNTA(O2637:O2666)>0,COUNTA(O2666:$O$5195)>0),IF(COUNTIF(B2657:B2666,B2666)=10,B2666+7,B2666),\"\")","v":""},null,"","",null,null,null,0,0,0,0,{"$f":"IFERROR(VLOOKUP(G2667,DropDowns!$D$2:$E$151,2,FALSE),\"\")","v":""},{"$f":"IFERROR(VLOOKUP(H2667,DropDowns!$F$2:$G$7,2,FALSE),\"Residual categories\")","v":"Residual categories"},null,null,null,0,0,0]
[0,{"$f":"IF(OR(COUNTA(O2638:O2667)>0,COUNTA(O2667:$O$5195)>0),IF(COUNTIF(B2658:B2667,B2667)=10,B2667+7,B2667),\"\")","v":""},null,"","",null,null,null,0,0,0,0,{"$f":"IFERROR(VLOOKUP(G2668,DropDowns!$D$2:$E$151,2,FALSE),\"\")","v":""},{"$f":"IFERROR(VLOOKUP(H2668,DropDowns!$F$2:$G$7,2,FALSE),\"Residual categories\")","v":"Residual categories"},null,null,null,0,0,0]
[0,{"$f":"IF(OR(COUNTA(O2639:O2668)>0,COUNTA(O2668:$O$5195)>0),IF(COUNTIF(B2659:B2668,B2668)=10,B2668+7,B2668),\"\")","v":""},null,"","",null,null,null,0,0,0,0,{"$f":"IFERROR(VLOOKUP(G2669,DropDowns!$D$2:$E$151,2,FALSE),\"\")","v":""},{"$f":"IFERROR(VLOOKUP(H2669,DropDowns!$F$2:$G$7,2,FALSE),\"Residual categories\")","v":"Residual categories"},null,null,null,0,0,0]
[0,{"$f":"IF(OR(COUNTA(O2640:O2669)>0,COUNTA(O2669:$O$5195)>0),IF(COUNTIF(B2660:B2669,B2669)=10,B2669+7,B2669),\"\")","v":""},null,"","",null,null,null,0,0,0,0,{"$f":"IFERROR(VLOOKUP(G2670,DropDowns!$D$2:$E$151,2,FALSE),\"\")","v":""},{"$f":"IFERROR(VLOOKUP(H2670,DropDowns!$F$2:$G$7,2,FALSE),\"Residual categories\")","v":"Residual categories"},null,null,null,0,0,0]
[0,{"$f":"IF(OR(COUNTA(O2642:O2671)>0,COUNTA(O2671:$O$5195)>0),IF(COUNTIF(B2662:B2671,B2671)=10,B2671+7,B2671),\"\")","v":""},null,"","",null,null,null,0,0,0,0,{"$f":"IFERROR(VLOOKUP(G2672,DropDowns!$D$2:$E$151,2,FALSE),\"\")","v":""},{"$f":"IFERROR(VLOOKUP(H2672,DropDowns!$F$2:$G$7,2,FALSE),\"Residual categories\")","v":"Residual categories"},null,null,null,0,0,0]
[0,{"$f":"IF(OR(COUNTA(O2643:O2672)>0,COUNTA(O2672:$O$5195)>0),IF(COUNTIF(B2663:B2672,B2672)=10,B2672+7,B2672),\"\")","v":""},null,"","",null,null,null,0,0,0,0,{"$f":"IFERROR(VLOOKUP(G2673,DropDowns!$D$2:$E$151,2,FALSE),\"\")","v":""},{"$f":"IFERROR(VLOOKUP(H2673,DropDowns!$F$2:$G$7,2,FALSE),\"Residual categories\")","v":"Residual categories"},null,null,null,0,0,0]
[0,{"$f":"IF(OR(COUNTA(O2645:O2674)>0,COUNTA(O2674:$O$5195)>0),IF(COUNTIF(B2665:B2674,B2674)=10,B2674+7,B2674),\"\")","v":""},null,"","",null,null,null,0,0,0,0,{"$f":"IFERROR(VLOOKUP(G2675,DropDowns!$D$2:$E$151,2,FALSE),\"\")","v":""},{"$f":"IFERROR(VLOOKUP(H2675,DropDowns!$F$2:$G$7,2,FALSE),\"Residual categories\")","v":"Residual categories"},null,null,null,0,0,0]
[0,{"$f":"IF(OR(COUNTA(O2646:O2675)>0,COUNTA(O2675:$O$5195)>0),IF(COUNTIF(B2666:B2675,B2675)=10,B2675+7,B2675),\"\")","v":""},null,"","",null,null,null,0,0,0,0,{"$f":"IFERROR(VLOOKUP(G2676,DropDowns!$D$2:$E$151,2,FALSE),\"\")","v":""},{"$f":"IFERROR(VLOOKUP(H2676,DropDowns!$F$2:$G$7,2,FALSE),\"Residual categories\")","v":"Residual categories"},null,null,null,0,0,0]
[0,{"$f":"IF(OR(COUNTA(O2647:O2676)>0,COUNTA(O2676:$O$5195)>0),IF(COUNTIF(B2667:B2676,B2676)=10,B2676+7,B2676),\"\")","v":""},null,"","",null,null,null,0,0,0,0,{"$f":"IFERROR(VLOOKUP(G2677,DropDowns!$D$2:$E$151,2,FALSE),\"\")","v":""},{"$f":"IFERROR(VLOOKUP(H2677,DropDowns!$F$2:$G$7,2,FALSE),\"Residual categories\")","v":"Residual categories"},null,null,null,0,0,0]
[0,{"$f":"IF(OR(COUNTA(O2648:O2677)>0,COUNTA(O2677:$O$5195)>0),IF(COUNTIF(B2668:B2677,B2677)=10,B2677+7,B2677),\"\")","v":""},null,"","",null,null,null,0,0,0,0,{"$f":"IFERROR(VLOOKUP(G2678,DropDowns!$D$2:$E$151,2,FALSE),\"\")","v":""},{"$f":"IFERROR(VLOOKUP(H2678,DropDowns!$F$2:$G$7,2,FALSE),\"Residual categories\")","v":"Residual categories"},null,null,null,0,0,0]
[0,{"$f":"IF(OR(COUNTA(O2650:O2679)>0,COUNTA(O2679:$O$5195)>0),IF(COUNTIF(B2670:B2679,B2679)=10,B2679+7,B2679),\"\")","v":""},null,"","",null,null,null,0,0,0,0,{"$f":"IFERROR(VLOOKUP(G2680,DropDowns!$D$2:$E$151,2,FALSE),\"\")","v":""},{"$f":"IFERROR(VLOOKUP(H2680,DropDowns!$F$2:$G$7,2,FALSE),\"Residual categories\")","v":"Residual categories"},null,null,null,0,0,0]
[0,{"$f":"IF(OR(COUNTA(O2651:O2680)>0,COUNTA(O2680:$O$5195)>0),IF(COUNTIF(B2671:B2680,B2680)=10,B2680+7,B2680),\"\")","v":""},null,"","",null,null,null,0,0,0,0,{"$f":"IFERROR(VLOOKUP(G2681,DropDowns!$D$2:$E$151,2,FALSE),\"\")","v":""},{"$f":"IFERROR(VLOOKUP(H2681,DropDowns!$F$2:$G$7,2,FALSE),\"Residual categories\")","v":"Residual categories"},null,null,null,0,0,0]
[0,{"$f":"IF(OR(COUNTA(O2653:O2682)>0,COUNTA(O2682:$O$5195)>0),IF(COUNTIF(B2673:B2682,B2682)=10,B2682+7,B2682),\"\")","v":""},null,"","",null,null,null,0,0,0,0,{"$f":"IFERROR(VLOOKUP(G2683,DropDowns!$D$2:$E$151,2,FALSE),\"\")","v":""},{"$f":"IFERROR(VLOOKUP(H2683,DropDowns!$F$2:$G$7,2,FALSE),\"Residual categories\")","v":"Residual categories"},null,null,null,0,0,0]
[0,{"$f":"IF(OR(COUNTA(O2654:O2683)>0,COUNTA(O2683:$O$5195)>0),IF(COUNTIF(B2674:B2683,B2683)=10,B2683+7,B2683),\"\")","v":""},null,"","",null,null,null,0,0,0,0,{"$f":"IFERROR(VLOOKUP(G2684,DropDowns!$D$2:$E$151,2,FALSE),\"\")","v":""},{"$f":"IFERROR(VLOOKUP(H2684,DropDowns!$F$2:$G$7,2,FALSE),\"Residual categories\")","v":"Residual categories"},null,null,null,0,0,0]
[0,{"$f":"IF(OR(COUNTA(O2655:O2684)>0,COUNTA(O2684:$O$5195)>0),IF(COUNTIF(B2675:B2684,B2684)=10,B2684+7,B2684),\"\")","v":""},null,"","",null,null,null,0,0,0,0,{"$f":"IFERROR(VLOOKUP(G2685,DropDowns!$D$2:$E$151,2,FALSE),\"\")","v":""},{"$f":"IFERROR(VLOOKUP(H2685,DropDowns!$F$2:$G$7,2,FALSE),\"Residual categories\")","v":"Residual categories"},null,null,null,0,0,0]
[0,{"$f":"IF(OR(COUNTA(O2656:O2685)>0,COUNTA(O2685:$O$5195)>0),IF(COUNTIF(B2676:B2685,B2685)=10,B2685+7,B2685),\"\")","v":""},null,"","",null,null,null,0,0,0,0,{"$f":"IFERROR(VLOOKUP(G2686,DropDowns!$D$2:$E$151,2,FALSE),\"\")","v":""},{"$f":"IFERROR(VLOOKUP(H2686,DropDowns!$F$2:$G$7,2,FALSE),\"Residual categories\")","v":"Residual categories"},null,null,null,0,0,0]
[0,{"$f":"IF(OR(COUNTA(O2658:O2687)>0,COUNTA(O2687:$O$5195)>0),IF(COUNTIF(B2678:B2687,B2687)=10,B2687+7,B2687),\"\")","v":""},null,"","",null,null,null,0,0,0,0,{"$f":"IFERROR(VLOOKUP(G2688,DropDowns!$D$2:$E$151,2,FALSE),\"\")","v":""},{"$f":"IFERROR(VLOOKUP(H2688,DropDowns!$F$2:$G$7,2,FALSE),\"Residual categories\")","v":"Residual categories"},null,null,null,0,0,0]
[0,{"$f":"IF(OR(COUNTA(O2659:O2688)>0,COUNTA(O2688:$O$5195)>0),IF(COUNTIF(B2679:B2688,B2688)=10,B2688+7,B2688),\"\")","v":""},null,"","",null,null,null,0,0,0,0,{"$f":"IFERROR(VLOOKUP(G2689,DropDowns!$D$2:$E$151,2,FALSE),\"\")","v":""},{"$f":"IFERROR(VLOOKUP(H2689,DropDowns!$F$2:$G$7,2,FALSE),\"Residual categories\")","v":"Residual categories"},null,null,null,0,0,0]
[0,{"$f":"IF(OR(COUNTA(O2661:O2690)>0,COUNTA(O2690:$O$5195)>0),IF(COUNTIF(B2681:B2690,B2690)=10,B2690+7,B2690),\"\")","v":""},null,"","",null,null,null,0,0,0,0,{"$f":"IFERROR(VLOOKUP(G2691,DropDowns!$D$2:$E$151,2,FALSE),\"\")","v":""},{"$f":"IFERROR(VLOOKUP(H2691,DropDowns!$F$2:$G$7,2,FALSE),\"Residual categories\")","v":"Residual categories"},null,null,null,0,0,0]
[0,{"$f":"IF(OR(COUNTA(O2662:O2691)>0,COUNTA(O2691:$O$5195)>0),IF(COUNTIF(B2682:B2691,B2691)=10,B2691+7,B2691),\"\")","v":""},null,"","",null,null,null,0,0,0,0,{"$f":"IFERROR(VLOOKUP(G2692,DropDowns!$D$2:$E$151,2,FALSE),\"\")","v":""},{"$f":"IFERROR(VLOOKUP(H2692,DropDowns!$F$2:$G$7,2,FALSE),\"Residual categories\")","v":"Residual categories"},null,null,null,0,0,0]
[0,{"$f":"IF(OR(COUNTA(O2663:O2692)>0,COUNTA(O2692:$O$5195)>0),IF(COUNTIF(B2683:B2692,B2692)=10,B2692+7,B2692),\"\")","v":""},null,"","",null,null,null,0,0,0,0,{"$f":"IFERROR(VLOOKUP(G2693,DropDowns!$D$2:$E$151,2,FALSE),\"\")","v":""},{"$f":"IFERROR(VLOOKUP(H2693,DropDowns!$F$2:$G$7,2,FALSE),\"Residual categories\")","v":"Residual categories"},null,null,null,0,0,0]
[0,{"$f":"IF(OR(COUNTA(O2664:O2693)>0,COUNTA(O2693:$O$5195)>0),IF(COUNTIF(B2684:B2693,B2693)=10,B2693+7,B2693),\"\")","v":""},null,"","",null,null,null,0,0,0,0,{"$f":"IFERROR(VLOOKUP(G2694,DropDowns!$D$2:$E$151,2,FALSE),\"\")","v":""},{"$f":"IFERROR(VLOOKUP(H2694,DropDowns!$F$2:$G$7,2,FALSE),\"Residual categories\")","v":"Residual categories"},null,null,null,0,0,0]
[0,{"$f":"IF(OR(COUNTA(O2666:O2695)>0,COUNTA(O2695:$O$5195)>0),IF(COUNTIF(B2686:B2695,B2695)=10,B2695+7,B2695),\"\")","v":""},null,"","",null,null,null,0,0,0,0,{"$f":"IFERROR(VLOOKUP(G2696,DropDowns!$D$2:$E$151,2,FALSE),\"\")","v":""},{"$f":"IFERROR(VLOOKUP(H2696,DropDowns!$F$2:$G$7,2,FALSE),\"Residual categories\")","v":"Residual categories"},null,null,null,0,0,0]
[0,{"$f":"IF(OR(COUNTA(O2667:O2696)>0,COUNTA(O2696:$O$5195)>0),IF(COUNTIF(B2687:B2696,B2696)=10,B2696+7,B2696),\"\")","v":""},null,"","",null,null,null,0,0,0,0,{"$f":"IFERROR(VLOOKUP(G2697,DropDowns!$D$2:$E$151,2,FALSE),\"\")","v":""},{"$f":"IFERROR(VLOOKUP(H2697,DropDowns!$F$2:$G$7,2,FALSE),\"Residual categories\")","v":"Residual categories"},null,null,null,0,0,0]
[0,{"$f":"IF(OR(COUNTA(O2669:O2698)>0,COUNTA(O2698:$O$5195)>0),IF(COUNTIF(B2689:B2698,B2698)=10,B2698+7,B2698),\"\")","v":""},null,"","",null,null,null,0,0,0,0,{"$f":"IFERROR(VLOOKUP(G2699,DropDowns!$D$2:$E$151,2,FALSE),\"\")","v":""},{"$f":"IFERROR(VLOOKUP(H2699,DropDowns!$F$2:$G$7,2,FALSE),\"Residual categories\")","v":"Residual categories"},null,null,null,0,0,0]
[0,{"$f":"IF(OR(COUNTA(O2670:O2699)>0,COUNTA(O2699:$O$5195)>0),IF(COUNTIF(B2690:B2699,B2699)=10,B2699+7,B2699),\"\")","v":""},null,"","",null,null,null,0,0,0,0,{"$f":"IFERROR(VLOOKUP(G2700,DropDowns!$D$2:$E$151,2,FALSE),\"\")","v":""},{"$f":"IFERROR(VLOOKUP(H2700,DropDowns!$F$2:$G$7,2,FALSE),\"Residual categories\")","v":"Residual categories"},null,null,null,0,0,0]
[0,{"$f":"IF(OR(COUNTA(O2672:O2701)>0,COUNTA(O2701:$O$5195)>0),IF(COUNTIF(B2692:B2701,B2701)=10,B2701+7,B2701),\"\")","v":""},null,"","",null,null,null,0,0,0,0,{"$f":"IFERROR(VLOOKUP(G2702,DropDowns!$D$2:$E$151,2,FALSE),\"\")","v":""},{"$f":"IFERROR(VLOOKUP(H2702,DropDowns!$F$2:$G$7,2,FALSE),\"Residual categories\")","v":"Residual categories"},null,null,null,0,0,0]
[0,{"$f":"IF(OR(COUNTA(O2673:O2702)>0,COUNTA(O2702:$O$5195)>0),IF(COUNTIF(B2693:B2702,B2702)=10,B2702+7,B2702),\"\")","v":""},null,"","",null,null,null,0,0,0,0,{"$f":"IFERROR(VLOOKUP(G2703,DropDowns!$D$2:$E$151,2,FALSE),\"\")","v":""},{"$f":"IFERROR(VLOOKUP(H2703,DropDowns!$F$2:$G$7,2,FALSE),\"Residual categories\")","v":"Residual categories"},null,null,null,0,0,0]
[0,{"$f":"IF(OR(COUNTA(O2674:O2703)>0,COUNTA(O2703:$O$5195)>0),IF(COUNTIF(B2694:B2703,B2703)=10,B2703+7,B2703),\"\")","v":""},null,"","",null,null,null,0,0,0,0,{"$f":"IFERROR(VLOOKUP(G2704,DropDowns!$D$2:$E$151,2,FALSE),\"\")","v":""},{"$f":"IFERROR(VLOOKUP(H2704,DropDowns!$F$2:$G$7,2,FALSE),\"Residual categories\")","v":"Residual categories"},null,null,null,0,0,0]
[0,{"$f":"IF(OR(COUNTA(O2675:O2704)>0,COUNTA(O2704:$O$5195)>0),IF(COUNTIF(B2695:B2704,B2704)=10,B2704+7,B2704),\"\")","v":""},null,"",{"$f":"IF(B2705=\"\",\"\",COUNTIF(B2696:B2705,B2705))","v":""},null,null,null,0,0,0,0,{"$f":"IFERROR(VLOOKUP(G2705,DropDowns!$D$2:$E$151,2,FALSE),\"\")","v":""},{"$f":"IFERROR(VLOOKUP(H2705,DropDowns!$F$2:$G$7,2,FALSE),\"Residual categories\")","v":"Residual categories"},null,null,null,0,0,0]
[0,{"$f":"IF(OR(COUNTA(O2677:O2706)>0,COUNTA(O2706:$O$5195)>0),IF(COUNTIF(B2697:B2706,B2706)=10,B2706+7,B2706),\"\")","v":""},null,"","",null,null,null,0,0,0,0,{"$f":"IFERROR(VLOOKUP(G2707,DropDowns!$D$2:$E$151,2,FALSE),\"\")","v":""},{"$f":"IFERROR(VLOOKUP(H2707,DropDowns!$F$2:$G$7,2,FALSE),\"Residual categories\")","v":"Residual categories"},null,null,null,0,0,0]
[{"$f":"$E$2","v":0},{"$f":"IF(OR(COUNTA(O2678:O2707)>0,COUNTA(O2707:$O$5195)>0),IF(COUNTIF(B2698:B2707,B2707)=10,B2707+7,B2707),\"\")","v":""},null,"","",null,null,null,0,0,0,0,{"$f":"IFERROR(VLOOKUP(G2708,DropDowns!$D$2:$E$151,2,FALSE),\"\")","v":""},{"$f":"IFERROR(VLOOKUP(H2708,DropDowns!$F$2:$G$7,2,FALSE),\"Residual categories\")","v":"Residual categories"},null,null,null,0,0,0]
[0,{"$f":"IF(OR(COUNTA(O2680:O2709)>0,COUNTA(O2709:$O$5195)>0),IF(COUNTIF(B2700:B2709,B2709)=10,B2709+7,B2709),\"\")","v":""},null,"","",null,null,null,0,0,0,0,{"$f":"IFERROR(VLOOKUP(G2710,DropDowns!$D$2:$E$151,2,FALSE),\"\")","v":""},{"$f":"IFERROR(VLOOKUP(H2710,DropDowns!$F$2:$G$7,2,FALSE),\"Residual categories\")","v":"Residual categories"},null,null,null,0,0,0]
[0,{"$f":"IF(OR(COUNTA(O2681:O2710)>0,COUNTA(O2710:$O$5195)>0),IF(COUNTIF(B2701:B2710,B2710)=10,B2710+7,B2710),\"\")","v":""},null,"","",null,null,null,0,0,0,0,{"$f":"IFERROR(VLOOKUP(G2711,DropDowns!$D$2:$E$151,2,FALSE),\"\")","v":""},{"$f":"IFERROR(VLOOKUP(H2711,DropDowns!$F$2:$G$7,2,FALSE),\"Residual categories\")","v":"Residual categories"},null,null,null,0,0,0]
[0,{"$f":"IF(OR(COUNTA(O2682:O2711)>0,COUNTA(O2711:$O$5195)>0),IF(COUNTIF(B2702:B2711,B2711)=10,B2711+7,B2711),\"\")","v":""},null,"","",null,null,null,0,0,0,0,{"$f":"IFERROR(VLOOKUP(G2712,DropDowns!$D$2:$E$151,2,FALSE),\"\")","v":""},{"$f":"IFERROR(VLOOKUP(H2712,DropDowns!$F$2:$G$7,2,FALSE),\"Residual categories\")","v":"Residual categories"},null,null,null,0,0,0]
[0,{"$f":"IF(OR(COUNTA(O2683:O2712)>0,COUNTA(O2712:$O$5195)>0),IF(COUNTIF(B2703:B2712,B2712)=10,B2712+7,B2712),\"\")","v":""},null,"","",null,null,null,0,0,0,0,{"$f":"IFERROR(VLOOKUP(G2713,DropDowns!$D$2:$E$151,2,FALSE),\"\")","v":""},{"$f":"IFERROR(VLOOKUP(H2713,DropDowns!$F$2:$G$7,2,FALSE),\"Residual categories\")","v":"Residual categories"},null,null,null,0,0,0]
[0,{"$f":"IF(OR(COUNTA(O2685:O2714)>0,COUNTA(O2714:$O$5195)>0),IF(COUNTIF(B2705:B2714,B2714)=10,B2714+7,B2714),\"\")","v":""},null,"","",null,null,null,0,0,0,0,{"$f":"IFERROR(VLOOKUP(G2715,DropDowns!$D$2:$E$151,2,FALSE),\"\")","v":""},{"$f":"IFERROR(VLOOKUP(H2715,DropDowns!$F$2:$G$7,2,FALSE),\"Residual categories\")","v":"Residual categories"},null,null,null,0,0,0]
[0,{"$f":"IF(OR(COUNTA(O2686:O2715)>0,COUNTA(O2715:$O$5195)>0),IF(COUNTIF(B2706:B2715,B2715)=10,B2715+7,B2715),\"\")","v":""},null,"","",null,null,null,0,0,0,0,{"$f":"IFERROR(VLOOKUP(G2716,DropDowns!$D$2:$E$151,2,FALSE),\"\")","v":""},{"$f":"IFERROR(VLOOKUP(H2716,DropDowns!$F$2:$G$7,2,FALSE),\"Residual categories\")","v":"Residual categories"},null,null,null,0,0,0]
[0,{"$f":"IF(OR(COUNTA(O2688:O2717)>0,COUNTA(O2717:$O$5195)>0),IF(COUNTIF(B2708:B2717,B2717)=10,B2717+7,B2717),\"\")","v":""},null,"","",null,null,null,0,0,0,0,{"$f":"IFERROR(VLOOKUP(G2718,DropDowns!$D$2:$E$151,2,FALSE),\"\")","v":""},{"$f":"IFERROR(VLOOKUP(H2718,DropDowns!$F$2:$G$7,2,FALSE),\"Residual categories\")","v":"Residual categories"},null,null,null,0,0,0]
[0,{"$f":"IF(OR(COUNTA(O2689:O2718)>0,COUNTA(O2718:$O$5195)>0),IF(COUNTIF(B2709:B2718,B2718)=10,B2718+7,B2718),\"\")","v":""},null,"","",null,null,null,0,0,0,0,{"$f":"IFERROR(VLOOKUP(G2719,DropDowns!$D$2:$E$151,2,FALSE),\"\")","v":""},{"$f":"IFERROR(VLOOKUP(H2719,DropDowns!$F$2:$G$7,2,FALSE),\"Residual categories\")","v":"Residual categories"},null,null,null,0,0,0]
[0,{"$f":"IF(OR(COUNTA(O2690:O2719)>0,COUNTA(O2719:$O$5195)>0),IF(COUNTIF(B2710:B2719,B2719)=10,B2719+7,B2719),\"\")","v":""},null,"","",null,null,null,0,0,0,0,{"$f":"IFERROR(VLOOKUP(G2720,DropDowns!$D$2:$E$151,2,FALSE),\"\")","v":""},{"$f":"IFERROR(VLOOKUP(H2720,DropDowns!$F$2:$G$7,2,FALSE),\"Residual categories\")","v":"Residual categories"},null,null,null,0,0,0]
[0,{"$f":"IF(OR(COUNTA(O2691:O2720)>0,COUNTA(O2720:$O$5195)>0),IF(COUNTIF(B2711:B2720,B2720)=10,B2720+7,B2720),\"\")","v":""},null,"","",null,null,null,0,0,0,0,{"$f":"IFERROR(VLOOKUP(G2721,DropDowns!$D$2:$E$151,2,FALSE),\"\")","v":""},{"$f":"IFERROR(VLOOKUP(H2721,DropDowns!$F$2:$G$7,2,FALSE),\"Residual categories\")","v":"Residual categories"},null,null,null,0,0,0]
[0,{"$f":"IF(OR(COUNTA(O2693:O2722)>0,COUNTA(O2722:$O$5195)>0),IF(COUNTIF(B2713:B2722,B2722)=10,B2722+7,B2722),\"\")","v":""},null,"","",null,null,null,0,0,0,0,{"$f":"IFERROR(VLOOKUP(G2723,DropDowns!$D$2:$E$151,2,FALSE),\"\")","v":""},{"$f":"IFERROR(VLOOKUP(H2723,DropDowns!$F$2:$G$7,2,FALSE),\"Residual categories\")","v":"Residual categories"},null,null,null,0,0,0]
[0,{"$f":"IF(OR(COUNTA(O2694:O2723)>0,COUNTA(O2723:$O$5195)>0),IF(COUNTIF(B2714:B2723,B2723)=10,B2723+7,B2723),\"\")","v":""},null,"","",null,null,null,0,0,0,0,{"$f":"IFERROR(VLOOKUP(G2724,DropDowns!$D$2:$E$151,2,FALSE),\"\")","v":""},{"$f":"IFERROR(VLOOKUP(H2724,DropDowns!$F$2:$G$7,2,FALSE),\"Residual categories\")","v":"Residual categories"},null,null,null,0,0,0]
[0,{"$f":"IF(OR(COUNTA(O2696:O2725)>0,COUNTA(O2725:$O$5195)>0),IF(COUNTIF(B2716:B2725,B2725)=10,B2725+7,B2725),\"\")","v":""},null,"","",null,null,null,0,0,0,0,{"$f":"IFERROR(VLOOKUP(G2726,DropDowns!$D$2:$E$151,2,FALSE),\"\")","v":""},{"$f":"IFERROR(VLOOKUP(H2726,DropDowns!$F$2:$G$7,2,FALSE),\"Residual categories\")","v":"Residual categories"},null,null,null,0,0,0]
[0,{"$f":"IF(OR(COUNTA(O2697:O2726)>0,COUNTA(O2726:$O$5195)>0),IF(COUNTIF(B2717:B2726,B2726)=10,B2726+7,B2726),\"\")","v":""},null,"","",null,null,null,0,0,0,0,{"$f":"IFERROR(VLOOKUP(G2727,DropDowns!$D$2:$E$151,2,FALSE),\"\")","v":""},{"$f":"IFERROR(VLOOKUP(H2727,DropDowns!$F$2:$G$7,2,FALSE),\"Residual categories\")","v":"Residual categories"},null,null,null,0,0,0]
[0,{"$f":"IF(OR(COUNTA(O2698:O2727)>0,COUNTA(O2727:$O$5195)>0),IF(COUNTIF(B2718:B2727,B2727)=10,B2727+7,B2727),\"\")","v":""},null,"","",null,null,null,0,0,0,0,{"$f":"IFERROR(VLOOKUP(G2728,DropDowns!$D$2:$E$151,2,FALSE),\"\")","v":""},{"$f":"IFERROR(VLOOKUP(H2728,DropDowns!$F$2:$G$7,2,FALSE),\"Residual categories\")","v":"Residual categories"},null,null,null,0,0,0]
[0,{"$f":"IF(OR(COUNTA(O2699:O2728)>0,COUNTA(O2728:$O$5195)>0),IF(COUNTIF(B2719:B2728,B2728)=10,B2728+7,B2728),\"\")","v":""},null,"","",null,null,null,0,0,0,0,{"$f":"IFERROR(VLOOKUP(G2729,DropDowns!$D$2:$E$151,2,FALSE),\"\")","v":""},{"$f":"IFERROR(VLOOKUP(H2729,DropDowns!$F$2:$G$7,2,FALSE),\"Residual categories\")","v":"Residual categories"},null,null,null,0,0,0]
[0,{"$f":"IF(OR(COUNTA(O2701:O2730)>0,COUNTA(O2730:$O$5195)>0),IF(COUNTIF(B2721:B2730,B2730)=10,B2730+7,B2730),\"\")","v":""},null,"","",null,null,null,0,0,0,0,{"$f":"IFERROR(VLOOKUP(G2731,DropDowns!$D$2:$E$151,2,FALSE),\"\")","v":""},{"$f":"IFERROR(VLOOKUP(H2731,DropDowns!$F$2:$G$7,2,FALSE),\"Residual categories\")","v":"Residual categories"},null,null,null,0,0,0]
[0,{"$f":"IF(OR(COUNTA(O2702:O2731)>0,COUNTA(O2731:$O$5195)>0),IF(COUNTIF(B2722:B2731,B2731)=10,B2731+7,B2731),\"\")","v":""},null,"","",null,null,null,0,0,0,0,{"$f":"IFERROR(VLOOKUP(G2732,DropDowns!$D$2:$E$151,2,FALSE),\"\")","v":""},{"$f":"IFERROR(VLOOKUP(H2732,DropDowns!$F$2:$G$7,2,FALSE),\"Residual categories\")","v":"Residual categories"},null,null,null,0,0,0]
[0,{"$f":"IF(OR(COUNTA(O2704:O2733)>0,COUNTA(O2733:$O$5195)>0),IF(COUNTIF(B2724:B2733,B2733)=10,B2733+7,B2733),\"\")","v":""},null,"","",null,null,null,0,0,0,0,{"$f":"IFERROR(VLOOKUP(G2734,DropDowns!$D$2:$E$151,2,FALSE),\"\")","v":""},{"$f":"IFERROR(VLOOKUP(H2734,DropDowns!$F$2:$G$7,2,FALSE),\"Residual categories\")","v":"Residual categories"},null,null,null,0,0,0]
[0,{"$f":"IF(OR(COUNTA(O2705:O2734)>0,COUNTA(O2734:$O$5195)>0),IF(COUNTIF(B2725:B2734,B2734)=10,B2734+7,B2734),\"\")","v":""},null,"","",null,null,null,0,0,0,0,{"$f":"IFERROR(VLOOKUP(G2735,DropDowns!$D$2:$E$151,2,FALSE),\"\")","v":""},{"$f":"IFERROR(VLOOKUP(H2735,DropDowns!$F$2:$G$7,2,FALSE),\"Residual categories\")","v":"Residual categories"},null,null,null,0,0,0]
[0,{"$f":"IF(OR(COUNTA(O2707:O2736)>0,COUNTA(O2736:$O$5195)>0),IF(COUNTIF(B2727:B2736,B2736)=10,B2736+7,B2736),\"\")","v":""},null,"","",null,null,null,0,0,0,0,{"$f":"IFERROR(VLOOKUP(G2737,DropDowns!$D$2:$E$151,2,FALSE),\"\")","v":""},{"$f":"IFERROR(VLOOKUP(H2737,DropDowns!$F$2:$G$7,2,FALSE),\"Residual categories\")","v":"Residual categories"},null,null,null,0,0,0]
[0,{"$f":"IF(OR(COUNTA(O2708:O2737)>0,COUNTA(O2737:$O$5195)>0),IF(COUNTIF(B2728:B2737,B2737)=10,B2737+7,B2737),\"\")","v":""},null,"","",null,null,null,0,0,0,0,{"$f":"IFERROR(VLOOKUP(G2738,DropDowns!$D$2:$E$151,2,FALSE),\"\")","v":""},{"$f":"IFERROR(VLOOKUP(H2738,DropDowns!$F$2:$G$7,2,FALSE),\"Residual categories\")","v":"Residual categories"},null,null,null,0,0,0]
[0,{"$f":"IF(OR(COUNTA(O2709:O2738)>0,COUNTA(O2738:$O$5195)>0),IF(COUNTIF(B2729:B2738,B2738)=10,B2738+7,B2738),\"\")","v":""},null,"","",null,null,null,0,0,0,0,{"$f":"IFERROR(VLOOKUP(G2739,DropDowns!$D$2:$E$151,2,FALSE),\"\")","v":""},{"$f":"IFERROR(VLOOKUP(H2739,DropDowns!$F$2:$G$7,2,FALSE),\"Residual categories\")","v":"Residual categories"},null,null,null,0,0,0]
[0,{"$f":"IF(OR(COUNTA(O2710:O2739)>0,COUNTA(O2739:$O$5195)>0),IF(COUNTIF(B2730:B2739,B2739)=10,B2739+7,B2739),\"\")","v":""},null,"","",null,null,null,0,0,0,0,{"$f":"IFERROR(VLOOKUP(G2740,DropDowns!$D$2:$E$151,2,FALSE),\"\")","v":""},{"$f":"IFERROR(VLOOKUP(H2740,DropDowns!$F$2:$G$7,2,FALSE),\"Residual categories\")","v":"Residual categories"},null,null,null,0,0,0]
[0,{"$f":"IF(OR(COUNTA(O2712:O2741)>0,COUNTA(O2741:$O$5195)>0),IF(COUNTIF(B2732:B2741,B2741)=10,B2741+7,B2741),\"\")","v":""},null,"","",null,null,null,0,0,0,0,{"$f":"IFERROR(VLOOKUP(G2742,DropDowns!$D$2:$E$151,2,FALSE),\"\")","v":""},{"$f":"IFERROR(VLOOKUP(H2742,DropDowns!$F$2:$G$7,2,FALSE),\"Residual categories\")","v":"Residual categories"},null,null,null,0,0,0]
[0,{"$f":"IF(OR(COUNTA(O2713:O2742)>0,COUNTA(O2742:$O$5195)>0),IF(COUNTIF(B2733:B2742,B2742)=10,B2742+7,B2742),\"\")","v":""},null,"","",null,null,null,0,0,0,0,{"$f":"IFERROR(VLOOKUP(G2743,DropDowns!$D$2:$E$151,2,FALSE),\"\")","v":""},{"$f":"IFERROR(VLOOKUP(H2743,DropDowns!$F$2:$G$7,2,FALSE),\"Residual categories\")","v":"Residual categories"},null,null,null,0,0,0]
[0,{"$f":"IF(OR(COUNTA(O2715:O2744)>0,COUNTA(O2744:$O$5195)>0),IF(COUNTIF(B2735:B2744,B2744)=10,B2744+7,B2744),\"\")","v":""},null,"","",null,null,null,0,0,0,0,{"$f":"IFERROR(VLOOKUP(G2745,DropDowns!$D$2:$E$151,2,FALSE),\"\")","v":""},{"$f":"IFERROR(VLOOKUP(H2745,DropDowns!$F$2:$G$7,2,FALSE),\"Residual categories\")","v":"Residual categories"},null,null,null,0,0,0]
[0,{"$f":"IF(OR(COUNTA(O2716:O2745)>0,COUNTA(O2745:$O$5195)>0),IF(COUNTIF(B2736:B2745,B2745)=10,B2745+7,B2745),\"\")","v":""},null,"","",null,null,null,0,0,0,0,{"$f":"IFERROR(VLOOKUP(G2746,DropDowns!$D$2:$E$151,2,FALSE),\"\")","v":""},{"$f":"IFERROR(VLOOKUP(H2746,DropDowns!$F$2:$G$7,2,FALSE),\"Residual categories\")","v":"Residual categories"},null,null,null,0,0,0]
[0,{"$f":"IF(OR(COUNTA(O2717:O2746)>0,COUNTA(O2746:$O$5195)>0),IF(COUNTIF(B2737:B2746,B2746)=10,B2746+7,B2746),\"\")","v":""},null,"","",null,null,null,0,0,0,0,{"$f":"IFERROR(VLOOKUP(G2747,DropDowns!$D$2:$E$151,2,FALSE),\"\")","v":""},{"$f":"IFERROR(VLOOKUP(H2747,DropDowns!$F$2:$G$7,2,FALSE),\"Residual categories\")","v":"Residual categories"},null,null,null,0,0,0]
[0,{"$f":"IF(OR(COUNTA(O2718:O2747)>0,COUNTA(O2747:$O$5195)>0),IF(COUNTIF(B2738:B2747,B2747)=10,B2747+7,B2747),\"\")","v":""},null,"","",null,null,null,0,0,0,0,{"$f":"IFERROR(VLOOKUP(G2748,DropDowns!$D$2:$E$151,2,FALSE),\"\")","v":""},{"$f":"IFERROR(VLOOKUP(H2748,DropDowns!$F$2:$G$7,2,FALSE),\"Residual categories\")","v":"Residual categories"},null,null,null,0,0,0]
[0,{"$f":"IF(OR(COUNTA(O2720:O2749)>0,COUNTA(O2749:$O$5195)>0),IF(COUNTIF(B2740:B2749,B2749)=10,B2749+7,B2749),\"\")","v":""},null,"","",null,null,null,0,0,0,0,{"$f":"IFERROR(VLOOKUP(G2750,DropDowns!$D$2:$E$151,2,FALSE),\"\")","v":""},{"$f":"IFERROR(VLOOKUP(H2750,DropDowns!$F$2:$G$7,2,FALSE),\"Residual categories\")","v":"Residual categories"},null,null,null,0,0,0]
[0,{"$f":"IF(OR(COUNTA(O2721:O2750)>0,COUNTA(O2750:$O$5195)>0),IF(COUNTIF(B2741:B2750,B2750)=10,B2750+7,B2750),\"\")","v":""},null,"","",null,null,null,0,0,0,0,{"$f":"IFERROR(VLOOKUP(G2751,DropDowns!$D$2:$E$151,2,FALSE),\"\")","v":""},{"$f":"IFERROR(VLOOKUP(H2751,DropDowns!$F$2:$G$7,2,FALSE),\"Residual categories\")","v":"Residual categories"},null,null,null,0,0,0]
[0,{"$f":"IF(OR(COUNTA(O2723:O2752)>0,COUNTA(O2752:$O$5195)>0),IF(COUNTIF(B2743:B2752,B2752)=10,B2752+7,B2752),\"\")","v":""},null,"","",null,null,null,0,0,0,0,{"$f":"IFERROR(VLOOKUP(G2753,DropDowns!$D$2:$E$151,2,FALSE),\"\")","v":""},{"$f":"IFERROR(VLOOKUP(H2753,DropDowns!$F$2:$G$7,2,FALSE),\"Residual categories\")","v":"Residual categories"},null,null,null,0,0,0]
[0,{"$f":"IF(OR(COUNTA(O2724:O2753)>0,COUNTA(O2753:$O$5195)>0),IF(COUNTIF(B2744:B2753,B2753)=10,B2753+7,B2753),\"\")","v":""},null,"","",null,null,null,0,0,0,0,{"$f":"IFERROR(VLOOKUP(G2754,DropDowns!$D$2:$E$151,2,FALSE),\"\")","v":""},{"$f":"IFERROR(VLOOKUP(H2754,DropDowns!$F$2:$G$7,2,FALSE),\"Residual categories\")","v":"Residual categories"},null,null,null,0,0,0]
[0,{"$f":"IF(OR(COUNTA(O2725:O2754)>0,COUNTA(O2754:$O$5195)>0),IF(COUNTIF(B2745:B2754,B2754)=10,B2754+7,B2754),\"\")","v":""},null,"","",null,null,null,0,0,0,0,{"$f":"IFERROR(VLOOKUP(G2755,DropDowns!$D$2:$E$151,2,FALSE),\"\")","v":""},{"$f":"IFERROR(VLOOKUP(H2755,DropDowns!$F$2:$G$7,2,FALSE),\"Residual categories\")","v":"Residual categories"},null,null,null,0,0,0]
[0,{"$f":"IF(OR(COUNTA(O2726:O2755)>0,COUNTA(O2755:$O$5195)>0),IF(COUNTIF(B2746:B2755,B2755)=10,B2755+7,B2755),\"\")","v":""},null,"","",null,null,null,0,0,0,0,{"$f":"IFERROR(VLOOKUP(G2756,DropDowns!$D$2:$E$151,2,FALSE),\"\")","v":""},{"$f":"IFERROR(VLOOKUP(H2756,DropDowns!$F$2:$G$7,2,FALSE),\"Residual categories\")","v":"Residual categories"},null,null,null,0,0,0]
[0,{"$f":"IF(OR(COUNTA(O2728:O2757)>0,COUNTA(O2757:$O$5195)>0),IF(COUNTIF(B2748:B2757,B2757)=10,B2757+7,B2757),\"\")","v":""},null,"","",null,null,null,0,0,0,0,{"$f":"IFERROR(VLOOKUP(G2758,DropDowns!$D$2:$E$151,2,FALSE),\"\")","v":""},{"$f":"IFERROR(VLOOKUP(H2758,DropDowns!$F$2:$G$7,2,FALSE),\"Residual categories\")","v":"Residual categories"},null,null,null,0,0,0]
[0,{"$f":"IF(OR(COUNTA(O2729:O2758)>0,COUNTA(O2758:$O$5195)>0),IF(COUNTIF(B2749:B2758,B2758)=10,B2758+7,B2758),\"\")","v":""},null,{"$f":"IF(E2759=1,B2759,\"\")","v":""},"",null,null,null,{"$f":"IF(COUNTA(O2759:Q2759)>0,1,0)","v":0},{"$f":"IF(O2759=\"y\",1,0)","v":0},{"$f":"IF(P2759=\"y\",1,0)","v":0},{"$f":"IF(Q2759=\"y\",1,0)","v":0},{"$f":"IFERROR(VLOOKUP(G2759,DropDowns!$D$2:$E$151,2,FALSE),\"\")","v":""},{"$f":"IFERROR(VLOOKUP(H2759,DropDowns!$F$2:$G$7,2,FALSE),\"Residual categories\")","v":"Residual categories"},null,null,null,{"$f":"IF(O2759=\"yes\",1,0)","v":0},{"$f":"IF(P2759=\"yes\",1,0)","v":0},{"$f":"IF(Q2759=\"yes\",1,0)","v":0}]
[0,{"$f":"IF(OR(COUNTA(O2731:O2760)>0,COUNTA(O2760:$O$5195)>0),IF(COUNTIF(B2751:B2760,B2760)=10,B2760+7,B2760),\"\")","v":""},null,"","",null,null,null,0,0,0,0,{"$f":"IFERROR(VLOOKUP(G2761,DropDowns!$D$2:$E$151,2,FALSE),\"\")","v":""},{"$f":"IFERROR(VLOOKUP(H2761,DropDowns!$F$2:$G$7,2,FALSE),\"Residual categories\")","v":"Residual categories"},null,null,null,0,0,0]
[0,{"$f":"IF(OR(COUNTA(O2732:O2761)>0,COUNTA(O2761:$O$5195)>0),IF(COUNTIF(B2752:B2761,B2761)=10,B2761+7,B2761),\"\")","v":""},null,"","",null,null,null,0,0,0,0,{"$f":"IFERROR(VLOOKUP(G2762,DropDowns!$D$2:$E$151,2,FALSE),\"\")","v":""},{"$f":"IFERROR(VLOOKUP(H2762,DropDowns!$F$2:$G$7,2,FALSE),\"Residual categories\")","v":"Residual categories"},null,null,null,0,0,0]
[0,{"$f":"IF(OR(COUNTA(O2734:O2763)>0,COUNTA(O2763:$O$5195)>0),IF(COUNTIF(B2754:B2763,B2763)=10,B2763+7,B2763),\"\")","v":""},null,"","",null,null,null,0,0,0,0,{"$f":"IFERROR(VLOOKUP(G2764,DropDowns!$D$2:$E$151,2,FALSE),\"\")","v":""},{"$f":"IFERROR(VLOOKUP(H2764,DropDowns!$F$2:$G$7,2,FALSE),\"Residual categories\")","v":"Residual categories"},null,null,null,0,0,0]
[0,{"$f":"IF(OR(COUNTA(O2735:O2764)>0,COUNTA(O2764:$O$5195)>0),IF(COUNTIF(B2755:B2764,B2764)=10,B2764+7,B2764),\"\")","v":""},null,"","",null,null,null,0,0,0,0,{"$f":"IFERROR(VLOOKUP(G2765,DropDowns!$D$2:$E$151,2,FALSE),\"\")","v":""},{"$f":"IFERROR(VLOOKUP(H2765,DropDowns!$F$2:$G$7,2,FALSE),\"Residual categories\")","v":"Residual categories"},null,null,null,0,0,0]
[0,{"$f":"IF(OR(COUNTA(O2736:O2765)>0,COUNTA(O2765:$O$5195)>0),IF(COUNTIF(B2756:B2765,B2765)=10,B2765+7,B2765),\"\")","v":""},null,"","",null,null,null,0,0,0,0,{"$f":"IFERROR(VLOOKUP(G2766,DropDowns!$D$2:$E$151,2,FALSE),\"\")","v":""},{"$f":"IFERROR(VLOOKUP(H2766,DropDowns!$F$2:$G$7,2,FALSE),\"Residual categories\")","v":"Residual categories"},null,null,null,0,0,0]
[0,{"$f":"IF(OR(COUNTA(O2737:O2766)>0,COUNTA(O2766:$O$5195)>0),IF(COUNTIF(B2757:B2766,B2766)=10,B2766+7,B2766),\"\")","v":""},null,"","",null,null,null,0,0,0,0,{"$f":"IFERROR(VLOOKUP(G2767,DropDowns!$D$2:$E$151,2,FALSE),\"\")","v":""},{"$f":"IFERROR(VLOOKUP(H2767,DropDowns!$F$2:$G$7,2,FALSE),\"Residual categories\")","v":"Residual categories"},null,null,null,0,0,0]
[0,{"$f":"IF(OR(COUNTA(O2739:O2768)>0,COUNTA(O2768:$O$5195)>0),IF(COUNTIF(B2759:B2768,B2768)=10,B2768+7,B2768),\"\")","v":""},null,"",{"$f":"IF(B2769=\"\",\"\",COUNTIF(B2760:B2769,B2769))","v":""},null,null,null,0,0,0,0,{"$f":"IFERROR(VLOOKUP(G2769,DropDowns!$D$2:$E$151,2,FALSE),\"\")","v":""},{"$f":"IFERROR(VLOOKUP(H2769,DropDowns!$F$2:$G$7,2,FALSE),\"Residual categories\")","v":"Residual categories"},null,null,null,0,0,0]
[0,{"$f":"IF(OR(COUNTA(O2740:O2769)>0,COUNTA(O2769:$O$5195)>0),IF(COUNTIF(B2760:B2769,B2769)=10,B2769+7,B2769),\"\")","v":""},null,"","",null,null,null,0,0,0,0,{"$f":"IFERROR(VLOOKUP(G2770,DropDowns!$D$2:$E$151,2,FALSE),\"\")","v":""},{"$f":"IFERROR(VLOOKUP(H2770,DropDowns!$F$2:$G$7,2,FALSE),\"Residual categories\")","v":"Residual categories"},null,null,null,0,0,0]
[{"$f":"$E$2","v":0},{"$f":"IF(OR(COUNTA(O2742:O2771)>0,COUNTA(O2771:$O$5195)>0),IF(COUNTIF(B2762:B2771,B2771)=10,B2771+7,B2771),\"\")","v":""},null,"","",null,null,null,0,0,0,0,{"$f":"IFERROR(VLOOKUP(G2772,DropDowns!$D$2:$E$151,2,FALSE),\"\")","v":""},{"$f":"IFERROR(VLOOKUP(H2772,DropDowns!$F$2:$G$7,2,FALSE),\"Residual categories\")","v":"Residual categories"},null,null,null,0,0,0]
[0,{"$f":"IF(OR(COUNTA(O2743:O2772)>0,COUNTA(O2772:$O$5195)>0),IF(COUNTIF(B2763:B2772,B2772)=10,B2772+7,B2772),\"\")","v":""},null,"","",null,null,null,0,0,0,0,{"$f":"IFERROR(VLOOKUP(G2773,DropDowns!$D$2:$E$151,2,FALSE),\"\")","v":""},{"$f":"IFERROR(VLOOKUP(H2773,DropDowns!$F$2:$G$7,2,FALSE),\"Residual categories\")","v":"Residual categories"},null,null,null,0,0,0]
[0,{"$f":"IF(OR(COUNTA(O2744:O2773)>0,COUNTA(O2773:$O$5195)>0),IF(COUNTIF(B2764:B2773,B2773)=10,B2773+7,B2773),\"\")","v":""},null,"","",null,null,null,0,0,0,0,{"$f":"IFERROR(VLOOKUP(G2774,DropDowns!$D$2:$E$151,2,FALSE),\"\")","v":""},{"$f":"IFERROR(VLOOKUP(H2774,DropDowns!$F$2:$G$7,2,FALSE),\"Residual categories\")","v":"Residual categories"},null,null,null,0,0,0]
[0,{"$f":"IF(OR(COUNTA(O2745:O2774)>0,COUNTA(O2774:$O$5195)>0),IF(COUNTIF(B2765:B2774,B2774)=10,B2774+7,B2774),\"\")","v":""},null,"","",null,null,null,0,0,0,0,{"$f":"IFERROR(VLOOKUP(G2775,DropDowns!$D$2:$E$151,2,FALSE),\"\")","v":""},{"$f":"IFERROR(VLOOKUP(H2775,DropDowns!$F$2:$G$7,2,FALSE),\"Residual categories\")","v":"Residual categories"},null,null,null,0,0,0]
[0,{"$f":"IF(OR(COUNTA(O2747:O2776)>0,COUNTA(O2776:$O$5195)>0),IF(COUNTIF(B2767:B2776,B2776)=10,B2776+7,B2776),\"\")","v":""},null,"","",null,null,null,0,0,0,0,{"$f":"IFERROR(VLOOKUP(G2777,DropDowns!$D$2:$E$151,2,FALSE),\"\")","v":""},{"$f":"IFERROR(VLOOKUP(H2777,DropDowns!$F$2:$G$7,2,FALSE),\"Residual categories\")","v":"Residual categories"},null,null,null,0,0,0]
[0,{"$f":"IF(OR(COUNTA(O2748:O2777)>0,COUNTA(O2777:$O$5195)>0),IF(COUNTIF(B2768:B2777,B2777)=10,B2777+7,B2777),\"\")","v":""},null,"","",null,null,null,0,0,0,0,{"$f":"IFERROR(VLOOKUP(G2778,DropDowns!$D$2:$E$151,2,FALSE),\"\")","v":""},{"$f":"IFERROR(VLOOKUP(H2778,DropDowns!$F$2:$G$7,2,FALSE),\"Residual categories\")","v":"Residual categories"},null,null,null,0,0,0]
[0,{"$f":"IF(OR(COUNTA(O2750:O2779)>0,COUNTA(O2779:$O$5195)>0),IF(COUNTIF(B2770:B2779,B2779)=10,B2779+7,B2779),\"\")","v":""},null,"","",null,null,null,0,0,0,0,{"$f":"IFERROR(VLOOKUP(G2780,DropDowns!$D$2:$E$151,2,FALSE),\"\")","v":""},{"$f":"IFERROR(VLOOKUP(H2780,DropDowns!$F$2:$G$7,2,FALSE),\"Residual categories\")","v":"Residual categories"},null,null,null,0,0,0]
[0,{"$f":"IF(OR(COUNTA(O2751:O2780)>0,COUNTA(O2780:$O$5195)>0),IF(COUNTIF(B2771:B2780,B2780)=10,B2780+7,B2780),\"\")","v":""},null,"","",null,null,null,0,0,0,0,{"$f":"IFERROR(VLOOKUP(G2781,DropDowns!$D$2:$E$151,2,FALSE),\"\")","v":""},{"$f":"IFERROR(VLOOKUP(H2781,DropDowns!$F$2:$G$7,2,FALSE),\"Residual categories\")","v":"Residual categories"},null,null,null,0,0,0]
[0,{"$f":"IF(OR(COUNTA(O2752:O2781)>0,COUNTA(O2781:$O$5195)>0),IF(COUNTIF(B2772:B2781,B2781)=10,B2781+7,B2781),\"\")","v":""},null,"","",null,null,null,0,0,0,0,{"$f":"IFERROR(VLOOKUP(G2782,DropDowns!$D$2:$E$151,2,FALSE),\"\")","v":""},{"$f":"IFERROR(VLOOKUP(H2782,DropDowns!$F$2:$G$7,2,FALSE),\"Residual categories\")","v":"Residual categories"},null,null,null,0,0,0]
[0,{"$f":"IF(OR(COUNTA(O2753:O2782)>0,COUNTA(O2782:$O$5195)>0),IF(COUNTIF(B2773:B2782,B2782)=10,B2782+7,B2782),\"\")","v":""},null,"","",null,null,null,0,0,0,0,{"$f":"IFERROR(VLOOKUP(G2783,DropDowns!$D$2:$E$151,2,FALSE),\"\")","v":""},{"$f":"IFERROR(VLOOKUP(H2783,DropDowns!$F$2:$G$7,2,FALSE),\"Residual categories\")","v":"Residual categories"},null,null,null,0,0,0]
[0,{"$f":"IF(OR(COUNTA(O2755:O2784)>0,COUNTA(O2784:$O$5195)>0),IF(COUNTIF(B2775:B2784,B2784)=10,B2784+7,B2784),\"\")","v":""},null,"","",null,null,null,0,0,0,0,{"$f":"IFERROR(VLOOKUP(G2785,DropDowns!$D$2:$E$151,2,FALSE),\"\")","v":""},{"$f":"IFERROR(VLOOKUP(H2785,DropDowns!$F$2:$G$7,2,FALSE),\"Residual categories\")","v":"Residual categories"},null,null,null,0,0,0]
[0,{"$f":"IF(OR(COUNTA(O2756:O2785)>0,COUNTA(O2785:$O$5195)>0),IF(COUNTIF(B2776:B2785,B2785)=10,B2785+7,B2785),\"\")","v":""},null,"","",null,null,null,0,0,0,0,{"$f":"IFERROR(VLOOKUP(G2786,DropDowns!$D$2:$E$151,2,FALSE),\"\")","v":""},{"$f":"IFERROR(VLOOKUP(H2786,DropDowns!$F$2:$G$7,2,FALSE),\"Residual categories\")","v":"Residual categories"},null,null,null,0,0,0]
[0,{"$f":"IF(OR(COUNTA(O2758:O2787)>0,COUNTA(O2787:$O$5195)>0),IF(COUNTIF(B2778:B2787,B2787)=10,B2787+7,B2787),\"\")","v":""},null,"","",null,null,null,0,0,0,0,{"$f":"IFERROR(VLOOKUP(G2788,DropDowns!$D$2:$E$151,2,FALSE),\"\")","v":""},{"$f":"IFERROR(VLOOKUP(H2788,DropDowns!$F$2:$G$7,2,FALSE),\"Residual categories\")","v":"Residual categories"},null,null,null,0,0,0]
[0,{"$f":"IF(OR(COUNTA(O2759:O2788)>0,COUNTA(O2788:$O$5195)>0),IF(COUNTIF(B2779:B2788,B2788)=10,B2788+7,B2788),\"\")","v":""},null,"","",null,null,null,0,0,0,0,{"$f":"IFERROR(VLOOKUP(G2789,DropDowns!$D$2:$E$151,2,FALSE),\"\")","v":""},{"$f":"IFERROR(VLOOKUP(H2789,DropDowns!$F$2:$G$7,2,FALSE),\"Residual categories\")","v":"Residual categories"},null,null,null,0,0,0]
[0,{"$f":"IF(OR(COUNTA(O2760:O2789)>0,COUNTA(O2789:$O$5195)>0),IF(COUNTIF(B2780:B2789,B2789)=10,B2789+7,B2789),\"\")","v":""},null,"","",null,null,null,0,0,0,0,{"$f":"IFERROR(VLOOKUP(G2790,DropDowns!$D$2:$E$151,2,FALSE),\"\")","v":""},{"$f":"IFERROR(VLOOKUP(H2790,DropDowns!$F$2:$G$7,2,FALSE),\"Residual categories\")","v":"Residual categories"},null,null,null,0,0,0]
[0,{"$f":"IF(OR(COUNTA(O2761:O2790)>0,COUNTA(O2790:$O$5195)>0),IF(COUNTIF(B2781:B2790,B2790)=10,B2790+7,B2790),\"\")","v":""},null,"","",null,null,null,0,0,0,0,{"$f":"IFERROR(VLOOKUP(G2791,DropDowns!$D$2:$E$151,2,FALSE),\"\")","v":""},{"$f":"IFERROR(VLOOKUP(H2791,DropDowns!$F$2:$G$7,2,FALSE),\"Residual categories\")","v":"Residual categories"},null,null,null,0,0,0]
[0,{"$f":"IF(OR(COUNTA(O2763:O2792)>0,COUNTA(O2792:$O$5195)>0),IF(COUNTIF(B2783:B2792,B2792)=10,B2792+7,B2792),\"\")","v":""},null,"","",null,null,null,0,0,0,0,{"$f":"IFERROR(VLOOKUP(G2793,DropDowns!$D$2:$E$151,2,FALSE),\"\")","v":""},{"$f":"IFERROR(VLOOKUP(H2793,DropDowns!$F$2:$G$7,2,FALSE),\"Residual categories\")","v":"Residual categories"},null,null,null,0,0,0]
[0,{"$f":"IF(OR(COUNTA(O2764:O2793)>0,COUNTA(O2793:$O$5195)>0),IF(COUNTIF(B2784:B2793,B2793)=10,B2793+7,B2793),\"\")","v":""},null,"","",null,null,null,0,0,0,0,{"$f":"IFERROR(VLOOKUP(G2794,DropDowns!$D$2:$E$151,2,FALSE),\"\")","v":""},{"$f":"IFERROR(VLOOKUP(H2794,DropDowns!$F$2:$G$7,2,FALSE),\"Residual categories\")","v":"Residual categories"},null,null,null,0,0,0]
[0,{"$f":"IF(OR(COUNTA(O2766:O2795)>0,COUNTA(O2795:$O$5195)>0),IF(COUNTIF(B2786:B2795,B2795)=10,B2795+7,B2795),\"\")","v":""},null,"","",null,null,null,0,0,0,0,{"$f":"IFERROR(VLOOKUP(G2796,DropDowns!$D$2:$E$151,2,FALSE),\"\")","v":""},{"$f":"IFERROR(VLOOKUP(H2796,DropDowns!$F$2:$G$7,2,FALSE),\"Residual categories\")","v":"Residual categories"},null,null,null,0,0,0]
[0,{"$f":"IF(OR(COUNTA(O2767:O2796)>0,COUNTA(O2796:$O$5195)>0),IF(COUNTIF(B2787:B2796,B2796)=10,B2796+7,B2796),\"\")","v":""},null,"","",null,null,null,0,0,0,0,{"$f":"IFERROR(VLOOKUP(G2797,DropDowns!$D$2:$E$151,2,FALSE),\"\")","v":""},{"$f":"IFERROR(VLOOKUP(H2797,DropDowns!$F$2:$G$7,2,FALSE),\"Residual categories\")","v":"Residual categories"},null,null,null,0,0,0]
[0,{"$f":"IF(OR(COUNTA(O2769:O2798)>0,COUNTA(O2798:$O$5195)>0),IF(COUNTIF(B2789:B2798,B2798)=10,B2798+7,B2798),\"\")","v":""},null,"","",null,null,null,0,0,0,0,{"$f":"IFERROR(VLOOKUP(G2799,DropDowns!$D$2:$E$151,2,FALSE),\"\")","v":""},{"$f":"IFERROR(VLOOKUP(H2799,DropDowns!$F$2:$G$7,2,FALSE),\"Residual categories\")","v":"Residual categories"},null,null,null,0,0,0]
[0,{"$f":"IF(OR(COUNTA(O2770:O2799)>0,COUNTA(O2799:$O$5195)>0),IF(COUNTIF(B2790:B2799,B2799)=10,B2799+7,B2799),\"\")","v":""},null,"","",null,null,null,0,0,0,0,{"$f":"IFERROR(VLOOKUP(G2800,DropDowns!$D$2:$E$151,2,FALSE),\"\")","v":""},{"$f":"IFERROR(VLOOKUP(H2800,DropDowns!$F$2:$G$7,2,FALSE),\"Residual categories\")","v":"Residual categories"},null,null,null,0,0,0]
[0,{"$f":"IF(OR(COUNTA(O2771:O2800)>0,COUNTA(O2800:$O$5195)>0),IF(COUNTIF(B2791:B2800,B2800)=10,B2800+7,B2800),\"\")","v":""},null,"","",null,null,null,0,0,0,0,{"$f":"IFERROR(VLOOKUP(G2801,DropDowns!$D$2:$E$151,2,FALSE),\"\")","v":""},{"$f":"IFERROR(VLOOKUP(H2801,DropDowns!$F$2:$G$7,2,FALSE),\"Residual categories\")","v":"Residual categories"},null,null,null,0,0,0]
[0,{"$f":"IF(OR(COUNTA(O2772:O2801)>0,COUNTA(O2801:$O$5195)>0),IF(COUNTIF(B2792:B2801,B2801)=10,B2801+7,B2801),\"\")","v":""},null,"","",null,null,null,0,0,0,0,{"$f":"IFERROR(VLOOKUP(G2802,DropDowns!$D$2:$E$151,2,FALSE),\"\")","v":""},{"$f":"IFERROR(VLOOKUP(H2802,DropDowns!$F$2:$G$7,2,FALSE),\"Residual categories\")","v":"Residual categories"},null,null,null,0,0,0]
[0,{"$f":"IF(OR(COUNTA(O2774:O2803)>0,COUNTA(O2803:$O$5195)>0),IF(COUNTIF(B2794:B2803,B2803)=10,B2803+7,B2803),\"\")","v":""},null,"","",null,null,null,0,0,0,0,{"$f":"IFERROR(VLOOKUP(G2804,DropDowns!$D$2:$E$151,2,FALSE),\"\")","v":""},{"$f":"IFERROR(VLOOKUP(H2804,DropDowns!$F$2:$G$7,2,FALSE),\"Residual categories\")","v":"Residual categories"},null,null,null,0,0,0]
[0,{"$f":"IF(OR(COUNTA(O2775:O2804)>0,COUNTA(O2804:$O$5195)>0),IF(COUNTIF(B2795:B2804,B2804)=10,B2804+7,B2804),\"\")","v":""},null,"","",null,null,null,0,0,0,0,{"$f":"IFERROR(VLOOKUP(G2805,DropDowns!$D$2:$E$151,2,FALSE),\"\")","v":""},{"$f":"IFERROR(VLOOKUP(H2805,DropDowns!$F$2:$G$7,2,FALSE),\"Residual categories\")","v":"Residual categories"},null,null,null,0,0,0]
[0,{"$f":"IF(OR(COUNTA(O2777:O2806)>0,COUNTA(O2806:$O$5195)>0),IF(COUNTIF(B2797:B2806,B2806)=10,B2806+7,B2806),\"\")","v":""},null,"","",null,null,null,0,0,0,0,{"$f":"IFERROR(VLOOKUP(G2807,DropDowns!$D$2:$E$151,2,FALSE),\"\")","v":""},{"$f":"IFERROR(VLOOKUP(H2807,DropDowns!$F$2:$G$7,2,FALSE),\"Residual categories\")","v":"Residual categories"},null,null,null,0,0,0]
[0,{"$f":"IF(OR(COUNTA(O2778:O2807)>0,COUNTA(O2807:$O$5195)>0),IF(COUNTIF(B2798:B2807,B2807)=10,B2807+7,B2807),\"\")","v":""},null,"","",null,null,null,0,0,0,0,{"$f":"IFERROR(VLOOKUP(G2808,DropDowns!$D$2:$E$151,2,FALSE),\"\")","v":""},{"$f":"IFERROR(VLOOKUP(H2808,DropDowns!$F$2:$G$7,2,FALSE),\"Residual categories\")","v":"Residual categories"},null,null,null,0,0,0]
[0,{"$f":"IF(OR(COUNTA(O2779:O2808)>0,COUNTA(O2808:$O$5195)>0),IF(COUNTIF(B2799:B2808,B2808)=10,B2808+7,B2808),\"\")","v":""},null,"","",null,null,null,0,0,0,0,{"$f":"IFERROR(VLOOKUP(G2809,DropDowns!$D$2:$E$151,2,FALSE),\"\")","v":""},{"$f":"IFERROR(VLOOKUP(H2809,DropDowns!$F$2:$G$7,2,FALSE),\"Residual categories\")","v":"Residual categories"},null,null,null,0,0,0]
[0,{"$f":"IF(OR(COUNTA(O2780:O2809)>0,COUNTA(O2809:$O$5195)>0),IF(COUNTIF(B2800:B2809,B2809)=10,B2809+7,B2809),\"\")","v":""},null,"","",null,null,null,0,0,0,0,{"$f":"IFERROR(VLOOKUP(G2810,DropDowns!$D$2:$E$151,2,FALSE),\"\")","v":""},{"$f":"IFERROR(VLOOKUP(H2810,DropDowns!$F$2:$G$7,2,FALSE),\"Residual categories\")","v":"Residual categories"},null,null,null,0,0,0]
[0,{"$f":"IF(OR(COUNTA(O2782:O2811)>0,COUNTA(O2811:$O$5195)>0),IF(COUNTIF(B2802:B2811,B2811)=10,B2811+7,B2811),\"\")","v":""},null,"","",null,null,null,0,0,0,0,{"$f":"IFERROR(VLOOKUP(G2812,DropDowns!$D$2:$E$151,2,FALSE),\"\")","v":""},{"$f":"IFERROR(VLOOKUP(H2812,DropDowns!$F$2:$G$7,2,FALSE),\"Residual categories\")","v":"Residual categories"},null,null,null,0,0,0]
[0,{"$f":"IF(OR(COUNTA(O2783:O2812)>0,COUNTA(O2812:$O$5195)>0),IF(COUNTIF(B2803:B2812,B2812)=10,B2812+7,B2812),\"\")","v":""},null,"","",null,null,null,0,0,0,0,{"$f":"IFERROR(VLOOKUP(G2813,DropDowns!$D$2:$E$151,2,FALSE),\"\")","v":""},{"$f":"IFERROR(VLOOKUP(H2813,DropDowns!$F$2:$G$7,2,FALSE),\"Residual categories\")","v":"Residual categories"},null,null,null,0,0,0]
[0,{"$f":"IF(OR(COUNTA(O2785:O2814)>0,COUNTA(O2814:$O$5195)>0),IF(COUNTIF(B2805:B2814,B2814)=10,B2814+7,B2814),\"\")","v":""},null,"","",null,null,null,0,0,0,0,{"$f":"IFERROR(VLOOKUP(G2815,DropDowns!$D$2:$E$151,2,FALSE),\"\")","v":""},{"$f":"IFERROR(VLOOKUP(H2815,DropDowns!$F$2:$G$7,2,FALSE),\"Residual categories\")","v":"Residual categories"},null,null,null,0,0,0]
[0,{"$f":"IF(OR(COUNTA(O2786:O2815)>0,COUNTA(O2815:$O$5195)>0),IF(COUNTIF(B2806:B2815,B2815)=10,B2815+7,B2815),\"\")","v":""},null,"","",null,null,null,0,0,0,0,{"$f":"IFERROR(VLOOKUP(G2816,DropDowns!$D$2:$E$151,2,FALSE),\"\")","v":""},{"$f":"IFERROR(VLOOKUP(H2816,DropDowns!$F$2:$G$7,2,FALSE),\"Residual categories\")","v":"Residual categories"},null,null,null,0,0,0]
[0,{"$f":"IF(OR(COUNTA(O2787:O2816)>0,COUNTA(O2816:$O$5195)>0),IF(COUNTIF(B2807:B2816,B2816)=10,B2816+7,B2816),\"\")","v":""},null,"","",null,null,null,0,0,0,0,{"$f":"IFERROR(VLOOKUP(G2817,DropDowns!$D$2:$E$151,2,FALSE),\"\")","v":""},{"$f":"IFERROR(VLOOKUP(H2817,DropDowns!$F$2:$G$7,2,FALSE),\"Residual categories\")","v":"Residual categories"},null,null,null,0,0,0]
[0,{"$f":"IF(OR(COUNTA(O2788:O2817)>0,COUNTA(O2817:$O$5195)>0),IF(COUNTIF(B2808:B2817,B2817)=10,B2817+7,B2817),\"\")","v":""},null,"","",null,null,null,0,0,0,0,{"$f":"IFERROR(VLOOKUP(G2818,DropDowns!$D$2:$E$151,2,FALSE),\"\")","v":""},{"$f":"IFERROR(VLOOKUP(H2818,DropDowns!$F$2:$G$7,2,FALSE),\"Residual categories\")","v":"Residual categories"},null,null,null,0,0,0]
[0,{"$f":"IF(OR(COUNTA(O2790:O2819)>0,COUNTA(O2819:$O$5195)>0),IF(COUNTIF(B2810:B2819,B2819)=10,B2819+7,B2819),\"\")","v":""},null,"","",null,null,null,0,0,0,0,{"$f":"IFERROR(VLOOKUP(G2820,DropDowns!$D$2:$E$151,2,FALSE),\"\")","v":""},{"$f":"IFERROR(VLOOKUP(H2820,DropDowns!$F$2:$G$7,2,FALSE),\"Residual categories\")","v":"Residual categories"},null,null,null,0,0,0]
[0,{"$f":"IF(OR(COUNTA(O2791:O2820)>0,COUNTA(O2820:$O$5195)>0),IF(COUNTIF(B2811:B2820,B2820)=10,B2820+7,B2820),\"\")","v":""},null,"","",null,null,null,0,0,0,0,{"$f":"IFERROR(VLOOKUP(G2821,DropDowns!$D$2:$E$151,2,FALSE),\"\")","v":""},{"$f":"IFERROR(VLOOKUP(H2821,DropDowns!$F$2:$G$7,2,FALSE),\"Residual categories\")","v":"Residual categories"},null,null,null,0,0,0]
[0,{"$f":"IF(OR(COUNTA(O2793:O2822)>0,COUNTA(O2822:$O$5195)>0),IF(COUNTIF(B2813:B2822,B2822)=10,B2822+7,B2822),\"\")","v":""},null,{"$f":"IF(E2823=1,B2823,\"\")","v":""},"",null,null,null,{"$f":"IF(COUNTA(O2823:Q2823)>0,1,0)","v":0},{"$f":"IF(O2823=\"y\",1,0)","v":0},{"$f":"IF(P2823=\"y\",1,0)","v":0},{"$f":"IF(Q2823=\"y\",1,0)","v":0},{"$f":"IFERROR(VLOOKUP(G2823,DropDowns!$D$2:$E$151,2,FALSE),\"\")","v":""},{"$f":"IFERROR(VLOOKUP(H2823,DropDowns!$F$2:$G$7,2,FALSE),\"Residual categories\")","v":"Residual categories"},null,null,null,{"$f":"IF(O2823=\"yes\",1,0)","v":0},{"$f":"IF(P2823=\"yes\",1,0)","v":0},{"$f":"IF(Q2823=\"yes\",1,0)","v":0}]
[0,{"$f":"IF(OR(COUNTA(O2794:O2823)>0,COUNTA(O2823:$O$5195)>0),IF(COUNTIF(B2814:B2823,B2823)=10,B2823+7,B2823),\"\")","v":""},null,"","",null,null,null,0,0,0,0,{"$f":"IFERROR(VLOOKUP(G2824,DropDowns!$D$2:$E$151,2,FALSE),\"\")","v":""},{"$f":"IFERROR(VLOOKUP(H2824,DropDowns!$F$2:$G$7,2,FALSE),\"Residual categories\")","v":"Residual categories"},null,null,null,0,0,0]
[0,{"$f":"IF(OR(COUNTA(O2796:O2825)>0,COUNTA(O2825:$O$5195)>0),IF(COUNTIF(B2816:B2825,B2825)=10,B2825+7,B2825),\"\")","v":""},null,"","",null,null,null,0,0,0,0,{"$f":"IFERROR(VLOOKUP(G2826,DropDowns!$D$2:$E$151,2,FALSE),\"\")","v":""},{"$f":"IFERROR(VLOOKUP(H2826,DropDowns!$F$2:$G$7,2,FALSE),\"Residual categories\")","v":"Residual categories"},null,null,null,0,0,0]
[0,{"$f":"IF(OR(COUNTA(O2797:O2826)>0,COUNTA(O2826:$O$5195)>0),IF(COUNTIF(B2817:B2826,B2826)=10,B2826+7,B2826),\"\")","v":""},null,"","",null,null,null,0,0,0,0,{"$f":"IFERROR(VLOOKUP(G2827,DropDowns!$D$2:$E$151,2,FALSE),\"\")","v":""},{"$f":"IFERROR(VLOOKUP(H2827,DropDowns!$F$2:$G$7,2,FALSE),\"Residual categories\")","v":"Residual categories"},null,null,null,0,0,0]
[0,{"$f":"IF(OR(COUNTA(O2798:O2827)>0,COUNTA(O2827:$O$5195)>0),IF(COUNTIF(B2818:B2827,B2827)=10,B2827+7,B2827),\"\")","v":""},null,"","",null,null,null,0,0,0,0,{"$f":"IFERROR(VLOOKUP(G2828,DropDowns!$D$2:$E$151,2,FALSE),\"\")","v":""},{"$f":"IFERROR(VLOOKUP(H2828,DropDowns!$F$2:$G$7,2,FALSE),\"Residual categories\")","v":"Residual categories"},null,null,null,0,0,0]
[0,{"$f":"IF(OR(COUNTA(O2799:O2828)>0,COUNTA(O2828:$O$5195)>0),IF(COUNTIF(B2819:B2828,B2828)=10,B2828+7,B2828),\"\")","v":""},null,"","",null,null,null,0,0,0,0,{"$f":"IFERROR(VLOOKUP(G2829,DropDowns!$D$2:$E$151,2,FALSE),\"\")","v":""},{"$f":"IFERROR(VLOOKUP(H2829,DropDowns!$F$2:$G$7,2,FALSE),\"Residual categories\")","v":"Residual categories"},null,null,null,0,0,0]
[0,{"$f":"IF(OR(COUNTA(O2801:O2830)>0,COUNTA(O2830:$O$5195)>0),IF(COUNTIF(B2821:B2830,B2830)=10,B2830+7,B2830),\"\")","v":""},null,"","",null,null,null,0,0,0,0,{"$f":"IFERROR(VLOOKUP(G2831,DropDowns!$D$2:$E$151,2,FALSE),\"\")","v":""},{"$f":"IFERROR(VLOOKUP(H2831,DropDowns!$F$2:$G$7,2,FALSE),\"Residual categories\")","v":"Residual categories"},null,null,null,0,0,0]
[0,{"$f":"IF(OR(COUNTA(O2802:O2831)>0,COUNTA(O2831:$O$5195)>0),IF(COUNTIF(B2822:B2831,B2831)=10,B2831+7,B2831),\"\")","v":""},null,"","",null,null,null,0,0,0,0,{"$f":"IFERROR(VLOOKUP(G2832,DropDowns!$D$2:$E$151,2,FALSE),\"\")","v":""},{"$f":"IFERROR(VLOOKUP(H2832,DropDowns!$F$2:$G$7,2,FALSE),\"Residual categories\")","v":"Residual categories"},null,null,null,0,0,0]
[0,{"$f":"IF(OR(COUNTA(O2804:O2833)>0,COUNTA(O2833:$O$5195)>0),IF(COUNTIF(B2824:B2833,B2833)=10,B2833+7,B2833),\"\")","v":""},null,"","",null,null,null,0,0,0,0,{"$f":"IFERROR(VLOOKUP(G2834,DropDowns!$D$2:$E$151,2,FALSE),\"\")","v":""},{"$f":"IFERROR(VLOOKUP(H2834,DropDowns!$F$2:$G$7,2,FALSE),\"Residual categories\")","v":"Residual categories"},null,null,null,0,0,0]
[0,{"$f":"IF(OR(COUNTA(O2805:O2834)>0,COUNTA(O2834:$O$5195)>0),IF(COUNTIF(B2825:B2834,B2834)=10,B2834+7,B2834),\"\")","v":""},null,"","",null,null,null,0,0,0,0,{"$f":"IFERROR(VLOOKUP(G2835,DropDowns!$D$2:$E$151,2,FALSE),\"\")","v":""},{"$f":"IFERROR(VLOOKUP(H2835,DropDowns!$F$2:$G$7,2,FALSE),\"Residual categories\")","v":"Residual categories"},null,null,null,0,0,0]
[{"$f":"$E$2","v":0},{"$f":"IF(OR(COUNTA(O2806:O2835)>0,COUNTA(O2835:$O$5195)>0),IF(COUNTIF(B2826:B2835,B2835)=10,B2835+7,B2835),\"\")","v":""},null,"","",null,null,null,0,0,0,0,{"$f":"IFERROR(VLOOKUP(G2836,DropDowns!$D$2:$E$151,2,FALSE),\"\")","v":""},{"$f":"IFERROR(VLOOKUP(H2836,DropDowns!$F$2:$G$7,2,FALSE),\"Residual categories\")","v":"Residual categories"},null,null,null,0,0,0]
[0,{"$f":"IF(OR(COUNTA(O2807:O2836)>0,COUNTA(O2836:$O$5195)>0),IF(COUNTIF(B2827:B2836,B2836)=10,B2836+7,B2836),\"\")","v":""},null,"","",null,null,null,0,0,0,0,{"$f":"IFERROR(VLOOKUP(G2837,DropDowns!$D$2:$E$151,2,FALSE),\"\")","v":""},{"$f":"IFERROR(VLOOKUP(H2837,DropDowns!$F$2:$G$7,2,FALSE),\"Residual categories\")","v":"Residual categories"},null,null,null,0,0,0]
[0,{"$f":"IF(OR(COUNTA(O2809:O2838)>0,COUNTA(O2838:$O$5195)>0),IF(COUNTIF(B2829:B2838,B2838)=10,B2838+7,B2838),\"\")","v":""},null,"","",null,null,null,0,0,0,0,{"$f":"IFERROR(VLOOKUP(G2839,DropDowns!$D$2:$E$151,2,FALSE),\"\")","v":""},{"$f":"IFERROR(VLOOKUP(H2839,DropDowns!$F$2:$G$7,2,FALSE),\"Residual categories\")","v":"Residual categories"},null,null,null,0,0,0]
[0,{"$f":"IF(OR(COUNTA(O2810:O2839)>0,COUNTA(O2839:$O$5195)>0),IF(COUNTIF(B2830:B2839,B2839)=10,B2839+7,B2839),\"\")","v":""},null,"","",null,null,null,0,0,0,0,{"$f":"IFERROR(VLOOKUP(G2840,DropDowns!$D$2:$E$151,2,FALSE),\"\")","v":""},{"$f":"IFERROR(VLOOKUP(H2840,DropDowns!$F$2:$G$7,2,FALSE),\"Residual categories\")","v":"Residual categories"},null,null,null,0,0,0]
[0,{"$f":"IF(OR(COUNTA(O2812:O2841)>0,COUNTA(O2841:$O$5195)>0),IF(COUNTIF(B2832:B2841,B2841)=10,B2841+7,B2841),\"\")","v":""},null,"","",null,null,null,0,0,0,0,{"$f":"IFERROR(VLOOKUP(G2842,DropDowns!$D$2:$E$151,2,FALSE),\"\")","v":""},{"$f":"IFERROR(VLOOKUP(H2842,DropDowns!$F$2:$G$7,2,FALSE),\"Residual categories\")","v":"Residual categories"},null,null,null,0,0,0]
[0,{"$f":"IF(OR(COUNTA(O2813:O2842)>0,COUNTA(O2842:$O$5195)>0),IF(COUNTIF(B2833:B2842,B2842)=10,B2842+7,B2842),\"\")","v":""},null,"","",null,null,null,0,0,0,0,{"$f":"IFERROR(VLOOKUP(G2843,DropDowns!$D$2:$E$151,2,FALSE),\"\")","v":""},{"$f":"IFERROR(VLOOKUP(H2843,DropDowns!$F$2:$G$7,2,FALSE),\"Residual categories\")","v":"Residual categories"},null,null,null,0,0,0]
[0,{"$f":"IF(OR(COUNTA(O2814:O2843)>0,COUNTA(O2843:$O$5195)>0),IF(COUNTIF(B2834:B2843,B2843)=10,B2843+7,B2843),\"\")","v":""},null,"","",null,null,null,0,0,0,0,{"$f":"IFERROR(VLOOKUP(G2844,DropDowns!$D$2:$E$151,2,FALSE),\"\")","v":""},{"$f":"IFERROR(VLOOKUP(H2844,DropDowns!$F$2:$G$7,2,FALSE),\"Residual categories\")","v":"Residual categories"},null,null,null,0,0,0]
[0,{"$f":"IF(OR(COUNTA(O2815:O2844)>0,COUNTA(O2844:$O$5195)>0),IF(COUNTIF(B2835:B2844,B2844)=10,B2844+7,B2844),\"\")","v":""},null,"","",null,null,null,0,0,0,0,{"$f":"IFERROR(VLOOKUP(G2845,DropDowns!$D$2:$E$151,2,FALSE),\"\")","v":""},{"$f":"IFERROR(VLOOKUP(H2845,DropDowns!$F$2:$G$7,2,FALSE),\"Residual categories\")","v":"Residual categories"},null,null,null,0,0,0]
[0,{"$f":"IF(OR(COUNTA(O2817:O2846)>0,COUNTA(O2846:$O$5195)>0),IF(COUNTIF(B2837:B2846,B2846)=10,B2846+7,B2846),\"\")","v":""},null,"","",null,null,null,0,0,0,0,{"$f":"IFERROR(VLOOKUP(G2847,DropDowns!$D$2:$E$151,2,FALSE),\"\")","v":""},{"$f":"IFERROR(VLOOKUP(H2847,DropDowns!$F$2:$G$7,2,FALSE),\"Residual categories\")","v":"Residual categories"},null,null,null,0,0,0]
[0,{"$f":"IF(OR(COUNTA(O2818:O2847)>0,COUNTA(O2847:$O$5195)>0),IF(COUNTIF(B2838:B2847,B2847)=10,B2847+7,B2847),\"\")","v":""},null,"","",null,null,null,0,0,0,0,{"$f":"IFERROR(VLOOKUP(G2848,DropDowns!$D$2:$E$151,2,FALSE),\"\")","v":""},{"$f":"IFERROR(VLOOKUP(H2848,DropDowns!$F$2:$G$7,2,FALSE),\"Residual categories\")","v":"Residual categories"},null,null,null,0,0,0]
[0,{"$f":"IF(OR(COUNTA(O2820:O2849)>0,COUNTA(O2849:$O$5195)>0),IF(COUNTIF(B2840:B2849,B2849)=10,B2849+7,B2849),\"\")","v":""},null,"","",null,null,null,0,0,0,0,{"$f":"IFERROR(VLOOKUP(G2850,DropDowns!$D$2:$E$151,2,FALSE),\"\")","v":""},{"$f":"IFERROR(VLOOKUP(H2850,DropDowns!$F$2:$G$7,2,FALSE),\"Residual categories\")","v":"Residual categories"},null,null,null,0,0,0]
[0,{"$f":"IF(OR(COUNTA(O2821:O2850)>0,COUNTA(O2850:$O$5195)>0),IF(COUNTIF(B2841:B2850,B2850)=10,B2850+7,B2850),\"\")","v":""},null,"","",null,null,null,0,0,0,0,{"$f":"IFERROR(VLOOKUP(G2851,DropDowns!$D$2:$E$151,2,FALSE),\"\")","v":""},{"$f":"IFERROR(VLOOKUP(H2851,DropDowns!$F$2:$G$7,2,FALSE),\"Residual categories\")","v":"Residual categories"},null,null,null,0,0,0]
[0,{"$f":"IF(OR(COUNTA(O2822:O2851)>0,COUNTA(O2851:$O$5195)>0),IF(COUNTIF(B2842:B2851,B2851)=10,B2851+7,B2851),\"\")","v":""},null,"","",null,null,null,0,0,0,0,{"$f":"IFERROR(VLOOKUP(G2852,DropDowns!$D$2:$E$151,2,FALSE),\"\")","v":""},{"$f":"IFERROR(VLOOKUP(H2852,DropDowns!$F$2:$G$7,2,FALSE),\"Residual categories\")","v":"Residual categories"},null,null,null,0,0,0]
[0,{"$f":"IF(OR(COUNTA(O2823:O2852)>0,COUNTA(O2852:$O$5195)>0),IF(COUNTIF(B2843:B2852,B2852)=10,B2852+7,B2852),\"\")","v":""},null,"","",null,null,null,0,0,0,0,{"$f":"IFERROR(VLOOKUP(G2853,DropDowns!$D$2:$E$151,2,FALSE),\"\")","v":""},{"$f":"IFERROR(VLOOKUP(H2853,DropDowns!$F$2:$G$7,2,FALSE),\"Residual categories\")","v":"Residual categories"},null,null,null,0,0,0]
[0,{"$f":"IF(OR(COUNTA(O2825:O2854)>0,COUNTA(O2854:$O$5195)>0),IF(COUNTIF(B2845:B2854,B2854)=10,B2854+7,B2854),\"\")","v":""},null,"","",null,null,null,0,0,0,0,{"$f":"IFERROR(VLOOKUP(G2855,DropDowns!$D$2:$E$151,2,FALSE),\"\")","v":""},{"$f":"IFERROR(VLOOKUP(H2855,DropDowns!$F$2:$G$7,2,FALSE),\"Residual categories\")","v":"Residual categories"},null,null,null,0,0,0]
[0,{"$f":"IF(OR(COUNTA(O2826:O2855)>0,COUNTA(O2855:$O$5195)>0),IF(COUNTIF(B2846:B2855,B2855)=10,B2855+7,B2855),\"\")","v":""},null,"","",null,null,null,0,0,0,0,{"$f":"IFERROR(VLOOKUP(G2856,DropDowns!$D$2:$E$151,2,FALSE),\"\")","v":""},{"$f":"IFERROR(VLOOKUP(H2856,DropDowns!$F$2:$G$7,2,FALSE),\"Residual categories\")","v":"Residual categories"},null,null,null,0,0,0]
[0,{"$f":"IF(OR(COUNTA(O2828:O2857)>0,COUNTA(O2857:$O$5195)>0),IF(COUNTIF(B2848:B2857,B2857)=10,B2857+7,B2857),\"\")","v":""},null,"","",null,null,null,0,0,0,0,{"$f":"IFERROR(VLOOKUP(G2858,DropDowns!$D$2:$E$151,2,FALSE),\"\")","v":""},{"$f":"IFERROR(VLOOKUP(H2858,DropDowns!$F$2:$G$7,2,FALSE),\"Residual categories\")","v":"Residual categories"},null,null,null,0,0,0]
[0,{"$f":"IF(OR(COUNTA(O2829:O2858)>0,COUNTA(O2858:$O$5195)>0),IF(COUNTIF(B2849:B2858,B2858)=10,B2858+7,B2858),\"\")","v":""},null,"","",null,null,null,0,0,0,0,{"$f":"IFERROR(VLOOKUP(G2859,DropDowns!$D$2:$E$151,2,FALSE),\"\")","v":""},{"$f":"IFERROR(VLOOKUP(H2859,DropDowns!$F$2:$G$7,2,FALSE),\"Residual categories\")","v":"Residual categories"},null,null,null,0,0,0]
[0,{"$f":"IF(OR(COUNTA(O2831:O2860)>0,COUNTA(O2860:$O$5195)>0),IF(COUNTIF(B2851:B2860,B2860)=10,B2860+7,B2860),\"\")","v":""},null,"","",null,null,null,0,0,0,0,{"$f":"IFERROR(VLOOKUP(G2861,DropDowns!$D$2:$E$151,2,FALSE),\"\")","v":""},{"$f":"IFERROR(VLOOKUP(H2861,DropDowns!$F$2:$G$7,2,FALSE),\"Residual categories\")","v":"Residual categories"},null,null,null,0,0,0]
[0,{"$f":"IF(OR(COUNTA(O2832:O2861)>0,COUNTA(O2861:$O$5195)>0),IF(COUNTIF(B2852:B2861,B2861)=10,B2861+7,B2861),\"\")","v":""},null,"","",null,null,null,0,0,0,0,{"$f":"IFERROR(VLOOKUP(G2862,DropDowns!$D$2:$E$151,2,FALSE),\"\")","v":""},{"$f":"IFERROR(VLOOKUP(H2862,DropDowns!$F$2:$G$7,2,FALSE),\"Residual categories\")","v":"Residual categories"},null,null,null,0,0,0]
[0,{"$f":"IF(OR(COUNTA(O2833:O2862)>0,COUNTA(O2862:$O$5195)>0),IF(COUNTIF(B2853:B2862,B2862)=10,B2862+7,B2862),\"\")","v":""},null,"","",null,null,null,0,0,0,0,{"$f":"IFERROR(VLOOKUP(G2863,DropDowns!$D$2:$E$151,2,FALSE),\"\")","v":""},{"$f":"IFERROR(VLOOKUP(H2863,DropDowns!$F$2:$G$7,2,FALSE),\"Residual categories\")","v":"Residual categories"},null,null,null,0,0,0]
[0,{"$f":"IF(OR(COUNTA(O2834:O2863)>0,COUNTA(O2863:$O$5195)>0),IF(COUNTIF(B2854:B2863,B2863)=10,B2863+7,B2863),\"\")","v":""},null,"","",null,null,null,0,0,0,0,{"$f":"IFERROR(VLOOKUP(G2864,DropDowns!$D$2:$E$151,2,FALSE),\"\")","v":""},{"$f":"IFERROR(VLOOKUP(H2864,DropDowns!$F$2:$G$7,2,FALSE),\"Residual categories\")","v":"Residual categories"},null,null,null,0,0,0]
[0,{"$f":"IF(OR(COUNTA(O2836:O2865)>0,COUNTA(O2865:$O$5195)>0),IF(COUNTIF(B2856:B2865,B2865)=10,B2865+7,B2865),\"\")","v":""},null,"","",null,null,null,0,0,0,0,{"$f":"IFERROR(VLOOKUP(G2866,DropDowns!$D$2:$E$151,2,FALSE),\"\")","v":""},{"$f":"IFERROR(VLOOKUP(H2866,DropDowns!$F$2:$G$7,2,FALSE),\"Residual categories\")","v":"Residual categories"},null,null,null,0,0,0]
[0,{"$f":"IF(OR(COUNTA(O2837:O2866)>0,COUNTA(O2866:$O$5195)>0),IF(COUNTIF(B2857:B2866,B2866)=10,B2866+7,B2866),\"\")","v":""},null,"","",null,null,null,0,0,0,0,{"$f":"IFERROR(VLOOKUP(G2867,DropDowns!$D$2:$E$151,2,FALSE),\"\")","v":""},{"$f":"IFERROR(VLOOKUP(H2867,DropDowns!$F$2:$G$7,2,FALSE),\"Residual categories\")","v":"Residual categories"},null,null,null,0,0,0]
[0,{"$f":"IF(OR(COUNTA(O2839:O2868)>0,COUNTA(O2868:$O$5195)>0),IF(COUNTIF(B2859:B2868,B2868)=10,B2868+7,B2868),\"\")","v":""},null,"","",null,null,null,0,0,0,0,{"$f":"IFERROR(VLOOKUP(G2869,DropDowns!$D$2:$E$151,2,FALSE),\"\")","v":""},{"$f":"IFERROR(VLOOKUP(H2869,DropDowns!$F$2:$G$7,2,FALSE),\"Residual categories\")","v":"Residual categories"},null,null,null,0,0,0]
[0,{"$f":"IF(OR(COUNTA(O2840:O2869)>0,COUNTA(O2869:$O$5195)>0),IF(COUNTIF(B2860:B2869,B2869)=10,B2869+7,B2869),\"\")","v":""},null,"","",null,null,null,0,0,0,0,{"$f":"IFERROR(VLOOKUP(G2870,DropDowns!$D$2:$E$151,2,FALSE),\"\")","v":""},{"$f":"IFERROR(VLOOKUP(H2870,DropDowns!$F$2:$G$7,2,FALSE),\"Residual categories\")","v":"Residual categories"},null,null,null,0,0,0]
[0,{"$f":"IF(OR(COUNTA(O2841:O2870)>0,COUNTA(O2870:$O$5195)>0),IF(COUNTIF(B2861:B2870,B2870)=10,B2870+7,B2870),\"\")","v":""},null,"","",null,null,null,0,0,0,0,{"$f":"IFERROR(VLOOKUP(G2871,DropDowns!$D$2:$E$151,2,FALSE),\"\")","v":""},{"$f":"IFERROR(VLOOKUP(H2871,DropDowns!$F$2:$G$7,2,FALSE),\"Residual categories\")","v":"Residual categories"},null,null,null,0,0,0]
[0,{"$f":"IF(OR(COUNTA(O2842:O2871)>0,COUNTA(O2871:$O$5195)>0),IF(COUNTIF(B2862:B2871,B2871)=10,B2871+7,B2871),\"\")","v":""},null,"","",null,null,null,0,0,0,0,{"$f":"IFERROR(VLOOKUP(G2872,DropDowns!$D$2:$E$151,2,FALSE),\"\")","v":""},{"$f":"IFERROR(VLOOKUP(H2872,DropDowns!$F$2:$G$7,2,FALSE),\"Residual categories\")","v":"Residual categories"},null,null,null,0,0,0]
[0,{"$f":"IF(OR(COUNTA(O2844:O2873)>0,COUNTA(O2873:$O$5195)>0),IF(COUNTIF(B2864:B2873,B2873)=10,B2873+7,B2873),\"\")","v":""},null,"","",null,null,null,0,0,0,0,{"$f":"IFERROR(VLOOKUP(G2874,DropDowns!$D$2:$E$151,2,FALSE),\"\")","v":""},{"$f":"IFERROR(VLOOKUP(H2874,DropDowns!$F$2:$G$7,2,FALSE),\"Residual categories\")","v":"Residual categories"},null,null,null,0,0,0]
[0,{"$f":"IF(OR(COUNTA(O2845:O2874)>0,COUNTA(O2874:$O$5195)>0),IF(COUNTIF(B2865:B2874,B2874)=10,B2874+7,B2874),\"\")","v":""},null,"","",null,null,null,0,0,0,0,{"$f":"IFERROR(VLOOKUP(G2875,DropDowns!$D$2:$E$151,2,FALSE),\"\")","v":""},{"$f":"IFERROR(VLOOKUP(H2875,DropDowns!$F$2:$G$7,2,FALSE),\"Residual categories\")","v":"Residual categories"},null,null,null,0,0,0]
[0,{"$f":"IF(OR(COUNTA(O2847:O2876)>0,COUNTA(O2876:$O$5195)>0),IF(COUNTIF(B2867:B2876,B2876)=10,B2876+7,B2876),\"\")","v":""},null,"","",null,null,null,0,0,0,0,{"$f":"IFERROR(VLOOKUP(G2877,DropDowns!$D$2:$E$151,2,FALSE),\"\")","v":""},{"$f":"IFERROR(VLOOKUP(H2877,DropDowns!$F$2:$G$7,2,FALSE),\"Residual categories\")","v":"Residual categories"},null,null,null,0,0,0]
[0,{"$f":"IF(OR(COUNTA(O2848:O2877)>0,COUNTA(O2877:$O$5195)>0),IF(COUNTIF(B2868:B2877,B2877)=10,B2877+7,B2877),\"\")","v":""},null,"","",null,null,null,0,0,0,0,{"$f":"IFERROR(VLOOKUP(G2878,DropDowns!$D$2:$E$151,2,FALSE),\"\")","v":""},{"$f":"IFERROR(VLOOKUP(H2878,DropDowns!$F$2:$G$7,2,FALSE),\"Residual categories\")","v":"Residual categories"},null,null,null,0,0,0]
[0,{"$f":"IF(OR(COUNTA(O2849:O2878)>0,COUNTA(O2878:$O$5195)>0),IF(COUNTIF(B2869:B2878,B2878)=10,B2878+7,B2878),\"\")","v":""},null,"","",null,null,null,0,0,0,0,{"$f":"IFERROR(VLOOKUP(G2879,DropDowns!$D$2:$E$151,2,FALSE),\"\")","v":""},{"$f":"IFERROR(VLOOKUP(H2879,DropDowns!$F$2:$G$7,2,FALSE),\"Residual categories\")","v":"Residual categories"},null,null,null,0,0,0]
[0,{"$f":"IF(OR(COUNTA(O2850:O2879)>0,COUNTA(O2879:$O$5195)>0),IF(COUNTIF(B2870:B2879,B2879)=10,B2879+7,B2879),\"\")","v":""},null,"","",null,null,null,0,0,0,0,{"$f":"IFERROR(VLOOKUP(G2880,DropDowns!$D$2:$E$151,2,FALSE),\"\")","v":""},{"$f":"IFERROR(VLOOKUP(H2880,DropDowns!$F$2:$G$7,2,FALSE),\"Residual categories\")","v":"Residual categories"},null,null,null,0,0,0]
[0,{"$f":"IF(OR(COUNTA(O2852:O2881)>0,COUNTA(O2881:$O$5195)>0),IF(COUNTIF(B2872:B2881,B2881)=10,B2881+7,B2881),\"\")","v":""},null,"","",null,null,null,0,0,0,0,{"$f":"IFERROR(VLOOKUP(G2882,DropDowns!$D$2:$E$151,2,FALSE),\"\")","v":""},{"$f":"IFERROR(VLOOKUP(H2882,DropDowns!$F$2:$G$7,2,FALSE),\"Residual categories\")","v":"Residual categories"},null,null,null,0,0,0]
[0,{"$f":"IF(OR(COUNTA(O2853:O2882)>0,COUNTA(O2882:$O$5195)>0),IF(COUNTIF(B2873:B2882,B2882)=10,B2882+7,B2882),\"\")","v":""},null,"","",null,null,null,0,0,0,0,{"$f":"IFERROR(VLOOKUP(G2883,DropDowns!$D$2:$E$151,2,FALSE),\"\")","v":""},{"$f":"IFERROR(VLOOKUP(H2883,DropDowns!$F$2:$G$7,2,FALSE),\"Residual categories\")","v":"Residual categories"},null,null,null,0,0,0]
[0,{"$f":"IF(OR(COUNTA(O2855:O2884)>0,COUNTA(O2884:$O$5195)>0),IF(COUNTIF(B2875:B2884,B2884)=10,B2884+7,B2884),\"\")","v":""},null,"","",null,null,null,0,0,0,0,{"$f":"IFERROR(VLOOKUP(G2885,DropDowns!$D$2:$E$151,2,FALSE),\"\")","v":""},{"$f":"IFERROR(VLOOKUP(H2885,DropDowns!$F$2:$G$7,2,FALSE),\"Residual categories\")","v":"Residual categories"},null,null,null,0,0,0]
[0,{"$f":"IF(OR(COUNTA(O2856:O2885)>0,COUNTA(O2885:$O$5195)>0),IF(COUNTIF(B2876:B2885,B2885)=10,B2885+7,B2885),\"\")","v":""},null,"","",null,null,null,0,0,0,0,{"$f":"IFERROR(VLOOKUP(G2886,DropDowns!$D$2:$E$151,2,FALSE),\"\")","v":""},{"$f":"IFERROR(VLOOKUP(H2886,DropDowns!$F$2:$G$7,2,FALSE),\"Residual categories\")","v":"Residual categories"},null,null,null,0,0,0]
[0,{"$f":"IF(OR(COUNTA(O2858:O2887)>0,COUNTA(O2887:$O$5195)>0),IF(COUNTIF(B2878:B2887,B2887)=10,B2887+7,B2887),\"\")","v":""},null,"","",null,null,null,0,0,0,0,{"$f":"IFERROR(VLOOKUP(G2888,DropDowns!$D$2:$E$151,2,FALSE),\"\")","v":""},{"$f":"IFERROR(VLOOKUP(H2888,DropDowns!$F$2:$G$7,2,FALSE),\"Residual categories\")","v":"Residual categories"},null,null,null,0,0,0]
[0,{"$f":"IF(OR(COUNTA(O2859:O2888)>0,COUNTA(O2888:$O$5195)>0),IF(COUNTIF(B2879:B2888,B2888)=10,B2888+7,B2888),\"\")","v":""},null,"","",null,null,null,0,0,0,0,{"$f":"IFERROR(VLOOKUP(G2889,DropDowns!$D$2:$E$151,2,FALSE),\"\")","v":""},{"$f":"IFERROR(VLOOKUP(H2889,DropDowns!$F$2:$G$7,2,FALSE),\"Residual categories\")","v":"Residual categories"},null,null,null,0,0,0]
[0,{"$f":"IF(OR(COUNTA(O2860:O2889)>0,COUNTA(O2889:$O$5195)>0),IF(COUNTIF(B2880:B2889,B2889)=10,B2889+7,B2889),\"\")","v":""},null,"","",null,null,null,0,0,0,0,{"$f":"IFERROR(VLOOKUP(G2890,DropDowns!$D$2:$E$151,2,FALSE),\"\")","v":""},{"$f":"IFERROR(VLOOKUP(H2890,DropDowns!$F$2:$G$7,2,FALSE),\"Residual categories\")","v":"Residual categories"},null,null,null,0,0,0]
[0,{"$f":"IF(OR(COUNTA(O2861:O2890)>0,COUNTA(O2890:$O$5195)>0),IF(COUNTIF(B2881:B2890,B2890)=10,B2890+7,B2890),\"\")","v":""},null,"","",null,null,null,0,0,0,0,{"$f":"IFERROR(VLOOKUP(G2891,DropDowns!$D$2:$E$151,2,FALSE),\"\")","v":""},{"$f":"IFERROR(VLOOKUP(H2891,DropDowns!$F$2:$G$7,2,FALSE),\"Residual categories\")","v":"Residual categories"},null,null,null,0,0,0]
[0,{"$f":"IF(OR(COUNTA(O2863:O2892)>0,COUNTA(O2892:$O$5195)>0),IF(COUNTIF(B2883:B2892,B2892)=10,B2892+7,B2892),\"\")","v":""},null,"","",null,null,null,0,0,0,0,{"$f":"IFERROR(VLOOKUP(G2893,DropDowns!$D$2:$E$151,2,FALSE),\"\")","v":""},{"$f":"IFERROR(VLOOKUP(H2893,DropDowns!$F$2:$G$7,2,FALSE),\"Residual categories\")","v":"Residual categories"},null,null,null,0,0,0]
[0,{"$f":"IF(OR(COUNTA(O2864:O2893)>0,COUNTA(O2893:$O$5195)>0),IF(COUNTIF(B2884:B2893,B2893)=10,B2893+7,B2893),\"\")","v":""},null,"","",null,null,null,0,0,0,0,{"$f":"IFERROR(VLOOKUP(G2894,DropDowns!$D$2:$E$151,2,FALSE),\"\")","v":""},{"$f":"IFERROR(VLOOKUP(H2894,DropDowns!$F$2:$G$7,2,FALSE),\"Residual categories\")","v":"Residual categories"},null,null,null,0,0,0]
[0,{"$f":"IF(OR(COUNTA(O2866:O2895)>0,COUNTA(O2895:$O$5195)>0),IF(COUNTIF(B2886:B2895,B2895)=10,B2895+7,B2895),\"\")","v":""},null,"","",null,null,null,0,0,0,0,{"$f":"IFERROR(VLOOKUP(G2896,DropDowns!$D$2:$E$151,2,FALSE),\"\")","v":""},{"$f":"IFERROR(VLOOKUP(H2896,DropDowns!$F$2:$G$7,2,FALSE),\"Residual categories\")","v":"Residual categories"},null,null,null,0,0,0]
[0,{"$f":"IF(OR(COUNTA(O2867:O2896)>0,COUNTA(O2896:$O$5195)>0),IF(COUNTIF(B2887:B2896,B2896)=10,B2896+7,B2896),\"\")","v":""},null,"",{"$f":"IF(B2897=\"\",\"\",COUNTIF(B2888:B2897,B2897))","v":""},null,null,null,0,0,0,0,{"$f":"IFERROR(VLOOKUP(G2897,DropDowns!$D$2:$E$151,2,FALSE),\"\")","v":""},{"$f":"IFERROR(VLOOKUP(H2897,DropDowns!$F$2:$G$7,2,FALSE),\"Residual categories\")","v":"Residual categories"},null,null,null,0,0,0]
[0,{"$f":"IF(OR(COUNTA(O2868:O2897)>0,COUNTA(O2897:$O$5195)>0),IF(COUNTIF(B2888:B2897,B2897)=10,B2897+7,B2897),\"\")","v":""},null,"","",null,null,null,0,0,0,0,{"$f":"IFERROR(VLOOKUP(G2898,DropDowns!$D$2:$E$151,2,FALSE),\"\")","v":""},{"$f":"IFERROR(VLOOKUP(H2898,DropDowns!$F$2:$G$7,2,FALSE),\"Residual categories\")","v":"Residual categories"},null,null,null,0,0,0]
[0,{"$f":"IF(OR(COUNTA(O2869:O2898)>0,COUNTA(O2898:$O$5195)>0),IF(COUNTIF(B2889:B2898,B2898)=10,B2898+7,B2898),\"\")","v":""},null,"","",null,null,null,0,0,0,0,{"$f":"IFERROR(VLOOKUP(G2899,DropDowns!$D$2:$E$151,2,FALSE),\"\")","v":""},{"$f":"IFERROR(VLOOKUP(H2899,DropDowns!$F$2:$G$7,2,FALSE),\"Residual categories\")","v":"Residual categories"},null,null,null,0,0,0]
[0,{"$f":"IF(OR(COUNTA(O2871:O2900)>0,COUNTA(O2900:$O$5195)>0),IF(COUNTIF(B2891:B2900,B2900)=10,B2900+7,B2900),\"\")","v":""},null,"","",null,null,null,0,0,0,0,{"$f":"IFERROR(VLOOKUP(G2901,DropDowns!$D$2:$E$151,2,FALSE),\"\")","v":""},{"$f":"IFERROR(VLOOKUP(H2901,DropDowns!$F$2:$G$7,2,FALSE),\"Residual categories\")","v":"Residual categories"},null,null,null,0,0,0]
[0,{"$f":"IF(OR(COUNTA(O2872:O2901)>0,COUNTA(O2901:$O$5195)>0),IF(COUNTIF(B2892:B2901,B2901)=10,B2901+7,B2901),\"\")","v":""},null,"","",null,null,null,0,0,0,0,{"$f":"IFERROR(VLOOKUP(G2902,DropDowns!$D$2:$E$151,2,FALSE),\"\")","v":""},{"$f":"IFERROR(VLOOKUP(H2902,DropDowns!$F$2:$G$7,2,FALSE),\"Residual categories\")","v":"Residual categories"},null,null,null,0,0,0]
[0,{"$f":"IF(OR(COUNTA(O2874:O2903)>0,COUNTA(O2903:$O$5195)>0),IF(COUNTIF(B2894:B2903,B2903)=10,B2903+7,B2903),\"\")","v":""},null,"","",null,null,null,0,0,0,0,{"$f":"IFERROR(VLOOKUP(G2904,DropDowns!$D$2:$E$151,2,FALSE),\"\")","v":""},{"$f":"IFERROR(VLOOKUP(H2904,DropDowns!$F$2:$G$7,2,FALSE),\"Residual categories\")","v":"Residual categories"},null,null,null,0,0,0]
[0,{"$f":"IF(OR(COUNTA(O2875:O2904)>0,COUNTA(O2904:$O$5195)>0),IF(COUNTIF(B2895:B2904,B2904)=10,B2904+7,B2904),\"\")","v":""},null,"","",null,null,null,0,0,0,0,{"$f":"IFERROR(VLOOKUP(G2905,DropDowns!$D$2:$E$151,2,FALSE),\"\")","v":""},{"$f":"IFERROR(VLOOKUP(H2905,DropDowns!$F$2:$G$7,2,FALSE),\"Residual categories\")","v":"Residual categories"},null,null,null,0,0,0]
[0,{"$f":"IF(OR(COUNTA(O2876:O2905)>0,COUNTA(O2905:$O$5195)>0),IF(COUNTIF(B2896:B2905,B2905)=10,B2905+7,B2905),\"\")","v":""},null,"","",null,null,null,0,0,0,0,{"$f":"IFERROR(VLOOKUP(G2906,DropDowns!$D$2:$E$151,2,FALSE),\"\")","v":""},{"$f":"IFERROR(VLOOKUP(H2906,DropDowns!$F$2:$G$7,2,FALSE),\"Residual categories\")","v":"Residual categories"},null,null,null,0,0,0]
[0,{"$f":"IF(OR(COUNTA(O2877:O2906)>0,COUNTA(O2906:$O$5195)>0),IF(COUNTIF(B2897:B2906,B2906)=10,B2906+7,B2906),\"\")","v":""},null,"","",null,null,null,0,0,0,0,{"$f":"IFERROR(VLOOKUP(G2907,DropDowns!$D$2:$E$151,2,FALSE),\"\")","v":""},{"$f":"IFERROR(VLOOKUP(H2907,DropDowns!$F$2:$G$7,2,FALSE),\"Residual categories\")","v":"Residual categories"},null,null,null,0,0,0]
[0,{"$f":"IF(OR(COUNTA(O2879:O2908)>0,COUNTA(O2908:$O$5195)>0),IF(COUNTIF(B2899:B2908,B2908)=10,B2908+7,B2908),\"\")","v":""},null,"","",null,null,null,0,0,0,0,{"$f":"IFERROR(VLOOKUP(G2909,DropDowns!$D$2:$E$151,2,FALSE),\"\")","v":""},{"$f":"IFERROR(VLOOKUP(H2909,DropDowns!$F$2:$G$7,2,FALSE),\"Residual categories\")","v":"Residual categories"},null,null,null,0,0,0]
[0,{"$f":"IF(OR(COUNTA(O2880:O2909)>0,COUNTA(O2909:$O$5195)>0),IF(COUNTIF(B2900:B2909,B2909)=10,B2909+7,B2909),\"\")","v":""},null,"","",null,null,null,0,0,0,0,{"$f":"IFERROR(VLOOKUP(G2910,DropDowns!$D$2:$E$151,2,FALSE),\"\")","v":""},{"$f":"IFERROR(VLOOKUP(H2910,DropDowns!$F$2:$G$7,2,FALSE),\"Residual categories\")","v":"Residual categories"},null,null,null,0,0,0]
[0,{"$f":"IF(OR(COUNTA(O2882:O2911)>0,COUNTA(O2911:$O$5195)>0),IF(COUNTIF(B2902:B2911,B2911)=10,B2911+7,B2911),\"\")","v":""},null,"","",null,null,null,0,0,0,0,{"$f":"IFERROR(VLOOKUP(G2912,DropDowns!$D$2:$E$151,2,FALSE),\"\")","v":""},{"$f":"IFERROR(VLOOKUP(H2912,DropDowns!$F$2:$G$7,2,FALSE),\"Residual categories\")","v":"Residual categories"},null,null,null,0,0,0]
[0,{"$f":"IF(OR(COUNTA(O2883:O2912)>0,COUNTA(O2912:$O$5195)>0),IF(COUNTIF(B2903:B2912,B2912)=10,B2912+7,B2912),\"\")","v":""},null,"","",null,null,null,0,0,0,0,{"$f":"IFERROR(VLOOKUP(G2913,DropDowns!$D$2:$E$151,2,FALSE),\"\")","v":""},{"$f":"IFERROR(VLOOKUP(H2913,DropDowns!$F$2:$G$7,2,FALSE),\"Residual categories\")","v":"Residual categories"},null,null,null,0,0,0]
[0,{"$f":"IF(OR(COUNTA(O2884:O2913)>0,COUNTA(O2913:$O$5195)>0),IF(COUNTIF(B2904:B2913,B2913)=10,B2913+7,B2913),\"\")","v":""},null,"","",null,null,null,0,0,0,0,{"$f":"IFERROR(VLOOKUP(G2914,DropDowns!$D$2:$E$151,2,FALSE),\"\")","v":""},{"$f":"IFERROR(VLOOKUP(H2914,DropDowns!$F$2:$G$7,2,FALSE),\"Residual categories\")","v":"Residual categories"},null,null,null,0,0,0]
[0,{"$f":"IF(OR(COUNTA(O2885:O2914)>0,COUNTA(O2914:$O$5195)>0),IF(COUNTIF(B2905:B2914,B2914)=10,B2914+7,B2914),\"\")","v":""},null,"","",null,null,null,0,0,0,0,{"$f":"IFERROR(VLOOKUP(G2915,DropDowns!$D$2:$E$151,2,FALSE),\"\")","v":""},{"$f":"IFERROR(VLOOKUP(H2915,DropDowns!$F$2:$G$7,2,FALSE),\"Residual categories\")","v":"Residual categories"},null,null,null,0,0,0]
[0,{"$f":"IF(OR(COUNTA(O2887:O2916)>0,COUNTA(O2916:$O$5195)>0),IF(COUNTIF(B2907:B2916,B2916)=10,B2916+7,B2916),\"\")","v":""},null,"","",null,null,null,0,0,0,0,{"$f":"IFERROR(VLOOKUP(G2917,DropDowns!$D$2:$E$151,2,FALSE),\"\")","v":""},{"$f":"IFERROR(VLOOKUP(H2917,DropDowns!$F$2:$G$7,2,FALSE),\"Residual categories\")","v":"Residual categories"},null,null,null,0,0,0]
[0,{"$f":"IF(OR(COUNTA(O2888:O2917)>0,COUNTA(O2917:$O$5195)>0),IF(COUNTIF(B2908:B2917,B2917)=10,B2917+7,B2917),\"\")","v":""},null,"","",null,null,null,0,0,0,0,{"$f":"IFERROR(VLOOKUP(G2918,DropDowns!$D$2:$E$151,2,FALSE),\"\")","v":""},{"$f":"IFERROR(VLOOKUP(H2918,DropDowns!$F$2:$G$7,2,FALSE),\"Residual categories\")","v":"Residual categories"},null,null,null,0,0,0]
[0,{"$f":"IF(OR(COUNTA(O2890:O2919)>0,COUNTA(O2919:$O$5195)>0),IF(COUNTIF(B2910:B2919,B2919)=10,B2919+7,B2919),\"\")","v":""},null,"","",null,null,null,0,0,0,0,{"$f":"IFERROR(VLOOKUP(G2920,DropDowns!$D$2:$E$151,2,FALSE),\"\")","v":""},{"$f":"IFERROR(VLOOKUP(H2920,DropDowns!$F$2:$G$7,2,FALSE),\"Residual categories\")","v":"Residual categories"},null,null,null,0,0,0]
[0,{"$f":"IF(OR(COUNTA(O2891:O2920)>0,COUNTA(O2920:$O$5195)>0),IF(COUNTIF(B2911:B2920,B2920)=10,B2920+7,B2920),\"\")","v":""},null,"","",null,null,null,0,0,0,0,{"$f":"IFERROR(VLOOKUP(G2921,DropDowns!$D$2:$E$151,2,FALSE),\"\")","v":""},{"$f":"IFERROR(VLOOKUP(H2921,DropDowns!$F$2:$G$7,2,FALSE),\"Residual categories\")","v":"Residual categories"},null,null,null,0,0,0]
[0,{"$f":"IF(OR(COUNTA(O2893:O2922)>0,COUNTA(O2922:$O$5195)>0),IF(COUNTIF(B2913:B2922,B2922)=10,B2922+7,B2922),\"\")","v":""},null,"","",null,null,null,0,0,0,0,{"$f":"IFERROR(VLOOKUP(G2923,DropDowns!$D$2:$E$151,2,FALSE),\"\")","v":""},{"$f":"IFERROR(VLOOKUP(H2923,DropDowns!$F$2:$G$7,2,FALSE),\"Residual categories\")","v":"Residual categories"},null,null,null,0,0,0]
[0,{"$f":"IF(OR(COUNTA(O2894:O2923)>0,COUNTA(O2923:$O$5195)>0),IF(COUNTIF(B2914:B2923,B2923)=10,B2923+7,B2923),\"\")","v":""},null,"","",null,null,null,0,0,0,0,{"$f":"IFERROR(VLOOKUP(G2924,DropDowns!$D$2:$E$151,2,FALSE),\"\")","v":""},{"$f":"IFERROR(VLOOKUP(H2924,DropDowns!$F$2:$G$7,2,FALSE),\"Residual categories\")","v":"Residual categories"},null,null,null,0,0,0]
[0,{"$f":"IF(OR(COUNTA(O2895:O2924)>0,COUNTA(O2924:$O$5195)>0),IF(COUNTIF(B2915:B2924,B2924)=10,B2924+7,B2924),\"\")","v":""},null,"","",null,null,null,0,0,0,0,{"$f":"IFERROR(VLOOKUP(G2925,DropDowns!$D$2:$E$151,2,FALSE),\"\")","v":""},{"$f":"IFERROR(VLOOKUP(H2925,DropDowns!$F$2:$G$7,2,FALSE),\"Residual categories\")","v":"Residual categories"},null,null,null,0,0,0]
[0,{"$f":"IF(OR(COUNTA(O2896:O2925)>0,COUNTA(O2925:$O$5195)>0),IF(COUNTIF(B2916:B2925,B2925)=10,B2925+7,B2925),\"\")","v":""},null,"","",null,null,null,0,0,0,0,{"$f":"IFERROR(VLOOKUP(G2926,DropDowns!$D$2:$E$151,2,FALSE),\"\")","v":""},{"$f":"IFERROR(VLOOKUP(H2926,DropDowns!$F$2:$G$7,2,FALSE),\"Residual categories\")","v":"Residual categories"},null,null,null,0,0,0]
[0,{"$f":"IF(OR(COUNTA(O2898:O2927)>0,COUNTA(O2927:$O$5195)>0),IF(COUNTIF(B2918:B2927,B2927)=10,B2927+7,B2927),\"\")","v":""},null,"","",null,null,null,0,0,0,0,{"$f":"IFERROR(VLOOKUP(G2928,DropDowns!$D$2:$E$151,2,FALSE),\"\")","v":""},{"$f":"IFERROR(VLOOKUP(H2928,DropDowns!$F$2:$G$7,2,FALSE),\"Residual categories\")","v":"Residual categories"},null,null,null,0,0,0]
[0,{"$f":"IF(OR(COUNTA(O2899:O2928)>0,COUNTA(O2928:$O$5195)>0),IF(COUNTIF(B2919:B2928,B2928)=10,B2928+7,B2928),\"\")","v":""},null,"","",null,null,null,0,0,0,0,{"$f":"IFERROR(VLOOKUP(G2929,DropDowns!$D$2:$E$151,2,FALSE),\"\")","v":""},{"$f":"IFERROR(VLOOKUP(H2929,DropDowns!$F$2:$G$7,2,FALSE),\"Residual categories\")","v":"Residual categories"},null,null,null,0,0,0]
[0,{"$f":"IF(OR(COUNTA(O2901:O2930)>0,COUNTA(O2930:$O$5195)>0),IF(COUNTIF(B2921:B2930,B2930)=10,B2930+7,B2930),\"\")","v":""},null,"","",null,null,null,0,0,0,0,{"$f":"IFERROR(VLOOKUP(G2931,DropDowns!$D$2:$E$151,2,FALSE),\"\")","v":""},{"$f":"IFERROR(VLOOKUP(H2931,DropDowns!$F$2:$G$7,2,FALSE),\"Residual categories\")","v":"Residual categories"},null,null,null,0,0,0]
[0,{"$f":"IF(OR(COUNTA(O2902:O2931)>0,COUNTA(O2931:$O$5195)>0),IF(COUNTIF(B2922:B2931,B2931)=10,B2931+7,B2931),\"\")","v":""},null,"","",null,null,null,0,0,0,0,{"$f":"IFERROR(VLOOKUP(G2932,DropDowns!$D$2:$E$151,2,FALSE),\"\")","v":""},{"$f":"IFERROR(VLOOKUP(H2932,DropDowns!$F$2:$G$7,2,FALSE),\"Residual categories\")","v":"Residual categories"},null,null,null,0,0,0]
[0,{"$f":"IF(OR(COUNTA(O2903:O2932)>0,COUNTA(O2932:$O$5195)>0),IF(COUNTIF(B2923:B2932,B2932)=10,B2932+7,B2932),\"\")","v":""},null,"","",null,null,null,0,0,0,0,{"$f":"IFERROR(VLOOKUP(G2933,DropDowns!$D$2:$E$151,2,FALSE),\"\")","v":""},{"$f":"IFERROR(VLOOKUP(H2933,DropDowns!$F$2:$G$7,2,FALSE),\"Residual categories\")","v":"Residual categories"},null,null,null,0,0,0]
[0,{"$f":"IF(OR(COUNTA(O2904:O2933)>0,COUNTA(O2933:$O$5195)>0),IF(COUNTIF(B2924:B2933,B2933)=10,B2933+7,B2933),\"\")","v":""},null,"","",null,null,null,0,0,0,0,{"$f":"IFERROR(VLOOKUP(G2934,DropDowns!$D$2:$E$151,2,FALSE),\"\")","v":""},{"$f":"IFERROR(VLOOKUP(H2934,DropDowns!$F$2:$G$7,2,FALSE),\"Residual categories\")","v":"Residual categories"},null,null,null,0,0,0]
[0,{"$f":"IF(OR(COUNTA(O2906:O2935)>0,COUNTA(O2935:$O$5195)>0),IF(COUNTIF(B2926:B2935,B2935)=10,B2935+7,B2935),\"\")","v":""},null,"","",null,null,null,0,0,0,0,{"$f":"IFERROR(VLOOKUP(G2936,DropDowns!$D$2:$E$151,2,FALSE),\"\")","v":""},{"$f":"IFERROR(VLOOKUP(H2936,DropDowns!$F$2:$G$7,2,FALSE),\"Residual categories\")","v":"Residual categories"},null,null,null,0,0,0]
[0,{"$f":"IF(OR(COUNTA(O2907:O2936)>0,COUNTA(O2936:$O$5195)>0),IF(COUNTIF(B2927:B2936,B2936)=10,B2936+7,B2936),\"\")","v":""},null,"","",null,null,null,0,0,0,0,{"$f":"IFERROR(VLOOKUP(G2937,DropDowns!$D$2:$E$151,2,FALSE),\"\")","v":""},{"$f":"IFERROR(VLOOKUP(H2937,DropDowns!$F$2:$G$7,2,FALSE),\"Residual categories\")","v":"Residual categories"},null,null,null,0,0,0]
[0,{"$f":"IF(OR(COUNTA(O2909:O2938)>0,COUNTA(O2938:$O$5195)>0),IF(COUNTIF(B2929:B2938,B2938)=10,B2938+7,B2938),\"\")","v":""},null,"","",null,null,null,0,0,0,0,{"$f":"IFERROR(VLOOKUP(G2939,DropDowns!$D$2:$E$151,2,FALSE),\"\")","v":""},{"$f":"IFERROR(VLOOKUP(H2939,DropDowns!$F$2:$G$7,2,FALSE),\"Residual categories\")","v":"Residual categories"},null,null,null,0,0,0]
[0,{"$f":"IF(OR(COUNTA(O2910:O2939)>0,COUNTA(O2939:$O$5195)>0),IF(COUNTIF(B2930:B2939,B2939)=10,B2939+7,B2939),\"\")","v":""},null,"","",null,null,null,0,0,0,0,{"$f":"IFERROR(VLOOKUP(G2940,DropDowns!$D$2:$E$151,2,FALSE),\"\")","v":""},{"$f":"IFERROR(VLOOKUP(H2940,DropDowns!$F$2:$G$7,2,FALSE),\"Residual categories\")","v":"Residual categories"},null,null,null,0,0,0]
[0,{"$f":"IF(OR(COUNTA(O2911:O2940)>0,COUNTA(O2940:$O$5195)>0),IF(COUNTIF(B2931:B2940,B2940)=10,B2940+7,B2940),\"\")","v":""},null,"","",null,null,null,0,0,0,0,{"$f":"IFERROR(VLOOKUP(G2941,DropDowns!$D$2:$E$151,2,FALSE),\"\")","v":""},{"$f":"IFERROR(VLOOKUP(H2941,DropDowns!$F$2:$G$7,2,FALSE),\"Residual categories\")","v":"Residual categories"},null,null,null,0,0,0]
[0,{"$f":"IF(OR(COUNTA(O2912:O2941)>0,COUNTA(O2941:$O$5195)>0),IF(COUNTIF(B2932:B2941,B2941)=10,B2941+7,B2941),\"\")","v":""},null,"","",null,null,null,0,0,0,0,{"$f":"IFERROR(VLOOKUP(G2942,DropDowns!$D$2:$E$151,2,FALSE),\"\")","v":""},{"$f":"IFERROR(VLOOKUP(H2942,DropDowns!$F$2:$G$7,2,FALSE),\"Residual categories\")","v":"Residual categories"},null,null,null,0,0,0]
[0,{"$f":"IF(OR(COUNTA(O2914:O2943)>0,COUNTA(O2943:$O$5195)>0),IF(COUNTIF(B2934:B2943,B2943)=10,B2943+7,B2943),\"\")","v":""},null,"","",null,null,null,0,0,0,0,{"$f":"IFERROR(VLOOKUP(G2944,DropDowns!$D$2:$E$151,2,FALSE),\"\")","v":""},{"$f":"IFERROR(VLOOKUP(H2944,DropDowns!$F$2:$G$7,2,FALSE),\"Residual categories\")","v":"Residual categories"},null,null,null,0,0,0]
[0,{"$f":"IF(OR(COUNTA(O2915:O2944)>0,COUNTA(O2944:$O$5195)>0),IF(COUNTIF(B2935:B2944,B2944)=10,B2944+7,B2944),\"\")","v":""},null,"","",null,null,null,0,0,0,0,{"$f":"IFERROR(VLOOKUP(G2945,DropDowns!$D$2:$E$151,2,FALSE),\"\")","v":""},{"$f":"IFERROR(VLOOKUP(H2945,DropDowns!$F$2:$G$7,2,FALSE),\"Residual categories\")","v":"Residual categories"},null,null,null,0,0,0]
[0,{"$f":"IF(OR(COUNTA(O2917:O2946)>0,COUNTA(O2946:$O$5195)>0),IF(COUNTIF(B2937:B2946,B2946)=10,B2946+7,B2946),\"\")","v":""},null,"","",null,null,null,0,0,0,0,{"$f":"IFERROR(VLOOKUP(G2947,DropDowns!$D$2:$E$151,2,FALSE),\"\")","v":""},{"$f":"IFERROR(VLOOKUP(H2947,DropDowns!$F$2:$G$7,2,FALSE),\"Residual categories\")","v":"Residual categories"},null,null,null,0,0,0]
[0,{"$f":"IF(OR(COUNTA(O2918:O2947)>0,COUNTA(O2947:$O$5195)>0),IF(COUNTIF(B2938:B2947,B2947)=10,B2947+7,B2947),\"\")","v":""},null,"","",null,null,null,0,0,0,0,{"$f":"IFERROR(VLOOKUP(G2948,DropDowns!$D$2:$E$151,2,FALSE),\"\")","v":""},{"$f":"IFERROR(VLOOKUP(H2948,DropDowns!$F$2:$G$7,2,FALSE),\"Residual categories\")","v":"Residual categories"},null,null,null,0,0,0]
[0,{"$f":"IF(OR(COUNTA(O2919:O2948)>0,COUNTA(O2948:$O$5195)>0),IF(COUNTIF(B2939:B2948,B2948)=10,B2948+7,B2948),\"\")","v":""},null,"","",null,null,null,0,0,0,0,{"$f":"IFERROR(VLOOKUP(G2949,DropDowns!$D$2:$E$151,2,FALSE),\"\")","v":""},{"$f":"IFERROR(VLOOKUP(H2949,DropDowns!$F$2:$G$7,2,FALSE),\"Residual categories\")","v":"Residual categories"},null,null,null,0,0,0]
[0,{"$f":"IF(OR(COUNTA(O2920:O2949)>0,COUNTA(O2949:$O$5195)>0),IF(COUNTIF(B2940:B2949,B2949)=10,B2949+7,B2949),\"\")","v":""},null,"","",null,null,null,0,0,0,0,{"$f":"IFERROR(VLOOKUP(G2950,DropDowns!$D$2:$E$151,2,FALSE),\"\")","v":""},{"$f":"IFERROR(VLOOKUP(H2950,DropDowns!$F$2:$G$7,2,FALSE),\"Residual categories\")","v":"Residual categories"},null,null,null,0,0,0]
[0,{"$f":"IF(OR(COUNTA(O2922:O2951)>0,COUNTA(O2951:$O$5195)>0),IF(COUNTIF(B2942:B2951,B2951)=10,B2951+7,B2951),\"\")","v":""},null,"","",null,null,null,0,0,0,0,{"$f":"IFERROR(VLOOKUP(G2952,DropDowns!$D$2:$E$151,2,FALSE),\"\")","v":""},{"$f":"IFERROR(VLOOKUP(H2952,DropDowns!$F$2:$G$7,2,FALSE),\"Residual categories\")","v":"Residual categories"},null,null,null,0,0,0]
[0,{"$f":"IF(OR(COUNTA(O2923:O2952)>0,COUNTA(O2952:$O$5195)>0),IF(COUNTIF(B2943:B2952,B2952)=10,B2952+7,B2952),\"\")","v":""},null,"","",null,null,null,0,0,0,0,{"$f":"IFERROR(VLOOKUP(G2953,DropDowns!$D$2:$E$151,2,FALSE),\"\")","v":""},{"$f":"IFERROR(VLOOKUP(H2953,DropDowns!$F$2:$G$7,2,FALSE),\"Residual categories\")","v":"Residual categories"},null,null,null,0,0,0]
[0,{"$f":"IF(OR(COUNTA(O2925:O2954)>0,COUNTA(O2954:$O$5195)>0),IF(COUNTIF(B2945:B2954,B2954)=10,B2954+7,B2954),\"\")","v":""},null,"","",null,null,null,0,0,0,0,{"$f":"IFERROR(VLOOKUP(G2955,DropDowns!$D$2:$E$151,2,FALSE),\"\")","v":""},{"$f":"IFERROR(VLOOKUP(H2955,DropDowns!$F$2:$G$7,2,FALSE),\"Residual categories\")","v":"Residual categories"},null,null,null,0,0,0]
[0,{"$f":"IF(OR(COUNTA(O2926:O2955)>0,COUNTA(O2955:$O$5195)>0),IF(COUNTIF(B2946:B2955,B2955)=10,B2955+7,B2955),\"\")","v":""},null,"","",null,null,null,0,0,0,0,{"$f":"IFERROR(VLOOKUP(G2956,DropDowns!$D$2:$E$151,2,FALSE),\"\")","v":""},{"$f":"IFERROR(VLOOKUP(H2956,DropDowns!$F$2:$G$7,2,FALSE),\"Residual categories\")","v":"Residual categories"},null,null,null,0,0,0]
[0,{"$f":"IF(OR(COUNTA(O2928:O2957)>0,COUNTA(O2957:$O$5195)>0),IF(COUNTIF(B2948:B2957,B2957)=10,B2957+7,B2957),\"\")","v":""},null,"","",null,null,null,0,0,0,0,{"$f":"IFERROR(VLOOKUP(G2958,DropDowns!$D$2:$E$151,2,FALSE),\"\")","v":""},{"$f":"IFERROR(VLOOKUP(H2958,DropDowns!$F$2:$G$7,2,FALSE),\"Residual categories\")","v":"Residual categories"},null,null,null,0,0,0]
[0,{"$f":"IF(OR(COUNTA(O2929:O2958)>0,COUNTA(O2958:$O$5195)>0),IF(COUNTIF(B2949:B2958,B2958)=10,B2958+7,B2958),\"\")","v":""},null,"","",null,null,null,0,0,0,0,{"$f":"IFERROR(VLOOKUP(G2959,DropDowns!$D$2:$E$151,2,FALSE),\"\")","v":""},{"$f":"IFERROR(VLOOKUP(H2959,DropDowns!$F$2:$G$7,2,FALSE),\"Residual categories\")","v":"Residual categories"},null,null,null,0,0,0]
[0,{"$f":"IF(OR(COUNTA(O2930:O2959)>0,COUNTA(O2959:$O$5195)>0),IF(COUNTIF(B2950:B2959,B2959)=10,B2959+7,B2959),\"\")","v":""},null,"","",null,null,null,0,0,0,0,{"$f":"IFERROR(VLOOKUP(G2960,DropDowns!$D$2:$E$151,2,FALSE),\"\")","v":""},{"$f":"IFERROR(VLOOKUP(H2960,DropDowns!$F$2:$G$7,2,FALSE),\"Residual categories\")","v":"Residual categories"},null,null,null,0,0,0]
[0,{"$f":"IF(OR(COUNTA(O2931:O2960)>0,COUNTA(O2960:$O$5195)>0),IF(COUNTIF(B2951:B2960,B2960)=10,B2960+7,B2960),\"\")","v":""},null,"",{"$f":"IF(B2961=\"\",\"\",COUNTIF(B2952:B2961,B2961))","v":""},null,null,null,0,0,0,0,{"$f":"IFERROR(VLOOKUP(G2961,DropDowns!$D$2:$E$151,2,FALSE),\"\")","v":""},{"$f":"IFERROR(VLOOKUP(H2961,DropDowns!$F$2:$G$7,2,FALSE),\"Residual categories\")","v":"Residual categories"},null,null,null,0,0,0]
[0,{"$f":"IF(OR(COUNTA(O2933:O2962)>0,COUNTA(O2962:$O$5195)>0),IF(COUNTIF(B2953:B2962,B2962)=10,B2962+7,B2962),\"\")","v":""},null,"","",null,null,null,0,0,0,0,{"$f":"IFERROR(VLOOKUP(G2963,DropDowns!$D$2:$E$151,2,FALSE),\"\")","v":""},{"$f":"IFERROR(VLOOKUP(H2963,DropDowns!$F$2:$G$7,2,FALSE),\"Residual categories\")","v":"Residual categories"},null,null,null,0,0,0]
[{"$f":"$E$2","v":0},{"$f":"IF(OR(COUNTA(O2934:O2963)>0,COUNTA(O2963:$O$5195)>0),IF(COUNTIF(B2954:B2963,B2963)=10,B2963+7,B2963),\"\")","v":""},null,"","",null,null,null,0,0,0,0,{"$f":"IFERROR(VLOOKUP(G2964,DropDowns!$D$2:$E$151,2,FALSE),\"\")","v":""},{"$f":"IFERROR(VLOOKUP(H2964,DropDowns!$F$2:$G$7,2,FALSE),\"Residual categories\")","v":"Residual categories"},null,null,null,0,0,0]
[0,{"$f":"IF(OR(COUNTA(O2936:O2965)>0,COUNTA(O2965:$O$5195)>0),IF(COUNTIF(B2956:B2965,B2965)=10,B2965+7,B2965),\"\")","v":""},null,"","",null,null,null,0,0,0,0,{"$f":"IFERROR(VLOOKUP(G2966,DropDowns!$D$2:$E$151,2,FALSE),\"\")","v":""},{"$f":"IFERROR(VLOOKUP(H2966,DropDowns!$F$2:$G$7,2,FALSE),\"Residual categories\")","v":"Residual categories"},null,null,null,0,0,0]
[0,{"$f":"IF(OR(COUNTA(O2937:O2966)>0,COUNTA(O2966:$O$5195)>0),IF(COUNTIF(B2957:B2966,B2966)=10,B2966+7,B2966),\"\")","v":""},null,"","",null,null,null,0,0,0,0,{"$f":"IFERROR(VLOOKUP(G2967,DropDowns!$D$2:$E$151,2,FALSE),\"\")","v":""},{"$f":"IFERROR(VLOOKUP(H2967,DropDowns!$F$2:$G$7,2,FALSE),\"Residual categories\")","v":"Residual categories"},null,null,null,0,0,0]
[0,{"$f":"IF(OR(COUNTA(O2938:O2967)>0,COUNTA(O2967:$O$5195)>0),IF(COUNTIF(B2958:B2967,B2967)=10,B2967+7,B2967),\"\")","v":""},null,"","",null,null,null,0,0,0,0,{"$f":"IFERROR(VLOOKUP(G2968,DropDowns!$D$2:$E$151,2,FALSE),\"\")","v":""},{"$f":"IFERROR(VLOOKUP(H2968,DropDowns!$F$2:$G$7,2,FALSE),\"Residual categories\")","v":"Residual categories"},null,null,null,0,0,0]
[0,{"$f":"IF(OR(COUNTA(O2939:O2968)>0,COUNTA(O2968:$O$5195)>0),IF(COUNTIF(B2959:B2968,B2968)=10,B2968+7,B2968),\"\")","v":""},null,"","",null,null,null,0,0,0,0,{"$f":"IFERROR(VLOOKUP(G2969,DropDowns!$D$2:$E$151,2,FALSE),\"\")","v":""},{"$f":"IFERROR(VLOOKUP(H2969,DropDowns!$F$2:$G$7,2,FALSE),\"Residual categories\")","v":"Residual categories"},null,null,null,0,0,0]
[0,{"$f":"IF(OR(COUNTA(O2941:O2970)>0,COUNTA(O2970:$O$5195)>0),IF(COUNTIF(B2961:B2970,B2970)=10,B2970+7,B2970),\"\")","v":""},null,"","",null,null,null,0,0,0,0,{"$f":"IFERROR(VLOOKUP(G2971,DropDowns!$D$2:$E$151,2,FALSE),\"\")","v":""},{"$f":"IFERROR(VLOOKUP(H2971,DropDowns!$F$2:$G$7,2,FALSE),\"Residual categories\")","v":"Residual categories"},null,null,null,0,0,0]
[0,{"$f":"IF(OR(COUNTA(O2942:O2971)>0,COUNTA(O2971:$O$5195)>0),IF(COUNTIF(B2962:B2971,B2971)=10,B2971+7,B2971),\"\")","v":""},null,"","",null,null,null,0,0,0,0,{"$f":"IFERROR(VLOOKUP(G2972,DropDowns!$D$2:$E$151,2,FALSE),\"\")","v":""},{"$f":"IFERROR(VLOOKUP(H2972,DropDowns!$F$2:$G$7,2,FALSE),\"Residual categories\")","v":"Residual categories"},null,null,null,0,0,0]
[0,{"$f":"IF(OR(COUNTA(O2944:O2973)>0,COUNTA(O2973:$O$5195)>0),IF(COUNTIF(B2964:B2973,B2973)=10,B2973+7,B2973),\"\")","v":""},null,"","",null,null,null,0,0,0,0,{"$f":"IFERROR(VLOOKUP(G2974,DropDowns!$D$2:$E$151,2,FALSE),\"\")","v":""},{"$f":"IFERROR(VLOOKUP(H2974,DropDowns!$F$2:$G$7,2,FALSE),\"Residual categories\")","v":"Residual categories"},null,null,null,0,0,0]
[0,{"$f":"IF(OR(COUNTA(O2945:O2974)>0,COUNTA(O2974:$O$5195)>0),IF(COUNTIF(B2965:B2974,B2974)=10,B2974+7,B2974),\"\")","v":""},null,"","",null,null,null,0,0,0,0,{"$f":"IFERROR(VLOOKUP(G2975,DropDowns!$D$2:$E$151,2,FALSE),\"\")","v":""},{"$f":"IFERROR(VLOOKUP(H2975,DropDowns!$F$2:$G$7,2,FALSE),\"Residual categories\")","v":"Residual categories"},null,null,null,0,0,0]
[0,{"$f":"IF(OR(COUNTA(O2946:O2975)>0,COUNTA(O2975:$O$5195)>0),IF(COUNTIF(B2966:B2975,B2975)=10,B2975+7,B2975),\"\")","v":""},null,"","",null,null,null,0,0,0,0,{"$f":"IFERROR(VLOOKUP(G2976,DropDowns!$D$2:$E$151,2,FALSE),\"\")","v":""},{"$f":"IFERROR(VLOOKUP(H2976,DropDowns!$F$2:$G$7,2,FALSE),\"Residual categories\")","v":"Residual categories"},null,null,null,0,0,0]
[0,{"$f":"IF(OR(COUNTA(O2947:O2976)>0,COUNTA(O2976:$O$5195)>0),IF(COUNTIF(B2967:B2976,B2976)=10,B2976+7,B2976),\"\")","v":""},null,"","",null,null,null,0,0,0,0,{"$f":"IFERROR(VLOOKUP(G2977,DropDowns!$D$2:$E$151,2,FALSE),\"\")","v":""},{"$f":"IFERROR(VLOOKUP(H2977,DropDowns!$F$2:$G$7,2,FALSE),\"Residual categories\")","v":"Residual categories"},null,null,null,0,0,0]
[0,{"$f":"IF(OR(COUNTA(O2949:O2978)>0,COUNTA(O2978:$O$5195)>0),IF(COUNTIF(B2969:B2978,B2978)=10,B2978+7,B2978),\"\")","v":""},null,"","",null,null,null,0,0,0,0,{"$f":"IFERROR(VLOOKUP(G2979,DropDowns!$D$2:$E$151,2,FALSE),\"\")","v":""},{"$f":"IFERROR(VLOOKUP(H2979,DropDowns!$F$2:$G$7,2,FALSE),\"Residual categories\")","v":"Residual categories"},null,null,null,0,0,0]
[0,{"$f":"IF(OR(COUNTA(O2950:O2979)>0,COUNTA(O2979:$O$5195)>0),IF(COUNTIF(B2970:B2979,B2979)=10,B2979+7,B2979),\"\")","v":""},null,"","",null,null,null,0,0,0,0,{"$f":"IFERROR(VLOOKUP(G2980,DropDowns!$D$2:$E$151,2,FALSE),\"\")","v":""},{"$f":"IFERROR(VLOOKUP(H2980,DropDowns!$F$2:$G$7,2,FALSE),\"Residual categories\")","v":"Residual categories"},null,null,null,0,0,0]
[0,{"$f":"IF(OR(COUNTA(O2952:O2981)>0,COUNTA(O2981:$O$5195)>0),IF(COUNTIF(B2972:B2981,B2981)=10,B2981+7,B2981),\"\")","v":""},null,"","",null,null,null,0,0,0,0,{"$f":"IFERROR(VLOOKUP(G2982,DropDowns!$D$2:$E$151,2,FALSE),\"\")","v":""},{"$f":"IFERROR(VLOOKUP(H2982,DropDowns!$F$2:$G$7,2,FALSE),\"Residual categories\")","v":"Residual categories"},null,null,null,0,0,0]
[0,{"$f":"IF(OR(COUNTA(O2953:O2982)>0,COUNTA(O2982:$O$5195)>0),IF(COUNTIF(B2973:B2982,B2982)=10,B2982+7,B2982),\"\")","v":""},null,"","",null,null,null,0,0,0,0,{"$f":"IFERROR(VLOOKUP(G2983,DropDowns!$D$2:$E$151,2,FALSE),\"\")","v":""},{"$f":"IFERROR(VLOOKUP(H2983,DropDowns!$F$2:$G$7,2,FALSE),\"Residual categories\")","v":"Residual categories"},null,null,null,0,0,0]
[0,{"$f":"IF(OR(COUNTA(O2955:O2984)>0,COUNTA(O2984:$O$5195)>0),IF(COUNTIF(B2975:B2984,B2984)=10,B2984+7,B2984),\"\")","v":""},null,"","",null,null,null,0,0,0,0,{"$f":"IFERROR(VLOOKUP(G2985,DropDowns!$D$2:$E$151,2,FALSE),\"\")","v":""},{"$f":"IFERROR(VLOOKUP(H2985,DropDowns!$F$2:$G$7,2,FALSE),\"Residual categories\")","v":"Residual categories"},null,null,null,0,0,0]
[0,{"$f":"IF(OR(COUNTA(O2956:O2985)>0,COUNTA(O2985:$O$5195)>0),IF(COUNTIF(B2976:B2985,B2985)=10,B2985+7,B2985),\"\")","v":""},null,"","",null,null,null,0,0,0,0,{"$f":"IFERROR(VLOOKUP(G2986,DropDowns!$D$2:$E$151,2,FALSE),\"\")","v":""},{"$f":"IFERROR(VLOOKUP(H2986,DropDowns!$F$2:$G$7,2,FALSE),\"Residual categories\")","v":"Residual categories"},null,null,null,0,0,0]
[0,{"$f":"IF(OR(COUNTA(O2957:O2986)>0,COUNTA(O2986:$O$5195)>0),IF(COUNTIF(B2977:B2986,B2986)=10,B2986+7,B2986),\"\")","v":""},null,"","",null,null,null,0,0,0,0,{"$f":"IFERROR(VLOOKUP(G2987,DropDowns!$D$2:$E$151,2,FALSE),\"\")","v":""},{"$f":"IFERROR(VLOOKUP(H2987,DropDowns!$F$2:$G$7,2,FALSE),\"Residual categories\")","v":"Residual categories"},null,null,null,0,0,0]
[0,{"$f":"IF(OR(COUNTA(O2958:O2987)>0,COUNTA(O2987:$O$5195)>0),IF(COUNTIF(B2978:B2987,B2987)=10,B2987+7,B2987),\"\")","v":""},null,"","",null,null,null,0,0,0,0,{"$f":"IFERROR(VLOOKUP(G2988,DropDowns!$D$2:$E$151,2,FALSE),\"\")","v":""},{"$f":"IFERROR(VLOOKUP(H2988,DropDowns!$F$2:$G$7,2,FALSE),\"Residual categories\")","v":"Residual categories"},null,null,null,0,0,0]
[0,{"$f":"IF(OR(COUNTA(O2960:O2989)>0,COUNTA(O2989:$O$5195)>0),IF(COUNTIF(B2980:B2989,B2989)=10,B2989+7,B2989),\"\")","v":""},null,"","",null,null,null,0,0,0,0,{"$f":"IFERROR(VLOOKUP(G2990,DropDowns!$D$2:$E$151,2,FALSE),\"\")","v":""},{"$f":"IFERROR(VLOOKUP(H2990,DropDowns!$F$2:$G$7,2,FALSE),\"Residual categories\")","v":"Residual categories"},null,null,null,0,0,0]
[0,{"$f":"IF(OR(COUNTA(O2961:O2990)>0,COUNTA(O2990:$O$5195)>0),IF(COUNTIF(B2981:B2990,B2990)=10,B2990+7,B2990),\"\")","v":""},null,"","",null,null,null,0,0,0,0,{"$f":"IFERROR(VLOOKUP(G2991,DropDowns!$D$2:$E$151,2,FALSE),\"\")","v":""},{"$f":"IFERROR(VLOOKUP(H2991,DropDowns!$F$2:$G$7,2,FALSE),\"Residual categories\")","v":"Residual categories"},null,null,null,0,0,0]
[0,{"$f":"IF(OR(COUNTA(O2963:O2992)>0,COUNTA(O2992:$O$5195)>0),IF(COUNTIF(B2983:B2992,B2992)=10,B2992+7,B2992),\"\")","v":""},null,"","",null,null,null,0,0,0,0,{"$f":"IFERROR(VLOOKUP(G2993,DropDowns!$D$2:$E$151,2,FALSE),\"\")","v":""},{"$f":"IFERROR(VLOOKUP(H2993,DropDowns!$F$2:$G$7,2,FALSE),\"Residual categories\")","v":"Residual categories"},null,null,null,0,0,0]
[0,{"$f":"IF(OR(COUNTA(O2964:O2993)>0,COUNTA(O2993:$O$5195)>0),IF(COUNTIF(B2984:B2993,B2993)=10,B2993+7,B2993),\"\")","v":""},null,"","",null,null,null,0,0,0,0,{"$f":"IFERROR(VLOOKUP(G2994,DropDowns!$D$2:$E$151,2,FALSE),\"\")","v":""},{"$f":"IFERROR(VLOOKUP(H2994,DropDowns!$F$2:$G$7,2,FALSE),\"Residual categories\")","v":"Residual categories"},null,null,null,0,0,0]
[0,{"$f":"IF(OR(COUNTA(O2965:O2994)>0,COUNTA(O2994:$O$5195)>0),IF(COUNTIF(B2985:B2994,B2994)=10,B2994+7,B2994),\"\")","v":""},null,"","",null,null,null,0,0,0,0,{"$f":"IFERROR(VLOOKUP(G2995,DropDowns!$D$2:$E$151,2,FALSE),\"\")","v":""},{"$f":"IFERROR(VLOOKUP(H2995,DropDowns!$F$2:$G$7,2,FALSE),\"Residual categories\")","v":"Residual categories"},null,null,null,0,0,0]
[0,{"$f":"IF(OR(COUNTA(O2966:O2995)>0,COUNTA(O2995:$O$5195)>0),IF(COUNTIF(B2986:B2995,B2995)=10,B2995+7,B2995),\"\")","v":""},null,"","",null,null,null,0,0,0,0,{"$f":"IFERROR(VLOOKUP(G2996,DropDowns!$D$2:$E$151,2,FALSE),\"\")","v":""},{"$f":"IFERROR(VLOOKUP(H2996,DropDowns!$F$2:$G$7,2,FALSE),\"Residual categories\")","v":"Residual categories"},null,null,null,0,0,0]
[0,{"$f":"IF(OR(COUNTA(O2968:O2997)>0,COUNTA(O2997:$O$5195)>0),IF(COUNTIF(B2988:B2997,B2997)=10,B2997+7,B2997),\"\")","v":""},null,"","",null,null,null,0,0,0,0,{"$f":"IFERROR(VLOOKUP(G2998,DropDowns!$D$2:$E$151,2,FALSE),\"\")","v":""},{"$f":"IFERROR(VLOOKUP(H2998,DropDowns!$F$2:$G$7,2,FALSE),\"Residual categories\")","v":"Residual categories"},null,null,null,0,0,0]
[0,{"$f":"IF(OR(COUNTA(O2969:O2998)>0,COUNTA(O2998:$O$5195)>0),IF(COUNTIF(B2989:B2998,B2998)=10,B2998+7,B2998),\"\")","v":""},null,"","",null,null,null,0,0,0,0,{"$f":"IFERROR(VLOOKUP(G2999,DropDowns!$D$2:$E$151,2,FALSE),\"\")","v":""},{"$f":"IFERROR(VLOOKUP(H2999,DropDowns!$F$2:$G$7,2,FALSE),\"Residual categories\")","v":"Residual categories"},null,null,null,0,0,0]
[0,{"$f":"IF(OR(COUNTA(O2971:O3000)>0,COUNTA(O3000:$O$5195)>0),IF(COUNTIF(B2991:B3000,B3000)=10,B3000+7,B3000),\"\")","v":""},null,"","",null,null,null,0,0,0,0,{"$f":"IFERROR(VLOOKUP(G3001,DropDowns!$D$2:$E$151,2,FALSE),\"\")","v":""},{"$f":"IFERROR(VLOOKUP(H3001,DropDowns!$F$2:$G$7,2,FALSE),\"Residual categories\")","v":"Residual categories"},null,null,null,0,0,0]
[0,{"$f":"IF(OR(COUNTA(O2972:O3001)>0,COUNTA(O3001:$O$5195)>0),IF(COUNTIF(B2992:B3001,B3001)=10,B3001+7,B3001),\"\")","v":""},null,"","",null,null,null,0,0,0,0,{"$f":"IFERROR(VLOOKUP(G3002,DropDowns!$D$2:$E$151,2,FALSE),\"\")","v":""},{"$f":"IFERROR(VLOOKUP(H3002,DropDowns!$F$2:$G$7,2,FALSE),\"Residual categories\")","v":"Residual categories"},null,null,null,0,0,0]
[0,{"$f":"IF(OR(COUNTA(O2973:O3002)>0,COUNTA(O3002:$O$5195)>0),IF(COUNTIF(B2993:B3002,B3002)=10,B3002+7,B3002),\"\")","v":""},null,"","",null,null,null,0,0,0,0,{"$f":"IFERROR(VLOOKUP(G3003,DropDowns!$D$2:$E$151,2,FALSE),\"\")","v":""},{"$f":"IFERROR(VLOOKUP(H3003,DropDowns!$F$2:$G$7,2,FALSE),\"Residual categories\")","v":"Residual categories"},null,null,null,0,0,0]
[0,{"$f":"IF(OR(COUNTA(O2974:O3003)>0,COUNTA(O3003:$O$5195)>0),IF(COUNTIF(B2994:B3003,B3003)=10,B3003+7,B3003),\"\")","v":""},null,"","",null,null,null,0,0,0,0,{"$f":"IFERROR(VLOOKUP(G3004,DropDowns!$D$2:$E$151,2,FALSE),\"\")","v":""},{"$f":"IFERROR(VLOOKUP(H3004,DropDowns!$F$2:$G$7,2,FALSE),\"Residual categories\")","v":"Residual categories"},null,null,null,0,0,0]
[0,{"$f":"IF(OR(COUNTA(O2976:O3005)>0,COUNTA(O3005:$O$5195)>0),IF(COUNTIF(B2996:B3005,B3005)=10,B3005+7,B3005),\"\")","v":""},null,"","",null,null,null,0,0,0,0,{"$f":"IFERROR(VLOOKUP(G3006,DropDowns!$D$2:$E$151,2,FALSE),\"\")","v":""},{"$f":"IFERROR(VLOOKUP(H3006,DropDowns!$F$2:$G$7,2,FALSE),\"Residual categories\")","v":"Residual categories"},null,null,null,0,0,0]
[0,{"$f":"IF(OR(COUNTA(O2977:O3006)>0,COUNTA(O3006:$O$5195)>0),IF(COUNTIF(B2997:B3006,B3006)=10,B3006+7,B3006),\"\")","v":""},null,"","",null,null,null,0,0,0,0,{"$f":"IFERROR(VLOOKUP(G3007,DropDowns!$D$2:$E$151,2,FALSE),\"\")","v":""},{"$f":"IFERROR(VLOOKUP(H3007,DropDowns!$F$2:$G$7,2,FALSE),\"Residual categories\")","v":"Residual categories"},null,null,null,0,0,0]
[0,{"$f":"IF(OR(COUNTA(O2979:O3008)>0,COUNTA(O3008:$O$5195)>0),IF(COUNTIF(B2999:B3008,B3008)=10,B3008+7,B3008),\"\")","v":""},null,"","",null,null,null,0,0,0,0,{"$f":"IFERROR(VLOOKUP(G3009,DropDowns!$D$2:$E$151,2,FALSE),\"\")","v":""},{"$f":"IFERROR(VLOOKUP(H3009,DropDowns!$F$2:$G$7,2,FALSE),\"Residual categories\")","v":"Residual categories"},null,null,null,0,0,0]
[0,{"$f":"IF(OR(COUNTA(O2980:O3009)>0,COUNTA(O3009:$O$5195)>0),IF(COUNTIF(B3000:B3009,B3009)=10,B3009+7,B3009),\"\")","v":""},null,"","",null,null,null,0,0,0,0,{"$f":"IFERROR(VLOOKUP(G3010,DropDowns!$D$2:$E$151,2,FALSE),\"\")","v":""},{"$f":"IFERROR(VLOOKUP(H3010,DropDowns!$F$2:$G$7,2,FALSE),\"Residual categories\")","v":"Residual categories"},null,null,null,0,0,0]
[0,{"$f":"IF(OR(COUNTA(O2981:O3010)>0,COUNTA(O3010:$O$5195)>0),IF(COUNTIF(B3001:B3010,B3010)=10,B3010+7,B3010),\"\")","v":""},null,"","",null,null,null,0,0,0,0,{"$f":"IFERROR(VLOOKUP(G3011,DropDowns!$D$2:$E$151,2,FALSE),\"\")","v":""},{"$f":"IFERROR(VLOOKUP(H3011,DropDowns!$F$2:$G$7,2,FALSE),\"Residual categories\")","v":"Residual categories"},null,null,null,0,0,0]
[0,{"$f":"IF(OR(COUNTA(O2982:O3011)>0,COUNTA(O3011:$O$5195)>0),IF(COUNTIF(B3002:B3011,B3011)=10,B3011+7,B3011),\"\")","v":""},null,"","",null,null,null,0,0,0,0,{"$f":"IFERROR(VLOOKUP(G3012,DropDowns!$D$2:$E$151,2,FALSE),\"\")","v":""},{"$f":"IFERROR(VLOOKUP(H3012,DropDowns!$F$2:$G$7,2,FALSE),\"Residual categories\")","v":"Residual categories"},null,null,null,0,0,0]
[0,{"$f":"IF(OR(COUNTA(O2984:O3013)>0,COUNTA(O3013:$O$5195)>0),IF(COUNTIF(B3004:B3013,B3013)=10,B3013+7,B3013),\"\")","v":""},null,"","",null,null,null,0,0,0,0,{"$f":"IFERROR(VLOOKUP(G3014,DropDowns!$D$2:$E$151,2,FALSE),\"\")","v":""},{"$f":"IFERROR(VLOOKUP(H3014,DropDowns!$F$2:$G$7,2,FALSE),\"Residual categories\")","v":"Residual categories"},null,null,null,0,0,0]
[0,{"$f":"IF(OR(COUNTA(O2985:O3014)>0,COUNTA(O3014:$O$5195)>0),IF(COUNTIF(B3005:B3014,B3014)=10,B3014+7,B3014),\"\")","v":""},null,{"$f":"IF(E3015=1,B3015,\"\")","v":""},"",null,null,null,{"$f":"IF(COUNTA(O3015:Q3015)>0,1,0)","v":0},{"$f":"IF(O3015=\"y\",1,0)","v":0},{"$f":"IF(P3015=\"y\",1,0)","v":0},{"$f":"IF(Q3015=\"y\",1,0)","v":0},{"$f":"IFERROR(VLOOKUP(G3015,DropDowns!$D$2:$E$151,2,FALSE),\"\")","v":""},{"$f":"IFERROR(VLOOKUP(H3015,DropDowns!$F$2:$G$7,2,FALSE),\"Residual categories\")","v":"Residual categories"},null,null,null,{"$f":"IF(O3015=\"yes\",1,0)","v":0},{"$f":"IF(P3015=\"yes\",1,0)","v":0},{"$f":"IF(Q3015=\"yes\",1,0)","v":0}]
[0,{"$f":"IF(OR(COUNTA(O2987:O3016)>0,COUNTA(O3016:$O$5195)>0),IF(COUNTIF(B3007:B3016,B3016)=10,B3016+7,B3016),\"\")","v":""},null,"","",null,null,null,0,0,0,0,{"$f":"IFERROR(VLOOKUP(G3017,DropDowns!$D$2:$E$151,2,FALSE),\"\")","v":""},{"$f":"IFERROR(VLOOKUP(H3017,DropDowns!$F$2:$G$7,2,FALSE),\"Residual categories\")","v":"Residual categories"},null,null,null,0,0,0]
[0,{"$f":"IF(OR(COUNTA(O2988:O3017)>0,COUNTA(O3017:$O$5195)>0),IF(COUNTIF(B3008:B3017,B3017)=10,B3017+7,B3017),\"\")","v":""},null,"","",null,null,null,0,0,0,0,{"$f":"IFERROR(VLOOKUP(G3018,DropDowns!$D$2:$E$151,2,FALSE),\"\")","v":""},{"$f":"IFERROR(VLOOKUP(H3018,DropDowns!$F$2:$G$7,2,FALSE),\"Residual categories\")","v":"Residual categories"},null,null,null,0,0,0]
[0,{"$f":"IF(OR(COUNTA(O2990:O3019)>0,COUNTA(O3019:$O$5195)>0),IF(COUNTIF(B3010:B3019,B3019)=10,B3019+7,B3019),\"\")","v":""},null,"","",null,null,null,0,0,0,0,{"$f":"IFERROR(VLOOKUP(G3020,DropDowns!$D$2:$E$151,2,FALSE),\"\")","v":""},{"$f":"IFERROR(VLOOKUP(H3020,DropDowns!$F$2:$G$7,2,FALSE),\"Residual categories\")","v":"Residual categories"},null,null,null,0,0,0]
[0,{"$f":"IF(OR(COUNTA(O2991:O3020)>0,COUNTA(O3020:$O$5195)>0),IF(COUNTIF(B3011:B3020,B3020)=10,B3020+7,B3020),\"\")","v":""},null,"","",null,null,null,0,0,0,0,{"$f":"IFERROR(VLOOKUP(G3021,DropDowns!$D$2:$E$151,2,FALSE),\"\")","v":""},{"$f":"IFERROR(VLOOKUP(H3021,DropDowns!$F$2:$G$7,2,FALSE),\"Residual categories\")","v":"Residual categories"},null,null,null,0,0,0]
[0,{"$f":"IF(OR(COUNTA(O2992:O3021)>0,COUNTA(O3021:$O$5195)>0),IF(COUNTIF(B3012:B3021,B3021)=10,B3021+7,B3021),\"\")","v":""},null,"","",null,null,null,0,0,0,0,{"$f":"IFERROR(VLOOKUP(G3022,DropDowns!$D$2:$E$151,2,FALSE),\"\")","v":""},{"$f":"IFERROR(VLOOKUP(H3022,DropDowns!$F$2:$G$7,2,FALSE),\"Residual categories\")","v":"Residual categories"},null,null,null,0,0,0]
[0,{"$f":"IF(OR(COUNTA(O2993:O3022)>0,COUNTA(O3022:$O$5195)>0),IF(COUNTIF(B3013:B3022,B3022)=10,B3022+7,B3022),\"\")","v":""},null,"","",null,null,null,0,0,0,0,{"$f":"IFERROR(VLOOKUP(G3023,DropDowns!$D$2:$E$151,2,FALSE),\"\")","v":""},{"$f":"IFERROR(VLOOKUP(H3023,DropDowns!$F$2:$G$7,2,FALSE),\"Residual categories\")","v":"Residual categories"},null,null,null,0,0,0]
[0,{"$f":"IF(OR(COUNTA(O2995:O3024)>0,COUNTA(O3024:$O$5195)>0),IF(COUNTIF(B3015:B3024,B3024)=10,B3024+7,B3024),\"\")","v":""},null,"",{"$f":"IF(B3025=\"\",\"\",COUNTIF(B3016:B3025,B3025))","v":""},null,null,null,0,0,0,0,{"$f":"IFERROR(VLOOKUP(G3025,DropDowns!$D$2:$E$151,2,FALSE),\"\")","v":""},{"$f":"IFERROR(VLOOKUP(H3025,DropDowns!$F$2:$G$7,2,FALSE),\"Residual categories\")","v":"Residual categories"},null,null,null,0,0,0]
[0,{"$f":"IF(OR(COUNTA(O2996:O3025)>0,COUNTA(O3025:$O$5195)>0),IF(COUNTIF(B3016:B3025,B3025)=10,B3025+7,B3025),\"\")","v":""},null,"","",null,null,null,0,0,0,0,{"$f":"IFERROR(VLOOKUP(G3026,DropDowns!$D$2:$E$151,2,FALSE),\"\")","v":""},{"$f":"IFERROR(VLOOKUP(H3026,DropDowns!$F$2:$G$7,2,FALSE),\"Residual categories\")","v":"Residual categories"},null,null,null,0,0,0]
[{"$f":"$E$2","v":0},{"$f":"IF(OR(COUNTA(O2998:O3027)>0,COUNTA(O3027:$O$5195)>0),IF(COUNTIF(B3018:B3027,B3027)=10,B3027+7,B3027),\"\")","v":""},null,"","",null,null,null,0,0,0,0,{"$f":"IFERROR(VLOOKUP(G3028,DropDowns!$D$2:$E$151,2,FALSE),\"\")","v":""},{"$f":"IFERROR(VLOOKUP(H3028,DropDowns!$F$2:$G$7,2,FALSE),\"Residual categories\")","v":"Residual categories"},null,null,null,0,0,0]
[0,{"$f":"IF(OR(COUNTA(O2999:O3028)>0,COUNTA(O3028:$O$5195)>0),IF(COUNTIF(B3019:B3028,B3028)=10,B3028+7,B3028),\"\")","v":""},null,"","",null,null,null,0,0,0,0,{"$f":"IFERROR(VLOOKUP(G3029,DropDowns!$D$2:$E$151,2,FALSE),\"\")","v":""},{"$f":"IFERROR(VLOOKUP(H3029,DropDowns!$F$2:$G$7,2,FALSE),\"Residual categories\")","v":"Residual categories"},null,null,null,0,0,0]
[0,{"$f":"IF(OR(COUNTA(O3000:O3029)>0,COUNTA(O3029:$O$5195)>0),IF(COUNTIF(B3020:B3029,B3029)=10,B3029+7,B3029),\"\")","v":""},null,"","",null,null,null,0,0,0,0,{"$f":"IFERROR(VLOOKUP(G3030,DropDowns!$D$2:$E$151,2,FALSE),\"\")","v":""},{"$f":"IFERROR(VLOOKUP(H3030,DropDowns!$F$2:$G$7,2,FALSE),\"Residual categories\")","v":"Residual categories"},null,null,null,0,0,0]
[0,{"$f":"IF(OR(COUNTA(O3001:O3030)>0,COUNTA(O3030:$O$5195)>0),IF(COUNTIF(B3021:B3030,B3030)=10,B3030+7,B3030),\"\")","v":""},null,"","",null,null,null,0,0,0,0,{"$f":"IFERROR(VLOOKUP(G3031,DropDowns!$D$2:$E$151,2,FALSE),\"\")","v":""},{"$f":"IFERROR(VLOOKUP(H3031,DropDowns!$F$2:$G$7,2,FALSE),\"Residual categories\")","v":"Residual categories"},null,null,null,0,0,0]
[0,{"$f":"IF(OR(COUNTA(O3003:O3032)>0,COUNTA(O3032:$O$5195)>0),IF(COUNTIF(B3023:B3032,B3032)=10,B3032+7,B3032),\"\")","v":""},null,"","",null,null,null,0,0,0,0,{"$f":"IFERROR(VLOOKUP(G3033,DropDowns!$D$2:$E$151,2,FALSE),\"\")","v":""},{"$f":"IFERROR(VLOOKUP(H3033,DropDowns!$F$2:$G$7,2,FALSE),\"Residual categories\")","v":"Residual categories"},null,null,null,0,0,0]
[0,{"$f":"IF(OR(COUNTA(O3004:O3033)>0,COUNTA(O3033:$O$5195)>0),IF(COUNTIF(B3024:B3033,B3033)=10,B3033+7,B3033),\"\")","v":""},null,"","",null,null,null,0,0,0,0,{"$f":"IFERROR(VLOOKUP(G3034,DropDowns!$D$2:$E$151,2,FALSE),\"\")","v":""},{"$f":"IFERROR(VLOOKUP(H3034,DropDowns!$F$2:$G$7,2,FALSE),\"Residual categories\")","v":"Residual categories"},null,null,null,0,0,0]
[0,{"$f":"IF(OR(COUNTA(O3006:O3035)>0,COUNTA(O3035:$O$5195)>0),IF(COUNTIF(B3026:B3035,B3035)=10,B3035+7,B3035),\"\")","v":""},null,"","",null,null,null,0,0,0,0,{"$f":"IFERROR(VLOOKUP(G3036,DropDowns!$D$2:$E$151,2,FALSE),\"\")","v":""},{"$f":"IFERROR(VLOOKUP(H3036,DropDowns!$F$2:$G$7,2,FALSE),\"Residual categories\")","v":"Residual categories"},null,null,null,0,0,0]
[0,{"$f":"IF(OR(COUNTA(O3007:O3036)>0,COUNTA(O3036:$O$5195)>0),IF(COUNTIF(B3027:B3036,B3036)=10,B3036+7,B3036),\"\")","v":""},null,"","",null,null,null,0,0,0,0,{"$f":"IFERROR(VLOOKUP(G3037,DropDowns!$D$2:$E$151,2,FALSE),\"\")","v":""},{"$f":"IFERROR(VLOOKUP(H3037,DropDowns!$F$2:$G$7,2,FALSE),\"Residual categories\")","v":"Residual categories"},null,null,null,0,0,0]
[0,{"$f":"IF(OR(COUNTA(O3008:O3037)>0,COUNTA(O3037:$O$5195)>0),IF(COUNTIF(B3028:B3037,B3037)=10,B3037+7,B3037),\"\")","v":""},null,"","",null,null,null,0,0,0,0,{"$f":"IFERROR(VLOOKUP(G3038,DropDowns!$D$2:$E$151,2,FALSE),\"\")","v":""},{"$f":"IFERROR(VLOOKUP(H3038,DropDowns!$F$2:$G$7,2,FALSE),\"Residual categories\")","v":"Residual categories"},null,null,null,0,0,0]
[0,{"$f":"IF(OR(COUNTA(O3009:O3038)>0,COUNTA(O3038:$O$5195)>0),IF(COUNTIF(B3029:B3038,B3038)=10,B3038+7,B3038),\"\")","v":""},null,"","",null,null,null,0,0,0,0,{"$f":"IFERROR(VLOOKUP(G3039,DropDowns!$D$2:$E$151,2,FALSE),\"\")","v":""},{"$f":"IFERROR(VLOOKUP(H3039,DropDowns!$F$2:$G$7,2,FALSE),\"Residual categories\")","v":"Residual categories"},null,null,null,0,0,0]
[0,{"$f":"IF(OR(COUNTA(O3011:O3040)>0,COUNTA(O3040:$O$5195)>0),IF(COUNTIF(B3031:B3040,B3040)=10,B3040+7,B3040),\"\")","v":""},null,"","",null,null,null,0,0,0,0,{"$f":"IFERROR(VLOOKUP(G3041,DropDowns!$D$2:$E$151,2,FALSE),\"\")","v":""},{"$f":"IFERROR(VLOOKUP(H3041,DropDowns!$F$2:$G$7,2,FALSE),\"Residual categories\")","v":"Residual categories"},null,null,null,0,0,0]
[0,{"$f":"IF(OR(COUNTA(O3012:O3041)>0,COUNTA(O3041:$O$5195)>0),IF(COUNTIF(B3032:B3041,B3041)=10,B3041+7,B3041),\"\")","v":""},null,"","",null,null,null,0,0,0,0,{"$f":"IFERROR(VLOOKUP(G3042,DropDowns!$D$2:$E$151,2,FALSE),\"\")","v":""},{"$f":"IFERROR(VLOOKUP(H3042,DropDowns!$F$2:$G$7,2,FALSE),\"Residual categories\")","v":"Residual categories"},null,null,null,0,0,0]
[0,{"$f":"IF(OR(COUNTA(O3014:O3043)>0,COUNTA(O3043:$O$5195)>0),IF(COUNTIF(B3034:B3043,B3043)=10,B3043+7,B3043),\"\")","v":""},null,"","",null,null,null,0,0,0,0,{"$f":"IFERROR(VLOOKUP(G3044,DropDowns!$D$2:$E$151,2,FALSE),\"\")","v":""},{"$f":"IFERROR(VLOOKUP(H3044,DropDowns!$F$2:$G$7,2,FALSE),\"Residual categories\")","v":"Residual categories"},null,null,null,0,0,0]
[0,{"$f":"IF(OR(COUNTA(O3015:O3044)>0,COUNTA(O3044:$O$5195)>0),IF(COUNTIF(B3035:B3044,B3044)=10,B3044+7,B3044),\"\")","v":""},null,"","",null,null,null,0,0,0,0,{"$f":"IFERROR(VLOOKUP(G3045,DropDowns!$D$2:$E$151,2,FALSE),\"\")","v":""},{"$f":"IFERROR(VLOOKUP(H3045,DropDowns!$F$2:$G$7,2,FALSE),\"Residual categories\")","v":"Residual categories"},null,null,null,0,0,0]
[0,{"$f":"IF(OR(COUNTA(O3017:O3046)>0,COUNTA(O3046:$O$5195)>0),IF(COUNTIF(B3037:B3046,B3046)=10,B3046+7,B3046),\"\")","v":""},null,"","",null,null,null,0,0,0,0,{"$f":"IFERROR(VLOOKUP(G3047,DropDowns!$D$2:$E$151,2,FALSE),\"\")","v":""},{"$f":"IFERROR(VLOOKUP(H3047,DropDowns!$F$2:$G$7,2,FALSE),\"Residual categories\")","v":"Residual categories"},null,null,null,0,0,0]
[0,{"$f":"IF(OR(COUNTA(O3018:O3047)>0,COUNTA(O3047:$O$5195)>0),IF(COUNTIF(B3038:B3047,B3047)=10,B3047+7,B3047),\"\")","v":""},null,"","",null,null,null,0,0,0,0,{"$f":"IFERROR(VLOOKUP(G3048,DropDowns!$D$2:$E$151,2,FALSE),\"\")","v":""},{"$f":"IFERROR(VLOOKUP(H3048,DropDowns!$F$2:$G$7,2,FALSE),\"Residual categories\")","v":"Residual categories"},null,null,null,0,0,0]
[0,{"$f":"IF(OR(COUNTA(O3019:O3048)>0,COUNTA(O3048:$O$5195)>0),IF(COUNTIF(B3039:B3048,B3048)=10,B3048+7,B3048),\"\")","v":""},null,"","",null,null,null,0,0,0,0,{"$f":"IFERROR(VLOOKUP(G3049,DropDowns!$D$2:$E$151,2,FALSE),\"\")","v":""},{"$f":"IFERROR(VLOOKUP(H3049,DropDowns!$F$2:$G$7,2,FALSE),\"Residual categories\")","v":"Residual categories"},null,null,null,0,0,0]
[0,{"$f":"IF(OR(COUNTA(O3020:O3049)>0,COUNTA(O3049:$O$5195)>0),IF(COUNTIF(B3040:B3049,B3049)=10,B3049+7,B3049),\"\")","v":""},null,"","",null,null,null,0,0,0,0,{"$f":"IFERROR(VLOOKUP(G3050,DropDowns!$D$2:$E$151,2,FALSE),\"\")","v":""},{"$f":"IFERROR(VLOOKUP(H3050,DropDowns!$F$2:$G$7,2,FALSE),\"Residual categories\")","v":"Residual categories"},null,null,null,0,0,0]
[0,{"$f":"IF(OR(COUNTA(O3022:O3051)>0,COUNTA(O3051:$O$5195)>0),IF(COUNTIF(B3042:B3051,B3051)=10,B3051+7,B3051),\"\")","v":""},null,"","",null,null,null,0,0,0,0,{"$f":"IFERROR(VLOOKUP(G3052,DropDowns!$D$2:$E$151,2,FALSE),\"\")","v":""},{"$f":"IFERROR(VLOOKUP(H3052,DropDowns!$F$2:$G$7,2,FALSE),\"Residual categories\")","v":"Residual categories"},null,null,null,0,0,0]
[0,{"$f":"IF(OR(COUNTA(O3023:O3052)>0,COUNTA(O3052:$O$5195)>0),IF(COUNTIF(B3043:B3052,B3052)=10,B3052+7,B3052),\"\")","v":""},null,"","",null,null,null,0,0,0,0,{"$f":"IFERROR(VLOOKUP(G3053,DropDowns!$D$2:$E$151,2,FALSE),\"\")","v":""},{"$f":"IFERROR(VLOOKUP(H3053,DropDowns!$F$2:$G$7,2,FALSE),\"Residual categories\")","v":"Residual categories"},null,null,null,0,0,0]
[0,{"$f":"IF(OR(COUNTA(O3025:O3054)>0,COUNTA(O3054:$O$5195)>0),IF(COUNTIF(B3045:B3054,B3054)=10,B3054+7,B3054),\"\")","v":""},null,"","",null,null,null,0,0,0,0,{"$f":"IFERROR(VLOOKUP(G3055,DropDowns!$D$2:$E$151,2,FALSE),\"\")","v":""},{"$f":"IFERROR(VLOOKUP(H3055,DropDowns!$F$2:$G$7,2,FALSE),\"Residual categories\")","v":"Residual categories"},null,null,null,0,0,0]
[0,{"$f":"IF(OR(COUNTA(O3026:O3055)>0,COUNTA(O3055:$O$5195)>0),IF(COUNTIF(B3046:B3055,B3055)=10,B3055+7,B3055),\"\")","v":""},null,"","",null,null,null,0,0,0,0,{"$f":"IFERROR(VLOOKUP(G3056,DropDowns!$D$2:$E$151,2,FALSE),\"\")","v":""},{"$f":"IFERROR(VLOOKUP(H3056,DropDowns!$F$2:$G$7,2,FALSE),\"Residual categories\")","v":"Residual categories"},null,null,null,0,0,0]
[0,{"$f":"IF(OR(COUNTA(O3027:O3056)>0,COUNTA(O3056:$O$5195)>0),IF(COUNTIF(B3047:B3056,B3056)=10,B3056+7,B3056),\"\")","v":""},null,"","",null,null,null,0,0,0,0,{"$f":"IFERROR(VLOOKUP(G3057,DropDowns!$D$2:$E$151,2,FALSE),\"\")","v":""},{"$f":"IFERROR(VLOOKUP(H3057,DropDowns!$F$2:$G$7,2,FALSE),\"Residual categories\")","v":"Residual categories"},null,null,null,0,0,0]
[0,{"$f":"IF(OR(COUNTA(O3028:O3057)>0,COUNTA(O3057:$O$5195)>0),IF(COUNTIF(B3048:B3057,B3057)=10,B3057+7,B3057),\"\")","v":""},null,"","",null,null,null,0,0,0,0,{"$f":"IFERROR(VLOOKUP(G3058,DropDowns!$D$2:$E$151,2,FALSE),\"\")","v":""},{"$f":"IFERROR(VLOOKUP(H3058,DropDowns!$F$2:$G$7,2,FALSE),\"Residual categories\")","v":"Residual categories"},null,null,null,0,0,0]
[0,{"$f":"IF(OR(COUNTA(O3030:O3059)>0,COUNTA(O3059:$O$5195)>0),IF(COUNTIF(B3050:B3059,B3059)=10,B3059+7,B3059),\"\")","v":""},null,"","",null,null,null,0,0,0,0,{"$f":"IFERROR(VLOOKUP(G3060,DropDowns!$D$2:$E$151,2,FALSE),\"\")","v":""},{"$f":"IFERROR(VLOOKUP(H3060,DropDowns!$F$2:$G$7,2,FALSE),\"Residual categories\")","v":"Residual categories"},null,null,null,0,0,0]
[0,{"$f":"IF(OR(COUNTA(O3031:O3060)>0,COUNTA(O3060:$O$5195)>0),IF(COUNTIF(B3051:B3060,B3060)=10,B3060+7,B3060),\"\")","v":""},null,"","",null,null,null,0,0,0,0,{"$f":"IFERROR(VLOOKUP(G3061,DropDowns!$D$2:$E$151,2,FALSE),\"\")","v":""},{"$f":"IFERROR(VLOOKUP(H3061,DropDowns!$F$2:$G$7,2,FALSE),\"Residual categories\")","v":"Residual categories"},null,null,null,0,0,0]
[0,{"$f":"IF(OR(COUNTA(O3033:O3062)>0,COUNTA(O3062:$O$5195)>0),IF(COUNTIF(B3053:B3062,B3062)=10,B3062+7,B3062),\"\")","v":""},null,"","",null,null,null,0,0,0,0,{"$f":"IFERROR(VLOOKUP(G3063,DropDowns!$D$2:$E$151,2,FALSE),\"\")","v":""},{"$f":"IFERROR(VLOOKUP(H3063,DropDowns!$F$2:$G$7,2,FALSE),\"Residual categories\")","v":"Residual categories"},null,null,null,0,0,0]
[0,{"$f":"IF(OR(COUNTA(O3034:O3063)>0,COUNTA(O3063:$O$5195)>0),IF(COUNTIF(B3054:B3063,B3063)=10,B3063+7,B3063),\"\")","v":""},null,"","",null,null,null,0,0,0,0,{"$f":"IFERROR(VLOOKUP(G3064,DropDowns!$D$2:$E$151,2,FALSE),\"\")","v":""},{"$f":"IFERROR(VLOOKUP(H3064,DropDowns!$F$2:$G$7,2,FALSE),\"Residual categories\")","v":"Residual categories"},null,null,null,0,0,0]
[0,{"$f":"IF(OR(COUNTA(O3035:O3064)>0,COUNTA(O3064:$O$5195)>0),IF(COUNTIF(B3055:B3064,B3064)=10,B3064+7,B3064),\"\")","v":""},null,"","",null,null,null,0,0,0,0,{"$f":"IFERROR(VLOOKUP(G3065,DropDowns!$D$2:$E$151,2,FALSE),\"\")","v":""},{"$f":"IFERROR(VLOOKUP(H3065,DropDowns!$F$2:$G$7,2,FALSE),\"Residual categories\")","v":"Residual categories"},null,null,null,0,0,0]
[0,{"$f":"IF(OR(COUNTA(O3036:O3065)>0,COUNTA(O3065:$O$5195)>0),IF(COUNTIF(B3056:B3065,B3065)=10,B3065+7,B3065),\"\")","v":""},null,"","",null,null,null,0,0,0,0,{"$f":"IFERROR(VLOOKUP(G3066,DropDowns!$D$2:$E$151,2,FALSE),\"\")","v":""},{"$f":"IFERROR(VLOOKUP(H3066,DropDowns!$F$2:$G$7,2,FALSE),\"Residual categories\")","v":"Residual categories"},null,null,null,0,0,0]
[0,{"$f":"IF(OR(COUNTA(O3038:O3067)>0,COUNTA(O3067:$O$5195)>0),IF(COUNTIF(B3058:B3067,B3067)=10,B3067+7,B3067),\"\")","v":""},null,"","",null,null,null,0,0,0,0,{"$f":"IFERROR(VLOOKUP(G3068,DropDowns!$D$2:$E$151,2,FALSE),\"\")","v":""},{"$f":"IFERROR(VLOOKUP(H3068,DropDowns!$F$2:$G$7,2,FALSE),\"Residual categories\")","v":"Residual categories"},null,null,null,0,0,0]
[0,{"$f":"IF(OR(COUNTA(O3039:O3068)>0,COUNTA(O3068:$O$5195)>0),IF(COUNTIF(B3059:B3068,B3068)=10,B3068+7,B3068),\"\")","v":""},null,"","",null,null,null,0,0,0,0,{"$f":"IFERROR(VLOOKUP(G3069,DropDowns!$D$2:$E$151,2,FALSE),\"\")","v":""},{"$f":"IFERROR(VLOOKUP(H3069,DropDowns!$F$2:$G$7,2,FALSE),\"Residual categories\")","v":"Residual categories"},null,null,null,0,0,0]
[0,{"$f":"IF(OR(COUNTA(O3041:O3070)>0,COUNTA(O3070:$O$5195)>0),IF(COUNTIF(B3061:B3070,B3070)=10,B3070+7,B3070),\"\")","v":""},null,"","",null,null,null,0,0,0,0,{"$f":"IFERROR(VLOOKUP(G3071,DropDowns!$D$2:$E$151,2,FALSE),\"\")","v":""},{"$f":"IFERROR(VLOOKUP(H3071,DropDowns!$F$2:$G$7,2,FALSE),\"Residual categories\")","v":"Residual categories"},null,null,null,0,0,0]
[0,{"$f":"IF(OR(COUNTA(O3042:O3071)>0,COUNTA(O3071:$O$5195)>0),IF(COUNTIF(B3062:B3071,B3071)=10,B3071+7,B3071),\"\")","v":""},null,"","",null,null,null,0,0,0,0,{"$f":"IFERROR(VLOOKUP(G3072,DropDowns!$D$2:$E$151,2,FALSE),\"\")","v":""},{"$f":"IFERROR(VLOOKUP(H3072,DropDowns!$F$2:$G$7,2,FALSE),\"Residual categories\")","v":"Residual categories"},null,null,null,0,0,0]
[0,{"$f":"IF(OR(COUNTA(O3043:O3072)>0,COUNTA(O3072:$O$5195)>0),IF(COUNTIF(B3063:B3072,B3072)=10,B3072+7,B3072),\"\")","v":""},null,"","",null,null,null,0,0,0,0,{"$f":"IFERROR(VLOOKUP(G3073,DropDowns!$D$2:$E$151,2,FALSE),\"\")","v":""},{"$f":"IFERROR(VLOOKUP(H3073,DropDowns!$F$2:$G$7,2,FALSE),\"Residual categories\")","v":"Residual categories"},null,null,null,0,0,0]
[0,{"$f":"IF(OR(COUNTA(O3044:O3073)>0,COUNTA(O3073:$O$5195)>0),IF(COUNTIF(B3064:B3073,B3073)=10,B3073+7,B3073),\"\")","v":""},null,"","",null,null,null,0,0,0,0,{"$f":"IFERROR(VLOOKUP(G3074,DropDowns!$D$2:$E$151,2,FALSE),\"\")","v":""},{"$f":"IFERROR(VLOOKUP(H3074,DropDowns!$F$2:$G$7,2,FALSE),\"Residual categories\")","v":"Residual categories"},null,null,null,0,0,0]
[0,{"$f":"IF(OR(COUNTA(O3046:O3075)>0,COUNTA(O3075:$O$5195)>0),IF(COUNTIF(B3066:B3075,B3075)=10,B3075+7,B3075),\"\")","v":""},null,"","",null,null,null,0,0,0,0,{"$f":"IFERROR(VLOOKUP(G3076,DropDowns!$D$2:$E$151,2,FALSE),\"\")","v":""},{"$f":"IFERROR(VLOOKUP(H3076,DropDowns!$F$2:$G$7,2,FALSE),\"Residual categories\")","v":"Residual categories"},null,null,null,0,0,0]
[0,{"$f":"IF(OR(COUNTA(O3047:O3076)>0,COUNTA(O3076:$O$5195)>0),IF(COUNTIF(B3067:B3076,B3076)=10,B3076+7,B3076),\"\")","v":""},null,"","",null,null,null,0,0,0,0,{"$f":"IFERROR(VLOOKUP(G3077,DropDowns!$D$2:$E$151,2,FALSE),\"\")","v":""},{"$f":"IFERROR(VLOOKUP(H3077,DropDowns!$F$2:$G$7,2,FALSE),\"Residual categories\")","v":"Residual categories"},null,null,null,0,0,0]
[0,{"$f":"IF(OR(COUNTA(O3049:O3078)>0,COUNTA(O3078:$O$5195)>0),IF(COUNTIF(B3069:B3078,B3078)=10,B3078+7,B3078),\"\")","v":""},null,{"$f":"IF(E3079=1,B3079,\"\")","v":""},"",null,null,null,{"$f":"IF(COUNTA(O3079:Q3079)>0,1,0)","v":0},{"$f":"IF(O3079=\"y\",1,0)","v":0},{"$f":"IF(P3079=\"y\",1,0)","v":0},{"$f":"IF(Q3079=\"y\",1,0)","v":0},{"$f":"IFERROR(VLOOKUP(G3079,DropDowns!$D$2:$E$151,2,FALSE),\"\")","v":""},{"$f":"IFERROR(VLOOKUP(H3079,DropDowns!$F$2:$G$7,2,FALSE),\"Residual categories\")","v":"Residual categories"},null,null,null,{"$f":"IF(O3079=\"yes\",1,0)","v":0},{"$f":"IF(P3079=\"yes\",1,0)","v":0},{"$f":"IF(Q3079=\"yes\",1,0)","v":0}]
[0,{"$f":"IF(OR(COUNTA(O3050:O3079)>0,COUNTA(O3079:$O$5195)>0),IF(COUNTIF(B3070:B3079,B3079)=10,B3079+7,B3079),\"\")","v":""},null,"","",null,null,null,0,0,0,0,{"$f":"IFERROR(VLOOKUP(G3080,DropDowns!$D$2:$E$151,2,FALSE),\"\")","v":""},{"$f":"IFERROR(VLOOKUP(H3080,DropDowns!$F$2:$G$7,2,FALSE),\"Residual categories\")","v":"Residual categories"},null,null,null,0,0,0]
[0,{"$f":"IF(OR(COUNTA(O3052:O3081)>0,COUNTA(O3081:$O$5195)>0),IF(COUNTIF(B3072:B3081,B3081)=10,B3081+7,B3081),\"\")","v":""},null,"","",null,null,null,0,0,0,0,{"$f":"IFERROR(VLOOKUP(G3082,DropDowns!$D$2:$E$151,2,FALSE),\"\")","v":""},{"$f":"IFERROR(VLOOKUP(H3082,DropDowns!$F$2:$G$7,2,FALSE),\"Residual categories\")","v":"Residual categories"},null,null,null,0,0,0]
[0,{"$f":"IF(OR(COUNTA(O3053:O3082)>0,COUNTA(O3082:$O$5195)>0),IF(COUNTIF(B3073:B3082,B3082)=10,B3082+7,B3082),\"\")","v":""},null,"","",null,null,null,0,0,0,0,{"$f":"IFERROR(VLOOKUP(G3083,DropDowns!$D$2:$E$151,2,FALSE),\"\")","v":""},{"$f":"IFERROR(VLOOKUP(H3083,DropDowns!$F$2:$G$7,2,FALSE),\"Residual categories\")","v":"Residual categories"},null,null,null,0,0,0]
[0,{"$f":"IF(OR(COUNTA(O3054:O3083)>0,COUNTA(O3083:$O$5195)>0),IF(COUNTIF(B3074:B3083,B3083)=10,B3083+7,B3083),\"\")","v":""},null,"","",null,null,null,0,0,0,0,{"$f":"IFERROR(VLOOKUP(G3084,DropDowns!$D$2:$E$151,2,FALSE),\"\")","v":""},{"$f":"IFERROR(VLOOKUP(H3084,DropDowns!$F$2:$G$7,2,FALSE),\"Residual categories\")","v":"Residual categories"},null,null,null,0,0,0]
[0,{"$f":"IF(OR(COUNTA(O3055:O3084)>0,COUNTA(O3084:$O$5195)>0),IF(COUNTIF(B3075:B3084,B3084)=10,B3084+7,B3084),\"\")","v":""},null,"","",null,null,null,0,0,0,0,{"$f":"IFERROR(VLOOKUP(G3085,DropDowns!$D$2:$E$151,2,FALSE),\"\")","v":""},{"$f":"IFERROR(VLOOKUP(H3085,DropDowns!$F$2:$G$7,2,FALSE),\"Residual categories\")","v":"Residual categories"},null,null,null,0,0,0]
[0,{"$f":"IF(OR(COUNTA(O3057:O3086)>0,COUNTA(O3086:$O$5195)>0),IF(COUNTIF(B3077:B3086,B3086)=10,B3086+7,B3086),\"\")","v":""},null,"","",null,null,null,0,0,0,0,{"$f":"IFERROR(VLOOKUP(G3087,DropDowns!$D$2:$E$151,2,FALSE),\"\")","v":""},{"$f":"IFERROR(VLOOKUP(H3087,DropDowns!$F$2:$G$7,2,FALSE),\"Residual categories\")","v":"Residual categories"},null,null,null,0,0,0]
[0,{"$f":"IF(OR(COUNTA(O3058:O3087)>0,COUNTA(O3087:$O$5195)>0),IF(COUNTIF(B3078:B3087,B3087)=10,B3087+7,B3087),\"\")","v":""},null,"","",null,null,null,0,0,0,0,{"$f":"IFERROR(VLOOKUP(G3088,DropDowns!$D$2:$E$151,2,FALSE),\"\")","v":""},{"$f":"IFERROR(VLOOKUP(H3088,DropDowns!$F$2:$G$7,2,FALSE),\"Residual categories\")","v":"Residual categories"},null,null,null,0,0,0]
[0,{"$f":"IF(OR(COUNTA(O3060:O3089)>0,COUNTA(O3089:$O$5195)>0),IF(COUNTIF(B3080:B3089,B3089)=10,B3089+7,B3089),\"\")","v":""},null,"","",null,null,null,0,0,0,0,{"$f":"IFERROR(VLOOKUP(G3090,DropDowns!$D$2:$E$151,2,FALSE),\"\")","v":""},{"$f":"IFERROR(VLOOKUP(H3090,DropDowns!$F$2:$G$7,2,FALSE),\"Residual categories\")","v":"Residual categories"},null,null,null,0,0,0]
[0,{"$f":"IF(OR(COUNTA(O3061:O3090)>0,COUNTA(O3090:$O$5195)>0),IF(COUNTIF(B3081:B3090,B3090)=10,B3090+7,B3090),\"\")","v":""},null,"","",null,null,null,0,0,0,0,{"$f":"IFERROR(VLOOKUP(G3091,DropDowns!$D$2:$E$151,2,FALSE),\"\")","v":""},{"$f":"IFERROR(VLOOKUP(H3091,DropDowns!$F$2:$G$7,2,FALSE),\"Residual categories\")","v":"Residual categories"},null,null,null,0,0,0]
[{"$f":"$E$2","v":0},{"$f":"IF(OR(COUNTA(O3062:O3091)>0,COUNTA(O3091:$O$5195)>0),IF(COUNTIF(B3082:B3091,B3091)=10,B3091+7,B3091),\"\")","v":""},null,"","",null,null,null,0,0,0,0,{"$f":"IFERROR(VLOOKUP(G3092,DropDowns!$D$2:$E$151,2,FALSE),\"\")","v":""},{"$f":"IFERROR(VLOOKUP(H3092,DropDowns!$F$2:$G$7,2,FALSE),\"Residual categories\")","v":"Residual categories"},null,null,null,0,0,0]
[0,{"$f":"IF(OR(COUNTA(O3063:O3092)>0,COUNTA(O3092:$O$5195)>0),IF(COUNTIF(B3083:B3092,B3092)=10,B3092+7,B3092),\"\")","v":""},null,"","",null,null,null,0,0,0,0,{"$f":"IFERROR(VLOOKUP(G3093,DropDowns!$D$2:$E$151,2,FALSE),\"\")","v":""},{"$f":"IFERROR(VLOOKUP(H3093,DropDowns!$F$2:$G$7,2,FALSE),\"Residual categories\")","v":"Residual categories"},null,null,null,0,0,0]
[0,{"$f":"IF(OR(COUNTA(O3065:O3094)>0,COUNTA(O3094:$O$5195)>0),IF(COUNTIF(B3085:B3094,B3094)=10,B3094+7,B3094),\"\")","v":""},null,"","",null,null,null,0,0,0,0,{"$f":"IFERROR(VLOOKUP(G3095,DropDowns!$D$2:$E$151,2,FALSE),\"\")","v":""},{"$f":"IFERROR(VLOOKUP(H3095,DropDowns!$F$2:$G$7,2,FALSE),\"Residual categories\")","v":"Residual categories"},null,null,null,0,0,0]
[0,{"$f":"IF(OR(COUNTA(O3066:O3095)>0,COUNTA(O3095:$O$5195)>0),IF(COUNTIF(B3086:B3095,B3095)=10,B3095+7,B3095),\"\")","v":""},null,"","",null,null,null,0,0,0,0,{"$f":"IFERROR(VLOOKUP(G3096,DropDowns!$D$2:$E$151,2,FALSE),\"\")","v":""},{"$f":"IFERROR(VLOOKUP(H3096,DropDowns!$F$2:$G$7,2,FALSE),\"Residual categories\")","v":"Residual categories"},null,null,null,0,0,0]
[0,{"$f":"IF(OR(COUNTA(O3068:O3097)>0,COUNTA(O3097:$O$5195)>0),IF(COUNTIF(B3088:B3097,B3097)=10,B3097+7,B3097),\"\")","v":""},null,"","",null,null,null,0,0,0,0,{"$f":"IFERROR(VLOOKUP(G3098,DropDowns!$D$2:$E$151,2,FALSE),\"\")","v":""},{"$f":"IFERROR(VLOOKUP(H3098,DropDowns!$F$2:$G$7,2,FALSE),\"Residual categories\")","v":"Residual categories"},null,null,null,0,0,0]
[0,{"$f":"IF(OR(COUNTA(O3069:O3098)>0,COUNTA(O3098:$O$5195)>0),IF(COUNTIF(B3089:B3098,B3098)=10,B3098+7,B3098),\"\")","v":""},null,"","",null,null,null,0,0,0,0,{"$f":"IFERROR(VLOOKUP(G3099,DropDowns!$D$2:$E$151,2,FALSE),\"\")","v":""},{"$f":"IFERROR(VLOOKUP(H3099,DropDowns!$F$2:$G$7,2,FALSE),\"Residual categories\")","v":"Residual categories"},null,null,null,0,0,0]
[0,{"$f":"IF(OR(COUNTA(O3070:O3099)>0,COUNTA(O3099:$O$5195)>0),IF(COUNTIF(B3090:B3099,B3099)=10,B3099+7,B3099),\"\")","v":""},null,"","",null,null,null,0,0,0,0,{"$f":"IFERROR(VLOOKUP(G3100,DropDowns!$D$2:$E$151,2,FALSE),\"\")","v":""},{"$f":"IFERROR(VLOOKUP(H3100,DropDowns!$F$2:$G$7,2,FALSE),\"Residual categories\")","v":"Residual categories"},null,null,null,0,0,0]
[0,{"$f":"IF(OR(COUNTA(O3071:O3100)>0,COUNTA(O3100:$O$5195)>0),IF(COUNTIF(B3091:B3100,B3100)=10,B3100+7,B3100),\"\")","v":""},null,"","",null,null,null,0,0,0,0,{"$f":"IFERROR(VLOOKUP(G3101,DropDowns!$D$2:$E$151,2,FALSE),\"\")","v":""},{"$f":"IFERROR(VLOOKUP(H3101,DropDowns!$F$2:$G$7,2,FALSE),\"Residual categories\")","v":"Residual categories"},null,null,null,0,0,0]
[0,{"$f":"IF(OR(COUNTA(O3073:O3102)>0,COUNTA(O3102:$O$5195)>0),IF(COUNTIF(B3093:B3102,B3102)=10,B3102+7,B3102),\"\")","v":""},null,"","",null,null,null,0,0,0,0,{"$f":"IFERROR(VLOOKUP(G3103,DropDowns!$D$2:$E$151,2,FALSE),\"\")","v":""},{"$f":"IFERROR(VLOOKUP(H3103,DropDowns!$F$2:$G$7,2,FALSE),\"Residual categories\")","v":"Residual categories"},null,null,null,0,0,0]
[0,{"$f":"IF(OR(COUNTA(O3074:O3103)>0,COUNTA(O3103:$O$5195)>0),IF(COUNTIF(B3094:B3103,B3103)=10,B3103+7,B3103),\"\")","v":""},null,"","",null,null,null,0,0,0,0,{"$f":"IFERROR(VLOOKUP(G3104,DropDowns!$D$2:$E$151,2,FALSE),\"\")","v":""},{"$f":"IFERROR(VLOOKUP(H3104,DropDowns!$F$2:$G$7,2,FALSE),\"Residual categories\")","v":"Residual categories"},null,null,null,0,0,0]
[0,{"$f":"IF(OR(COUNTA(O3076:O3105)>0,COUNTA(O3105:$O$5195)>0),IF(COUNTIF(B3096:B3105,B3105)=10,B3105+7,B3105),\"\")","v":""},null,"","",null,null,null,0,0,0,0,{"$f":"IFERROR(VLOOKUP(G3106,DropDowns!$D$2:$E$151,2,FALSE),\"\")","v":""},{"$f":"IFERROR(VLOOKUP(H3106,DropDowns!$F$2:$G$7,2,FALSE),\"Residual categories\")","v":"Residual categories"},null,null,null,0,0,0]
[0,{"$f":"IF(OR(COUNTA(O3077:O3106)>0,COUNTA(O3106:$O$5195)>0),IF(COUNTIF(B3097:B3106,B3106)=10,B3106+7,B3106),\"\")","v":""},null,"","",null,null,null,0,0,0,0,{"$f":"IFERROR(VLOOKUP(G3107,DropDowns!$D$2:$E$151,2,FALSE),\"\")","v":""},{"$f":"IFERROR(VLOOKUP(H3107,DropDowns!$F$2:$G$7,2,FALSE),\"Residual categories\")","v":"Residual categories"},null,null,null,0,0,0]
[0,{"$f":"IF(OR(COUNTA(O3078:O3107)>0,COUNTA(O3107:$O$5195)>0),IF(COUNTIF(B3098:B3107,B3107)=10,B3107+7,B3107),\"\")","v":""},null,"","",null,null,null,0,0,0,0,{"$f":"IFERROR(VLOOKUP(G3108,DropDowns!$D$2:$E$151,2,FALSE),\"\")","v":""},{"$f":"IFERROR(VLOOKUP(H3108,DropDowns!$F$2:$G$7,2,FALSE),\"Residual categories\")","v":"Residual categories"},null,null,null,0,0,0]
[0,{"$f":"IF(OR(COUNTA(O3079:O3108)>0,COUNTA(O3108:$O$5195)>0),IF(COUNTIF(B3099:B3108,B3108)=10,B3108+7,B3108),\"\")","v":""},null,"","",null,null,null,0,0,0,0,{"$f":"IFERROR(VLOOKUP(G3109,DropDowns!$D$2:$E$151,2,FALSE),\"\")","v":""},{"$f":"IFERROR(VLOOKUP(H3109,DropDowns!$F$2:$G$7,2,FALSE),\"Residual categories\")","v":"Residual categories"},null,null,null,0,0,0]
[0,{"$f":"IF(OR(COUNTA(O3081:O3110)>0,COUNTA(O3110:$O$5195)>0),IF(COUNTIF(B3101:B3110,B3110)=10,B3110+7,B3110),\"\")","v":""},null,"","",null,null,null,0,0,0,0,{"$f":"IFERROR(VLOOKUP(G3111,DropDowns!$D$2:$E$151,2,FALSE),\"\")","v":""},{"$f":"IFERROR(VLOOKUP(H3111,DropDowns!$F$2:$G$7,2,FALSE),\"Residual categories\")","v":"Residual categories"},null,null,null,0,0,0]
[0,{"$f":"IF(OR(COUNTA(O3082:O3111)>0,COUNTA(O3111:$O$5195)>0),IF(COUNTIF(B3102:B3111,B3111)=10,B3111+7,B3111),\"\")","v":""},null,"","",null,null,null,0,0,0,0,{"$f":"IFERROR(VLOOKUP(G3112,DropDowns!$D$2:$E$151,2,FALSE),\"\")","v":""},{"$f":"IFERROR(VLOOKUP(H3112,DropDowns!$F$2:$G$7,2,FALSE),\"Residual categories\")","v":"Residual categories"},null,null,null,0,0,0]
[0,{"$f":"IF(OR(COUNTA(O3084:O3113)>0,COUNTA(O3113:$O$5195)>0),IF(COUNTIF(B3104:B3113,B3113)=10,B3113+7,B3113),\"\")","v":""},null,"","",null,null,null,0,0,0,0,{"$f":"IFERROR(VLOOKUP(G3114,DropDowns!$D$2:$E$151,2,FALSE),\"\")","v":""},{"$f":"IFERROR(VLOOKUP(H3114,DropDowns!$F$2:$G$7,2,FALSE),\"Residual categories\")","v":"Residual categories"},null,null,null,0,0,0]
[0,{"$f":"IF(OR(COUNTA(O3085:O3114)>0,COUNTA(O3114:$O$5195)>0),IF(COUNTIF(B3105:B3114,B3114)=10,B3114+7,B3114),\"\")","v":""},null,"","",null,null,null,0,0,0,0,{"$f":"IFERROR(VLOOKUP(G3115,DropDowns!$D$2:$E$151,2,FALSE),\"\")","v":""},{"$f":"IFERROR(VLOOKUP(H3115,DropDowns!$F$2:$G$7,2,FALSE),\"Residual categories\")","v":"Residual categories"},null,null,null,0,0,0]
[0,{"$f":"IF(OR(COUNTA(O3087:O3116)>0,COUNTA(O3116:$O$5195)>0),IF(COUNTIF(B3107:B3116,B3116)=10,B3116+7,B3116),\"\")","v":""},null,"","",null,null,null,0,0,0,0,{"$f":"IFERROR(VLOOKUP(G3117,DropDowns!$D$2:$E$151,2,FALSE),\"\")","v":""},{"$f":"IFERROR(VLOOKUP(H3117,DropDowns!$F$2:$G$7,2,FALSE),\"Residual categories\")","v":"Residual categories"},null,null,null,0,0,0]
[0,{"$f":"IF(OR(COUNTA(O3088:O3117)>0,COUNTA(O3117:$O$5195)>0),IF(COUNTIF(B3108:B3117,B3117)=10,B3117+7,B3117),\"\")","v":""},null,"","",null,null,null,0,0,0,0,{"$f":"IFERROR(VLOOKUP(G3118,DropDowns!$D$2:$E$151,2,FALSE),\"\")","v":""},{"$f":"IFERROR(VLOOKUP(H3118,DropDowns!$F$2:$G$7,2,FALSE),\"Residual categories\")","v":"Residual categories"},null,null,null,0,0,0]
[0,{"$f":"IF(OR(COUNTA(O3089:O3118)>0,COUNTA(O3118:$O$5195)>0),IF(COUNTIF(B3109:B3118,B3118)=10,B3118+7,B3118),\"\")","v":""},null,"","",null,null,null,0,0,0,0,{"$f":"IFERROR(VLOOKUP(G3119,DropDowns!$D$2:$E$151,2,FALSE),\"\")","v":""},{"$f":"IFERROR(VLOOKUP(H3119,DropDowns!$F$2:$G$7,2,FALSE),\"Residual categories\")","v":"Residual categories"},null,null,null,0,0,0]
[0,{"$f":"IF(OR(COUNTA(O3090:O3119)>0,COUNTA(O3119:$O$5195)>0),IF(COUNTIF(B3110:B3119,B3119)=10,B3119+7,B3119),\"\")","v":""},null,"","",null,null,null,0,0,0,0,{"$f":"IFERROR(VLOOKUP(G3120,DropDowns!$D$2:$E$151,2,FALSE),\"\")","v":""},{"$f":"IFERROR(VLOOKUP(H3120,DropDowns!$F$2:$G$7,2,FALSE),\"Residual categories\")","v":"Residual categories"},null,null,null,0,0,0]
[0,{"$f":"IF(OR(COUNTA(O3092:O3121)>0,COUNTA(O3121:$O$5195)>0),IF(COUNTIF(B3112:B3121,B3121)=10,B3121+7,B3121),\"\")","v":""},null,"","",null,null,null,0,0,0,0,{"$f":"IFERROR(VLOOKUP(G3122,DropDowns!$D$2:$E$151,2,FALSE),\"\")","v":""},{"$f":"IFERROR(VLOOKUP(H3122,DropDowns!$F$2:$G$7,2,FALSE),\"Residual categories\")","v":"Residual categories"},null,null,null,0,0,0]
[0,{"$f":"IF(OR(COUNTA(O3093:O3122)>0,COUNTA(O3122:$O$5195)>0),IF(COUNTIF(B3113:B3122,B3122)=10,B3122+7,B3122),\"\")","v":""},null,"","",null,null,null,0,0,0,0,{"$f":"IFERROR(VLOOKUP(G3123,DropDowns!$D$2:$E$151,2,FALSE),\"\")","v":""},{"$f":"IFERROR(VLOOKUP(H3123,DropDowns!$F$2:$G$7,2,FALSE),\"Residual categories\")","v":"Residual categories"},null,null,null,0,0,0]
[0,{"$f":"IF(OR(COUNTA(O3095:O3124)>0,COUNTA(O3124:$O$5195)>0),IF(COUNTIF(B3115:B3124,B3124)=10,B3124+7,B3124),\"\")","v":""},null,"","",null,null,null,0,0,0,0,{"$f":"IFERROR(VLOOKUP(G3125,DropDowns!$D$2:$E$151,2,FALSE),\"\")","v":""},{"$f":"IFERROR(VLOOKUP(H3125,DropDowns!$F$2:$G$7,2,FALSE),\"Residual categories\")","v":"Residual categories"},null,null,null,0,0,0]
[0,{"$f":"IF(OR(COUNTA(O3096:O3125)>0,COUNTA(O3125:$O$5195)>0),IF(COUNTIF(B3116:B3125,B3125)=10,B3125+7,B3125),\"\")","v":""},null,"","",null,null,null,0,0,0,0,{"$f":"IFERROR(VLOOKUP(G3126,DropDowns!$D$2:$E$151,2,FALSE),\"\")","v":""},{"$f":"IFERROR(VLOOKUP(H3126,DropDowns!$F$2:$G$7,2,FALSE),\"Residual categories\")","v":"Residual categories"},null,null,null,0,0,0]
[0,{"$f":"IF(OR(COUNTA(O3097:O3126)>0,COUNTA(O3126:$O$5195)>0),IF(COUNTIF(B3117:B3126,B3126)=10,B3126+7,B3126),\"\")","v":""},null,"","",null,null,null,0,0,0,0,{"$f":"IFERROR(VLOOKUP(G3127,DropDowns!$D$2:$E$151,2,FALSE),\"\")","v":""},{"$f":"IFERROR(VLOOKUP(H3127,DropDowns!$F$2:$G$7,2,FALSE),\"Residual categories\")","v":"Residual categories"},null,null,null,0,0,0]
[0,{"$f":"IF(OR(COUNTA(O3098:O3127)>0,COUNTA(O3127:$O$5195)>0),IF(COUNTIF(B3118:B3127,B3127)=10,B3127+7,B3127),\"\")","v":""},null,"","",null,null,null,0,0,0,0,{"$f":"IFERROR(VLOOKUP(G3128,DropDowns!$D$2:$E$151,2,FALSE),\"\")","v":""},{"$f":"IFERROR(VLOOKUP(H3128,DropDowns!$F$2:$G$7,2,FALSE),\"Residual categories\")","v":"Residual categories"},null,null,null,0,0,0]
[0,{"$f":"IF(OR(COUNTA(O3100:O3129)>0,COUNTA(O3129:$O$5195)>0),IF(COUNTIF(B3120:B3129,B3129)=10,B3129+7,B3129),\"\")","v":""},null,"","",null,null,null,0,0,0,0,{"$f":"IFERROR(VLOOKUP(G3130,DropDowns!$D$2:$E$151,2,FALSE),\"\")","v":""},{"$f":"IFERROR(VLOOKUP(H3130,DropDowns!$F$2:$G$7,2,FALSE),\"Residual categories\")","v":"Residual categories"},null,null,null,0,0,0]
[0,{"$f":"IF(OR(COUNTA(O3101:O3130)>0,COUNTA(O3130:$O$5195)>0),IF(COUNTIF(B3121:B3130,B3130)=10,B3130+7,B3130),\"\")","v":""},null,"","",null,null,null,0,0,0,0,{"$f":"IFERROR(VLOOKUP(G3131,DropDowns!$D$2:$E$151,2,FALSE),\"\")","v":""},{"$f":"IFERROR(VLOOKUP(H3131,DropDowns!$F$2:$G$7,2,FALSE),\"Residual categories\")","v":"Residual categories"},null,null,null,0,0,0]
[0,{"$f":"IF(OR(COUNTA(O3103:O3132)>0,COUNTA(O3132:$O$5195)>0),IF(COUNTIF(B3123:B3132,B3132)=10,B3132+7,B3132),\"\")","v":""},null,"","",null,null,null,0,0,0,0,{"$f":"IFERROR(VLOOKUP(G3133,DropDowns!$D$2:$E$151,2,FALSE),\"\")","v":""},{"$f":"IFERROR(VLOOKUP(H3133,DropDowns!$F$2:$G$7,2,FALSE),\"Residual categories\")","v":"Residual categories"},null,null,null,0,0,0]
[0,{"$f":"IF(OR(COUNTA(O3104:O3133)>0,COUNTA(O3133:$O$5195)>0),IF(COUNTIF(B3124:B3133,B3133)=10,B3133+7,B3133),\"\")","v":""},null,"","",null,null,null,0,0,0,0,{"$f":"IFERROR(VLOOKUP(G3134,DropDowns!$D$2:$E$151,2,FALSE),\"\")","v":""},{"$f":"IFERROR(VLOOKUP(H3134,DropDowns!$F$2:$G$7,2,FALSE),\"Residual categories\")","v":"Residual categories"},null,null,null,0,0,0]
[0,{"$f":"IF(OR(COUNTA(O3105:O3134)>0,COUNTA(O3134:$O$5195)>0),IF(COUNTIF(B3125:B3134,B3134)=10,B3134+7,B3134),\"\")","v":""},null,"","",null,null,null,0,0,0,0,{"$f":"IFERROR(VLOOKUP(G3135,DropDowns!$D$2:$E$151,2,FALSE),\"\")","v":""},{"$f":"IFERROR(VLOOKUP(H3135,DropDowns!$F$2:$G$7,2,FALSE),\"Residual categories\")","v":"Residual categories"},null,null,null,0,0,0]
[0,{"$f":"IF(OR(COUNTA(O3106:O3135)>0,COUNTA(O3135:$O$5195)>0),IF(COUNTIF(B3126:B3135,B3135)=10,B3135+7,B3135),\"\")","v":""},null,"","",null,null,null,0,0,0,0,{"$f":"IFERROR(VLOOKUP(G3136,DropDowns!$D$2:$E$151,2,FALSE),\"\")","v":""},{"$f":"IFERROR(VLOOKUP(H3136,DropDowns!$F$2:$G$7,2,FALSE),\"Residual categories\")","v":"Residual categories"},null,null,null,0,0,0]
[0,{"$f":"IF(OR(COUNTA(O3108:O3137)>0,COUNTA(O3137:$O$5195)>0),IF(COUNTIF(B3128:B3137,B3137)=10,B3137+7,B3137),\"\")","v":""},null,"","",null,null,null,0,0,0,0,{"$f":"IFERROR(VLOOKUP(G3138,DropDowns!$D$2:$E$151,2,FALSE),\"\")","v":""},{"$f":"IFERROR(VLOOKUP(H3138,DropDowns!$F$2:$G$7,2,FALSE),\"Residual categories\")","v":"Residual categories"},null,null,null,0,0,0]
[0,{"$f":"IF(OR(COUNTA(O3109:O3138)>0,COUNTA(O3138:$O$5195)>0),IF(COUNTIF(B3129:B3138,B3138)=10,B3138+7,B3138),\"\")","v":""},null,"","",null,null,null,0,0,0,0,{"$f":"IFERROR(VLOOKUP(G3139,DropDowns!$D$2:$E$151,2,FALSE),\"\")","v":""},{"$f":"IFERROR(VLOOKUP(H3139,DropDowns!$F$2:$G$7,2,FALSE),\"Residual categories\")","v":"Residual categories"},null,null,null,0,0,0]
[0,{"$f":"IF(OR(COUNTA(O3111:O3140)>0,COUNTA(O3140:$O$5195)>0),IF(COUNTIF(B3131:B3140,B3140)=10,B3140+7,B3140),\"\")","v":""},null,"","",null,null,null,0,0,0,0,{"$f":"IFERROR(VLOOKUP(G3141,DropDowns!$D$2:$E$151,2,FALSE),\"\")","v":""},{"$f":"IFERROR(VLOOKUP(H3141,DropDowns!$F$2:$G$7,2,FALSE),\"Residual categories\")","v":"Residual categories"},null,null,null,0,0,0]
[0,{"$f":"IF(OR(COUNTA(O3112:O3141)>0,COUNTA(O3141:$O$5195)>0),IF(COUNTIF(B3132:B3141,B3141)=10,B3141+7,B3141),\"\")","v":""},null,"","",null,null,null,0,0,0,0,{"$f":"IFERROR(VLOOKUP(G3142,DropDowns!$D$2:$E$151,2,FALSE),\"\")","v":""},{"$f":"IFERROR(VLOOKUP(H3142,DropDowns!$F$2:$G$7,2,FALSE),\"Residual categories\")","v":"Residual categories"},null,null,null,0,0,0]
[0,{"$f":"IF(OR(COUNTA(O3114:O3143)>0,COUNTA(O3143:$O$5195)>0),IF(COUNTIF(B3134:B3143,B3143)=10,B3143+7,B3143),\"\")","v":""},null,"","",null,null,null,0,0,0,0,{"$f":"IFERROR(VLOOKUP(G3144,DropDowns!$D$2:$E$151,2,FALSE),\"\")","v":""},{"$f":"IFERROR(VLOOKUP(H3144,DropDowns!$F$2:$G$7,2,FALSE),\"Residual categories\")","v":"Residual categories"},null,null,null,0,0,0]
[0,{"$f":"IF(OR(COUNTA(O3115:O3144)>0,COUNTA(O3144:$O$5195)>0),IF(COUNTIF(B3135:B3144,B3144)=10,B3144+7,B3144),\"\")","v":""},null,"","",null,null,null,0,0,0,0,{"$f":"IFERROR(VLOOKUP(G3145,DropDowns!$D$2:$E$151,2,FALSE),\"\")","v":""},{"$f":"IFERROR(VLOOKUP(H3145,DropDowns!$F$2:$G$7,2,FALSE),\"Residual categories\")","v":"Residual categories"},null,null,null,0,0,0]
[0,{"$f":"IF(OR(COUNTA(O3116:O3145)>0,COUNTA(O3145:$O$5195)>0),IF(COUNTIF(B3136:B3145,B3145)=10,B3145+7,B3145),\"\")","v":""},null,"","",null,null,null,0,0,0,0,{"$f":"IFERROR(VLOOKUP(G3146,DropDowns!$D$2:$E$151,2,FALSE),\"\")","v":""},{"$f":"IFERROR(VLOOKUP(H3146,DropDowns!$F$2:$G$7,2,FALSE),\"Residual categories\")","v":"Residual categories"},null,null,null,0,0,0]
[0,{"$f":"IF(OR(COUNTA(O3117:O3146)>0,COUNTA(O3146:$O$5195)>0),IF(COUNTIF(B3137:B3146,B3146)=10,B3146+7,B3146),\"\")","v":""},null,"","",null,null,null,0,0,0,0,{"$f":"IFERROR(VLOOKUP(G3147,DropDowns!$D$2:$E$151,2,FALSE),\"\")","v":""},{"$f":"IFERROR(VLOOKUP(H3147,DropDowns!$F$2:$G$7,2,FALSE),\"Residual categories\")","v":"Residual categories"},null,null,null,0,0,0]
[0,{"$f":"IF(OR(COUNTA(O3119:O3148)>0,COUNTA(O3148:$O$5195)>0),IF(COUNTIF(B3139:B3148,B3148)=10,B3148+7,B3148),\"\")","v":""},null,"","",null,null,null,0,0,0,0,{"$f":"IFERROR(VLOOKUP(G3149,DropDowns!$D$2:$E$151,2,FALSE),\"\")","v":""},{"$f":"IFERROR(VLOOKUP(H3149,DropDowns!$F$2:$G$7,2,FALSE),\"Residual categories\")","v":"Residual categories"},null,null,null,0,0,0]
[0,{"$f":"IF(OR(COUNTA(O3120:O3149)>0,COUNTA(O3149:$O$5195)>0),IF(COUNTIF(B3140:B3149,B3149)=10,B3149+7,B3149),\"\")","v":""},null,"","",null,null,null,0,0,0,0,{"$f":"IFERROR(VLOOKUP(G3150,DropDowns!$D$2:$E$151,2,FALSE),\"\")","v":""},{"$f":"IFERROR(VLOOKUP(H3150,DropDowns!$F$2:$G$7,2,FALSE),\"Residual categories\")","v":"Residual categories"},null,null,null,0,0,0]
[0,{"$f":"IF(OR(COUNTA(O3122:O3151)>0,COUNTA(O3151:$O$5195)>0),IF(COUNTIF(B3142:B3151,B3151)=10,B3151+7,B3151),\"\")","v":""},null,"","",null,null,null,0,0,0,0,{"$f":"IFERROR(VLOOKUP(G3152,DropDowns!$D$2:$E$151,2,FALSE),\"\")","v":""},{"$f":"IFERROR(VLOOKUP(H3152,DropDowns!$F$2:$G$7,2,FALSE),\"Residual categories\")","v":"Residual categories"},null,null,null,0,0,0]
[0,{"$f":"IF(OR(COUNTA(O3123:O3152)>0,COUNTA(O3152:$O$5195)>0),IF(COUNTIF(B3143:B3152,B3152)=10,B3152+7,B3152),\"\")","v":""},null,"",{"$f":"IF(B3153=\"\",\"\",COUNTIF(B3144:B3153,B3153))","v":""},null,null,null,0,0,0,0,{"$f":"IFERROR(VLOOKUP(G3153,DropDowns!$D$2:$E$151,2,FALSE),\"\")","v":""},{"$f":"IFERROR(VLOOKUP(H3153,DropDowns!$F$2:$G$7,2,FALSE),\"Residual categories\")","v":"Residual categories"},null,null,null,0,0,0]
[0,{"$f":"IF(OR(COUNTA(O3124:O3153)>0,COUNTA(O3153:$O$5195)>0),IF(COUNTIF(B3144:B3153,B3153)=10,B3153+7,B3153),\"\")","v":""},null,"","",null,null,null,0,0,0,0,{"$f":"IFERROR(VLOOKUP(G3154,DropDowns!$D$2:$E$151,2,FALSE),\"\")","v":""},{"$f":"IFERROR(VLOOKUP(H3154,DropDowns!$F$2:$G$7,2,FALSE),\"Residual categories\")","v":"Residual categories"},null,null,null,0,0,0]
[0,{"$f":"IF(OR(COUNTA(O3125:O3154)>0,COUNTA(O3154:$O$5195)>0),IF(COUNTIF(B3145:B3154,B3154)=10,B3154+7,B3154),\"\")","v":""},null,"","",null,null,null,0,0,0,0,{"$f":"IFERROR(VLOOKUP(G3155,DropDowns!$D$2:$E$151,2,FALSE),\"\")","v":""},{"$f":"IFERROR(VLOOKUP(H3155,DropDowns!$F$2:$G$7,2,FALSE),\"Residual categories\")","v":"Residual categories"},null,null,null,0,0,0]
[0,{"$f":"IF(OR(COUNTA(O3127:O3156)>0,COUNTA(O3156:$O$5195)>0),IF(COUNTIF(B3147:B3156,B3156)=10,B3156+7,B3156),\"\")","v":""},null,"","",null,null,null,0,0,0,0,{"$f":"IFERROR(VLOOKUP(G3157,DropDowns!$D$2:$E$151,2,FALSE),\"\")","v":""},{"$f":"IFERROR(VLOOKUP(H3157,DropDowns!$F$2:$G$7,2,FALSE),\"Residual categories\")","v":"Residual categories"},null,null,null,0,0,0]
[0,{"$f":"IF(OR(COUNTA(O3128:O3157)>0,COUNTA(O3157:$O$5195)>0),IF(COUNTIF(B3148:B3157,B3157)=10,B3157+7,B3157),\"\")","v":""},null,"","",null,null,null,0,0,0,0,{"$f":"IFERROR(VLOOKUP(G3158,DropDowns!$D$2:$E$151,2,FALSE),\"\")","v":""},{"$f":"IFERROR(VLOOKUP(H3158,DropDowns!$F$2:$G$7,2,FALSE),\"Residual categories\")","v":"Residual categories"},null,null,null,0,0,0]
[0,{"$f":"IF(OR(COUNTA(O3130:O3159)>0,COUNTA(O3159:$O$5195)>0),IF(COUNTIF(B3150:B3159,B3159)=10,B3159+7,B3159),\"\")","v":""},null,"","",null,null,null,0,0,0,0,{"$f":"IFERROR(VLOOKUP(G3160,DropDowns!$D$2:$E$151,2,FALSE),\"\")","v":""},{"$f":"IFERROR(VLOOKUP(H3160,DropDowns!$F$2:$G$7,2,FALSE),\"Residual categories\")","v":"Residual categories"},null,null,null,0,0,0]
[0,{"$f":"IF(OR(COUNTA(O3131:O3160)>0,COUNTA(O3160:$O$5195)>0),IF(COUNTIF(B3151:B3160,B3160)=10,B3160+7,B3160),\"\")","v":""},null,"","",null,null,null,0,0,0,0,{"$f":"IFERROR(VLOOKUP(G3161,DropDowns!$D$2:$E$151,2,FALSE),\"\")","v":""},{"$f":"IFERROR(VLOOKUP(H3161,DropDowns!$F$2:$G$7,2,FALSE),\"Residual categories\")","v":"Residual categories"},null,null,null,0,0,0]
[0,{"$f":"IF(OR(COUNTA(O3132:O3161)>0,COUNTA(O3161:$O$5195)>0),IF(COUNTIF(B3152:B3161,B3161)=10,B3161+7,B3161),\"\")","v":""},null,"","",null,null,null,0,0,0,0,{"$f":"IFERROR(VLOOKUP(G3162,DropDowns!$D$2:$E$151,2,FALSE),\"\")","v":""},{"$f":"IFERROR(VLOOKUP(H3162,DropDowns!$F$2:$G$7,2,FALSE),\"Residual categories\")","v":"Residual categories"},null,null,null,0,0,0]
[0,{"$f":"IF(OR(COUNTA(O3133:O3162)>0,COUNTA(O3162:$O$5195)>0),IF(COUNTIF(B3153:B3162,B3162)=10,B3162+7,B3162),\"\")","v":""},null,"","",null,null,null,0,0,0,0,{"$f":"IFERROR(VLOOKUP(G3163,DropDowns!$D$2:$E$151,2,FALSE),\"\")","v":""},{"$f":"IFERROR(VLOOKUP(H3163,DropDowns!$F$2:$G$7,2,FALSE),\"Residual categories\")","v":"Residual categories"},null,null,null,0,0,0]
[0,{"$f":"IF(OR(COUNTA(O3135:O3164)>0,COUNTA(O3164:$O$5195)>0),IF(COUNTIF(B3155:B3164,B3164)=10,B3164+7,B3164),\"\")","v":""},null,"","",null,null,null,0,0,0,0,{"$f":"IFERROR(VLOOKUP(G3165,DropDowns!$D$2:$E$151,2,FALSE),\"\")","v":""},{"$f":"IFERROR(VLOOKUP(H3165,DropDowns!$F$2:$G$7,2,FALSE),\"Residual categories\")","v":"Residual categories"},null,null,null,0,0,0]
[0,{"$f":"IF(OR(COUNTA(O3136:O3165)>0,COUNTA(O3165:$O$5195)>0),IF(COUNTIF(B3156:B3165,B3165)=10,B3165+7,B3165),\"\")","v":""},null,"","",null,null,null,0,0,0,0,{"$f":"IFERROR(VLOOKUP(G3166,DropDowns!$D$2:$E$151,2,FALSE),\"\")","v":""},{"$f":"IFERROR(VLOOKUP(H3166,DropDowns!$F$2:$G$7,2,FALSE),\"Residual categories\")","v":"Residual categories"},null,null,null,0,0,0]
[0,{"$f":"IF(OR(COUNTA(O3138:O3167)>0,COUNTA(O3167:$O$5195)>0),IF(COUNTIF(B3158:B3167,B3167)=10,B3167+7,B3167),\"\")","v":""},null,"","",null,null,null,0,0,0,0,{"$f":"IFERROR(VLOOKUP(G3168,DropDowns!$D$2:$E$151,2,FALSE),\"\")","v":""},{"$f":"IFERROR(VLOOKUP(H3168,DropDowns!$F$2:$G$7,2,FALSE),\"Residual categories\")","v":"Residual categories"},null,null,null,0,0,0]
[0,{"$f":"IF(OR(COUNTA(O3139:O3168)>0,COUNTA(O3168:$O$5195)>0),IF(COUNTIF(B3159:B3168,B3168)=10,B3168+7,B3168),\"\")","v":""},null,"","",null,null,null,0,0,0,0,{"$f":"IFERROR(VLOOKUP(G3169,DropDowns!$D$2:$E$151,2,FALSE),\"\")","v":""},{"$f":"IFERROR(VLOOKUP(H3169,DropDowns!$F$2:$G$7,2,FALSE),\"Residual categories\")","v":"Residual categories"},null,null,null,0,0,0]
[0,{"$f":"IF(OR(COUNTA(O3140:O3169)>0,COUNTA(O3169:$O$5195)>0),IF(COUNTIF(B3160:B3169,B3169)=10,B3169+7,B3169),\"\")","v":""},null,"","",null,null,null,0,0,0,0,{"$f":"IFERROR(VLOOKUP(G3170,DropDowns!$D$2:$E$151,2,FALSE),\"\")","v":""},{"$f":"IFERROR(VLOOKUP(H3170,DropDowns!$F$2:$G$7,2,FALSE),\"Residual categories\")","v":"Residual categories"},null,null,null,0,0,0]
[0,{"$f":"IF(OR(COUNTA(O3141:O3170)>0,COUNTA(O3170:$O$5195)>0),IF(COUNTIF(B3161:B3170,B3170)=10,B3170+7,B3170),\"\")","v":""},null,"","",null,null,null,0,0,0,0,{"$f":"IFERROR(VLOOKUP(G3171,DropDowns!$D$2:$E$151,2,FALSE),\"\")","v":""},{"$f":"IFERROR(VLOOKUP(H3171,DropDowns!$F$2:$G$7,2,FALSE),\"Residual categories\")","v":"Residual categories"},null,null,null,0,0,0]
[0,{"$f":"IF(OR(COUNTA(O3143:O3172)>0,COUNTA(O3172:$O$5195)>0),IF(COUNTIF(B3163:B3172,B3172)=10,B3172+7,B3172),\"\")","v":""},null,"","",null,null,null,0,0,0,0,{"$f":"IFERROR(VLOOKUP(G3173,DropDowns!$D$2:$E$151,2,FALSE),\"\")","v":""},{"$f":"IFERROR(VLOOKUP(H3173,DropDowns!$F$2:$G$7,2,FALSE),\"Residual categories\")","v":"Residual categories"},null,null,null,0,0,0]
[0,{"$f":"IF(OR(COUNTA(O3144:O3173)>0,COUNTA(O3173:$O$5195)>0),IF(COUNTIF(B3164:B3173,B3173)=10,B3173+7,B3173),\"\")","v":""},null,"","",null,null,null,0,0,0,0,{"$f":"IFERROR(VLOOKUP(G3174,DropDowns!$D$2:$E$151,2,FALSE),\"\")","v":""},{"$f":"IFERROR(VLOOKUP(H3174,DropDowns!$F$2:$G$7,2,FALSE),\"Residual categories\")","v":"Residual categories"},null,null,null,0,0,0]
[0,{"$f":"IF(OR(COUNTA(O3146:O3175)>0,COUNTA(O3175:$O$5195)>0),IF(COUNTIF(B3166:B3175,B3175)=10,B3175+7,B3175),\"\")","v":""},null,"","",null,null,null,0,0,0,0,{"$f":"IFERROR(VLOOKUP(G3176,DropDowns!$D$2:$E$151,2,FALSE),\"\")","v":""},{"$f":"IFERROR(VLOOKUP(H3176,DropDowns!$F$2:$G$7,2,FALSE),\"Residual categories\")","v":"Residual categories"},null,null,null,0,0,0]
[0,{"$f":"IF(OR(COUNTA(O3147:O3176)>0,COUNTA(O3176:$O$5195)>0),IF(COUNTIF(B3167:B3176,B3176)=10,B3176+7,B3176),\"\")","v":""},null,"","",null,null,null,0,0,0,0,{"$f":"IFERROR(VLOOKUP(G3177,DropDowns!$D$2:$E$151,2,FALSE),\"\")","v":""},{"$f":"IFERROR(VLOOKUP(H3177,DropDowns!$F$2:$G$7,2,FALSE),\"Residual categories\")","v":"Residual categories"},null,null,null,0,0,0]
[0,{"$f":"IF(OR(COUNTA(O3149:O3178)>0,COUNTA(O3178:$O$5195)>0),IF(COUNTIF(B3169:B3178,B3178)=10,B3178+7,B3178),\"\")","v":""},null,"","",null,null,null,0,0,0,0,{"$f":"IFERROR(VLOOKUP(G3179,DropDowns!$D$2:$E$151,2,FALSE),\"\")","v":""},{"$f":"IFERROR(VLOOKUP(H3179,DropDowns!$F$2:$G$7,2,FALSE),\"Residual categories\")","v":"Residual categories"},null,null,null,0,0,0]
[0,{"$f":"IF(OR(COUNTA(O3150:O3179)>0,COUNTA(O3179:$O$5195)>0),IF(COUNTIF(B3170:B3179,B3179)=10,B3179+7,B3179),\"\")","v":""},null,"","",null,null,null,0,0,0,0,{"$f":"IFERROR(VLOOKUP(G3180,DropDowns!$D$2:$E$151,2,FALSE),\"\")","v":""},{"$f":"IFERROR(VLOOKUP(H3180,DropDowns!$F$2:$G$7,2,FALSE),\"Residual categories\")","v":"Residual categories"},null,null,null,0,0,0]
[0,{"$f":"IF(OR(COUNTA(O3151:O3180)>0,COUNTA(O3180:$O$5195)>0),IF(COUNTIF(B3171:B3180,B3180)=10,B3180+7,B3180),\"\")","v":""},null,"","",null,null,null,0,0,0,0,{"$f":"IFERROR(VLOOKUP(G3181,DropDowns!$D$2:$E$151,2,FALSE),\"\")","v":""},{"$f":"IFERROR(VLOOKUP(H3181,DropDowns!$F$2:$G$7,2,FALSE),\"Residual categories\")","v":"Residual categories"},null,null,null,0,0,0]
[0,{"$f":"IF(OR(COUNTA(O3152:O3181)>0,COUNTA(O3181:$O$5195)>0),IF(COUNTIF(B3172:B3181,B3181)=10,B3181+7,B3181),\"\")","v":""},null,"","",null,null,null,0,0,0,0,{"$f":"IFERROR(VLOOKUP(G3182,DropDowns!$D$2:$E$151,2,FALSE),\"\")","v":""},{"$f":"IFERROR(VLOOKUP(H3182,DropDowns!$F$2:$G$7,2,FALSE),\"Residual categories\")","v":"Residual categories"},null,null,null,0,0,0]
[0,{"$f":"IF(OR(COUNTA(O3154:O3183)>0,COUNTA(O3183:$O$5195)>0),IF(COUNTIF(B3174:B3183,B3183)=10,B3183+7,B3183),\"\")","v":""},null,"","",null,null,null,0,0,0,0,{"$f":"IFERROR(VLOOKUP(G3184,DropDowns!$D$2:$E$151,2,FALSE),\"\")","v":""},{"$f":"IFERROR(VLOOKUP(H3184,DropDowns!$F$2:$G$7,2,FALSE),\"Residual categories\")","v":"Residual categories"},null,null,null,0,0,0]
[0,{"$f":"IF(OR(COUNTA(O3155:O3184)>0,COUNTA(O3184:$O$5195)>0),IF(COUNTIF(B3175:B3184,B3184)=10,B3184+7,B3184),\"\")","v":""},null,"","",null,null,null,0,0,0,0,{"$f":"IFERROR(VLOOKUP(G3185,DropDowns!$D$2:$E$151,2,FALSE),\"\")","v":""},{"$f":"IFERROR(VLOOKUP(H3185,DropDowns!$F$2:$G$7,2,FALSE),\"Residual categories\")","v":"Residual categories"},null,null,null,0,0,0]
[0,{"$f":"IF(OR(COUNTA(O3157:O3186)>0,COUNTA(O3186:$O$5195)>0),IF(COUNTIF(B3177:B3186,B3186)=10,B3186+7,B3186),\"\")","v":""},null,"","",null,null,null,0,0,0,0,{"$f":"IFERROR(VLOOKUP(G3187,DropDowns!$D$2:$E$151,2,FALSE),\"\")","v":""},{"$f":"IFERROR(VLOOKUP(H3187,DropDowns!$F$2:$G$7,2,FALSE),\"Residual categories\")","v":"Residual categories"},null,null,null,0,0,0]
[0,{"$f":"IF(OR(COUNTA(O3158:O3187)>0,COUNTA(O3187:$O$5195)>0),IF(COUNTIF(B3178:B3187,B3187)=10,B3187+7,B3187),\"\")","v":""},null,"","",null,null,null,0,0,0,0,{"$f":"IFERROR(VLOOKUP(G3188,DropDowns!$D$2:$E$151,2,FALSE),\"\")","v":""},{"$f":"IFERROR(VLOOKUP(H3188,DropDowns!$F$2:$G$7,2,FALSE),\"Residual categories\")","v":"Residual categories"},null,null,null,0,0,0]
[0,{"$f":"IF(OR(COUNTA(O3159:O3188)>0,COUNTA(O3188:$O$5195)>0),IF(COUNTIF(B3179:B3188,B3188)=10,B3188+7,B3188),\"\")","v":""},null,"","",null,null,null,0,0,0,0,{"$f":"IFERROR(VLOOKUP(G3189,DropDowns!$D$2:$E$151,2,FALSE),\"\")","v":""},{"$f":"IFERROR(VLOOKUP(H3189,DropDowns!$F$2:$G$7,2,FALSE),\"Residual categories\")","v":"Residual categories"},null,null,null,0,0,0]
[0,{"$f":"IF(OR(COUNTA(O3160:O3189)>0,COUNTA(O3189:$O$5195)>0),IF(COUNTIF(B3180:B3189,B3189)=10,B3189+7,B3189),\"\")","v":""},null,"","",null,null,null,0,0,0,0,{"$f":"IFERROR(VLOOKUP(G3190,DropDowns!$D$2:$E$151,2,FALSE),\"\")","v":""},{"$f":"IFERROR(VLOOKUP(H3190,DropDowns!$F$2:$G$7,2,FALSE),\"Residual categories\")","v":"Residual categories"},null,null,null,0,0,0]
[0,{"$f":"IF(OR(COUNTA(O3162:O3191)>0,COUNTA(O3191:$O$5195)>0),IF(COUNTIF(B3182:B3191,B3191)=10,B3191+7,B3191),\"\")","v":""},null,"","",null,null,null,0,0,0,0,{"$f":"IFERROR(VLOOKUP(G3192,DropDowns!$D$2:$E$151,2,FALSE),\"\")","v":""},{"$f":"IFERROR(VLOOKUP(H3192,DropDowns!$F$2:$G$7,2,FALSE),\"Residual categories\")","v":"Residual categories"},null,null,null,0,0,0]
[0,{"$f":"IF(OR(COUNTA(O3163:O3192)>0,COUNTA(O3192:$O$5195)>0),IF(COUNTIF(B3183:B3192,B3192)=10,B3192+7,B3192),\"\")","v":""},null,"","",null,null,null,0,0,0,0,{"$f":"IFERROR(VLOOKUP(G3193,DropDowns!$D$2:$E$151,2,FALSE),\"\")","v":""},{"$f":"IFERROR(VLOOKUP(H3193,DropDowns!$F$2:$G$7,2,FALSE),\"Residual categories\")","v":"Residual categories"},null,null,null,0,0,0]
[0,{"$f":"IF(OR(COUNTA(O3165:O3194)>0,COUNTA(O3194:$O$5195)>0),IF(COUNTIF(B3185:B3194,B3194)=10,B3194+7,B3194),\"\")","v":""},null,"","",null,null,null,0,0,0,0,{"$f":"IFERROR(VLOOKUP(G3195,DropDowns!$D$2:$E$151,2,FALSE),\"\")","v":""},{"$f":"IFERROR(VLOOKUP(H3195,DropDowns!$F$2:$G$7,2,FALSE),\"Residual categories\")","v":"Residual categories"},null,null,null,0,0,0]
[0,{"$f":"IF(OR(COUNTA(O3166:O3195)>0,COUNTA(O3195:$O$5195)>0),IF(COUNTIF(B3186:B3195,B3195)=10,B3195+7,B3195),\"\")","v":""},null,"","",null,null,null,0,0,0,0,{"$f":"IFERROR(VLOOKUP(G3196,DropDowns!$D$2:$E$151,2,FALSE),\"\")","v":""},{"$f":"IFERROR(VLOOKUP(H3196,DropDowns!$F$2:$G$7,2,FALSE),\"Residual categories\")","v":"Residual categories"},null,null,null,0,0,0]
[0,{"$f":"IF(OR(COUNTA(O3167:O3196)>0,COUNTA(O3196:$O$5195)>0),IF(COUNTIF(B3187:B3196,B3196)=10,B3196+7,B3196),\"\")","v":""},null,"","",null,null,null,0,0,0,0,{"$f":"IFERROR(VLOOKUP(G3197,DropDowns!$D$2:$E$151,2,FALSE),\"\")","v":""},{"$f":"IFERROR(VLOOKUP(H3197,DropDowns!$F$2:$G$7,2,FALSE),\"Residual categories\")","v":"Residual categories"},null,null,null,0,0,0]
[0,{"$f":"IF(OR(COUNTA(O3168:O3197)>0,COUNTA(O3197:$O$5195)>0),IF(COUNTIF(B3188:B3197,B3197)=10,B3197+7,B3197),\"\")","v":""},null,"","",null,null,null,0,0,0,0,{"$f":"IFERROR(VLOOKUP(G3198,DropDowns!$D$2:$E$151,2,FALSE),\"\")","v":""},{"$f":"IFERROR(VLOOKUP(H3198,DropDowns!$F$2:$G$7,2,FALSE),\"Residual categories\")","v":"Residual categories"},null,null,null,0,0,0]
[0,{"$f":"IF(OR(COUNTA(O3170:O3199)>0,COUNTA(O3199:$O$5195)>0),IF(COUNTIF(B3190:B3199,B3199)=10,B3199+7,B3199),\"\")","v":""},null,"","",null,null,null,0,0,0,0,{"$f":"IFERROR(VLOOKUP(G3200,DropDowns!$D$2:$E$151,2,FALSE),\"\")","v":""},{"$f":"IFERROR(VLOOKUP(H3200,DropDowns!$F$2:$G$7,2,FALSE),\"Residual categories\")","v":"Residual categories"},null,null,null,0,0,0]
[0,{"$f":"IF(OR(COUNTA(O3171:O3200)>0,COUNTA(O3200:$O$5195)>0),IF(COUNTIF(B3191:B3200,B3200)=10,B3200+7,B3200),\"\")","v":""},null,"","",null,null,null,0,0,0,0,{"$f":"IFERROR(VLOOKUP(G3201,DropDowns!$D$2:$E$151,2,FALSE),\"\")","v":""},{"$f":"IFERROR(VLOOKUP(H3201,DropDowns!$F$2:$G$7,2,FALSE),\"Residual categories\")","v":"Residual categories"},null,null,null,0,0,0]
[0,{"$f":"IF(OR(COUNTA(O3173:O3202)>0,COUNTA(O3202:$O$5195)>0),IF(COUNTIF(B3193:B3202,B3202)=10,B3202+7,B3202),\"\")","v":""},null,"","",null,null,null,0,0,0,0,{"$f":"IFERROR(VLOOKUP(G3203,DropDowns!$D$2:$E$151,2,FALSE),\"\")","v":""},{"$f":"IFERROR(VLOOKUP(H3203,DropDowns!$F$2:$G$7,2,FALSE),\"Residual categories\")","v":"Residual categories"},null,null,null,0,0,0]
[0,{"$f":"IF(OR(COUNTA(O3174:O3203)>0,COUNTA(O3203:$O$5195)>0),IF(COUNTIF(B3194:B3203,B3203)=10,B3203+7,B3203),\"\")","v":""},null,"","",null,null,null,0,0,0,0,{"$f":"IFERROR(VLOOKUP(G3204,DropDowns!$D$2:$E$151,2,FALSE),\"\")","v":""},{"$f":"IFERROR(VLOOKUP(H3204,DropDowns!$F$2:$G$7,2,FALSE),\"Residual categories\")","v":"Residual categories"},null,null,null,0,0,0]
[0,{"$f":"IF(OR(COUNTA(O3176:O3205)>0,COUNTA(O3205:$O$5195)>0),IF(COUNTIF(B3196:B3205,B3205)=10,B3205+7,B3205),\"\")","v":""},null,"","",null,null,null,0,0,0,0,{"$f":"IFERROR(VLOOKUP(G3206,DropDowns!$D$2:$E$151,2,FALSE),\"\")","v":""},{"$f":"IFERROR(VLOOKUP(H3206,DropDowns!$F$2:$G$7,2,FALSE),\"Residual categories\")","v":"Residual categories"},null,null,null,0,0,0]
[0,{"$f":"IF(OR(COUNTA(O3177:O3206)>0,COUNTA(O3206:$O$5195)>0),IF(COUNTIF(B3197:B3206,B3206)=10,B3206+7,B3206),\"\")","v":""},null,{"$f":"IF(E3207=1,B3207,\"\")","v":""},"",null,null,null,{"$f":"IF(COUNTA(O3207:Q3207)>0,1,0)","v":0},{"$f":"IF(O3207=\"y\",1,0)","v":0},{"$f":"IF(P3207=\"y\",1,0)","v":0},{"$f":"IF(Q3207=\"y\",1,0)","v":0},{"$f":"IFERROR(VLOOKUP(G3207,DropDowns!$D$2:$E$151,2,FALSE),\"\")","v":""},{"$f":"IFERROR(VLOOKUP(H3207,DropDowns!$F$2:$G$7,2,FALSE),\"Residual categories\")","v":"Residual categories"},null,null,null,{"$f":"IF(O3207=\"yes\",1,0)","v":0},{"$f":"IF(P3207=\"yes\",1,0)","v":0},{"$f":"IF(Q3207=\"yes\",1,0)","v":0}]
[0,{"$f":"IF(OR(COUNTA(O3178:O3207)>0,COUNTA(O3207:$O$5195)>0),IF(COUNTIF(B3198:B3207,B3207)=10,B3207+7,B3207),\"\")","v":""},null,"","",null,null,null,0,0,0,0,{"$f":"IFERROR(VLOOKUP(G3208,DropDowns!$D$2:$E$151,2,FALSE),\"\")","v":""},{"$f":"IFERROR(VLOOKUP(H3208,DropDowns!$F$2:$G$7,2,FALSE),\"Residual categories\")","v":"Residual categories"},null,null,null,0,0,0]
[0,{"$f":"IF(OR(COUNTA(O3179:O3208)>0,COUNTA(O3208:$O$5195)>0),IF(COUNTIF(B3199:B3208,B3208)=10,B3208+7,B3208),\"\")","v":""},null,"","",null,null,null,0,0,0,0,{"$f":"IFERROR(VLOOKUP(G3209,DropDowns!$D$2:$E$151,2,FALSE),\"\")","v":""},{"$f":"IFERROR(VLOOKUP(H3209,DropDowns!$F$2:$G$7,2,FALSE),\"Residual categories\")","v":"Residual categories"},null,null,null,0,0,0]
[0,{"$f":"IF(OR(COUNTA(O3181:O3210)>0,COUNTA(O3210:$O$5195)>0),IF(COUNTIF(B3201:B3210,B3210)=10,B3210+7,B3210),\"\")","v":""},null,"","",null,null,null,0,0,0,0,{"$f":"IFERROR(VLOOKUP(G3211,DropDowns!$D$2:$E$151,2,FALSE),\"\")","v":""},{"$f":"IFERROR(VLOOKUP(H3211,DropDowns!$F$2:$G$7,2,FALSE),\"Residual categories\")","v":"Residual categories"},null,null,null,0,0,0]
[0,{"$f":"IF(OR(COUNTA(O3182:O3211)>0,COUNTA(O3211:$O$5195)>0),IF(COUNTIF(B3202:B3211,B3211)=10,B3211+7,B3211),\"\")","v":""},null,"","",null,null,null,0,0,0,0,{"$f":"IFERROR(VLOOKUP(G3212,DropDowns!$D$2:$E$151,2,FALSE),\"\")","v":""},{"$f":"IFERROR(VLOOKUP(H3212,DropDowns!$F$2:$G$7,2,FALSE),\"Residual categories\")","v":"Residual categories"},null,null,null,0,0,0]
[0,{"$f":"IF(OR(COUNTA(O3184:O3213)>0,COUNTA(O3213:$O$5195)>0),IF(COUNTIF(B3204:B3213,B3213)=10,B3213+7,B3213),\"\")","v":""},null,"","",null,null,null,0,0,0,0,{"$f":"IFERROR(VLOOKUP(G3214,DropDowns!$D$2:$E$151,2,FALSE),\"\")","v":""},{"$f":"IFERROR(VLOOKUP(H3214,DropDowns!$F$2:$G$7,2,FALSE),\"Residual categories\")","v":"Residual categories"},null,null,null,0,0,0]
[0,{"$f":"IF(OR(COUNTA(O3185:O3214)>0,COUNTA(O3214:$O$5195)>0),IF(COUNTIF(B3205:B3214,B3214)=10,B3214+7,B3214),\"\")","v":""},null,"","",null,null,null,0,0,0,0,{"$f":"IFERROR(VLOOKUP(G3215,DropDowns!$D$2:$E$151,2,FALSE),\"\")","v":""},{"$f":"IFERROR(VLOOKUP(H3215,DropDowns!$F$2:$G$7,2,FALSE),\"Residual categories\")","v":"Residual categories"},null,null,null,0,0,0]
[0,{"$f":"IF(OR(COUNTA(O3186:O3215)>0,COUNTA(O3215:$O$5195)>0),IF(COUNTIF(B3206:B3215,B3215)=10,B3215+7,B3215),\"\")","v":""},null,"","",null,null,null,0,0,0,0,{"$f":"IFERROR(VLOOKUP(G3216,DropDowns!$D$2:$E$151,2,FALSE),\"\")","v":""},{"$f":"IFERROR(VLOOKUP(H3216,DropDowns!$F$2:$G$7,2,FALSE),\"Residual categories\")","v":"Residual categories"},null,null,null,0,0,0]
[0,{"$f":"IF(OR(COUNTA(O3187:O3216)>0,COUNTA(O3216:$O$5195)>0),IF(COUNTIF(B3207:B3216,B3216)=10,B3216+7,B3216),\"\")","v":""},null,"",{"$f":"IF(B3217=\"\",\"\",COUNTIF(B3208:B3217,B3217))","v":""},null,null,null,0,0,0,0,{"$f":"IFERROR(VLOOKUP(G3217,DropDowns!$D$2:$E$151,2,FALSE),\"\")","v":""},{"$f":"IFERROR(VLOOKUP(H3217,DropDowns!$F$2:$G$7,2,FALSE),\"Residual categories\")","v":"Residual categories"},null,null,null,0,0,0]
[0,{"$f":"IF(OR(COUNTA(O3189:O3218)>0,COUNTA(O3218:$O$5195)>0),IF(COUNTIF(B3209:B3218,B3218)=10,B3218+7,B3218),\"\")","v":""},null,"","",null,null,null,0,0,0,0,{"$f":"IFERROR(VLOOKUP(G3219,DropDowns!$D$2:$E$151,2,FALSE),\"\")","v":""},{"$f":"IFERROR(VLOOKUP(H3219,DropDowns!$F$2:$G$7,2,FALSE),\"Residual categories\")","v":"Residual categories"},null,null,null,0,0,0]
[{"$f":"$E$2","v":0},{"$f":"IF(OR(COUNTA(O3190:O3219)>0,COUNTA(O3219:$O$5195)>0),IF(COUNTIF(B3210:B3219,B3219)=10,B3219+7,B3219),\"\")","v":""},null,"","",null,null,null,0,0,0,0,{"$f":"IFERROR(VLOOKUP(G3220,DropDowns!$D$2:$E$151,2,FALSE),\"\")","v":""},{"$f":"IFERROR(VLOOKUP(H3220,DropDowns!$F$2:$G$7,2,FALSE),\"Residual categories\")","v":"Residual categories"},null,null,null,0,0,0]
[0,{"$f":"IF(OR(COUNTA(O3192:O3221)>0,COUNTA(O3221:$O$5195)>0),IF(COUNTIF(B3212:B3221,B3221)=10,B3221+7,B3221),\"\")","v":""},null,"","",null,null,null,0,0,0,0,{"$f":"IFERROR(VLOOKUP(G3222,DropDowns!$D$2:$E$151,2,FALSE),\"\")","v":""},{"$f":"IFERROR(VLOOKUP(H3222,DropDowns!$F$2:$G$7,2,FALSE),\"Residual categories\")","v":"Residual categories"},null,null,null,0,0,0]
[0,{"$f":"IF(OR(COUNTA(O3193:O3222)>0,COUNTA(O3222:$O$5195)>0),IF(COUNTIF(B3213:B3222,B3222)=10,B3222+7,B3222),\"\")","v":""},null,"","",null,null,null,0,0,0,0,{"$f":"IFERROR(VLOOKUP(G3223,DropDowns!$D$2:$E$151,2,FALSE),\"\")","v":""},{"$f":"IFERROR(VLOOKUP(H3223,DropDowns!$F$2:$G$7,2,FALSE),\"Residual categories\")","v":"Residual categories"},null,null,null,0,0,0]
[0,{"$f":"IF(OR(COUNTA(O3194:O3223)>0,COUNTA(O3223:$O$5195)>0),IF(COUNTIF(B3214:B3223,B3223)=10,B3223+7,B3223),\"\")","v":""},null,"","",null,null,null,0,0,0,0,{"$f":"IFERROR(VLOOKUP(G3224,DropDowns!$D$2:$E$151,2,FALSE),\"\")","v":""},{"$f":"IFERROR(VLOOKUP(H3224,DropDowns!$F$2:$G$7,2,FALSE),\"Residual categories\")","v":"Residual categories"},null,null,null,0,0,0]
[0,{"$f":"IF(OR(COUNTA(O3195:O3224)>0,COUNTA(O3224:$O$5195)>0),IF(COUNTIF(B3215:B3224,B3224)=10,B3224+7,B3224),\"\")","v":""},null,"","",null,null,null,0,0,0,0,{"$f":"IFERROR(VLOOKUP(G3225,DropDowns!$D$2:$E$151,2,FALSE),\"\")","v":""},{"$f":"IFERROR(VLOOKUP(H3225,DropDowns!$F$2:$G$7,2,FALSE),\"Residual categories\")","v":"Residual categories"},null,null,null,0,0,0]
[0,{"$f":"IF(OR(COUNTA(O3197:O3226)>0,COUNTA(O3226:$O$5195)>0),IF(COUNTIF(B3217:B3226,B3226)=10,B3226+7,B3226),\"\")","v":""},null,"","",null,null,null,0,0,0,0,{"$f":"IFERROR(VLOOKUP(G3227,DropDowns!$D$2:$E$151,2,FALSE),\"\")","v":""},{"$f":"IFERROR(VLOOKUP(H3227,DropDowns!$F$2:$G$7,2,FALSE),\"Residual categories\")","v":"Residual categories"},null,null,null,0,0,0]
[0,{"$f":"IF(OR(COUNTA(O3198:O3227)>0,COUNTA(O3227:$O$5195)>0),IF(COUNTIF(B3218:B3227,B3227)=10,B3227+7,B3227),\"\")","v":""},null,"","",null,null,null,0,0,0,0,{"$f":"IFERROR(VLOOKUP(G3228,DropDowns!$D$2:$E$151,2,FALSE),\"\")","v":""},{"$f":"IFERROR(VLOOKUP(H3228,DropDowns!$F$2:$G$7,2,FALSE),\"Residual categories\")","v":"Residual categories"},null,null,null,0,0,0]
[0,{"$f":"IF(OR(COUNTA(O3200:O3229)>0,COUNTA(O3229:$O$5195)>0),IF(COUNTIF(B3220:B3229,B3229)=10,B3229+7,B3229),\"\")","v":""},null,"","",null,null,null,0,0,0,0,{"$f":"IFERROR(VLOOKUP(G3230,DropDowns!$D$2:$E$151,2,FALSE),\"\")","v":""},{"$f":"IFERROR(VLOOKUP(H3230,DropDowns!$F$2:$G$7,2,FALSE),\"Residual categories\")","v":"Residual categories"},null,null,null,0,0,0]
[0,{"$f":"IF(OR(COUNTA(O3201:O3230)>0,COUNTA(O3230:$O$5195)>0),IF(COUNTIF(B3221:B3230,B3230)=10,B3230+7,B3230),\"\")","v":""},null,"","",null,null,null,0,0,0,0,{"$f":"IFERROR(VLOOKUP(G3231,DropDowns!$D$2:$E$151,2,FALSE),\"\")","v":""},{"$f":"IFERROR(VLOOKUP(H3231,DropDowns!$F$2:$G$7,2,FALSE),\"Residual categories\")","v":"Residual categories"},null,null,null,0,0,0]
[0,{"$f":"IF(OR(COUNTA(O3202:O3231)>0,COUNTA(O3231:$O$5195)>0),IF(COUNTIF(B3222:B3231,B3231)=10,B3231+7,B3231),\"\")","v":""},null,"","",null,null,null,0,0,0,0,{"$f":"IFERROR(VLOOKUP(G3232,DropDowns!$D$2:$E$151,2,FALSE),\"\")","v":""},{"$f":"IFERROR(VLOOKUP(H3232,DropDowns!$F$2:$G$7,2,FALSE),\"Residual categories\")","v":"Residual categories"},null,null,null,0,0,0]
[0,{"$f":"IF(OR(COUNTA(O3203:O3232)>0,COUNTA(O3232:$O$5195)>0),IF(COUNTIF(B3223:B3232,B3232)=10,B3232+7,B3232),\"\")","v":""},null,"","",null,null,null,0,0,0,0,{"$f":"IFERROR(VLOOKUP(G3233,DropDowns!$D$2:$E$151,2,FALSE),\"\")","v":""},{"$f":"IFERROR(VLOOKUP(H3233,DropDowns!$F$2:$G$7,2,FALSE),\"Residual categories\")","v":"Residual categories"},null,null,null,0,0,0]
[0,{"$f":"IF(OR(COUNTA(O3205:O3234)>0,COUNTA(O3234:$O$5195)>0),IF(COUNTIF(B3225:B3234,B3234)=10,B3234+7,B3234),\"\")","v":""},null,"","",null,null,null,0,0,0,0,{"$f":"IFERROR(VLOOKUP(G3235,DropDowns!$D$2:$E$151,2,FALSE),\"\")","v":""},{"$f":"IFERROR(VLOOKUP(H3235,DropDowns!$F$2:$G$7,2,FALSE),\"Residual categories\")","v":"Residual categories"},null,null,null,0,0,0]
[0,{"$f":"IF(OR(COUNTA(O3206:O3235)>0,COUNTA(O3235:$O$5195)>0),IF(COUNTIF(B3226:B3235,B3235)=10,B3235+7,B3235),\"\")","v":""},null,"","",null,null,null,0,0,0,0,{"$f":"IFERROR(VLOOKUP(G3236,DropDowns!$D$2:$E$151,2,FALSE),\"\")","v":""},{"$f":"IFERROR(VLOOKUP(H3236,DropDowns!$F$2:$G$7,2,FALSE),\"Residual categories\")","v":"Residual categories"},null,null,null,0,0,0]
[0,{"$f":"IF(OR(COUNTA(O3208:O3237)>0,COUNTA(O3237:$O$5195)>0),IF(COUNTIF(B3228:B3237,B3237)=10,B3237+7,B3237),\"\")","v":""},null,"","",null,null,null,0,0,0,0,{"$f":"IFERROR(VLOOKUP(G3238,DropDowns!$D$2:$E$151,2,FALSE),\"\")","v":""},{"$f":"IFERROR(VLOOKUP(H3238,DropDowns!$F$2:$G$7,2,FALSE),\"Residual categories\")","v":"Residual categories"},null,null,null,0,0,0]
[0,{"$f":"IF(OR(COUNTA(O3209:O3238)>0,COUNTA(O3238:$O$5195)>0),IF(COUNTIF(B3229:B3238,B3238)=10,B3238+7,B3238),\"\")","v":""},null,"","",null,null,null,0,0,0,0,{"$f":"IFERROR(VLOOKUP(G3239,DropDowns!$D$2:$E$151,2,FALSE),\"\")","v":""},{"$f":"IFERROR(VLOOKUP(H3239,DropDowns!$F$2:$G$7,2,FALSE),\"Residual categories\")","v":"Residual categories"},null,null,null,0,0,0]
[0,{"$f":"IF(OR(COUNTA(O3211:O3240)>0,COUNTA(O3240:$O$5195)>0),IF(COUNTIF(B3231:B3240,B3240)=10,B3240+7,B3240),\"\")","v":""},null,"","",null,null,null,0,0,0,0,{"$f":"IFERROR(VLOOKUP(G3241,DropDowns!$D$2:$E$151,2,FALSE),\"\")","v":""},{"$f":"IFERROR(VLOOKUP(H3241,DropDowns!$F$2:$G$7,2,FALSE),\"Residual categories\")","v":"Residual categories"},null,null,null,0,0,0]
[0,{"$f":"IF(OR(COUNTA(O3212:O3241)>0,COUNTA(O3241:$O$5195)>0),IF(COUNTIF(B3232:B3241,B3241)=10,B3241+7,B3241),\"\")","v":""},null,"","",null,null,null,0,0,0,0,{"$f":"IFERROR(VLOOKUP(G3242,DropDowns!$D$2:$E$151,2,FALSE),\"\")","v":""},{"$f":"IFERROR(VLOOKUP(H3242,DropDowns!$F$2:$G$7,2,FALSE),\"Residual categories\")","v":"Residual categories"},null,null,null,0,0,0]
[0,{"$f":"IF(OR(COUNTA(O3213:O3242)>0,COUNTA(O3242:$O$5195)>0),IF(COUNTIF(B3233:B3242,B3242)=10,B3242+7,B3242),\"\")","v":""},null,"","",null,null,null,0,0,0,0,{"$f":"IFERROR(VLOOKUP(G3243,DropDowns!$D$2:$E$151,2,FALSE),\"\")","v":""},{"$f":"IFERROR(VLOOKUP(H3243,DropDowns!$F$2:$G$7,2,FALSE),\"Residual categories\")","v":"Residual categories"},null,null,null,0,0,0]
[0,{"$f":"IF(OR(COUNTA(O3214:O3243)>0,COUNTA(O3243:$O$5195)>0),IF(COUNTIF(B3234:B3243,B3243)=10,B3243+7,B3243),\"\")","v":""},null,"","",null,null,null,0,0,0,0,{"$f":"IFERROR(VLOOKUP(G3244,DropDowns!$D$2:$E$151,2,FALSE),\"\")","v":""},{"$f":"IFERROR(VLOOKUP(H3244,DropDowns!$F$2:$G$7,2,FALSE),\"Residual categories\")","v":"Residual categories"},null,null,null,0,0,0]
[0,{"$f":"IF(OR(COUNTA(O3216:O3245)>0,COUNTA(O3245:$O$5195)>0),IF(COUNTIF(B3236:B3245,B3245)=10,B3245+7,B3245),\"\")","v":""},null,"","",null,null,null,0,0,0,0,{"$f":"IFERROR(VLOOKUP(G3246,DropDowns!$D$2:$E$151,2,FALSE),\"\")","v":""},{"$f":"IFERROR(VLOOKUP(H3246,DropDowns!$F$2:$G$7,2,FALSE),\"Residual categories\")","v":"Residual categories"},null,null,null,0,0,0]
[0,{"$f":"IF(OR(COUNTA(O3217:O3246)>0,COUNTA(O3246:$O$5195)>0),IF(COUNTIF(B3237:B3246,B3246)=10,B3246+7,B3246),\"\")","v":""},null,"","",null,null,null,0,0,0,0,{"$f":"IFERROR(VLOOKUP(G3247,DropDowns!$D$2:$E$151,2,FALSE),\"\")","v":""},{"$f":"IFERROR(VLOOKUP(H3247,DropDowns!$F$2:$G$7,2,FALSE),\"Residual categories\")","v":"Residual categories"},null,null,null,0,0,0]
[0,{"$f":"IF(OR(COUNTA(O3219:O3248)>0,COUNTA(O3248:$O$5195)>0),IF(COUNTIF(B3239:B3248,B3248)=10,B3248+7,B3248),\"\")","v":""},null,"","",null,null,null,0,0,0,0,{"$f":"IFERROR(VLOOKUP(G3249,DropDowns!$D$2:$E$151,2,FALSE),\"\")","v":""},{"$f":"IFERROR(VLOOKUP(H3249,DropDowns!$F$2:$G$7,2,FALSE),\"Residual categories\")","v":"Residual categories"},null,null,null,0,0,0]
[0,{"$f":"IF(OR(COUNTA(O3220:O3249)>0,COUNTA(O3249:$O$5195)>0),IF(COUNTIF(B3240:B3249,B3249)=10,B3249+7,B3249),\"\")","v":""},null,"","",null,null,null,0,0,0,0,{"$f":"IFERROR(VLOOKUP(G3250,DropDowns!$D$2:$E$151,2,FALSE),\"\")","v":""},{"$f":"IFERROR(VLOOKUP(H3250,DropDowns!$F$2:$G$7,2,FALSE),\"Residual categories\")","v":"Residual categories"},null,null,null,0,0,0]
[0,{"$f":"IF(OR(COUNTA(O3221:O3250)>0,COUNTA(O3250:$O$5195)>0),IF(COUNTIF(B3241:B3250,B3250)=10,B3250+7,B3250),\"\")","v":""},null,"","",null,null,null,0,0,0,0,{"$f":"IFERROR(VLOOKUP(G3251,DropDowns!$D$2:$E$151,2,FALSE),\"\")","v":""},{"$f":"IFERROR(VLOOKUP(H3251,DropDowns!$F$2:$G$7,2,FALSE),\"Residual categories\")","v":"Residual categories"},null,null,null,0,0,0]
[0,{"$f":"IF(OR(COUNTA(O3222:O3251)>0,COUNTA(O3251:$O$5195)>0),IF(COUNTIF(B3242:B3251,B3251)=10,B3251+7,B3251),\"\")","v":""},"","","",null,null,null,0,0,0,0,{"$f":"IFERROR(VLOOKUP(G3252,DropDowns!$D$2:$E$151,2,FALSE),\"\")","v":""},{"$f":"IFERROR(VLOOKUP(H3252,DropDowns!$F$2:$G$7,2,FALSE),\"Residual categories\")","v":"Residual categories"},null,null,null,0,0,0]
[0,{"$f":"IF(OR(COUNTA(O3224:O3253)>0,COUNTA(O3253:$O$5195)>0),IF(COUNTIF(B3244:B3253,B3253)=10,B3253+7,B3253),\"\")","v":""},"","","",null,null,null,0,0,0,0,{"$f":"IFERROR(VLOOKUP(G3254,DropDowns!$D$2:$E$151,2,FALSE),\"\")","v":""},{"$f":"IFERROR(VLOOKUP(H3254,DropDowns!$F$2:$G$7,2,FALSE),\"Residual categories\")","v":"Residual categories"},null,null,null,0,0,0]
[0,{"$f":"IF(OR(COUNTA(O3225:O3254)>0,COUNTA(O3254:$O$5195)>0),IF(COUNTIF(B3245:B3254,B3254)=10,B3254+7,B3254),\"\")","v":""},"","","",null,null,null,0,0,0,0,{"$f":"IFERROR(VLOOKUP(G3255,DropDowns!$D$2:$E$151,2,FALSE),\"\")","v":""},{"$f":"IFERROR(VLOOKUP(H3255,DropDowns!$F$2:$G$7,2,FALSE),\"Residual categories\")","v":"Residual categories"},null,null,null,0,0,0]
[0,{"$f":"IF(OR(COUNTA(O3227:O3256)>0,COUNTA(O3256:$O$5195)>0),IF(COUNTIF(B3247:B3256,B3256)=10,B3256+7,B3256),\"\")","v":""},"","","",null,null,null,0,0,0,0,{"$f":"IFERROR(VLOOKUP(G3257,DropDowns!$D$2:$E$151,2,FALSE),\"\")","v":""},{"$f":"IFERROR(VLOOKUP(H3257,DropDowns!$F$2:$G$7,2,FALSE),\"Residual categories\")","v":"Residual categories"},null,null,null,0,0,0]
[0,{"$f":"IF(OR(COUNTA(O3228:O3257)>0,COUNTA(O3257:$O$5195)>0),IF(COUNTIF(B3248:B3257,B3257)=10,B3257+7,B3257),\"\")","v":""},"","","",null,null,null,0,0,0,0,{"$f":"IFERROR(VLOOKUP(G3258,DropDowns!$D$2:$E$151,2,FALSE),\"\")","v":""},{"$f":"IFERROR(VLOOKUP(H3258,DropDowns!$F$2:$G$7,2,FALSE),\"Residual categories\")","v":"Residual categories"},null,null,null,0,0,0]
[0,{"$f":"IF(OR(COUNTA(O3229:O3258)>0,COUNTA(O3258:$O$5195)>0),IF(COUNTIF(B3249:B3258,B3258)=10,B3258+7,B3258),\"\")","v":""},"","","",null,null,null,0,0,0,0,{"$f":"IFERROR(VLOOKUP(G3259,DropDowns!$D$2:$E$151,2,FALSE),\"\")","v":""},{"$f":"IFERROR(VLOOKUP(H3259,DropDowns!$F$2:$G$7,2,FALSE),\"Residual categories\")","v":"Residual categories"},null,null,null,0,0,0]
[0,{"$f":"IF(OR(COUNTA(O3230:O3259)>0,COUNTA(O3259:$O$5195)>0),IF(COUNTIF(B3250:B3259,B3259)=10,B3259+7,B3259),\"\")","v":""},"","","",null,null,null,0,0,0,0,{"$f":"IFERROR(VLOOKUP(G3260,DropDowns!$D$2:$E$151,2,FALSE),\"\")","v":""},{"$f":"IFERROR(VLOOKUP(H3260,DropDowns!$F$2:$G$7,2,FALSE),\"Residual categories\")","v":"Residual categories"},null,null,null,0,0,0]
[0,{"$f":"IF(OR(COUNTA(O3232:O3261)>0,COUNTA(O3261:$O$5195)>0),IF(COUNTIF(B3252:B3261,B3261)=10,B3261+7,B3261),\"\")","v":""},"","","",null,null,null,0,0,0,0,{"$f":"IFERROR(VLOOKUP(G3262,DropDowns!$D$2:$E$151,2,FALSE),\"\")","v":""},{"$f":"IFERROR(VLOOKUP(H3262,DropDowns!$F$2:$G$7,2,FALSE),\"Residual categories\")","v":"Residual categories"},null,null,null,0,0,0]
[0,{"$f":"IF(OR(COUNTA(O3233:O3262)>0,COUNTA(O3262:$O$5195)>0),IF(COUNTIF(B3253:B3262,B3262)=10,B3262+7,B3262),\"\")","v":""},"","","",null,null,null,0,0,0,0,{"$f":"IFERROR(VLOOKUP(G3263,DropDowns!$D$2:$E$151,2,FALSE),\"\")","v":""},{"$f":"IFERROR(VLOOKUP(H3263,DropDowns!$F$2:$G$7,2,FALSE),\"Residual categories\")","v":"Residual categories"},null,null,null,0,0,0]
[0,{"$f":"IF(OR(COUNTA(O3235:O3264)>0,COUNTA(O3264:$O$5195)>0),IF(COUNTIF(B3255:B3264,B3264)=10,B3264+7,B3264),\"\")","v":""},"","","",null,null,null,0,0,0,0,{"$f":"IFERROR(VLOOKUP(G3265,DropDowns!$D$2:$E$151,2,FALSE),\"\")","v":""},{"$f":"IFERROR(VLOOKUP(H3265,DropDowns!$F$2:$G$7,2,FALSE),\"Residual categories\")","v":"Residual categories"},null,null,null,0,0,0]
[0,{"$f":"IF(OR(COUNTA(O3236:O3265)>0,COUNTA(O3265:$O$5195)>0),IF(COUNTIF(B3256:B3265,B3265)=10,B3265+7,B3265),\"\")","v":""},"","","",null,null,null,0,0,0,0,{"$f":"IFERROR(VLOOKUP(G3266,DropDowns!$D$2:$E$151,2,FALSE),\"\")","v":""},{"$f":"IFERROR(VLOOKUP(H3266,DropDowns!$F$2:$G$7,2,FALSE),\"Residual categories\")","v":"Residual categories"},null,null,null,0,0,0]
[0,{"$f":"IF(OR(COUNTA(O3237:O3266)>0,COUNTA(O3266:$O$5195)>0),IF(COUNTIF(B3257:B3266,B3266)=10,B3266+7,B3266),\"\")","v":""},"","","",null,null,null,0,0,0,0,{"$f":"IFERROR(VLOOKUP(G3267,DropDowns!$D$2:$E$151,2,FALSE),\"\")","v":""},{"$f":"IFERROR(VLOOKUP(H3267,DropDowns!$F$2:$G$7,2,FALSE),\"Residual categories\")","v":"Residual categories"},null,null,null,0,0,0]
[0,{"$f":"IF(OR(COUNTA(O3238:O3267)>0,COUNTA(O3267:$O$5195)>0),IF(COUNTIF(B3258:B3267,B3267)=10,B3267+7,B3267),\"\")","v":""},"","","",null,null,null,0,0,0,0,{"$f":"IFERROR(VLOOKUP(G3268,DropDowns!$D$2:$E$151,2,FALSE),\"\")","v":""},{"$f":"IFERROR(VLOOKUP(H3268,DropDowns!$F$2:$G$7,2,FALSE),\"Residual categories\")","v":"Residual categories"},null,null,null,0,0,0]
[0,{"$f":"IF(OR(COUNTA(O3240:O3269)>0,COUNTA(O3269:$O$5195)>0),IF(COUNTIF(B3260:B3269,B3269)=10,B3269+7,B3269),\"\")","v":""},"","","",null,null,null,0,0,0,0,{"$f":"IFERROR(VLOOKUP(G3270,DropDowns!$D$2:$E$151,2,FALSE),\"\")","v":""},{"$f":"IFERROR(VLOOKUP(H3270,DropDowns!$F$2:$G$7,2,FALSE),\"Residual categories\")","v":"Residual categories"},null,null,null,0,0,0]
[0,{"$f":"IF(OR(COUNTA(O3241:O3270)>0,COUNTA(O3270:$O$5195)>0),IF(COUNTIF(B3261:B3270,B3270)=10,B3270+7,B3270),\"\")","v":""},{"$f":"IF(D3271=1,A3271,\"\")","v":""},"","",null,null,null,{"$f":"IF(COUNTA(O3271:Q3271)>0,1,0)","v":0},{"$f":"IF(O3271=\"y\",1,0)","v":0},{"$f":"IF(P3271=\"y\",1,0)","v":0},{"$f":"IF(Q3271=\"y\",1,0)","v":0},{"$f":"IFERROR(VLOOKUP(G3271,DropDowns!$D$2:$E$151,2,FALSE),\"\")","v":""},{"$f":"IFERROR(VLOOKUP(H3271,DropDowns!$F$2:$G$7,2,FALSE),\"Residual categories\")","v":"Residual categories"},null,null,null,{"$f":"IF(O3271=\"yes\",1,0)","v":0},{"$f":"IF(P3271=\"yes\",1,0)","v":0},{"$f":"IF(Q3271=\"yes\",1,0)","v":0}]
[0,{"$f":"IF(OR(COUNTA(O3243:O3272)>0,COUNTA(O3272:$O$5195)>0),IF(COUNTIF(B3263:B3272,B3272)=10,B3272+7,B3272),\"\")","v":""},"","","",null,null,null,0,0,0,0,{"$f":"IFERROR(VLOOKUP(G3273,DropDowns!$D$2:$E$151,2,FALSE),\"\")","v":""},{"$f":"IFERROR(VLOOKUP(H3273,DropDowns!$F$2:$G$7,2,FALSE),\"Residual categories\")","v":"Residual categories"},null,null,null,0,0,0]
[0,{"$f":"IF(OR(COUNTA(O3244:O3273)>0,COUNTA(O3273:$O$5195)>0),IF(COUNTIF(B3264:B3273,B3273)=10,B3273+7,B3273),\"\")","v":""},"","","",null,null,null,0,0,0,0,{"$f":"IFERROR(VLOOKUP(G3274,DropDowns!$D$2:$E$151,2,FALSE),\"\")","v":""},{"$f":"IFERROR(VLOOKUP(H3274,DropDowns!$F$2:$G$7,2,FALSE),\"Residual categories\")","v":"Residual categories"},null,null,null,0,0,0]
[0,{"$f":"IF(OR(COUNTA(O3246:O3275)>0,COUNTA(O3275:$O$5195)>0),IF(COUNTIF(B3266:B3275,B3275)=10,B3275+7,B3275),\"\")","v":""},"","","",null,null,null,0,0,0,0,{"$f":"IFERROR(VLOOKUP(G3276,DropDowns!$D$2:$E$151,2,FALSE),\"\")","v":""},{"$f":"IFERROR(VLOOKUP(H3276,DropDowns!$F$2:$G$7,2,FALSE),\"Residual categories\")","v":"Residual categories"},null,null,null,0,0,0]
[0,{"$f":"IF(OR(COUNTA(O3247:O3276)>0,COUNTA(O3276:$O$5195)>0),IF(COUNTIF(B3267:B3276,B3276)=10,B3276+7,B3276),\"\")","v":""},"","","",null,null,null,0,0,0,0,{"$f":"IFERROR(VLOOKUP(G3277,DropDowns!$D$2:$E$151,2,FALSE),\"\")","v":""},{"$f":"IFERROR(VLOOKUP(H3277,DropDowns!$F$2:$G$7,2,FALSE),\"Residual categories\")","v":"Residual categories"},null,null,null,0,0,0]
[0,{"$f":"IF(OR(COUNTA(O3248:O3277)>0,COUNTA(O3277:$O$5195)>0),IF(COUNTIF(B3268:B3277,B3277)=10,B3277+7,B3277),\"\")","v":""},"","","",null,null,null,0,0,0,0,{"$f":"IFERROR(VLOOKUP(G3278,DropDowns!$D$2:$E$151,2,FALSE),\"\")","v":""},{"$f":"IFERROR(VLOOKUP(H3278,DropDowns!$F$2:$G$7,2,FALSE),\"Residual categories\")","v":"Residual categories"},null,null,null,0,0,0]
[0,{"$f":"IF(OR(COUNTA(O3249:O3278)>0,COUNTA(O3278:$O$5195)>0),IF(COUNTIF(B3269:B3278,B3278)=10,B3278+7,B3278),\"\")","v":""},"","","",null,null,null,0,0,0,0,{"$f":"IFERROR(VLOOKUP(G3279,DropDowns!$D$2:$E$151,2,FALSE),\"\")","v":""},{"$f":"IFERROR(VLOOKUP(H3279,DropDowns!$F$2:$G$7,2,FALSE),\"Residual categories\")","v":"Residual categories"},null,null,null,0,0,0]
[0,{"$f":"IF(OR(COUNTA(O3251:O3280)>0,COUNTA(O3280:$O$5195)>0),IF(COUNTIF(B3271:B3280,B3280)=10,B3280+7,B3280),\"\")","v":""},"","",{"$f":"IF(B3281=\"\",\"\",COUNTIF(B3272:B3281,B3281))","v":""},null,null,null,0,0,0,0,{"$f":"IFERROR(VLOOKUP(G3281,DropDowns!$D$2:$E$151,2,FALSE),\"\")","v":""},{"$f":"IFERROR(VLOOKUP(H3281,DropDowns!$F$2:$G$7,2,FALSE),\"Residual categories\")","v":"Residual categories"},null,null,null,0,0,0]
[0,{"$f":"IF(OR(COUNTA(O3252:O3281)>0,COUNTA(O3281:$O$5195)>0),IF(COUNTIF(B3272:B3281,B3281)=10,B3281+7,B3281),\"\")","v":""},"","","",null,null,null,0,0,0,0,{"$f":"IFERROR(VLOOKUP(G3282,DropDowns!$D$2:$E$151,2,FALSE),\"\")","v":""},{"$f":"IFERROR(VLOOKUP(H3282,DropDowns!$F$2:$G$7,2,FALSE),\"Residual categories\")","v":"Residual categories"},null,null,null,0,0,0]
[{"$f":"$E$2","v":0},{"$f":"IF(OR(COUNTA(O3254:O3283)>0,COUNTA(O3283:$O$5195)>0),IF(COUNTIF(B3274:B3283,B3283)=10,B3283+7,B3283),\"\")","v":""},"","","",null,null,null,0,0,0,0,{"$f":"IFERROR(VLOOKUP(G3284,DropDowns!$D$2:$E$151,2,FALSE),\"\")","v":""},{"$f":"IFERROR(VLOOKUP(H3284,DropDowns!$F$2:$G$7,2,FALSE),\"Residual categories\")","v":"Residual categories"},null,null,null,0,0,0]
[0,{"$f":"IF(OR(COUNTA(O3255:O3284)>0,COUNTA(O3284:$O$5195)>0),IF(COUNTIF(B3275:B3284,B3284)=10,B3284+7,B3284),\"\")","v":""},"","","",null,null,null,0,0,0,0,{"$f":"IFERROR(VLOOKUP(G3285,DropDowns!$D$2:$E$151,2,FALSE),\"\")","v":""},{"$f":"IFERROR(VLOOKUP(H3285,DropDowns!$F$2:$G$7,2,FALSE),\"Residual categories\")","v":"Residual categories"},null,null,null,0,0,0]
[0,{"$f":"IF(OR(COUNTA(O3256:O3285)>0,COUNTA(O3285:$O$5195)>0),IF(COUNTIF(B3276:B3285,B3285)=10,B3285+7,B3285),\"\")","v":""},"","","",null,null,null,0,0,0,0,{"$f":"IFERROR(VLOOKUP(G3286,DropDowns!$D$2:$E$151,2,FALSE),\"\")","v":""},{"$f":"IFERROR(VLOOKUP(H3286,DropDowns!$F$2:$G$7,2,FALSE),\"Residual categories\")","v":"Residual categories"},null,null,null,0,0,0]
[0,{"$f":"IF(OR(COUNTA(O3257:O3286)>0,COUNTA(O3286:$O$5195)>0),IF(COUNTIF(B3277:B3286,B3286)=10,B3286+7,B3286),\"\")","v":""},"","","",null,null,null,0,0,0,0,{"$f":"IFERROR(VLOOKUP(G3287,DropDowns!$D$2:$E$151,2,FALSE),\"\")","v":""},{"$f":"IFERROR(VLOOKUP(H3287,DropDowns!$F$2:$G$7,2,FALSE),\"Residual categories\")","v":"Residual categories"},null,null,null,0,0,0]
[0,{"$f":"IF(OR(COUNTA(O3259:O3288)>0,COUNTA(O3288:$O$5195)>0),IF(COUNTIF(B3279:B3288,B3288)=10,B3288+7,B3288),\"\")","v":""},"","","",null,null,null,0,0,0,0,{"$f":"IFERROR(VLOOKUP(G3289,DropDowns!$D$2:$E$151,2,FALSE),\"\")","v":""},{"$f":"IFERROR(VLOOKUP(H3289,DropDowns!$F$2:$G$7,2,FALSE),\"Residual categories\")","v":"Residual categories"},null,null,null,0,0,0]
[0,{"$f":"IF(OR(COUNTA(O3260:O3289)>0,COUNTA(O3289:$O$5195)>0),IF(COUNTIF(B3280:B3289,B3289)=10,B3289+7,B3289),\"\")","v":""},"","","",null,null,null,0,0,0,0,{"$f":"IFERROR(VLOOKUP(G3290,DropDowns!$D$2:$E$151,2,FALSE),\"\")","v":""},{"$f":"IFERROR(VLOOKUP(H3290,DropDowns!$F$2:$G$7,2,FALSE),\"Residual categories\")","v":"Residual categories"},null,null,null,0,0,0]
[0,{"$f":"IF(OR(COUNTA(O3262:O3291)>0,COUNTA(O3291:$O$5195)>0),IF(COUNTIF(B3282:B3291,B3291)=10,B3291+7,B3291),\"\")","v":""},"","","",null,null,null,0,0,0,0,{"$f":"IFERROR(VLOOKUP(G3292,DropDowns!$D$2:$E$151,2,FALSE),\"\")","v":""},{"$f":"IFERROR(VLOOKUP(H3292,DropDowns!$F$2:$G$7,2,FALSE),\"Residual categories\")","v":"Residual categories"},null,null,null,0,0,0]
[0,{"$f":"IF(OR(COUNTA(O3263:O3292)>0,COUNTA(O3292:$O$5195)>0),IF(COUNTIF(B3283:B3292,B3292)=10,B3292+7,B3292),\"\")","v":""},"","","",null,null,null,0,0,0,0,{"$f":"IFERROR(VLOOKUP(G3293,DropDowns!$D$2:$E$151,2,FALSE),\"\")","v":""},{"$f":"IFERROR(VLOOKUP(H3293,DropDowns!$F$2:$G$7,2,FALSE),\"Residual categories\")","v":"Residual categories"},null,null,null,0,0,0]
[0,{"$f":"IF(OR(COUNTA(O3264:O3293)>0,COUNTA(O3293:$O$5195)>0),IF(COUNTIF(B3284:B3293,B3293)=10,B3293+7,B3293),\"\")","v":""},"","","",null,null,null,0,0,0,0,{"$f":"IFERROR(VLOOKUP(G3294,DropDowns!$D$2:$E$151,2,FALSE),\"\")","v":""},{"$f":"IFERROR(VLOOKUP(H3294,DropDowns!$F$2:$G$7,2,FALSE),\"Residual categories\")","v":"Residual categories"},null,null,null,0,0,0]
[0,{"$f":"IF(OR(COUNTA(O3265:O3294)>0,COUNTA(O3294:$O$5195)>0),IF(COUNTIF(B3285:B3294,B3294)=10,B3294+7,B3294),\"\")","v":""},"","","",null,null,null,0,0,0,0,{"$f":"IFERROR(VLOOKUP(G3295,DropDowns!$D$2:$E$151,2,FALSE),\"\")","v":""},{"$f":"IFERROR(VLOOKUP(H3295,DropDowns!$F$2:$G$7,2,FALSE),\"Residual categories\")","v":"Residual categories"},null,null,null,0,0,0]
[0,{"$f":"IF(OR(COUNTA(O3267:O3296)>0,COUNTA(O3296:$O$5195)>0),IF(COUNTIF(B3287:B3296,B3296)=10,B3296+7,B3296),\"\")","v":""},"","","",null,null,null,0,0,0,0,{"$f":"IFERROR(VLOOKUP(G3297,DropDowns!$D$2:$E$151,2,FALSE),\"\")","v":""},{"$f":"IFERROR(VLOOKUP(H3297,DropDowns!$F$2:$G$7,2,FALSE),\"Residual categories\")","v":"Residual categories"},null,null,null,0,0,0]
[0,{"$f":"IF(OR(COUNTA(O3268:O3297)>0,COUNTA(O3297:$O$5195)>0),IF(COUNTIF(B3288:B3297,B3297)=10,B3297+7,B3297),\"\")","v":""},"","","",null,null,null,0,0,0,0,{"$f":"IFERROR(VLOOKUP(G3298,DropDowns!$D$2:$E$151,2,FALSE),\"\")","v":""},{"$f":"IFERROR(VLOOKUP(H3298,DropDowns!$F$2:$G$7,2,FALSE),\"Residual categories\")","v":"Residual categories"},null,null,null,0,0,0]
[0,{"$f":"IF(OR(COUNTA(O3270:O3299)>0,COUNTA(O3299:$O$5195)>0),IF(COUNTIF(B3290:B3299,B3299)=10,B3299+7,B3299),\"\")","v":""},"","","",null,null,null,0,0,0,0,{"$f":"IFERROR(VLOOKUP(G3300,DropDowns!$D$2:$E$151,2,FALSE),\"\")","v":""},{"$f":"IFERROR(VLOOKUP(H3300,DropDowns!$F$2:$G$7,2,FALSE),\"Residual categories\")","v":"Residual categories"},null,null,null,0,0,0]
[0,{"$f":"IF(OR(COUNTA(O3271:O3300)>0,COUNTA(O3300:$O$5195)>0),IF(COUNTIF(B3291:B3300,B3300)=10,B3300+7,B3300),\"\")","v":""},"","","",null,null,null,0,0,0,0,{"$f":"IFERROR(VLOOKUP(G3301,DropDowns!$D$2:$E$151,2,FALSE),\"\")","v":""},{"$f":"IFERROR(VLOOKUP(H3301,DropDowns!$F$2:$G$7,2,FALSE),\"Residual categories\")","v":"Residual categories"},null,null,null,0,0,0]
[0,{"$f":"IF(OR(COUNTA(O3273:O3302)>0,COUNTA(O3302:$O$5195)>0),IF(COUNTIF(B3293:B3302,B3302)=10,B3302+7,B3302),\"\")","v":""},"","","",null,null,null,0,0,0,0,{"$f":"IFERROR(VLOOKUP(G3303,DropDowns!$D$2:$E$151,2,FALSE),\"\")","v":""},{"$f":"IFERROR(VLOOKUP(H3303,DropDowns!$F$2:$G$7,2,FALSE),\"Residual categories\")","v":"Residual categories"},null,null,null,0,0,0]
[0,{"$f":"IF(OR(COUNTA(O3274:O3303)>0,COUNTA(O3303:$O$5195)>0),IF(COUNTIF(B3294:B3303,B3303)=10,B3303+7,B3303),\"\")","v":""},"","","",null,null,null,0,0,0,0,{"$f":"IFERROR(VLOOKUP(G3304,DropDowns!$D$2:$E$151,2,FALSE),\"\")","v":""},{"$f":"IFERROR(VLOOKUP(H3304,DropDowns!$F$2:$G$7,2,FALSE),\"Residual categories\")","v":"Residual categories"},null,null,null,0,0,0]
[0,{"$f":"IF(OR(COUNTA(O3275:O3304)>0,COUNTA(O3304:$O$5195)>0),IF(COUNTIF(B3295:B3304,B3304)=10,B3304+7,B3304),\"\")","v":""},"","","",null,null,null,0,0,0,0,{"$f":"IFERROR(VLOOKUP(G3305,DropDowns!$D$2:$E$151,2,FALSE),\"\")","v":""},{"$f":"IFERROR(VLOOKUP(H3305,DropDowns!$F$2:$G$7,2,FALSE),\"Residual categories\")","v":"Residual categories"},null,null,null,0,0,0]
[0,{"$f":"IF(OR(COUNTA(O3276:O3305)>0,COUNTA(O3305:$O$5195)>0),IF(COUNTIF(B3296:B3305,B3305)=10,B3305+7,B3305),\"\")","v":""},"","","",null,null,null,0,0,0,0,{"$f":"IFERROR(VLOOKUP(G3306,DropDowns!$D$2:$E$151,2,FALSE),\"\")","v":""},{"$f":"IFERROR(VLOOKUP(H3306,DropDowns!$F$2:$G$7,2,FALSE),\"Residual categories\")","v":"Residual categories"},null,null,null,0,0,0]
[0,{"$f":"IF(OR(COUNTA(O3278:O3307)>0,COUNTA(O3307:$O$5195)>0),IF(COUNTIF(B3298:B3307,B3307)=10,B3307+7,B3307),\"\")","v":""},"","","",null,null,null,0,0,0,0,{"$f":"IFERROR(VLOOKUP(G3308,DropDowns!$D$2:$E$151,2,FALSE),\"\")","v":""},{"$f":"IFERROR(VLOOKUP(H3308,DropDowns!$F$2:$G$7,2,FALSE),\"Residual categories\")","v":"Residual categories"},null,null,null,0,0,0]
[0,{"$f":"IF(OR(COUNTA(O3279:O3308)>0,COUNTA(O3308:$O$5195)>0),IF(COUNTIF(B3299:B3308,B3308)=10,B3308+7,B3308),\"\")","v":""},"","","",null,null,null,0,0,0,0,{"$f":"IFERROR(VLOOKUP(G3309,DropDowns!$D$2:$E$151,2,FALSE),\"\")","v":""},{"$f":"IFERROR(VLOOKUP(H3309,DropDowns!$F$2:$G$7,2,FALSE),\"Residual categories\")","v":"Residual categories"},null,null,null,0,0,0]
[0,{"$f":"IF(OR(COUNTA(O3281:O3310)>0,COUNTA(O3310:$O$5195)>0),IF(COUNTIF(B3301:B3310,B3310)=10,B3310+7,B3310),\"\")","v":""},"","","",null,null,null,0,0,0,0,{"$f":"IFERROR(VLOOKUP(G3311,DropDowns!$D$2:$E$151,2,FALSE),\"\")","v":""},{"$f":"IFERROR(VLOOKUP(H3311,DropDowns!$F$2:$G$7,2,FALSE),\"Residual categories\")","v":"Residual categories"},null,null,null,0,0,0]
[0,{"$f":"IF(OR(COUNTA(O3282:O3311)>0,COUNTA(O3311:$O$5195)>0),IF(COUNTIF(B3302:B3311,B3311)=10,B3311+7,B3311),\"\")","v":""},"","","",null,null,null,0,0,0,0,{"$f":"IFERROR(VLOOKUP(G3312,DropDowns!$D$2:$E$151,2,FALSE),\"\")","v":""},{"$f":"IFERROR(VLOOKUP(H3312,DropDowns!$F$2:$G$7,2,FALSE),\"Residual categories\")","v":"Residual categories"},null,null,null,0,0,0]
[0,{"$f":"IF(OR(COUNTA(O3283:O3312)>0,COUNTA(O3312:$O$5195)>0),IF(COUNTIF(B3303:B3312,B3312)=10,B3312+7,B3312),\"\")","v":""},"","","",null,null,null,0,0,0,0,{"$f":"IFERROR(VLOOKUP(G3313,DropDowns!$D$2:$E$151,2,FALSE),\"\")","v":""},{"$f":"IFERROR(VLOOKUP(H3313,DropDowns!$F$2:$G$7,2,FALSE),\"Residual categories\")","v":"Residual categories"},null,null,null,0,0,0]
[0,{"$f":"IF(OR(COUNTA(O3284:O3313)>0,COUNTA(O3313:$O$5195)>0),IF(COUNTIF(B3304:B3313,B3313)=10,B3313+7,B3313),\"\")","v":""},"","","",null,null,null,0,0,0,0,{"$f":"IFERROR(VLOOKUP(G3314,DropDowns!$D$2:$E$151,2,FALSE),\"\")","v":""},{"$f":"IFERROR(VLOOKUP(H3314,DropDowns!$F$2:$G$7,2,FALSE),\"Residual categories\")","v":"Residual categories"},null,null,null,0,0,0]
[0,{"$f":"IF(OR(COUNTA(O3286:O3315)>0,COUNTA(O3315:$O$5195)>0),IF(COUNTIF(B3306:B3315,B3315)=10,B3315+7,B3315),\"\")","v":""},"","","",null,null,null,0,0,0,0,{"$f":"IFERROR(VLOOKUP(G3316,DropDowns!$D$2:$E$151,2,FALSE),\"\")","v":""},{"$f":"IFERROR(VLOOKUP(H3316,DropDowns!$F$2:$G$7,2,FALSE),\"Residual categories\")","v":"Residual categories"},null,null,null,0,0,0]
[0,{"$f":"IF(OR(COUNTA(O3287:O3316)>0,COUNTA(O3316:$O$5195)>0),IF(COUNTIF(B3307:B3316,B3316)=10,B3316+7,B3316),\"\")","v":""},"","","",null,null,null,0,0,0,0,{"$f":"IFERROR(VLOOKUP(G3317,DropDowns!$D$2:$E$151,2,FALSE),\"\")","v":""},{"$f":"IFERROR(VLOOKUP(H3317,DropDowns!$F$2:$G$7,2,FALSE),\"Residual categories\")","v":"Residual categories"},null,null,null,0,0,0]
[0,{"$f":"IF(OR(COUNTA(O3289:O3318)>0,COUNTA(O3318:$O$5195)>0),IF(COUNTIF(B3309:B3318,B3318)=10,B3318+7,B3318),\"\")","v":""},"","","",null,null,null,0,0,0,0,{"$f":"IFERROR(VLOOKUP(G3319,DropDowns!$D$2:$E$151,2,FALSE),\"\")","v":""},{"$f":"IFERROR(VLOOKUP(H3319,DropDowns!$F$2:$G$7,2,FALSE),\"Residual categories\")","v":"Residual categories"},null,null,null,0,0,0]
[0,{"$f":"IF(OR(COUNTA(O3290:O3319)>0,COUNTA(O3319:$O$5195)>0),IF(COUNTIF(B3310:B3319,B3319)=10,B3319+7,B3319),\"\")","v":""},"","","",null,null,null,0,0,0,0,{"$f":"IFERROR(VLOOKUP(G3320,DropDowns!$D$2:$E$151,2,FALSE),\"\")","v":""},{"$f":"IFERROR(VLOOKUP(H3320,DropDowns!$F$2:$G$7,2,FALSE),\"Residual categories\")","v":"Residual categories"},null,null,null,0,0,0]
[0,{"$f":"IF(OR(COUNTA(O3291:O3320)>0,COUNTA(O3320:$O$5195)>0),IF(COUNTIF(B3311:B3320,B3320)=10,B3320+7,B3320),\"\")","v":""},"","","",null,null,null,0,0,0,0,{"$f":"IFERROR(VLOOKUP(G3321,DropDowns!$D$2:$E$151,2,FALSE),\"\")","v":""},{"$f":"IFERROR(VLOOKUP(H3321,DropDowns!$F$2:$G$7,2,FALSE),\"Residual categories\")","v":"Residual categories"},null,null,null,0,0,0]
[0,{"$f":"IF(OR(COUNTA(O3292:O3321)>0,COUNTA(O3321:$O$5195)>0),IF(COUNTIF(B3312:B3321,B3321)=10,B3321+7,B3321),\"\")","v":""},"","","",null,null,null,0,0,0,0,{"$f":"IFERROR(VLOOKUP(G3322,DropDowns!$D$2:$E$151,2,FALSE),\"\")","v":""},{"$f":"IFERROR(VLOOKUP(H3322,DropDowns!$F$2:$G$7,2,FALSE),\"Residual categories\")","v":"Residual categories"},null,null,null,0,0,0]
[0,{"$f":"IF(OR(COUNTA(O3294:O3323)>0,COUNTA(O3323:$O$5195)>0),IF(COUNTIF(B3314:B3323,B3323)=10,B3323+7,B3323),\"\")","v":""},"","","",null,null,null,0,0,0,0,{"$f":"IFERROR(VLOOKUP(G3324,DropDowns!$D$2:$E$151,2,FALSE),\"\")","v":""},{"$f":"IFERROR(VLOOKUP(H3324,DropDowns!$F$2:$G$7,2,FALSE),\"Residual categories\")","v":"Residual categories"},null,null,null,0,0,0]
[0,{"$f":"IF(OR(COUNTA(O3295:O3324)>0,COUNTA(O3324:$O$5195)>0),IF(COUNTIF(B3315:B3324,B3324)=10,B3324+7,B3324),\"\")","v":""},"","","",null,null,null,0,0,0,0,{"$f":"IFERROR(VLOOKUP(G3325,DropDowns!$D$2:$E$151,2,FALSE),\"\")","v":""},{"$f":"IFERROR(VLOOKUP(H3325,DropDowns!$F$2:$G$7,2,FALSE),\"Residual categories\")","v":"Residual categories"},null,null,null,0,0,0]
[0,{"$f":"IF(OR(COUNTA(O3297:O3326)>0,COUNTA(O3326:$O$5195)>0),IF(COUNTIF(B3317:B3326,B3326)=10,B3326+7,B3326),\"\")","v":""},"","","",null,null,null,0,0,0,0,{"$f":"IFERROR(VLOOKUP(G3327,DropDowns!$D$2:$E$151,2,FALSE),\"\")","v":""},{"$f":"IFERROR(VLOOKUP(H3327,DropDowns!$F$2:$G$7,2,FALSE),\"Residual categories\")","v":"Residual categories"},null,null,null,0,0,0]
[0,{"$f":"IF(OR(COUNTA(O3298:O3327)>0,COUNTA(O3327:$O$5195)>0),IF(COUNTIF(B3318:B3327,B3327)=10,B3327+7,B3327),\"\")","v":""},"","","",null,null,null,0,0,0,0,{"$f":"IFERROR(VLOOKUP(G3328,DropDowns!$D$2:$E$151,2,FALSE),\"\")","v":""},{"$f":"IFERROR(VLOOKUP(H3328,DropDowns!$F$2:$G$7,2,FALSE),\"Residual categories\")","v":"Residual categories"},null,null,null,0,0,0]
[0,{"$f":"IF(OR(COUNTA(O3299:O3328)>0,COUNTA(O3328:$O$5195)>0),IF(COUNTIF(B3319:B3328,B3328)=10,B3328+7,B3328),\"\")","v":""},"","","",null,null,null,0,0,0,0,{"$f":"IFERROR(VLOOKUP(G3329,DropDowns!$D$2:$E$151,2,FALSE),\"\")","v":""},{"$f":"IFERROR(VLOOKUP(H3329,DropDowns!$F$2:$G$7,2,FALSE),\"Residual categories\")","v":"Residual categories"},null,null,null,0,0,0]
[0,{"$f":"IF(OR(COUNTA(O3300:O3329)>0,COUNTA(O3329:$O$5195)>0),IF(COUNTIF(B3320:B3329,B3329)=10,B3329+7,B3329),\"\")","v":""},"","","",null,null,null,0,0,0,0,{"$f":"IFERROR(VLOOKUP(G3330,DropDowns!$D$2:$E$151,2,FALSE),\"\")","v":""},{"$f":"IFERROR(VLOOKUP(H3330,DropDowns!$F$2:$G$7,2,FALSE),\"Residual categories\")","v":"Residual categories"},null,null,null,0,0,0]
[0,{"$f":"IF(OR(COUNTA(O3302:O3331)>0,COUNTA(O3331:$O$5195)>0),IF(COUNTIF(B3322:B3331,B3331)=10,B3331+7,B3331),\"\")","v":""},"","","",null,null,null,0,0,0,0,{"$f":"IFERROR(VLOOKUP(G3332,DropDowns!$D$2:$E$151,2,FALSE),\"\")","v":""},{"$f":"IFERROR(VLOOKUP(H3332,DropDowns!$F$2:$G$7,2,FALSE),\"Residual categories\")","v":"Residual categories"},null,null,null,0,0,0]
[0,{"$f":"IF(OR(COUNTA(O3303:O3332)>0,COUNTA(O3332:$O$5195)>0),IF(COUNTIF(B3323:B3332,B3332)=10,B3332+7,B3332),\"\")","v":""},"","","",null,null,null,0,0,0,0,{"$f":"IFERROR(VLOOKUP(G3333,DropDowns!$D$2:$E$151,2,FALSE),\"\")","v":""},{"$f":"IFERROR(VLOOKUP(H3333,DropDowns!$F$2:$G$7,2,FALSE),\"Residual categories\")","v":"Residual categories"},null,null,null,0,0,0]
[0,{"$f":"IF(OR(COUNTA(O3305:O3334)>0,COUNTA(O3334:$O$5195)>0),IF(COUNTIF(B3325:B3334,B3334)=10,B3334+7,B3334),\"\")","v":""},{"$f":"IF(D3335=1,A3335,\"\")","v":""},"","",null,null,null,{"$f":"IF(COUNTA(O3335:Q3335)>0,1,0)","v":0},{"$f":"IF(O3335=\"y\",1,0)","v":0},{"$f":"IF(P3335=\"y\",1,0)","v":0},{"$f":"IF(Q3335=\"y\",1,0)","v":0},{"$f":"IFERROR(VLOOKUP(G3335,DropDowns!$D$2:$E$151,2,FALSE),\"\")","v":""},{"$f":"IFERROR(VLOOKUP(H3335,DropDowns!$F$2:$G$7,2,FALSE),\"Residual categories\")","v":"Residual categories"},null,null,null,{"$f":"IF(O3335=\"yes\",1,0)","v":0},{"$f":"IF(P3335=\"yes\",1,0)","v":0},{"$f":"IF(Q3335=\"yes\",1,0)","v":0}]
[0,{"$f":"IF(OR(COUNTA(O3306:O3335)>0,COUNTA(O3335:$O$5195)>0),IF(COUNTIF(B3326:B3335,B3335)=10,B3335+7,B3335),\"\")","v":""},"","","",null,null,null,0,0,0,0,{"$f":"IFERROR(VLOOKUP(G3336,DropDowns!$D$2:$E$151,2,FALSE),\"\")","v":""},{"$f":"IFERROR(VLOOKUP(H3336,DropDowns!$F$2:$G$7,2,FALSE),\"Residual categories\")","v":"Residual categories"},null,null,null,0,0,0]
[0,{"$f":"IF(OR(COUNTA(O3308:O3337)>0,COUNTA(O3337:$O$5195)>0),IF(COUNTIF(B3328:B3337,B3337)=10,B3337+7,B3337),\"\")","v":""},"","","",null,null,null,0,0,0,0,{"$f":"IFERROR(VLOOKUP(G3338,DropDowns!$D$2:$E$151,2,FALSE),\"\")","v":""},{"$f":"IFERROR(VLOOKUP(H3338,DropDowns!$F$2:$G$7,2,FALSE),\"Residual categories\")","v":"Residual categories"},null,null,null,0,0,0]
[0,{"$f":"IF(OR(COUNTA(O3309:O3338)>0,COUNTA(O3338:$O$5195)>0),IF(COUNTIF(B3329:B3338,B3338)=10,B3338+7,B3338),\"\")","v":""},"","","",null,null,null,0,0,0,0,{"$f":"IFERROR(VLOOKUP(G3339,DropDowns!$D$2:$E$151,2,FALSE),\"\")","v":""},{"$f":"IFERROR(VLOOKUP(H3339,DropDowns!$F$2:$G$7,2,FALSE),\"Residual categories\")","v":"Residual categories"},null,null,null,0,0,0]
[0,{"$f":"IF(OR(COUNTA(O3310:O3339)>0,COUNTA(O3339:$O$5195)>0),IF(COUNTIF(B3330:B3339,B3339)=10,B3339+7,B3339),\"\")","v":""},"","","",null,null,null,0,0,0,0,{"$f":"IFERROR(VLOOKUP(G3340,DropDowns!$D$2:$E$151,2,FALSE),\"\")","v":""},{"$f":"IFERROR(VLOOKUP(H3340,DropDowns!$F$2:$G$7,2,FALSE),\"Residual categories\")","v":"Residual categories"},null,null,null,0,0,0]
[0,{"$f":"IF(OR(COUNTA(O3311:O3340)>0,COUNTA(O3340:$O$5195)>0),IF(COUNTIF(B3331:B3340,B3340)=10,B3340+7,B3340),\"\")","v":""},"","","",null,null,null,0,0,0,0,{"$f":"IFERROR(VLOOKUP(G3341,DropDowns!$D$2:$E$151,2,FALSE),\"\")","v":""},{"$f":"IFERROR(VLOOKUP(H3341,DropDowns!$F$2:$G$7,2,FALSE),\"Residual categories\")","v":"Residual categories"},null,null,null,0,0,0]
[0,{"$f":"IF(OR(COUNTA(O3313:O3342)>0,COUNTA(O3342:$O$5195)>0),IF(COUNTIF(B3333:B3342,B3342)=10,B3342+7,B3342),\"\")","v":""},"","","",null,null,null,0,0,0,0,{"$f":"IFERROR(VLOOKUP(G3343,DropDowns!$D$2:$E$151,2,FALSE),\"\")","v":""},{"$f":"IFERROR(VLOOKUP(H3343,DropDowns!$F$2:$G$7,2,FALSE),\"Residual categories\")","v":"Residual categories"},null,null,null,0,0,0]
[0,{"$f":"IF(OR(COUNTA(O3314:O3343)>0,COUNTA(O3343:$O$5195)>0),IF(COUNTIF(B3334:B3343,B3343)=10,B3343+7,B3343),\"\")","v":""},"","","",null,null,null,0,0,0,0,{"$f":"IFERROR(VLOOKUP(G3344,DropDowns!$D$2:$E$151,2,FALSE),\"\")","v":""},{"$f":"IFERROR(VLOOKUP(H3344,DropDowns!$F$2:$G$7,2,FALSE),\"Residual categories\")","v":"Residual categories"},null,null,null,0,0,0]
[0,{"$f":"IF(OR(COUNTA(O3316:O3345)>0,COUNTA(O3345:$O$5195)>0),IF(COUNTIF(B3336:B3345,B3345)=10,B3345+7,B3345),\"\")","v":""},"","","",null,null,null,0,0,0,0,{"$f":"IFERROR(VLOOKUP(G3346,DropDowns!$D$2:$E$151,2,FALSE),\"\")","v":""},{"$f":"IFERROR(VLOOKUP(H3346,DropDowns!$F$2:$G$7,2,FALSE),\"Residual categories\")","v":"Residual categories"},null,null,null,0,0,0]
[0,{"$f":"IF(OR(COUNTA(O3317:O3346)>0,COUNTA(O3346:$O$5195)>0),IF(COUNTIF(B3337:B3346,B3346)=10,B3346+7,B3346),\"\")","v":""},"","","",null,null,null,0,0,0,0,{"$f":"IFERROR(VLOOKUP(G3347,DropDowns!$D$2:$E$151,2,FALSE),\"\")","v":""},{"$f":"IFERROR(VLOOKUP(H3347,DropDowns!$F$2:$G$7,2,FALSE),\"Residual categories\")","v":"Residual categories"},null,null,null,0,0,0]
[{"$f":"$E$2","v":0},{"$f":"IF(OR(COUNTA(O3318:O3347)>0,COUNTA(O3347:$O$5195)>0),IF(COUNTIF(B3338:B3347,B3347)=10,B3347+7,B3347),\"\")","v":""},"","","",null,null,null,0,0,0,0,{"$f":"IFERROR(VLOOKUP(G3348,DropDowns!$D$2:$E$151,2,FALSE),\"\")","v":""},{"$f":"IFERROR(VLOOKUP(H3348,DropDowns!$F$2:$G$7,2,FALSE),\"Residual categories\")","v":"Residual categories"},null,null,null,0,0,0]
[0,{"$f":"IF(OR(COUNTA(O3319:O3348)>0,COUNTA(O3348:$O$5195)>0),IF(COUNTIF(B3339:B3348,B3348)=10,B3348+7,B3348),\"\")","v":""},"","","",null,null,null,0,0,0,0,{"$f":"IFERROR(VLOOKUP(G3349,DropDowns!$D$2:$E$151,2,FALSE),\"\")","v":""},{"$f":"IFERROR(VLOOKUP(H3349,DropDowns!$F$2:$G$7,2,FALSE),\"Residual categories\")","v":"Residual categories"},null,null,null,0,0,0]
[0,{"$f":"IF(OR(COUNTA(O3321:O3350)>0,COUNTA(O3350:$O$5195)>0),IF(COUNTIF(B3341:B3350,B3350)=10,B3350+7,B3350),\"\")","v":""},"","","",null,null,null,0,0,0,0,{"$f":"IFERROR(VLOOKUP(G3351,DropDowns!$D$2:$E$151,2,FALSE),\"\")","v":""},{"$f":"IFERROR(VLOOKUP(H3351,DropDowns!$F$2:$G$7,2,FALSE),\"Residual categories\")","v":"Residual categories"},null,null,null,0,0,0]
[0,{"$f":"IF(OR(COUNTA(O3322:O3351)>0,COUNTA(O3351:$O$5195)>0),IF(COUNTIF(B3342:B3351,B3351)=10,B3351+7,B3351),\"\")","v":""},"","","",null,null,null,0,0,0,0,{"$f":"IFERROR(VLOOKUP(G3352,DropDowns!$D$2:$E$151,2,FALSE),\"\")","v":""},{"$f":"IFERROR(VLOOKUP(H3352,DropDowns!$F$2:$G$7,2,FALSE),\"Residual categories\")","v":"Residual categories"},null,null,null,0,0,0]
[0,{"$f":"IF(OR(COUNTA(O3324:O3353)>0,COUNTA(O3353:$O$5195)>0),IF(COUNTIF(B3344:B3353,B3353)=10,B3353+7,B3353),\"\")","v":""},"","","",null,null,null,0,0,0,0,{"$f":"IFERROR(VLOOKUP(G3354,DropDowns!$D$2:$E$151,2,FALSE),\"\")","v":""},{"$f":"IFERROR(VLOOKUP(H3354,DropDowns!$F$2:$G$7,2,FALSE),\"Residual categories\")","v":"Residual categories"},null,null,null,0,0,0]
[0,{"$f":"IF(OR(COUNTA(O3325:O3354)>0,COUNTA(O3354:$O$5195)>0),IF(COUNTIF(B3345:B3354,B3354)=10,B3354+7,B3354),\"\")","v":""},"","","",null,null,null,0,0,0,0,{"$f":"IFERROR(VLOOKUP(G3355,DropDowns!$D$2:$E$151,2,FALSE),\"\")","v":""},{"$f":"IFERROR(VLOOKUP(H3355,DropDowns!$F$2:$G$7,2,FALSE),\"Residual categories\")","v":"Residual categories"},null,null,null,0,0,0]
[0,{"$f":"IF(OR(COUNTA(O3326:O3355)>0,COUNTA(O3355:$O$5195)>0),IF(COUNTIF(B3346:B3355,B3355)=10,B3355+7,B3355),\"\")","v":""},"","","",null,null,null,0,0,0,0,{"$f":"IFERROR(VLOOKUP(G3356,DropDowns!$D$2:$E$151,2,FALSE),\"\")","v":""},{"$f":"IFERROR(VLOOKUP(H3356,DropDowns!$F$2:$G$7,2,FALSE),\"Residual categories\")","v":"Residual categories"},null,null,null,0,0,0]
[0,{"$f":"IF(OR(COUNTA(O3327:O3356)>0,COUNTA(O3356:$O$5195)>0),IF(COUNTIF(B3347:B3356,B3356)=10,B3356+7,B3356),\"\")","v":""},"","","",null,null,null,0,0,0,0,{"$f":"IFERROR(VLOOKUP(G3357,DropDowns!$D$2:$E$151,2,FALSE),\"\")","v":""},{"$f":"IFERROR(VLOOKUP(H3357,DropDowns!$F$2:$G$7,2,FALSE),\"Residual categories\")","v":"Residual categories"},null,null,null,0,0,0]
[0,{"$f":"IF(OR(COUNTA(O3329:O3358)>0,COUNTA(O3358:$O$5195)>0),IF(COUNTIF(B3349:B3358,B3358)=10,B3358+7,B3358),\"\")","v":""},"","","",null,null,null,0,0,0,0,{"$f":"IFERROR(VLOOKUP(G3359,DropDowns!$D$2:$E$151,2,FALSE),\"\")","v":""},{"$f":"IFERROR(VLOOKUP(H3359,DropDowns!$F$2:$G$7,2,FALSE),\"Residual categories\")","v":"Residual categories"},null,null,null,0,0,0]
[0,{"$f":"IF(OR(COUNTA(O3330:O3359)>0,COUNTA(O3359:$O$5195)>0),IF(COUNTIF(B3350:B3359,B3359)=10,B3359+7,B3359),\"\")","v":""},"","","",null,null,null,0,0,0,0,{"$f":"IFERROR(VLOOKUP(G3360,DropDowns!$D$2:$E$151,2,FALSE),\"\")","v":""},{"$f":"IFERROR(VLOOKUP(H3360,DropDowns!$F$2:$G$7,2,FALSE),\"Residual categories\")","v":"Residual categories"},null,null,null,0,0,0]
[0,{"$f":"IF(OR(COUNTA(O3332:O3361)>0,COUNTA(O3361:$O$5195)>0),IF(COUNTIF(B3352:B3361,B3361)=10,B3361+7,B3361),\"\")","v":""},"","","",null,null,null,0,0,0,0,{"$f":"IFERROR(VLOOKUP(G3362,DropDowns!$D$2:$E$151,2,FALSE),\"\")","v":""},{"$f":"IFERROR(VLOOKUP(H3362,DropDowns!$F$2:$G$7,2,FALSE),\"Residual categories\")","v":"Residual categories"},null,null,null,0,0,0]
[0,{"$f":"IF(OR(COUNTA(O3333:O3362)>0,COUNTA(O3362:$O$5195)>0),IF(COUNTIF(B3353:B3362,B3362)=10,B3362+7,B3362),\"\")","v":""},"","","",null,null,null,0,0,0,0,{"$f":"IFERROR(VLOOKUP(G3363,DropDowns!$D$2:$E$151,2,FALSE),\"\")","v":""},{"$f":"IFERROR(VLOOKUP(H3363,DropDowns!$F$2:$G$7,2,FALSE),\"Residual categories\")","v":"Residual categories"},null,null,null,0,0,0]
[0,{"$f":"IF(OR(COUNTA(O3335:O3364)>0,COUNTA(O3364:$O$5195)>0),IF(COUNTIF(B3355:B3364,B3364)=10,B3364+7,B3364),\"\")","v":""},"","","",null,null,null,0,0,0,0,{"$f":"IFERROR(VLOOKUP(G3365,DropDowns!$D$2:$E$151,2,FALSE),\"\")","v":""},{"$f":"IFERROR(VLOOKUP(H3365,DropDowns!$F$2:$G$7,2,FALSE),\"Residual categories\")","v":"Residual categories"},null,null,null,0,0,0]
[0,{"$f":"IF(OR(COUNTA(O3336:O3365)>0,COUNTA(O3365:$O$5195)>0),IF(COUNTIF(B3356:B3365,B3365)=10,B3365+7,B3365),\"\")","v":""},"","","",null,null,null,0,0,0,0,{"$f":"IFERROR(VLOOKUP(G3366,DropDowns!$D$2:$E$151,2,FALSE),\"\")","v":""},{"$f":"IFERROR(VLOOKUP(H3366,DropDowns!$F$2:$G$7,2,FALSE),\"Residual categories\")","v":"Residual categories"},null,null,null,0,0,0]
[0,{"$f":"IF(OR(COUNTA(O3337:O3366)>0,COUNTA(O3366:$O$5195)>0),IF(COUNTIF(B3357:B3366,B3366)=10,B3366+7,B3366),\"\")","v":""},"","","",null,null,null,0,0,0,0,{"$f":"IFERROR(VLOOKUP(G3367,DropDowns!$D$2:$E$151,2,FALSE),\"\")","v":""},{"$f":"IFERROR(VLOOKUP(H3367,DropDowns!$F$2:$G$7,2,FALSE),\"Residual categories\")","v":"Residual categories"},null,null,null,0,0,0]
[0,{"$f":"IF(OR(COUNTA(O3338:O3367)>0,COUNTA(O3367:$O$5195)>0),IF(COUNTIF(B3358:B3367,B3367)=10,B3367+7,B3367),\"\")","v":""},"","","",null,null,null,0,0,0,0,{"$f":"IFERROR(VLOOKUP(G3368,DropDowns!$D$2:$E$151,2,FALSE),\"\")","v":""},{"$f":"IFERROR(VLOOKUP(H3368,DropDowns!$F$2:$G$7,2,FALSE),\"Residual categories\")","v":"Residual categories"},null,null,null,0,0,0]
[0,{"$f":"IF(OR(COUNTA(O3340:O3369)>0,COUNTA(O3369:$O$5195)>0),IF(COUNTIF(B3360:B3369,B3369)=10,B3369+7,B3369),\"\")","v":""},"","","",null,null,null,0,0,0,0,{"$f":"IFERROR(VLOOKUP(G3370,DropDowns!$D$2:$E$151,2,FALSE),\"\")","v":""},{"$f":"IFERROR(VLOOKUP(H3370,DropDowns!$F$2:$G$7,2,FALSE),\"Residual categories\")","v":"Residual categories"},null,null,null,0,0,0]
[0,{"$f":"IF(OR(COUNTA(O3341:O3370)>0,COUNTA(O3370:$O$5195)>0),IF(COUNTIF(B3361:B3370,B3370)=10,B3370+7,B3370),\"\")","v":""},"","","",null,null,null,0,0,0,0,{"$f":"IFERROR(VLOOKUP(G3371,DropDowns!$D$2:$E$151,2,FALSE),\"\")","v":""},{"$f":"IFERROR(VLOOKUP(H3371,DropDowns!$F$2:$G$7,2,FALSE),\"Residual categories\")","v":"Residual categories"},null,null,null,0,0,0]
[0,{"$f":"IF(OR(COUNTA(O3343:O3372)>0,COUNTA(O3372:$O$5195)>0),IF(COUNTIF(B3363:B3372,B3372)=10,B3372+7,B3372),\"\")","v":""},"","","",null,null,null,0,0,0,0,{"$f":"IFERROR(VLOOKUP(G3373,DropDowns!$D$2:$E$151,2,FALSE),\"\")","v":""},{"$f":"IFERROR(VLOOKUP(H3373,DropDowns!$F$2:$G$7,2,FALSE),\"Residual categories\")","v":"Residual categories"},null,null,null,0,0,0]
[0,{"$f":"IF(OR(COUNTA(O3344:O3373)>0,COUNTA(O3373:$O$5195)>0),IF(COUNTIF(B3364:B3373,B3373)=10,B3373+7,B3373),\"\")","v":""},"","","",null,null,null,0,0,0,0,{"$f":"IFERROR(VLOOKUP(G3374,DropDowns!$D$2:$E$151,2,FALSE),\"\")","v":""},{"$f":"IFERROR(VLOOKUP(H3374,DropDowns!$F$2:$G$7,2,FALSE),\"Residual categories\")","v":"Residual categories"},null,null,null,0,0,0]
[0,{"$f":"IF(OR(COUNTA(O3345:O3374)>0,COUNTA(O3374:$O$5195)>0),IF(COUNTIF(B3365:B3374,B3374)=10,B3374+7,B3374),\"\")","v":""},"","","",null,null,null,0,0,0,0,{"$f":"IFERROR(VLOOKUP(G3375,DropDowns!$D$2:$E$151,2,FALSE),\"\")","v":""},{"$f":"IFERROR(VLOOKUP(H3375,DropDowns!$F$2:$G$7,2,FALSE),\"Residual categories\")","v":"Residual categories"},null,null,null,0,0,0]
[0,{"$f":"IF(OR(COUNTA(O3346:O3375)>0,COUNTA(O3375:$O$5195)>0),IF(COUNTIF(B3366:B3375,B3375)=10,B3375+7,B3375),\"\")","v":""},"","","",null,null,null,0,0,0,0,{"$f":"IFERROR(VLOOKUP(G3376,DropDowns!$D$2:$E$151,2,FALSE),\"\")","v":""},{"$f":"IFERROR(VLOOKUP(H3376,DropDowns!$F$2:$G$7,2,FALSE),\"Residual categories\")","v":"Residual categories"},null,null,null,0,0,0]
[0,{"$f":"IF(OR(COUNTA(O3348:O3377)>0,COUNTA(O3377:$O$5195)>0),IF(COUNTIF(B3368:B3377,B3377)=10,B3377+7,B3377),\"\")","v":""},"","","",null,null,null,0,0,0,0,{"$f":"IFERROR(VLOOKUP(G3378,DropDowns!$D$2:$E$151,2,FALSE),\"\")","v":""},{"$f":"IFERROR(VLOOKUP(H3378,DropDowns!$F$2:$G$7,2,FALSE),\"Residual categories\")","v":"Residual categories"},null,null,null,0,0,0]
[0,{"$f":"IF(OR(COUNTA(O3349:O3378)>0,COUNTA(O3378:$O$5195)>0),IF(COUNTIF(B3369:B3378,B3378)=10,B3378+7,B3378),\"\")","v":""},"","","",null,null,null,0,0,0,0,{"$f":"IFERROR(VLOOKUP(G3379,DropDowns!$D$2:$E$151,2,FALSE),\"\")","v":""},{"$f":"IFERROR(VLOOKUP(H3379,DropDowns!$F$2:$G$7,2,FALSE),\"Residual categories\")","v":"Residual categories"},null,null,null,0,0,0]
[0,{"$f":"IF(OR(COUNTA(O3351:O3380)>0,COUNTA(O3380:$O$5195)>0),IF(COUNTIF(B3371:B3380,B3380)=10,B3380+7,B3380),\"\")","v":""},"","","",null,null,null,0,0,0,0,{"$f":"IFERROR(VLOOKUP(G3381,DropDowns!$D$2:$E$151,2,FALSE),\"\")","v":""},{"$f":"IFERROR(VLOOKUP(H3381,DropDowns!$F$2:$G$7,2,FALSE),\"Residual categories\")","v":"Residual categories"},null,null,null,0,0,0]
[0,{"$f":"IF(OR(COUNTA(O3352:O3381)>0,COUNTA(O3381:$O$5195)>0),IF(COUNTIF(B3372:B3381,B3381)=10,B3381+7,B3381),\"\")","v":""},"","","",null,null,null,0,0,0,0,{"$f":"IFERROR(VLOOKUP(G3382,DropDowns!$D$2:$E$151,2,FALSE),\"\")","v":""},{"$f":"IFERROR(VLOOKUP(H3382,DropDowns!$F$2:$G$7,2,FALSE),\"Residual categories\")","v":"Residual categories"},null,null,null,0,0,0]
[0,{"$f":"IF(OR(COUNTA(O3353:O3382)>0,COUNTA(O3382:$O$5195)>0),IF(COUNTIF(B3373:B3382,B3382)=10,B3382+7,B3382),\"\")","v":""},"","","",null,null,null,0,0,0,0,{"$f":"IFERROR(VLOOKUP(G3383,DropDowns!$D$2:$E$151,2,FALSE),\"\")","v":""},{"$f":"IFERROR(VLOOKUP(H3383,DropDowns!$F$2:$G$7,2,FALSE),\"Residual categories\")","v":"Residual categories"},null,null,null,0,0,0]
[0,{"$f":"IF(OR(COUNTA(O3354:O3383)>0,COUNTA(O3383:$O$5195)>0),IF(COUNTIF(B3374:B3383,B3383)=10,B3383+7,B3383),\"\")","v":""},"","","",null,null,null,0,0,0,0,{"$f":"IFERROR(VLOOKUP(G3384,DropDowns!$D$2:$E$151,2,FALSE),\"\")","v":""},{"$f":"IFERROR(VLOOKUP(H3384,DropDowns!$F$2:$G$7,2,FALSE),\"Residual categories\")","v":"Residual categories"},null,null,null,0,0,0]
[0,{"$f":"IF(OR(COUNTA(O3356:O3385)>0,COUNTA(O3385:$O$5195)>0),IF(COUNTIF(B3376:B3385,B3385)=10,B3385+7,B3385),\"\")","v":""},"","","",null,null,null,0,0,0,0,{"$f":"IFERROR(VLOOKUP(G3386,DropDowns!$D$2:$E$151,2,FALSE),\"\")","v":""},{"$f":"IFERROR(VLOOKUP(H3386,DropDowns!$F$2:$G$7,2,FALSE),\"Residual categories\")","v":"Residual categories"},null,null,null,0,0,0]
[0,{"$f":"IF(OR(COUNTA(O3357:O3386)>0,COUNTA(O3386:$O$5195)>0),IF(COUNTIF(B3377:B3386,B3386)=10,B3386+7,B3386),\"\")","v":""},"","","",null,null,null,0,0,0,0,{"$f":"IFERROR(VLOOKUP(G3387,DropDowns!$D$2:$E$151,2,FALSE),\"\")","v":""},{"$f":"IFERROR(VLOOKUP(H3387,DropDowns!$F$2:$G$7,2,FALSE),\"Residual categories\")","v":"Residual categories"},null,null,null,0,0,0]
[0,{"$f":"IF(OR(COUNTA(O3359:O3388)>0,COUNTA(O3388:$O$5195)>0),IF(COUNTIF(B3379:B3388,B3388)=10,B3388+7,B3388),\"\")","v":""},"","","",null,null,null,0,0,0,0,{"$f":"IFERROR(VLOOKUP(G3389,DropDowns!$D$2:$E$151,2,FALSE),\"\")","v":""},{"$f":"IFERROR(VLOOKUP(H3389,DropDowns!$F$2:$G$7,2,FALSE),\"Residual categories\")","v":"Residual categories"},null,null,null,0,0,0]
[0,{"$f":"IF(OR(COUNTA(O3360:O3389)>0,COUNTA(O3389:$O$5195)>0),IF(COUNTIF(B3380:B3389,B3389)=10,B3389+7,B3389),\"\")","v":""},"","","",null,null,null,0,0,0,0,{"$f":"IFERROR(VLOOKUP(G3390,DropDowns!$D$2:$E$151,2,FALSE),\"\")","v":""},{"$f":"IFERROR(VLOOKUP(H3390,DropDowns!$F$2:$G$7,2,FALSE),\"Residual categories\")","v":"Residual categories"},null,null,null,0,0,0]
[0,{"$f":"IF(OR(COUNTA(O3361:O3390)>0,COUNTA(O3390:$O$5195)>0),IF(COUNTIF(B3381:B3390,B3390)=10,B3390+7,B3390),\"\")","v":""},"","","",null,null,null,0,0,0,0,{"$f":"IFERROR(VLOOKUP(G3391,DropDowns!$D$2:$E$151,2,FALSE),\"\")","v":""},{"$f":"IFERROR(VLOOKUP(H3391,DropDowns!$F$2:$G$7,2,FALSE),\"Residual categories\")","v":"Residual categories"},null,null,null,0,0,0]
[0,{"$f":"IF(OR(COUNTA(O3362:O3391)>0,COUNTA(O3391:$O$5195)>0),IF(COUNTIF(B3382:B3391,B3391)=10,B3391+7,B3391),\"\")","v":""},"","","",null,null,null,0,0,0,0,{"$f":"IFERROR(VLOOKUP(G3392,DropDowns!$D$2:$E$151,2,FALSE),\"\")","v":""},{"$f":"IFERROR(VLOOKUP(H3392,DropDowns!$F$2:$G$7,2,FALSE),\"Residual categories\")","v":"Residual categories"},null,null,null,0,0,0]
[0,{"$f":"IF(OR(COUNTA(O3364:O3393)>0,COUNTA(O3393:$O$5195)>0),IF(COUNTIF(B3384:B3393,B3393)=10,B3393+7,B3393),\"\")","v":""},"","","",null,null,null,0,0,0,0,{"$f":"IFERROR(VLOOKUP(G3394,DropDowns!$D$2:$E$151,2,FALSE),\"\")","v":""},{"$f":"IFERROR(VLOOKUP(H3394,DropDowns!$F$2:$G$7,2,FALSE),\"Residual categories\")","v":"Residual categories"},null,null,null,0,0,0]
[0,{"$f":"IF(OR(COUNTA(O3365:O3394)>0,COUNTA(O3394:$O$5195)>0),IF(COUNTIF(B3385:B3394,B3394)=10,B3394+7,B3394),\"\")","v":""},"","","",null,null,null,0,0,0,0,{"$f":"IFERROR(VLOOKUP(G3395,DropDowns!$D$2:$E$151,2,FALSE),\"\")","v":""},{"$f":"IFERROR(VLOOKUP(H3395,DropDowns!$F$2:$G$7,2,FALSE),\"Residual categories\")","v":"Residual categories"},null,null,null,0,0,0]
[0,{"$f":"IF(OR(COUNTA(O3367:O3396)>0,COUNTA(O3396:$O$5195)>0),IF(COUNTIF(B3387:B3396,B3396)=10,B3396+7,B3396),\"\")","v":""},"","","",null,null,null,0,0,0,0,{"$f":"IFERROR(VLOOKUP(G3397,DropDowns!$D$2:$E$151,2,FALSE),\"\")","v":""},{"$f":"IFERROR(VLOOKUP(H3397,DropDowns!$F$2:$G$7,2,FALSE),\"Residual categories\")","v":"Residual categories"},null,null,null,0,0,0]
[0,{"$f":"IF(OR(COUNTA(O3368:O3397)>0,COUNTA(O3397:$O$5195)>0),IF(COUNTIF(B3388:B3397,B3397)=10,B3397+7,B3397),\"\")","v":""},"","","",null,null,null,0,0,0,0,{"$f":"IFERROR(VLOOKUP(G3398,DropDowns!$D$2:$E$151,2,FALSE),\"\")","v":""},{"$f":"IFERROR(VLOOKUP(H3398,DropDowns!$F$2:$G$7,2,FALSE),\"Residual categories\")","v":"Residual categories"},null,null,null,0,0,0]
[0,{"$f":"IF(OR(COUNTA(O3370:O3399)>0,COUNTA(O3399:$O$5195)>0),IF(COUNTIF(B3390:B3399,B3399)=10,B3399+7,B3399),\"\")","v":""},"","","",null,null,null,0,0,0,0,{"$f":"IFERROR(VLOOKUP(G3400,DropDowns!$D$2:$E$151,2,FALSE),\"\")","v":""},{"$f":"IFERROR(VLOOKUP(H3400,DropDowns!$F$2:$G$7,2,FALSE),\"Residual categories\")","v":"Residual categories"},null,null,null,0,0,0]
[0,{"$f":"IF(OR(COUNTA(O3371:O3400)>0,COUNTA(O3400:$O$5195)>0),IF(COUNTIF(B3391:B3400,B3400)=10,B3400+7,B3400),\"\")","v":""},"","","",null,null,null,0,0,0,0,{"$f":"IFERROR(VLOOKUP(G3401,DropDowns!$D$2:$E$151,2,FALSE),\"\")","v":""},{"$f":"IFERROR(VLOOKUP(H3401,DropDowns!$F$2:$G$7,2,FALSE),\"Residual categories\")","v":"Residual categories"},null,null,null,0,0,0]
[0,{"$f":"IF(OR(COUNTA(O3372:O3401)>0,COUNTA(O3401:$O$5195)>0),IF(COUNTIF(B3392:B3401,B3401)=10,B3401+7,B3401),\"\")","v":""},"","","",null,null,null,0,0,0,0,{"$f":"IFERROR(VLOOKUP(G3402,DropDowns!$D$2:$E$151,2,FALSE),\"\")","v":""},{"$f":"IFERROR(VLOOKUP(H3402,DropDowns!$F$2:$G$7,2,FALSE),\"Residual categories\")","v":"Residual categories"},null,null,null,0,0,0]
[0,{"$f":"IF(OR(COUNTA(O3373:O3402)>0,COUNTA(O3402:$O$5195)>0),IF(COUNTIF(B3393:B3402,B3402)=10,B3402+7,B3402),\"\")","v":""},"","","",null,null,null,0,0,0,0,{"$f":"IFERROR(VLOOKUP(G3403,DropDowns!$D$2:$E$151,2,FALSE),\"\")","v":""},{"$f":"IFERROR(VLOOKUP(H3403,DropDowns!$F$2:$G$7,2,FALSE),\"Residual categories\")","v":"Residual categories"},null,null,null,0,0,0]
[0,{"$f":"IF(OR(COUNTA(O3375:O3404)>0,COUNTA(O3404:$O$5195)>0),IF(COUNTIF(B3395:B3404,B3404)=10,B3404+7,B3404),\"\")","v":""},"","","",null,null,null,0,0,0,0,{"$f":"IFERROR(VLOOKUP(G3405,DropDowns!$D$2:$E$151,2,FALSE),\"\")","v":""},{"$f":"IFERROR(VLOOKUP(H3405,DropDowns!$F$2:$G$7,2,FALSE),\"Residual categories\")","v":"Residual categories"},null,null,null,0,0,0]
[0,{"$f":"IF(OR(COUNTA(O3376:O3405)>0,COUNTA(O3405:$O$5195)>0),IF(COUNTIF(B3396:B3405,B3405)=10,B3405+7,B3405),\"\")","v":""},"","","",null,null,null,0,0,0,0,{"$f":"IFERROR(VLOOKUP(G3406,DropDowns!$D$2:$E$151,2,FALSE),\"\")","v":""},{"$f":"IFERROR(VLOOKUP(H3406,DropDowns!$F$2:$G$7,2,FALSE),\"Residual categories\")","v":"Residual categories"},null,null,null,0,0,0]
[0,{"$f":"IF(OR(COUNTA(O3378:O3407)>0,COUNTA(O3407:$O$5195)>0),IF(COUNTIF(B3398:B3407,B3407)=10,B3407+7,B3407),\"\")","v":""},"","","",null,null,null,0,0,0,0,{"$f":"IFERROR(VLOOKUP(G3408,DropDowns!$D$2:$E$151,2,FALSE),\"\")","v":""},{"$f":"IFERROR(VLOOKUP(H3408,DropDowns!$F$2:$G$7,2,FALSE),\"Residual categories\")","v":"Residual categories"},null,null,null,0,0,0]
[0,{"$f":"IF(OR(COUNTA(O3379:O3408)>0,COUNTA(O3408:$O$5195)>0),IF(COUNTIF(B3399:B3408,B3408)=10,B3408+7,B3408),\"\")","v":""},"","",{"$f":"IF(B3409=\"\",\"\",COUNTIF(B3400:B3409,B3409))","v":""},null,null,null,0,0,0,0,{"$f":"IFERROR(VLOOKUP(G3409,DropDowns!$D$2:$E$151,2,FALSE),\"\")","v":""},{"$f":"IFERROR(VLOOKUP(H3409,DropDowns!$F$2:$G$7,2,FALSE),\"Residual categories\")","v":"Residual categories"},null,null,null,0,0,0]
[0,{"$f":"IF(OR(COUNTA(O3380:O3409)>0,COUNTA(O3409:$O$5195)>0),IF(COUNTIF(B3400:B3409,B3409)=10,B3409+7,B3409),\"\")","v":""},"","","",null,null,null,0,0,0,0,{"$f":"IFERROR(VLOOKUP(G3410,DropDowns!$D$2:$E$151,2,FALSE),\"\")","v":""},{"$f":"IFERROR(VLOOKUP(H3410,DropDowns!$F$2:$G$7,2,FALSE),\"Residual categories\")","v":"Residual categories"},null,null,null,0,0,0]
[0,{"$f":"IF(OR(COUNTA(O3381:O3410)>0,COUNTA(O3410:$O$5195)>0),IF(COUNTIF(B3401:B3410,B3410)=10,B3410+7,B3410),\"\")","v":""},"","","",null,null,null,0,0,0,0,{"$f":"IFERROR(VLOOKUP(G3411,DropDowns!$D$2:$E$151,2,FALSE),\"\")","v":""},{"$f":"IFERROR(VLOOKUP(H3411,DropDowns!$F$2:$G$7,2,FALSE),\"Residual categories\")","v":"Residual categories"},null,null,null,0,0,0]
[0,{"$f":"IF(OR(COUNTA(O3383:O3412)>0,COUNTA(O3412:$O$5195)>0),IF(COUNTIF(B3403:B3412,B3412)=10,B3412+7,B3412),\"\")","v":""},"","","",null,null,null,0,0,0,0,{"$f":"IFERROR(VLOOKUP(G3413,DropDowns!$D$2:$E$151,2,FALSE),\"\")","v":""},{"$f":"IFERROR(VLOOKUP(H3413,DropDowns!$F$2:$G$7,2,FALSE),\"Residual categories\")","v":"Residual categories"},null,null,null,0,0,0]
[0,{"$f":"IF(OR(COUNTA(O3384:O3413)>0,COUNTA(O3413:$O$5195)>0),IF(COUNTIF(B3404:B3413,B3413)=10,B3413+7,B3413),\"\")","v":""},"","","",null,null,null,0,0,0,0,{"$f":"IFERROR(VLOOKUP(G3414,DropDowns!$D$2:$E$151,2,FALSE),\"\")","v":""},{"$f":"IFERROR(VLOOKUP(H3414,DropDowns!$F$2:$G$7,2,FALSE),\"Residual categories\")","v":"Residual categories"},null,null,null,0,0,0]
[0,{"$f":"IF(OR(COUNTA(O3386:O3415)>0,COUNTA(O3415:$O$5195)>0),IF(COUNTIF(B3406:B3415,B3415)=10,B3415+7,B3415),\"\")","v":""},"","","",null,null,null,0,0,0,0,{"$f":"IFERROR(VLOOKUP(G3416,DropDowns!$D$2:$E$151,2,FALSE),\"\")","v":""},{"$f":"IFERROR(VLOOKUP(H3416,DropDowns!$F$2:$G$7,2,FALSE),\"Residual categories\")","v":"Residual categories"},null,null,null,0,0,0]
[0,{"$f":"IF(OR(COUNTA(O3387:O3416)>0,COUNTA(O3416:$O$5195)>0),IF(COUNTIF(B3407:B3416,B3416)=10,B3416+7,B3416),\"\")","v":""},"","","",null,null,null,0,0,0,0,{"$f":"IFERROR(VLOOKUP(G3417,DropDowns!$D$2:$E$151,2,FALSE),\"\")","v":""},{"$f":"IFERROR(VLOOKUP(H3417,DropDowns!$F$2:$G$7,2,FALSE),\"Residual categories\")","v":"Residual categories"},null,null,null,0,0,0]
[0,{"$f":"IF(OR(COUNTA(O3388:O3417)>0,COUNTA(O3417:$O$5195)>0),IF(COUNTIF(B3408:B3417,B3417)=10,B3417+7,B3417),\"\")","v":""},"","","",null,null,null,0,0,0,0,{"$f":"IFERROR(VLOOKUP(G3418,DropDowns!$D$2:$E$151,2,FALSE),\"\")","v":""},{"$f":"IFERROR(VLOOKUP(H3418,DropDowns!$F$2:$G$7,2,FALSE),\"Residual categories\")","v":"Residual categories"},null,null,null,0,0,0]
[0,{"$f":"IF(OR(COUNTA(O3389:O3418)>0,COUNTA(O3418:$O$5195)>0),IF(COUNTIF(B3409:B3418,B3418)=10,B3418+7,B3418),\"\")","v":""},"","","",null,null,null,0,0,0,0,{"$f":"IFERROR(VLOOKUP(G3419,DropDowns!$D$2:$E$151,2,FALSE),\"\")","v":""},{"$f":"IFERROR(VLOOKUP(H3419,DropDowns!$F$2:$G$7,2,FALSE),\"Residual categories\")","v":"Residual categories"},null,null,null,0,0,0]
[0,{"$f":"IF(OR(COUNTA(O3391:O3420)>0,COUNTA(O3420:$O$5195)>0),IF(COUNTIF(B3411:B3420,B3420)=10,B3420+7,B3420),\"\")","v":""},"","","",null,null,null,0,0,0,0,{"$f":"IFERROR(VLOOKUP(G3421,DropDowns!$D$2:$E$151,2,FALSE),\"\")","v":""},{"$f":"IFERROR(VLOOKUP(H3421,DropDowns!$F$2:$G$7,2,FALSE),\"Residual categories\")","v":"Residual categories"},null,null,null,0,0,0]
[0,{"$f":"IF(OR(COUNTA(O3392:O3421)>0,COUNTA(O3421:$O$5195)>0),IF(COUNTIF(B3412:B3421,B3421)=10,B3421+7,B3421),\"\")","v":""},"","","",null,null,null,0,0,0,0,{"$f":"IFERROR(VLOOKUP(G3422,DropDowns!$D$2:$E$151,2,FALSE),\"\")","v":""},{"$f":"IFERROR(VLOOKUP(H3422,DropDowns!$F$2:$G$7,2,FALSE),\"Residual categories\")","v":"Residual categories"},null,null,null,0,0,0]
[0,{"$f":"IF(OR(COUNTA(O3394:O3423)>0,COUNTA(O3423:$O$5195)>0),IF(COUNTIF(B3414:B3423,B3423)=10,B3423+7,B3423),\"\")","v":""},"","","",null,null,null,0,0,0,0,{"$f":"IFERROR(VLOOKUP(G3424,DropDowns!$D$2:$E$151,2,FALSE),\"\")","v":""},{"$f":"IFERROR(VLOOKUP(H3424,DropDowns!$F$2:$G$7,2,FALSE),\"Residual categories\")","v":"Residual categories"},null,null,null,0,0,0]
[0,{"$f":"IF(OR(COUNTA(O3395:O3424)>0,COUNTA(O3424:$O$5195)>0),IF(COUNTIF(B3415:B3424,B3424)=10,B3424+7,B3424),\"\")","v":""},"","","",null,null,null,0,0,0,0,{"$f":"IFERROR(VLOOKUP(G3425,DropDowns!$D$2:$E$151,2,FALSE),\"\")","v":""},{"$f":"IFERROR(VLOOKUP(H3425,DropDowns!$F$2:$G$7,2,FALSE),\"Residual categories\")","v":"Residual categories"},null,null,null,0,0,0]
[0,{"$f":"IF(OR(COUNTA(O3397:O3426)>0,COUNTA(O3426:$O$5195)>0),IF(COUNTIF(B3417:B3426,B3426)=10,B3426+7,B3426),\"\")","v":""},"","","",null,null,null,0,0,0,0,{"$f":"IFERROR(VLOOKUP(G3427,DropDowns!$D$2:$E$151,2,FALSE),\"\")","v":""},{"$f":"IFERROR(VLOOKUP(H3427,DropDowns!$F$2:$G$7,2,FALSE),\"Residual categories\")","v":"Residual categories"},null,null,null,0,0,0]
[0,{"$f":"IF(OR(COUNTA(O3398:O3427)>0,COUNTA(O3427:$O$5195)>0),IF(COUNTIF(B3418:B3427,B3427)=10,B3427+7,B3427),\"\")","v":""},"","","",null,null,null,0,0,0,0,{"$f":"IFERROR(VLOOKUP(G3428,DropDowns!$D$2:$E$151,2,FALSE),\"\")","v":""},{"$f":"IFERROR(VLOOKUP(H3428,DropDowns!$F$2:$G$7,2,FALSE),\"Residual categories\")","v":"Residual categories"},null,null,null,0,0,0]
[0,{"$f":"IF(OR(COUNTA(O3399:O3428)>0,COUNTA(O3428:$O$5195)>0),IF(COUNTIF(B3419:B3428,B3428)=10,B3428+7,B3428),\"\")","v":""},"","","",null,null,null,0,0,0,0,{"$f":"IFERROR(VLOOKUP(G3429,DropDowns!$D$2:$E$151,2,FALSE),\"\")","v":""},{"$f":"IFERROR(VLOOKUP(H3429,DropDowns!$F$2:$G$7,2,FALSE),\"Residual categories\")","v":"Residual categories"},null,null,null,0,0,0]
[0,{"$f":"IF(OR(COUNTA(O3400:O3429)>0,COUNTA(O3429:$O$5195)>0),IF(COUNTIF(B3420:B3429,B3429)=10,B3429+7,B3429),\"\")","v":""},"","","",null,null,null,0,0,0,0,{"$f":"IFERROR(VLOOKUP(G3430,DropDowns!$D$2:$E$151,2,FALSE),\"\")","v":""},{"$f":"IFERROR(VLOOKUP(H3430,DropDowns!$F$2:$G$7,2,FALSE),\"Residual categories\")","v":"Residual categories"},null,null,null,0,0,0]
[0,{"$f":"IF(OR(COUNTA(O3402:O3431)>0,COUNTA(O3431:$O$5195)>0),IF(COUNTIF(B3422:B3431,B3431)=10,B3431+7,B3431),\"\")","v":""},"","","",null,null,null,0,0,0,0,{"$f":"IFERROR(VLOOKUP(G3432,DropDowns!$D$2:$E$151,2,FALSE),\"\")","v":""},{"$f":"IFERROR(VLOOKUP(H3432,DropDowns!$F$2:$G$7,2,FALSE),\"Residual categories\")","v":"Residual categories"},null,null,null,0,0,0]
[0,{"$f":"IF(OR(COUNTA(O3403:O3432)>0,COUNTA(O3432:$O$5195)>0),IF(COUNTIF(B3423:B3432,B3432)=10,B3432+7,B3432),\"\")","v":""},"","","",null,null,null,0,0,0,0,{"$f":"IFERROR(VLOOKUP(G3433,DropDowns!$D$2:$E$151,2,FALSE),\"\")","v":""},{"$f":"IFERROR(VLOOKUP(H3433,DropDowns!$F$2:$G$7,2,FALSE),\"Residual categories\")","v":"Residual categories"},null,null,null,0,0,0]
[0,{"$f":"IF(OR(COUNTA(O3405:O3434)>0,COUNTA(O3434:$O$5195)>0),IF(COUNTIF(B3425:B3434,B3434)=10,B3434+7,B3434),\"\")","v":""},"","","",null,null,null,0,0,0,0,{"$f":"IFERROR(VLOOKUP(G3435,DropDowns!$D$2:$E$151,2,FALSE),\"\")","v":""},{"$f":"IFERROR(VLOOKUP(H3435,DropDowns!$F$2:$G$7,2,FALSE),\"Residual categories\")","v":"Residual categories"},null,null,null,0,0,0]
[0,{"$f":"IF(OR(COUNTA(O3406:O3435)>0,COUNTA(O3435:$O$5195)>0),IF(COUNTIF(B3426:B3435,B3435)=10,B3435+7,B3435),\"\")","v":""},"","","",null,null,null,0,0,0,0,{"$f":"IFERROR(VLOOKUP(G3436,DropDowns!$D$2:$E$151,2,FALSE),\"\")","v":""},{"$f":"IFERROR(VLOOKUP(H3436,DropDowns!$F$2:$G$7,2,FALSE),\"Residual categories\")","v":"Residual categories"},null,null,null,0,0,0]
[0,{"$f":"IF(OR(COUNTA(O3407:O3436)>0,COUNTA(O3436:$O$5195)>0),IF(COUNTIF(B3427:B3436,B3436)=10,B3436+7,B3436),\"\")","v":""},"","","",null,null,null,0,0,0,0,{"$f":"IFERROR(VLOOKUP(G3437,DropDowns!$D$2:$E$151,2,FALSE),\"\")","v":""},{"$f":"IFERROR(VLOOKUP(H3437,DropDowns!$F$2:$G$7,2,FALSE),\"Residual categories\")","v":"Residual categories"},null,null,null,0,0,0]
[0,{"$f":"IF(OR(COUNTA(O3408:O3437)>0,COUNTA(O3437:$O$5195)>0),IF(COUNTIF(B3428:B3437,B3437)=10,B3437+7,B3437),\"\")","v":""},"","","",null,null,null,0,0,0,0,{"$f":"IFERROR(VLOOKUP(G3438,DropDowns!$D$2:$E$151,2,FALSE),\"\")","v":""},{"$f":"IFERROR(VLOOKUP(H3438,DropDowns!$F$2:$G$7,2,FALSE),\"Residual categories\")","v":"Residual categories"},null,null,null,0,0,0]
[0,{"$f":"IF(OR(COUNTA(O3410:O3439)>0,COUNTA(O3439:$O$5195)>0),IF(COUNTIF(B3430:B3439,B3439)=10,B3439+7,B3439),\"\")","v":""},"","","",null,null,null,0,0,0,0,{"$f":"IFERROR(VLOOKUP(G3440,DropDowns!$D$2:$E$151,2,FALSE),\"\")","v":""},{"$f":"IFERROR(VLOOKUP(H3440,DropDowns!$F$2:$G$7,2,FALSE),\"Residual categories\")","v":"Residual categories"},null,null,null,0,0,0]
[0,{"$f":"IF(OR(COUNTA(O3411:O3440)>0,COUNTA(O3440:$O$5195)>0),IF(COUNTIF(B3431:B3440,B3440)=10,B3440+7,B3440),\"\")","v":""},"","","",null,null,null,0,0,0,0,{"$f":"IFERROR(VLOOKUP(G3441,DropDowns!$D$2:$E$151,2,FALSE),\"\")","v":""},{"$f":"IFERROR(VLOOKUP(H3441,DropDowns!$F$2:$G$7,2,FALSE),\"Residual categories\")","v":"Residual categories"},null,null,null,0,0,0]
[0,{"$f":"IF(OR(COUNTA(O3413:O3442)>0,COUNTA(O3442:$O$5195)>0),IF(COUNTIF(B3433:B3442,B3442)=10,B3442+7,B3442),\"\")","v":""},"","","",null,null,null,0,0,0,0,{"$f":"IFERROR(VLOOKUP(G3443,DropDowns!$D$2:$E$151,2,FALSE),\"\")","v":""},{"$f":"IFERROR(VLOOKUP(H3443,DropDowns!$F$2:$G$7,2,FALSE),\"Residual categories\")","v":"Residual categories"},null,null,null,0,0,0]
[0,{"$f":"IF(OR(COUNTA(O3414:O3443)>0,COUNTA(O3443:$O$5195)>0),IF(COUNTIF(B3434:B3443,B3443)=10,B3443+7,B3443),\"\")","v":""},"","","",null,null,null,0,0,0,0,{"$f":"IFERROR(VLOOKUP(G3444,DropDowns!$D$2:$E$151,2,FALSE),\"\")","v":""},{"$f":"IFERROR(VLOOKUP(H3444,DropDowns!$F$2:$G$7,2,FALSE),\"Residual categories\")","v":"Residual categories"},null,null,null,0,0,0]
[0,{"$f":"IF(OR(COUNTA(O3415:O3444)>0,COUNTA(O3444:$O$5195)>0),IF(COUNTIF(B3435:B3444,B3444)=10,B3444+7,B3444),\"\")","v":""},"","","",null,null,null,0,0,0,0,{"$f":"IFERROR(VLOOKUP(G3445,DropDowns!$D$2:$E$151,2,FALSE),\"\")","v":""},{"$f":"IFERROR(VLOOKUP(H3445,DropDowns!$F$2:$G$7,2,FALSE),\"Residual categories\")","v":"Residual categories"},null,null,null,0,0,0]
[0,{"$f":"IF(OR(COUNTA(O3416:O3445)>0,COUNTA(O3445:$O$5195)>0),IF(COUNTIF(B3436:B3445,B3445)=10,B3445+7,B3445),\"\")","v":""},"","","",null,null,null,0,0,0,0,{"$f":"IFERROR(VLOOKUP(G3446,DropDowns!$D$2:$E$151,2,FALSE),\"\")","v":""},{"$f":"IFERROR(VLOOKUP(H3446,DropDowns!$F$2:$G$7,2,FALSE),\"Residual categories\")","v":"Residual categories"},null,null,null,0,0,0]
[0,{"$f":"IF(OR(COUNTA(O3418:O3447)>0,COUNTA(O3447:$O$5195)>0),IF(COUNTIF(B3438:B3447,B3447)=10,B3447+7,B3447),\"\")","v":""},"","","",null,null,null,0,0,0,0,{"$f":"IFERROR(VLOOKUP(G3448,DropDowns!$D$2:$E$151,2,FALSE),\"\")","v":""},{"$f":"IFERROR(VLOOKUP(H3448,DropDowns!$F$2:$G$7,2,FALSE),\"Residual categories\")","v":"Residual categories"},null,null,null,0,0,0]
[0,{"$f":"IF(OR(COUNTA(O3419:O3448)>0,COUNTA(O3448:$O$5195)>0),IF(COUNTIF(B3439:B3448,B3448)=10,B3448+7,B3448),\"\")","v":""},"","","",null,null,null,0,0,0,0,{"$f":"IFERROR(VLOOKUP(G3449,DropDowns!$D$2:$E$151,2,FALSE),\"\")","v":""},{"$f":"IFERROR(VLOOKUP(H3449,DropDowns!$F$2:$G$7,2,FALSE),\"Residual categories\")","v":"Residual categories"},null,null,null,0,0,0]
[0,{"$f":"IF(OR(COUNTA(O3421:O3450)>0,COUNTA(O3450:$O$5195)>0),IF(COUNTIF(B3441:B3450,B3450)=10,B3450+7,B3450),\"\")","v":""},"","","",null,null,null,0,0,0,0,{"$f":"IFERROR(VLOOKUP(G3451,DropDowns!$D$2:$E$151,2,FALSE),\"\")","v":""},{"$f":"IFERROR(VLOOKUP(H3451,DropDowns!$F$2:$G$7,2,FALSE),\"Residual categories\")","v":"Residual categories"},null,null,null,0,0,0]
[0,{"$f":"IF(OR(COUNTA(O3422:O3451)>0,COUNTA(O3451:$O$5195)>0),IF(COUNTIF(B3442:B3451,B3451)=10,B3451+7,B3451),\"\")","v":""},"","","",null,null,null,0,0,0,0,{"$f":"IFERROR(VLOOKUP(G3452,DropDowns!$D$2:$E$151,2,FALSE),\"\")","v":""},{"$f":"IFERROR(VLOOKUP(H3452,DropDowns!$F$2:$G$7,2,FALSE),\"Residual categories\")","v":"Residual categories"},null,null,null,0,0,0]
[0,{"$f":"IF(OR(COUNTA(O3423:O3452)>0,COUNTA(O3452:$O$5195)>0),IF(COUNTIF(B3443:B3452,B3452)=10,B3452+7,B3452),\"\")","v":""},"","","",null,null,null,0,0,0,0,{"$f":"IFERROR(VLOOKUP(G3453,DropDowns!$D$2:$E$151,2,FALSE),\"\")","v":""},{"$f":"IFERROR(VLOOKUP(H3453,DropDowns!$F$2:$G$7,2,FALSE),\"Residual categories\")","v":"Residual categories"},null,null,null,0,0,0]
[0,{"$f":"IF(OR(COUNTA(O3424:O3453)>0,COUNTA(O3453:$O$5195)>0),IF(COUNTIF(B3444:B3453,B3453)=10,B3453+7,B3453),\"\")","v":""},"","","",null,null,null,0,0,0,0,{"$f":"IFERROR(VLOOKUP(G3454,DropDowns!$D$2:$E$151,2,FALSE),\"\")","v":""},{"$f":"IFERROR(VLOOKUP(H3454,DropDowns!$F$2:$G$7,2,FALSE),\"Residual categories\")","v":"Residual categories"},null,null,null,0,0,0]
[0,{"$f":"IF(OR(COUNTA(O3426:O3455)>0,COUNTA(O3455:$O$5195)>0),IF(COUNTIF(B3446:B3455,B3455)=10,B3455+7,B3455),\"\")","v":""},"","","",null,null,null,0,0,0,0,{"$f":"IFERROR(VLOOKUP(G3456,DropDowns!$D$2:$E$151,2,FALSE),\"\")","v":""},{"$f":"IFERROR(VLOOKUP(H3456,DropDowns!$F$2:$G$7,2,FALSE),\"Residual categories\")","v":"Residual categories"},null,null,null,0,0,0]
[0,{"$f":"IF(OR(COUNTA(O3427:O3456)>0,COUNTA(O3456:$O$5195)>0),IF(COUNTIF(B3447:B3456,B3456)=10,B3456+7,B3456),\"\")","v":""},"","","",null,null,null,0,0,0,0,{"$f":"IFERROR(VLOOKUP(G3457,DropDowns!$D$2:$E$151,2,FALSE),\"\")","v":""},{"$f":"IFERROR(VLOOKUP(H3457,DropDowns!$F$2:$G$7,2,FALSE),\"Residual categories\")","v":"Residual categories"},null,null,null,0,0,0]
[0,{"$f":"IF(OR(COUNTA(O3429:O3458)>0,COUNTA(O3458:$O$5195)>0),IF(COUNTIF(B3449:B3458,B3458)=10,B3458+7,B3458),\"\")","v":""},"","","",null,null,null,0,0,0,0,{"$f":"IFERROR(VLOOKUP(G3459,DropDowns!$D$2:$E$151,2,FALSE),\"\")","v":""},{"$f":"IFERROR(VLOOKUP(H3459,DropDowns!$F$2:$G$7,2,FALSE),\"Residual categories\")","v":"Residual categories"},null,null,null,0,0,0]
[0,{"$f":"IF(OR(COUNTA(O3430:O3459)>0,COUNTA(O3459:$O$5195)>0),IF(COUNTIF(B3450:B3459,B3459)=10,B3459+7,B3459),\"\")","v":""},"","","",null,null,null,0,0,0,0,{"$f":"IFERROR(VLOOKUP(G3460,DropDowns!$D$2:$E$151,2,FALSE),\"\")","v":""},{"$f":"IFERROR(VLOOKUP(H3460,DropDowns!$F$2:$G$7,2,FALSE),\"Residual categories\")","v":"Residual categories"},null,null,null,0,0,0]
[0,{"$f":"IF(OR(COUNTA(O3432:O3461)>0,COUNTA(O3461:$O$5195)>0),IF(COUNTIF(B3452:B3461,B3461)=10,B3461+7,B3461),\"\")","v":""},"","","",null,null,null,0,0,0,0,{"$f":"IFERROR(VLOOKUP(G3462,DropDowns!$D$2:$E$151,2,FALSE),\"\")","v":""},{"$f":"IFERROR(VLOOKUP(H3462,DropDowns!$F$2:$G$7,2,FALSE),\"Residual categories\")","v":"Residual categories"},null,null,null,0,0,0]
[0,{"$f":"IF(OR(COUNTA(O3433:O3462)>0,COUNTA(O3462:$O$5195)>0),IF(COUNTIF(B3453:B3462,B3462)=10,B3462+7,B3462),\"\")","v":""},{"$f":"IF(D3463=1,A3463,\"\")","v":""},"","",null,null,null,{"$f":"IF(COUNTA(O3463:Q3463)>0,1,0)","v":0},{"$f":"IF(O3463=\"y\",1,0)","v":0},{"$f":"IF(P3463=\"y\",1,0)","v":0},{"$f":"IF(Q3463=\"y\",1,0)","v":0},{"$f":"IFERROR(VLOOKUP(G3463,DropDowns!$D$2:$E$151,2,FALSE),\"\")","v":""},{"$f":"IFERROR(VLOOKUP(H3463,DropDowns!$F$2:$G$7,2,FALSE),\"Residual categories\")","v":"Residual categories"},null,null,null,{"$f":"IF(O3463=\"yes\",1,0)","v":0},{"$f":"IF(P3463=\"yes\",1,0)","v":0},{"$f":"IF(Q3463=\"yes\",1,0)","v":0}]
[0,{"$f":"IF(OR(COUNTA(O3434:O3463)>0,COUNTA(O3463:$O$5195)>0),IF(COUNTIF(B3454:B3463,B3463)=10,B3463+7,B3463),\"\")","v":""},"","","",null,null,null,0,0,0,0,{"$f":"IFERROR(VLOOKUP(G3464,DropDowns!$D$2:$E$151,2,FALSE),\"\")","v":""},{"$f":"IFERROR(VLOOKUP(H3464,DropDowns!$F$2:$G$7,2,FALSE),\"Residual categories\")","v":"Residual categories"},null,null,null,0,0,0]
[0,{"$f":"IF(OR(COUNTA(O3435:O3464)>0,COUNTA(O3464:$O$5195)>0),IF(COUNTIF(B3455:B3464,B3464)=10,B3464+7,B3464),\"\")","v":""},"","","",null,null,null,0,0,0,0,{"$f":"IFERROR(VLOOKUP(G3465,DropDowns!$D$2:$E$151,2,FALSE),\"\")","v":""},{"$f":"IFERROR(VLOOKUP(H3465,DropDowns!$F$2:$G$7,2,FALSE),\"Residual categories\")","v":"Residual categories"},null,null,null,0,0,0]
[0,{"$f":"IF(OR(COUNTA(O3437:O3466)>0,COUNTA(O3466:$O$5195)>0),IF(COUNTIF(B3457:B3466,B3466)=10,B3466+7,B3466),\"\")","v":""},"","","",null,null,null,0,0,0,0,{"$f":"IFERROR(VLOOKUP(G3467,DropDowns!$D$2:$E$151,2,FALSE),\"\")","v":""},{"$f":"IFERROR(VLOOKUP(H3467,DropDowns!$F$2:$G$7,2,FALSE),\"Residual categories\")","v":"Residual categories"},null,null,null,0,0,0]
[0,{"$f":"IF(OR(COUNTA(O3438:O3467)>0,COUNTA(O3467:$O$5195)>0),IF(COUNTIF(B3458:B3467,B3467)=10,B3467+7,B3467),\"\")","v":""},"","","",null,null,null,0,0,0,0,{"$f":"IFERROR(VLOOKUP(G3468,DropDowns!$D$2:$E$151,2,FALSE),\"\")","v":""},{"$f":"IFERROR(VLOOKUP(H3468,DropDowns!$F$2:$G$7,2,FALSE),\"Residual categories\")","v":"Residual categories"},null,null,null,0,0,0]
[0,{"$f":"IF(OR(COUNTA(O3440:O3469)>0,COUNTA(O3469:$O$5195)>0),IF(COUNTIF(B3460:B3469,B3469)=10,B3469+7,B3469),\"\")","v":""},"","","",null,null,null,0,0,0,0,{"$f":"IFERROR(VLOOKUP(G3470,DropDowns!$D$2:$E$151,2,FALSE),\"\")","v":""},{"$f":"IFERROR(VLOOKUP(H3470,DropDowns!$F$2:$G$7,2,FALSE),\"Residual categories\")","v":"Residual categories"},null,null,null,0,0,0]
[0,{"$f":"IF(OR(COUNTA(O3441:O3470)>0,COUNTA(O3470:$O$5195)>0),IF(COUNTIF(B3461:B3470,B3470)=10,B3470+7,B3470),\"\")","v":""},"","","",null,null,null,0,0,0,0,{"$f":"IFERROR(VLOOKUP(G3471,DropDowns!$D$2:$E$151,2,FALSE),\"\")","v":""},{"$f":"IFERROR(VLOOKUP(H3471,DropDowns!$F$2:$G$7,2,FALSE),\"Residual categories\")","v":"Residual categories"},null,null,null,0,0,0]
[0,{"$f":"IF(OR(COUNTA(O3442:O3471)>0,COUNTA(O3471:$O$5195)>0),IF(COUNTIF(B3462:B3471,B3471)=10,B3471+7,B3471),\"\")","v":""},"","","",null,null,null,0,0,0,0,{"$f":"IFERROR(VLOOKUP(G3472,DropDowns!$D$2:$E$151,2,FALSE),\"\")","v":""},{"$f":"IFERROR(VLOOKUP(H3472,DropDowns!$F$2:$G$7,2,FALSE),\"Residual categories\")","v":"Residual categories"},null,null,null,0,0,0]
[0,{"$f":"IF(OR(COUNTA(O3443:O3472)>0,COUNTA(O3472:$O$5195)>0),IF(COUNTIF(B3463:B3472,B3472)=10,B3472+7,B3472),\"\")","v":""},"","",{"$f":"IF(B3473=\"\",\"\",COUNTIF(B3464:B3473,B3473))","v":""},null,null,null,0,0,0,0,{"$f":"IFERROR(VLOOKUP(G3473,DropDowns!$D$2:$E$151,2,FALSE),\"\")","v":""},{"$f":"IFERROR(VLOOKUP(H3473,DropDowns!$F$2:$G$7,2,FALSE),\"Residual categories\")","v":"Residual categories"},null,null,null,0,0,0]
[0,{"$f":"IF(OR(COUNTA(O3445:O3474)>0,COUNTA(O3474:$O$5195)>0),IF(COUNTIF(B3465:B3474,B3474)=10,B3474+7,B3474),\"\")","v":""},"","","",null,null,null,0,0,0,0,{"$f":"IFERROR(VLOOKUP(G3475,DropDowns!$D$2:$E$151,2,FALSE),\"\")","v":""},{"$f":"IFERROR(VLOOKUP(H3475,DropDowns!$F$2:$G$7,2,FALSE),\"Residual categories\")","v":"Residual categories"},null,null,null,0,0,0]
[{"$f":"$E$2","v":0},{"$f":"IF(OR(COUNTA(O3446:O3475)>0,COUNTA(O3475:$O$5195)>0),IF(COUNTIF(B3466:B3475,B3475)=10,B3475+7,B3475),\"\")","v":""},"","","",null,null,null,0,0,0,0,{"$f":"IFERROR(VLOOKUP(G3476,DropDowns!$D$2:$E$151,2,FALSE),\"\")","v":""},{"$f":"IFERROR(VLOOKUP(H3476,DropDowns!$F$2:$G$7,2,FALSE),\"Residual categories\")","v":"Residual categories"},null,null,null,0,0,0]
[0,{"$f":"IF(OR(COUNTA(O3448:O3477)>0,COUNTA(O3477:$O$5195)>0),IF(COUNTIF(B3468:B3477,B3477)=10,B3477+7,B3477),\"\")","v":""},"","","",null,null,null,0,0,0,0,{"$f":"IFERROR(VLOOKUP(G3478,DropDowns!$D$2:$E$151,2,FALSE),\"\")","v":""},{"$f":"IFERROR(VLOOKUP(H3478,DropDowns!$F$2:$G$7,2,FALSE),\"Residual categories\")","v":"Residual categories"},null,null,null,0,0,0]
[0,{"$f":"IF(OR(COUNTA(O3449:O3478)>0,COUNTA(O3478:$O$5195)>0),IF(COUNTIF(B3469:B3478,B3478)=10,B3478+7,B3478),\"\")","v":""},"","","",null,null,null,0,0,0,0,{"$f":"IFERROR(VLOOKUP(G3479,DropDowns!$D$2:$E$151,2,FALSE),\"\")","v":""},{"$f":"IFERROR(VLOOKUP(H3479,DropDowns!$F$2:$G$7,2,FALSE),\"Residual categories\")","v":"Residual categories"},null,null,null,0,0,0]
[0,{"$f":"IF(OR(COUNTA(O3450:O3479)>0,COUNTA(O3479:$O$5195)>0),IF(COUNTIF(B3470:B3479,B3479)=10,B3479+7,B3479),\"\")","v":""},"","","",null,null,null,0,0,0,0,{"$f":"IFERROR(VLOOKUP(G3480,DropDowns!$D$2:$E$151,2,FALSE),\"\")","v":""},{"$f":"IFERROR(VLOOKUP(H3480,DropDowns!$F$2:$G$7,2,FALSE),\"Residual categories\")","v":"Residual categories"},null,null,null,0,0,0]
[0,{"$f":"IF(OR(COUNTA(O3451:O3480)>0,COUNTA(O3480:$O$5195)>0),IF(COUNTIF(B3471:B3480,B3480)=10,B3480+7,B3480),\"\")","v":""},"","","",null,null,null,0,0,0,0,{"$f":"IFERROR(VLOOKUP(G3481,DropDowns!$D$2:$E$151,2,FALSE),\"\")","v":""},{"$f":"IFERROR(VLOOKUP(H3481,DropDowns!$F$2:$G$7,2,FALSE),\"Residual categories\")","v":"Residual categories"},null,null,null,0,0,0]
[0,{"$f":"IF(OR(COUNTA(O3453:O3482)>0,COUNTA(O3482:$O$5195)>0),IF(COUNTIF(B3473:B3482,B3482)=10,B3482+7,B3482),\"\")","v":""},"","","",null,null,null,0,0,0,0,{"$f":"IFERROR(VLOOKUP(G3483,DropDowns!$D$2:$E$151,2,FALSE),\"\")","v":""},{"$f":"IFERROR(VLOOKUP(H3483,DropDowns!$F$2:$G$7,2,FALSE),\"Residual categories\")","v":"Residual categories"},null,null,null,0,0,0]
[0,{"$f":"IF(OR(COUNTA(O3454:O3483)>0,COUNTA(O3483:$O$5195)>0),IF(COUNTIF(B3474:B3483,B3483)=10,B3483+7,B3483),\"\")","v":""},"","","",null,null,null,0,0,0,0,{"$f":"IFERROR(VLOOKUP(G3484,DropDowns!$D$2:$E$151,2,FALSE),\"\")","v":""},{"$f":"IFERROR(VLOOKUP(H3484,DropDowns!$F$2:$G$7,2,FALSE),\"Residual categories\")","v":"Residual categories"},null,null,null,0,0,0]
[0,{"$f":"IF(OR(COUNTA(O3456:O3485)>0,COUNTA(O3485:$O$5195)>0),IF(COUNTIF(B3476:B3485,B3485)=10,B3485+7,B3485),\"\")","v":""},"","","",null,null,null,0,0,0,0,{"$f":"IFERROR(VLOOKUP(G3486,DropDowns!$D$2:$E$151,2,FALSE),\"\")","v":""},{"$f":"IFERROR(VLOOKUP(H3486,DropDowns!$F$2:$G$7,2,FALSE),\"Residual categories\")","v":"Residual categories"},null,null,null,0,0,0]
[0,{"$f":"IF(OR(COUNTA(O3457:O3486)>0,COUNTA(O3486:$O$5195)>0),IF(COUNTIF(B3477:B3486,B3486)=10,B3486+7,B3486),\"\")","v":""},"","","",null,null,null,0,0,0,0,{"$f":"IFERROR(VLOOKUP(G3487,DropDowns!$D$2:$E$151,2,FALSE),\"\")","v":""},{"$f":"IFERROR(VLOOKUP(H3487,DropDowns!$F$2:$G$7,2,FALSE),\"Residual categories\")","v":"Residual categories"},null,null,null,0,0,0]
[0,{"$f":"IF(OR(COUNTA(O3458:O3487)>0,COUNTA(O3487:$O$5195)>0),IF(COUNTIF(B3478:B3487,B3487)=10,B3487+7,B3487),\"\")","v":""},"","","",null,null,null,0,0,0,0,{"$f":"IFERROR(VLOOKUP(G3488,DropDowns!$D$2:$E$151,2,FALSE),\"\")","v":""},{"$f":"IFERROR(VLOOKUP(H3488,DropDowns!$F$2:$G$7,2,FALSE),\"Residual categories\")","v":"Residual categories"},null,null,null,0,0,0]
[0,{"$f":"IF(OR(COUNTA(O3459:O3488)>0,COUNTA(O3488:$O$5195)>0),IF(COUNTIF(B3479:B3488,B3488)=10,B3488+7,B3488),\"\")","v":""},"","","",null,null,null,0,0,0,0,{"$f":"IFERROR(VLOOKUP(G3489,DropDowns!$D$2:$E$151,2,FALSE),\"\")","v":""},{"$f":"IFERROR(VLOOKUP(H3489,DropDowns!$F$2:$G$7,2,FALSE),\"Residual categories\")","v":"Residual categories"},null,null,null,0,0,0]
[0,{"$f":"IF(OR(COUNTA(O3461:O3490)>0,COUNTA(O3490:$O$5195)>0),IF(COUNTIF(B3481:B3490,B3490)=10,B3490+7,B3490),\"\")","v":""},"","","",null,null,null,0,0,0,0,{"$f":"IFERROR(VLOOKUP(G3491,DropDowns!$D$2:$E$151,2,FALSE),\"\")","v":""},{"$f":"IFERROR(VLOOKUP(H3491,DropDowns!$F$2:$G$7,2,FALSE),\"Residual categories\")","v":"Residual categories"},null,null,null,0,0,0]
[0,{"$f":"IF(OR(COUNTA(O3462:O3491)>0,COUNTA(O3491:$O$5195)>0),IF(COUNTIF(B3482:B3491,B3491)=10,B3491+7,B3491),\"\")","v":""},"","","",null,null,null,0,0,0,0,{"$f":"IFERROR(VLOOKUP(G3492,DropDowns!$D$2:$E$151,2,FALSE),\"\")","v":""},{"$f":"IFERROR(VLOOKUP(H3492,DropDowns!$F$2:$G$7,2,FALSE),\"Residual categories\")","v":"Residual categories"},null,null,null,0,0,0]
[0,{"$f":"IF(OR(COUNTA(O3464:O3493)>0,COUNTA(O3493:$O$5195)>0),IF(COUNTIF(B3484:B3493,B3493)=10,B3493+7,B3493),\"\")","v":""},"","","",null,null,null,0,0,0,0,{"$f":"IFERROR(VLOOKUP(G3494,DropDowns!$D$2:$E$151,2,FALSE),\"\")","v":""},{"$f":"IFERROR(VLOOKUP(H3494,DropDowns!$F$2:$G$7,2,FALSE),\"Residual categories\")","v":"Residual categories"},null,null,null,0,0,0]
[0,{"$f":"IF(OR(COUNTA(O3465:O3494)>0,COUNTA(O3494:$O$5195)>0),IF(COUNTIF(B3485:B3494,B3494)=10,B3494+7,B3494),\"\")","v":""},"","","",null,null,null,0,0,0,0,{"$f":"IFERROR(VLOOKUP(G3495,DropDowns!$D$2:$E$151,2,FALSE),\"\")","v":""},{"$f":"IFERROR(VLOOKUP(H3495,DropDowns!$F$2:$G$7,2,FALSE),\"Residual categories\")","v":"Residual categories"},null,null,null,0,0,0]
[0,{"$f":"IF(OR(COUNTA(O3467:O3496)>0,COUNTA(O3496:$O$5195)>0),IF(COUNTIF(B3487:B3496,B3496)=10,B3496+7,B3496),\"\")","v":""},"","","",null,null,null,0,0,0,0,{"$f":"IFERROR(VLOOKUP(G3497,DropDowns!$D$2:$E$151,2,FALSE),\"\")","v":""},{"$f":"IFERROR(VLOOKUP(H3497,DropDowns!$F$2:$G$7,2,FALSE),\"Residual categories\")","v":"Residual categories"},null,null,null,0,0,0]
[0,{"$f":"IF(OR(COUNTA(O3468:O3497)>0,COUNTA(O3497:$O$5195)>0),IF(COUNTIF(B3488:B3497,B3497)=10,B3497+7,B3497),\"\")","v":""},"","","",null,null,null,0,0,0,0,{"$f":"IFERROR(VLOOKUP(G3498,DropDowns!$D$2:$E$151,2,FALSE),\"\")","v":""},{"$f":"IFERROR(VLOOKUP(H3498,DropDowns!$F$2:$G$7,2,FALSE),\"Residual categories\")","v":"Residual categories"},null,null,null,0,0,0]
[0,{"$f":"IF(OR(COUNTA(O3469:O3498)>0,COUNTA(O3498:$O$5195)>0),IF(COUNTIF(B3489:B3498,B3498)=10,B3498+7,B3498),\"\")","v":""},"","","",null,null,null,0,0,0,0,{"$f":"IFERROR(VLOOKUP(G3499,DropDowns!$D$2:$E$151,2,FALSE),\"\")","v":""},{"$f":"IFERROR(VLOOKUP(H3499,DropDowns!$F$2:$G$7,2,FALSE),\"Residual categories\")","v":"Residual categories"},null,null,null,0,0,0]
[0,{"$f":"IF(OR(COUNTA(O3470:O3499)>0,COUNTA(O3499:$O$5195)>0),IF(COUNTIF(B3490:B3499,B3499)=10,B3499+7,B3499),\"\")","v":""},"","","",null,null,null,0,0,0,0,{"$f":"IFERROR(VLOOKUP(G3500,DropDowns!$D$2:$E$151,2,FALSE),\"\")","v":""},{"$f":"IFERROR(VLOOKUP(H3500,DropDowns!$F$2:$G$7,2,FALSE),\"Residual categories\")","v":"Residual categories"},null,null,null,0,0,0]
[0,{"$f":"IF(OR(COUNTA(O3472:O3501)>0,COUNTA(O3501:$O$5195)>0),IF(COUNTIF(B3492:B3501,B3501)=10,B3501+7,B3501),\"\")","v":""},"","","",null,null,null,0,0,0,0,{"$f":"IFERROR(VLOOKUP(G3502,DropDowns!$D$2:$E$151,2,FALSE),\"\")","v":""},{"$f":"IFERROR(VLOOKUP(H3502,DropDowns!$F$2:$G$7,2,FALSE),\"Residual categories\")","v":"Residual categories"},null,null,null,0,0,0]
[0,{"$f":"IF(OR(COUNTA(O3473:O3502)>0,COUNTA(O3502:$O$5195)>0),IF(COUNTIF(B3493:B3502,B3502)=10,B3502+7,B3502),\"\")","v":""},"","","",null,null,null,0,0,0,0,{"$f":"IFERROR(VLOOKUP(G3503,DropDowns!$D$2:$E$151,2,FALSE),\"\")","v":""},{"$f":"IFERROR(VLOOKUP(H3503,DropDowns!$F$2:$G$7,2,FALSE),\"Residual categories\")","v":"Residual categories"},null,null,null,0,0,0]
[0,{"$f":"IF(OR(COUNTA(O3475:O3504)>0,COUNTA(O3504:$O$5195)>0),IF(COUNTIF(B3495:B3504,B3504)=10,B3504+7,B3504),\"\")","v":""},"","","",null,null,null,0,0,0,0,{"$f":"IFERROR(VLOOKUP(G3505,DropDowns!$D$2:$E$151,2,FALSE),\"\")","v":""},{"$f":"IFERROR(VLOOKUP(H3505,DropDowns!$F$2:$G$7,2,FALSE),\"Residual categories\")","v":"Residual categories"},null,null,null,0,0,0]
[0,{"$f":"IF(OR(COUNTA(O3476:O3505)>0,COUNTA(O3505:$O$5195)>0),IF(COUNTIF(B3496:B3505,B3505)=10,B3505+7,B3505),\"\")","v":""},"","","",null,null,null,0,0,0,0,{"$f":"IFERROR(VLOOKUP(G3506,DropDowns!$D$2:$E$151,2,FALSE),\"\")","v":""},{"$f":"IFERROR(VLOOKUP(H3506,DropDowns!$F$2:$G$7,2,FALSE),\"Residual categories\")","v":"Residual categories"},null,null,null,0,0,0]
[0,{"$f":"IF(OR(COUNTA(O3477:O3506)>0,COUNTA(O3506:$O$5195)>0),IF(COUNTIF(B3497:B3506,B3506)=10,B3506+7,B3506),\"\")","v":""},"","","",null,null,null,0,0,0,0,{"$f":"IFERROR(VLOOKUP(G3507,DropDowns!$D$2:$E$151,2,FALSE),\"\")","v":""},{"$f":"IFERROR(VLOOKUP(H3507,DropDowns!$F$2:$G$7,2,FALSE),\"Residual categories\")","v":"Residual categories"},null,null,null,0,0,0]
[0,{"$f":"IF(OR(COUNTA(O3478:O3507)>0,COUNTA(O3507:$O$5195)>0),IF(COUNTIF(B3498:B3507,B3507)=10,B3507+7,B3507),\"\")","v":""},"","","",null,null,null,0,0,0,0,{"$f":"IFERROR(VLOOKUP(G3508,DropDowns!$D$2:$E$151,2,FALSE),\"\")","v":""},{"$f":"IFERROR(VLOOKUP(H3508,DropDowns!$F$2:$G$7,2,FALSE),\"Residual categories\")","v":"Residual categories"},null,null,null,0,0,0]
[0,{"$f":"IF(OR(COUNTA(O3480:O3509)>0,COUNTA(O3509:$O$5195)>0),IF(COUNTIF(B3500:B3509,B3509)=10,B3509+7,B3509),\"\")","v":""},"","","",null,null,null,0,0,0,0,{"$f":"IFERROR(VLOOKUP(G3510,DropDowns!$D$2:$E$151,2,FALSE),\"\")","v":""},{"$f":"IFERROR(VLOOKUP(H3510,DropDowns!$F$2:$G$7,2,FALSE),\"Residual categories\")","v":"Residual categories"},null,null,null,0,0,0]
[0,{"$f":"IF(OR(COUNTA(O3481:O3510)>0,COUNTA(O3510:$O$5195)>0),IF(COUNTIF(B3501:B3510,B3510)=10,B3510+7,B3510),\"\")","v":""},"","","",null,null,null,0,0,0,0,{"$f":"IFERROR(VLOOKUP(G3511,DropDowns!$D$2:$E$151,2,FALSE),\"\")","v":""},{"$f":"IFERROR(VLOOKUP(H3511,DropDowns!$F$2:$G$7,2,FALSE),\"Residual categories\")","v":"Residual categories"},null,null,null,0,0,0]
[0,{"$f":"IF(OR(COUNTA(O3483:O3512)>0,COUNTA(O3512:$O$5195)>0),IF(COUNTIF(B3503:B3512,B3512)=10,B3512+7,B3512),\"\")","v":""},"","","",null,null,null,0,0,0,0,{"$f":"IFERROR(VLOOKUP(G3513,DropDowns!$D$2:$E$151,2,FALSE),\"\")","v":""},{"$f":"IFERROR(VLOOKUP(H3513,DropDowns!$F$2:$G$7,2,FALSE),\"Residual categories\")","v":"Residual categories"},null,null,null,0,0,0]
[0,{"$f":"IF(OR(COUNTA(O3484:O3513)>0,COUNTA(O3513:$O$5195)>0),IF(COUNTIF(B3504:B3513,B3513)=10,B3513+7,B3513),\"\")","v":""},"","","",null,null,null,0,0,0,0,{"$f":"IFERROR(VLOOKUP(G3514,DropDowns!$D$2:$E$151,2,FALSE),\"\")","v":""},{"$f":"IFERROR(VLOOKUP(H3514,DropDowns!$F$2:$G$7,2,FALSE),\"Residual categories\")","v":"Residual categories"},null,null,null,0,0,0]
[0,{"$f":"IF(OR(COUNTA(O3485:O3514)>0,COUNTA(O3514:$O$5195)>0),IF(COUNTIF(B3505:B3514,B3514)=10,B3514+7,B3514),\"\")","v":""},"","","",null,null,null,0,0,0,0,{"$f":"IFERROR(VLOOKUP(G3515,DropDowns!$D$2:$E$151,2,FALSE),\"\")","v":""},{"$f":"IFERROR(VLOOKUP(H3515,DropDowns!$F$2:$G$7,2,FALSE),\"Residual categories\")","v":"Residual categories"},null,null,null,0,0,0]
[0,{"$f":"IF(OR(COUNTA(O3486:O3515)>0,COUNTA(O3515:$O$5195)>0),IF(COUNTIF(B3506:B3515,B3515)=10,B3515+7,B3515),\"\")","v":""},"","","",null,null,null,0,0,0,0,{"$f":"IFERROR(VLOOKUP(G3516,DropDowns!$D$2:$E$151,2,FALSE),\"\")","v":""},{"$f":"IFERROR(VLOOKUP(H3516,DropDowns!$F$2:$G$7,2,FALSE),\"Residual categories\")","v":"Residual categories"},null,null,null,0,0,0]
[0,{"$f":"IF(OR(COUNTA(O3488:O3517)>0,COUNTA(O3517:$O$5195)>0),IF(COUNTIF(B3508:B3517,B3517)=10,B3517+7,B3517),\"\")","v":""},"","","",null,null,null,0,0,0,0,{"$f":"IFERROR(VLOOKUP(G3518,DropDowns!$D$2:$E$151,2,FALSE),\"\")","v":""},{"$f":"IFERROR(VLOOKUP(H3518,DropDowns!$F$2:$G$7,2,FALSE),\"Residual categories\")","v":"Residual categories"},null,null,null,0,0,0]
[0,{"$f":"IF(OR(COUNTA(O3489:O3518)>0,COUNTA(O3518:$O$5195)>0),IF(COUNTIF(B3509:B3518,B3518)=10,B3518+7,B3518),\"\")","v":""},"","","",null,null,null,0,0,0,0,{"$f":"IFERROR(VLOOKUP(G3519,DropDowns!$D$2:$E$151,2,FALSE),\"\")","v":""},{"$f":"IFERROR(VLOOKUP(H3519,DropDowns!$F$2:$G$7,2,FALSE),\"Residual categories\")","v":"Residual categories"},null,null,null,0,0,0]
[0,{"$f":"IF(OR(COUNTA(O3491:O3520)>0,COUNTA(O3520:$O$5195)>0),IF(COUNTIF(B3511:B3520,B3520)=10,B3520+7,B3520),\"\")","v":""},"","","",null,null,null,0,0,0,0,{"$f":"IFERROR(VLOOKUP(G3521,DropDowns!$D$2:$E$151,2,FALSE),\"\")","v":""},{"$f":"IFERROR(VLOOKUP(H3521,DropDowns!$F$2:$G$7,2,FALSE),\"Residual categories\")","v":"Residual categories"},null,null,null,0,0,0]
[0,{"$f":"IF(OR(COUNTA(O3492:O3521)>0,COUNTA(O3521:$O$5195)>0),IF(COUNTIF(B3512:B3521,B3521)=10,B3521+7,B3521),\"\")","v":""},"","","",null,null,null,0,0,0,0,{"$f":"IFERROR(VLOOKUP(G3522,DropDowns!$D$2:$E$151,2,FALSE),\"\")","v":""},{"$f":"IFERROR(VLOOKUP(H3522,DropDowns!$F$2:$G$7,2,FALSE),\"Residual categories\")","v":"Residual categories"},null,null,null,0,0,0]
[0,{"$f":"IF(OR(COUNTA(O3494:O3523)>0,COUNTA(O3523:$O$5195)>0),IF(COUNTIF(B3514:B3523,B3523)=10,B3523+7,B3523),\"\")","v":""},"","","",null,null,null,0,0,0,0,{"$f":"IFERROR(VLOOKUP(G3524,DropDowns!$D$2:$E$151,2,FALSE),\"\")","v":""},{"$f":"IFERROR(VLOOKUP(H3524,DropDowns!$F$2:$G$7,2,FALSE),\"Residual categories\")","v":"Residual categories"},null,null,null,0,0,0]
[0,{"$f":"IF(OR(COUNTA(O3495:O3524)>0,COUNTA(O3524:$O$5195)>0),IF(COUNTIF(B3515:B3524,B3524)=10,B3524+7,B3524),\"\")","v":""},"","","",null,null,null,0,0,0,0,{"$f":"IFERROR(VLOOKUP(G3525,DropDowns!$D$2:$E$151,2,FALSE),\"\")","v":""},{"$f":"IFERROR(VLOOKUP(H3525,DropDowns!$F$2:$G$7,2,FALSE),\"Residual categories\")","v":"Residual categories"},null,null,null,0,0,0]
[0,{"$f":"IF(OR(COUNTA(O3496:O3525)>0,COUNTA(O3525:$O$5195)>0),IF(COUNTIF(B3516:B3525,B3525)=10,B3525+7,B3525),\"\")","v":""},"","","",null,null,null,0,0,0,0,{"$f":"IFERROR(VLOOKUP(G3526,DropDowns!$D$2:$E$151,2,FALSE),\"\")","v":""},{"$f":"IFERROR(VLOOKUP(H3526,DropDowns!$F$2:$G$7,2,FALSE),\"Residual categories\")","v":"Residual categories"},null,null,null,0,0,0]
[0,{"$f":"IF(OR(COUNTA(O3497:O3526)>0,COUNTA(O3526:$O$5195)>0),IF(COUNTIF(B3517:B3526,B3526)=10,B3526+7,B3526),\"\")","v":""},{"$f":"IF(D3527=1,A3527,\"\")","v":""},"","",null,null,null,{"$f":"IF(COUNTA(O3527:Q3527)>0,1,0)","v":0},{"$f":"IF(O3527=\"y\",1,0)","v":0},{"$f":"IF(P3527=\"y\",1,0)","v":0},{"$f":"IF(Q3527=\"y\",1,0)","v":0},{"$f":"IFERROR(VLOOKUP(G3527,DropDowns!$D$2:$E$151,2,FALSE),\"\")","v":""},{"$f":"IFERROR(VLOOKUP(H3527,DropDowns!$F$2:$G$7,2,FALSE),\"Residual categories\")","v":"Residual categories"},null,null,null,{"$f":"IF(O3527=\"yes\",1,0)","v":0},{"$f":"IF(P3527=\"yes\",1,0)","v":0},{"$f":"IF(Q3527=\"yes\",1,0)","v":0}]
[0,{"$f":"IF(OR(COUNTA(O3499:O3528)>0,COUNTA(O3528:$O$5195)>0),IF(COUNTIF(B3519:B3528,B3528)=10,B3528+7,B3528),\"\")","v":""},"","","",null,null,null,0,0,0,0,{"$f":"IFERROR(VLOOKUP(G3529,DropDowns!$D$2:$E$151,2,FALSE),\"\")","v":""},{"$f":"IFERROR(VLOOKUP(H3529,DropDowns!$F$2:$G$7,2,FALSE),\"Residual categories\")","v":"Residual categories"},null,null,null,0,0,0]
[0,{"$f":"IF(OR(COUNTA(O3500:O3529)>0,COUNTA(O3529:$O$5195)>0),IF(COUNTIF(B3520:B3529,B3529)=10,B3529+7,B3529),\"\")","v":""},"","","",null,null,null,0,0,0,0,{"$f":"IFERROR(VLOOKUP(G3530,DropDowns!$D$2:$E$151,2,FALSE),\"\")","v":""},{"$f":"IFERROR(VLOOKUP(H3530,DropDowns!$F$2:$G$7,2,FALSE),\"Residual categories\")","v":"Residual categories"},null,null,null,0,0,0]
[0,{"$f":"IF(OR(COUNTA(O3502:O3531)>0,COUNTA(O3531:$O$5195)>0),IF(COUNTIF(B3522:B3531,B3531)=10,B3531+7,B3531),\"\")","v":""},"","","",null,null,null,0,0,0,0,{"$f":"IFERROR(VLOOKUP(G3532,DropDowns!$D$2:$E$151,2,FALSE),\"\")","v":""},{"$f":"IFERROR(VLOOKUP(H3532,DropDowns!$F$2:$G$7,2,FALSE),\"Residual categories\")","v":"Residual categories"},null,null,null,0,0,0]
[0,{"$f":"IF(OR(COUNTA(O3503:O3532)>0,COUNTA(O3532:$O$5195)>0),IF(COUNTIF(B3523:B3532,B3532)=10,B3532+7,B3532),\"\")","v":""},"","","",null,null,null,0,0,0,0,{"$f":"IFERROR(VLOOKUP(G3533,DropDowns!$D$2:$E$151,2,FALSE),\"\")","v":""},{"$f":"IFERROR(VLOOKUP(H3533,DropDowns!$F$2:$G$7,2,FALSE),\"Residual categories\")","v":"Residual categories"},null,null,null,0,0,0]
[0,{"$f":"IF(OR(COUNTA(O3504:O3533)>0,COUNTA(O3533:$O$5195)>0),IF(COUNTIF(B3524:B3533,B3533)=10,B3533+7,B3533),\"\")","v":""},"","","",null,null,null,0,0,0,0,{"$f":"IFERROR(VLOOKUP(G3534,DropDowns!$D$2:$E$151,2,FALSE),\"\")","v":""},{"$f":"IFERROR(VLOOKUP(H3534,DropDowns!$F$2:$G$7,2,FALSE),\"Residual categories\")","v":"Residual categories"},null,null,null,0,0,0]
[0,{"$f":"IF(OR(COUNTA(O3505:O3534)>0,COUNTA(O3534:$O$5195)>0),IF(COUNTIF(B3525:B3534,B3534)=10,B3534+7,B3534),\"\")","v":""},"","","",null,null,null,0,0,0,0,{"$f":"IFERROR(VLOOKUP(G3535,DropDowns!$D$2:$E$151,2,FALSE),\"\")","v":""},{"$f":"IFERROR(VLOOKUP(H3535,DropDowns!$F$2:$G$7,2,FALSE),\"Residual categories\")","v":"Residual categories"},null,null,null,0,0,0]
[0,{"$f":"IF(OR(COUNTA(O3507:O3536)>0,COUNTA(O3536:$O$5195)>0),IF(COUNTIF(B3527:B3536,B3536)=10,B3536+7,B3536),\"\")","v":""},"","",{"$f":"IF(B3537=\"\",\"\",COUNTIF(B3528:B3537,B3537))","v":""},null,null,null,0,0,0,0,{"$f":"IFERROR(VLOOKUP(G3537,DropDowns!$D$2:$E$151,2,FALSE),\"\")","v":""},{"$f":"IFERROR(VLOOKUP(H3537,DropDowns!$F$2:$G$7,2,FALSE),\"Residual categories\")","v":"Residual categories"},null,null,null,0,0,0]
[0,{"$f":"IF(OR(COUNTA(O3508:O3537)>0,COUNTA(O3537:$O$5195)>0),IF(COUNTIF(B3528:B3537,B3537)=10,B3537+7,B3537),\"\")","v":""},"","","",null,null,null,0,0,0,0,{"$f":"IFERROR(VLOOKUP(G3538,DropDowns!$D$2:$E$151,2,FALSE),\"\")","v":""},{"$f":"IFERROR(VLOOKUP(H3538,DropDowns!$F$2:$G$7,2,FALSE),\"Residual categories\")","v":"Residual categories"},null,null,null,0,0,0]
[{"$f":"$E$2","v":0},{"$f":"IF(OR(COUNTA(O3510:O3539)>0,COUNTA(O3539:$O$5195)>0),IF(COUNTIF(B3530:B3539,B3539)=10,B3539+7,B3539),\"\")","v":""},"","","",null,null,null,0,0,0,0,{"$f":"IFERROR(VLOOKUP(G3540,DropDowns!$D$2:$E$151,2,FALSE),\"\")","v":""},{"$f":"IFERROR(VLOOKUP(H3540,DropDowns!$F$2:$G$7,2,FALSE),\"Residual categories\")","v":"Residual categories"},null,null,null,0,0,0]
[0,{"$f":"IF(OR(COUNTA(O3511:O3540)>0,COUNTA(O3540:$O$5195)>0),IF(COUNTIF(B3531:B3540,B3540)=10,B3540+7,B3540),\"\")","v":""},"","","",null,null,null,0,0,0,0,{"$f":"IFERROR(VLOOKUP(G3541,DropDowns!$D$2:$E$151,2,FALSE),\"\")","v":""},{"$f":"IFERROR(VLOOKUP(H3541,DropDowns!$F$2:$G$7,2,FALSE),\"Residual categories\")","v":"Residual categories"},null,null,null,0,0,0]
[0,{"$f":"IF(OR(COUNTA(O3512:O3541)>0,COUNTA(O3541:$O$5195)>0),IF(COUNTIF(B3532:B3541,B3541)=10,B3541+7,B3541),\"\")","v":""},"","","",null,null,null,0,0,0,0,{"$f":"IFERROR(VLOOKUP(G3542,DropDowns!$D$2:$E$151,2,FALSE),\"\")","v":""},{"$f":"IFERROR(VLOOKUP(H3542,DropDowns!$F$2:$G$7,2,FALSE),\"Residual categories\")","v":"Residual categories"},null,null,null,0,0,0]
[0,{"$f":"IF(OR(COUNTA(O3513:O3542)>0,COUNTA(O3542:$O$5195)>0),IF(COUNTIF(B3533:B3542,B3542)=10,B3542+7,B3542),\"\")","v":""},"","","",null,null,null,0,0,0,0,{"$f":"IFERROR(VLOOKUP(G3543,DropDowns!$D$2:$E$151,2,FALSE),\"\")","v":""},{"$f":"IFERROR(VLOOKUP(H3543,DropDowns!$F$2:$G$7,2,FALSE),\"Residual categories\")","v":"Residual categories"},null,null,null,0,0,0]
[0,{"$f":"IF(OR(COUNTA(O3515:O3544)>0,COUNTA(O3544:$O$5195)>0),IF(COUNTIF(B3535:B3544,B3544)=10,B3544+7,B3544),\"\")","v":""},"","","",null,null,null,0,0,0,0,{"$f":"IFERROR(VLOOKUP(G3545,DropDowns!$D$2:$E$151,2,FALSE),\"\")","v":""},{"$f":"IFERROR(VLOOKUP(H3545,DropDowns!$F$2:$G$7,2,FALSE),\"Residual categories\")","v":"Residual categories"},null,null,null,0,0,0]
[0,{"$f":"IF(OR(COUNTA(O3516:O3545)>0,COUNTA(O3545:$O$5195)>0),IF(COUNTIF(B3536:B3545,B3545)=10,B3545+7,B3545),\"\")","v":""},"","","",null,null,null,0,0,0,0,{"$f":"IFERROR(VLOOKUP(G3546,DropDowns!$D$2:$E$151,2,FALSE),\"\")","v":""},{"$f":"IFERROR(VLOOKUP(H3546,DropDowns!$F$2:$G$7,2,FALSE),\"Residual categories\")","v":"Residual categories"},null,null,null,0,0,0]
[0,{"$f":"IF(OR(COUNTA(O3518:O3547)>0,COUNTA(O3547:$O$5195)>0),IF(COUNTIF(B3538:B3547,B3547)=10,B3547+7,B3547),\"\")","v":""},"","","",null,null,null,0,0,0,0,{"$f":"IFERROR(VLOOKUP(G3548,DropDowns!$D$2:$E$151,2,FALSE),\"\")","v":""},{"$f":"IFERROR(VLOOKUP(H3548,DropDowns!$F$2:$G$7,2,FALSE),\"Residual categories\")","v":"Residual categories"},null,null,null,0,0,0]
[0,{"$f":"IF(OR(COUNTA(O3519:O3548)>0,COUNTA(O3548:$O$5195)>0),IF(COUNTIF(B3539:B3548,B3548)=10,B3548+7,B3548),\"\")","v":""},"","","",null,null,null,0,0,0,0,{"$f":"IFERROR(VLOOKUP(G3549,DropDowns!$D$2:$E$151,2,FALSE),\"\")","v":""},{"$f":"IFERROR(VLOOKUP(H3549,DropDowns!$F$2:$G$7,2,FALSE),\"Residual categories\")","v":"Residual categories"},null,null,null,0,0,0]
[0,{"$f":"IF(OR(COUNTA(O3520:O3549)>0,COUNTA(O3549:$O$5195)>0),IF(COUNTIF(B3540:B3549,B3549)=10,B3549+7,B3549),\"\")","v":""},"","","",null,null,null,0,0,0,0,{"$f":"IFERROR(VLOOKUP(G3550,DropDowns!$D$2:$E$151,2,FALSE),\"\")","v":""},{"$f":"IFERROR(VLOOKUP(H3550,DropDowns!$F$2:$G$7,2,FALSE),\"Residual categories\")","v":"Residual categories"},null,null,null,0,0,0]
[0,{"$f":"IF(OR(COUNTA(O3521:O3550)>0,COUNTA(O3550:$O$5195)>0),IF(COUNTIF(B3541:B3550,B3550)=10,B3550+7,B3550),\"\")","v":""},"","","",null,null,null,0,0,0,0,{"$f":"IFERROR(VLOOKUP(G3551,DropDowns!$D$2:$E$151,2,FALSE),\"\")","v":""},{"$f":"IFERROR(VLOOKUP(H3551,DropDowns!$F$2:$G$7,2,FALSE),\"Residual categories\")","v":"Residual categories"},null,null,null,0,0,0]
[0,{"$f":"IF(OR(COUNTA(O3523:O3552)>0,COUNTA(O3552:$O$5195)>0),IF(COUNTIF(B3543:B3552,B3552)=10,B3552+7,B3552),\"\")","v":""},"","","",null,null,null,0,0,0,0,{"$f":"IFERROR(VLOOKUP(G3553,DropDowns!$D$2:$E$151,2,FALSE),\"\")","v":""},{"$f":"IFERROR(VLOOKUP(H3553,DropDowns!$F$2:$G$7,2,FALSE),\"Residual categories\")","v":"Residual categories"},null,null,null,0,0,0]
[0,{"$f":"IF(OR(COUNTA(O3524:O3553)>0,COUNTA(O3553:$O$5195)>0),IF(COUNTIF(B3544:B3553,B3553)=10,B3553+7,B3553),\"\")","v":""},"","","",null,null,null,0,0,0,0,{"$f":"IFERROR(VLOOKUP(G3554,DropDowns!$D$2:$E$151,2,FALSE),\"\")","v":""},{"$f":"IFERROR(VLOOKUP(H3554,DropDowns!$F$2:$G$7,2,FALSE),\"Residual categories\")","v":"Residual categories"},null,null,null,0,0,0]
[0,{"$f":"IF(OR(COUNTA(O3526:O3555)>0,COUNTA(O3555:$O$5195)>0),IF(COUNTIF(B3546:B3555,B3555)=10,B3555+7,B3555),\"\")","v":""},"","","",null,null,null,0,0,0,0,{"$f":"IFERROR(VLOOKUP(G3556,DropDowns!$D$2:$E$151,2,FALSE),\"\")","v":""},{"$f":"IFERROR(VLOOKUP(H3556,DropDowns!$F$2:$G$7,2,FALSE),\"Residual categories\")","v":"Residual categories"},null,null,null,0,0,0]
[0,{"$f":"IF(OR(COUNTA(O3527:O3556)>0,COUNTA(O3556:$O$5195)>0),IF(COUNTIF(B3547:B3556,B3556)=10,B3556+7,B3556),\"\")","v":""},"","","",null,null,null,0,0,0,0,{"$f":"IFERROR(VLOOKUP(G3557,DropDowns!$D$2:$E$151,2,FALSE),\"\")","v":""},{"$f":"IFERROR(VLOOKUP(H3557,DropDowns!$F$2:$G$7,2,FALSE),\"Residual categories\")","v":"Residual categories"},null,null,null,0,0,0]
[0,{"$f":"IF(OR(COUNTA(O3529:O3558)>0,COUNTA(O3558:$O$5195)>0),IF(COUNTIF(B3549:B3558,B3558)=10,B3558+7,B3558),\"\")","v":""},"","","",null,null,null,0,0,0,0,{"$f":"IFERROR(VLOOKUP(G3559,DropDowns!$D$2:$E$151,2,FALSE),\"\")","v":""},{"$f":"IFERROR(VLOOKUP(H3559,DropDowns!$F$2:$G$7,2,FALSE),\"Residual categories\")","v":"Residual categories"},null,null,null,0,0,0]
[0,{"$f":"IF(OR(COUNTA(O3530:O3559)>0,COUNTA(O3559:$O$5195)>0),IF(COUNTIF(B3550:B3559,B3559)=10,B3559+7,B3559),\"\")","v":""},"","","",null,null,null,0,0,0,0,{"$f":"IFERROR(VLOOKUP(G3560,DropDowns!$D$2:$E$151,2,FALSE),\"\")","v":""},{"$f":"IFERROR(VLOOKUP(H3560,DropDowns!$F$2:$G$7,2,FALSE),\"Residual categories\")","v":"Residual categories"},null,null,null,0,0,0]
[0,{"$f":"IF(OR(COUNTA(O3531:O3560)>0,COUNTA(O3560:$O$5195)>0),IF(COUNTIF(B3551:B3560,B3560)=10,B3560+7,B3560),\"\")","v":""},"","","",null,null,null,0,0,0,0,{"$f":"IFERROR(VLOOKUP(G3561,DropDowns!$D$2:$E$151,2,FALSE),\"\")","v":""},{"$f":"IFERROR(VLOOKUP(H3561,DropDowns!$F$2:$G$7,2,FALSE),\"Residual categories\")","v":"Residual categories"},null,null,null,0,0,0]
[0,{"$f":"IF(OR(COUNTA(O3532:O3561)>0,COUNTA(O3561:$O$5195)>0),IF(COUNTIF(B3552:B3561,B3561)=10,B3561+7,B3561),\"\")","v":""},"","","",null,null,null,0,0,0,0,{"$f":"IFERROR(VLOOKUP(G3562,DropDowns!$D$2:$E$151,2,FALSE),\"\")","v":""},{"$f":"IFERROR(VLOOKUP(H3562,DropDowns!$F$2:$G$7,2,FALSE),\"Residual categories\")","v":"Residual categories"},null,null,null,0,0,0]
[0,{"$f":"IF(OR(COUNTA(O3534:O3563)>0,COUNTA(O3563:$O$5195)>0),IF(COUNTIF(B3554:B3563,B3563)=10,B3563+7,B3563),\"\")","v":""},"","","",null,null,null,0,0,0,0,{"$f":"IFERROR(VLOOKUP(G3564,DropDowns!$D$2:$E$151,2,FALSE),\"\")","v":""},{"$f":"IFERROR(VLOOKUP(H3564,DropDowns!$F$2:$G$7,2,FALSE),\"Residual categories\")","v":"Residual categories"},null,null,null,0,0,0]
[0,{"$f":"IF(OR(COUNTA(O3535:O3564)>0,COUNTA(O3564:$O$5195)>0),IF(COUNTIF(B3555:B3564,B3564)=10,B3564+7,B3564),\"\")","v":""},"","","",null,null,null,0,0,0,0,{"$f":"IFERROR(VLOOKUP(G3565,DropDowns!$D$2:$E$151,2,FALSE),\"\")","v":""},{"$f":"IFERROR(VLOOKUP(H3565,DropDowns!$F$2:$G$7,2,FALSE),\"Residual categories\")","v":"Residual categories"},null,null,null,0,0,0]
[0,{"$f":"IF(OR(COUNTA(O3537:O3566)>0,COUNTA(O3566:$O$5195)>0),IF(COUNTIF(B3557:B3566,B3566)=10,B3566+7,B3566),\"\")","v":""},"","","",null,null,null,0,0,0,0,{"$f":"IFERROR(VLOOKUP(G3567,DropDowns!$D$2:$E$151,2,FALSE),\"\")","v":""},{"$f":"IFERROR(VLOOKUP(H3567,DropDowns!$F$2:$G$7,2,FALSE),\"Residual categories\")","v":"Residual categories"},null,null,null,0,0,0]
[0,{"$f":"IF(OR(COUNTA(O3538:O3567)>0,COUNTA(O3567:$O$5195)>0),IF(COUNTIF(B3558:B3567,B3567)=10,B3567+7,B3567),\"\")","v":""},"","","",null,null,null,0,0,0,0,{"$f":"IFERROR(VLOOKUP(G3568,DropDowns!$D$2:$E$151,2,FALSE),\"\")","v":""},{"$f":"IFERROR(VLOOKUP(H3568,DropDowns!$F$2:$G$7,2,FALSE),\"Residual categories\")","v":"Residual categories"},null,null,null,0,0,0]
[0,{"$f":"IF(OR(COUNTA(O3539:O3568)>0,COUNTA(O3568:$O$5195)>0),IF(COUNTIF(B3559:B3568,B3568)=10,B3568+7,B3568),\"\")","v":""},"","","",null,null,null,0,0,0,0,{"$f":"IFERROR(VLOOKUP(G3569,DropDowns!$D$2:$E$151,2,FALSE),\"\")","v":""},{"$f":"IFERROR(VLOOKUP(H3569,DropDowns!$F$2:$G$7,2,FALSE),\"Residual categories\")","v":"Residual categories"},null,null,null,0,0,0]
[0,{"$f":"IF(OR(COUNTA(O3540:O3569)>0,COUNTA(O3569:$O$5195)>0),IF(COUNTIF(B3560:B3569,B3569)=10,B3569+7,B3569),\"\")","v":""},"","","",null,null,null,0,0,0,0,{"$f":"IFERROR(VLOOKUP(G3570,DropDowns!$D$2:$E$151,2,FALSE),\"\")","v":""},{"$f":"IFERROR(VLOOKUP(H3570,DropDowns!$F$2:$G$7,2,FALSE),\"Residual categories\")","v":"Residual categories"},null,null,null,0,0,0]
[0,{"$f":"IF(OR(COUNTA(O3542:O3571)>0,COUNTA(O3571:$O$5195)>0),IF(COUNTIF(B3562:B3571,B3571)=10,B3571+7,B3571),\"\")","v":""},"","","",null,null,null,0,0,0,0,{"$f":"IFERROR(VLOOKUP(G3572,DropDowns!$D$2:$E$151,2,FALSE),\"\")","v":""},{"$f":"IFERROR(VLOOKUP(H3572,DropDowns!$F$2:$G$7,2,FALSE),\"Residual categories\")","v":"Residual categories"},null,null,null,0,0,0]
[0,{"$f":"IF(OR(COUNTA(O3543:O3572)>0,COUNTA(O3572:$O$5195)>0),IF(COUNTIF(B3563:B3572,B3572)=10,B3572+7,B3572),\"\")","v":""},"","","",null,null,null,0,0,0,0,{"$f":"IFERROR(VLOOKUP(G3573,DropDowns!$D$2:$E$151,2,FALSE),\"\")","v":""},{"$f":"IFERROR(VLOOKUP(H3573,DropDowns!$F$2:$G$7,2,FALSE),\"Residual categories\")","v":"Residual categories"},null,null,null,0,0,0]
[0,{"$f":"IF(OR(COUNTA(O3545:O3574)>0,COUNTA(O3574:$O$5195)>0),IF(COUNTIF(B3565:B3574,B3574)=10,B3574+7,B3574),\"\")","v":""},"","","",null,null,null,0,0,0,0,{"$f":"IFERROR(VLOOKUP(G3575,DropDowns!$D$2:$E$151,2,FALSE),\"\")","v":""},{"$f":"IFERROR(VLOOKUP(H3575,DropDowns!$F$2:$G$7,2,FALSE),\"Residual categories\")","v":"Residual categories"},null,null,null,0,0,0]
[0,{"$f":"IF(OR(COUNTA(O3546:O3575)>0,COUNTA(O3575:$O$5195)>0),IF(COUNTIF(B3566:B3575,B3575)=10,B3575+7,B3575),\"\")","v":""},"","","",null,null,null,0,0,0,0,{"$f":"IFERROR(VLOOKUP(G3576,DropDowns!$D$2:$E$151,2,FALSE),\"\")","v":""},{"$f":"IFERROR(VLOOKUP(H3576,DropDowns!$F$2:$G$7,2,FALSE),\"Residual categories\")","v":"Residual categories"},null,null,null,0,0,0]
[0,{"$f":"IF(OR(COUNTA(O3547:O3576)>0,COUNTA(O3576:$O$5195)>0),IF(COUNTIF(B3567:B3576,B3576)=10,B3576+7,B3576),\"\")","v":""},"","","",null,null,null,0,0,0,0,{"$f":"IFERROR(VLOOKUP(G3577,DropDowns!$D$2:$E$151,2,FALSE),\"\")","v":""},{"$f":"IFERROR(VLOOKUP(H3577,DropDowns!$F$2:$G$7,2,FALSE),\"Residual categories\")","v":"Residual categories"},null,null,null,0,0,0]
[0,{"$f":"IF(OR(COUNTA(O3548:O3577)>0,COUNTA(O3577:$O$5195)>0),IF(COUNTIF(B3568:B3577,B3577)=10,B3577+7,B3577),\"\")","v":""},"","","",null,null,null,0,0,0,0,{"$f":"IFERROR(VLOOKUP(G3578,DropDowns!$D$2:$E$151,2,FALSE),\"\")","v":""},{"$f":"IFERROR(VLOOKUP(H3578,DropDowns!$F$2:$G$7,2,FALSE),\"Residual categories\")","v":"Residual categories"},null,null,null,0,0,0]
[0,{"$f":"IF(OR(COUNTA(O3550:O3579)>0,COUNTA(O3579:$O$5195)>0),IF(COUNTIF(B3570:B3579,B3579)=10,B3579+7,B3579),\"\")","v":""},"","","",null,null,null,0,0,0,0,{"$f":"IFERROR(VLOOKUP(G3580,DropDowns!$D$2:$E$151,2,FALSE),\"\")","v":""},{"$f":"IFERROR(VLOOKUP(H3580,DropDowns!$F$2:$G$7,2,FALSE),\"Residual categories\")","v":"Residual categories"},null,null,null,0,0,0]
[0,{"$f":"IF(OR(COUNTA(O3551:O3580)>0,COUNTA(O3580:$O$5195)>0),IF(COUNTIF(B3571:B3580,B3580)=10,B3580+7,B3580),\"\")","v":""},"","","",null,null,null,0,0,0,0,{"$f":"IFERROR(VLOOKUP(G3581,DropDowns!$D$2:$E$151,2,FALSE),\"\")","v":""},{"$f":"IFERROR(VLOOKUP(H3581,DropDowns!$F$2:$G$7,2,FALSE),\"Residual categories\")","v":"Residual categories"},null,null,null,0,0,0]
[0,{"$f":"IF(OR(COUNTA(O3553:O3582)>0,COUNTA(O3582:$O$5195)>0),IF(COUNTIF(B3573:B3582,B3582)=10,B3582+7,B3582),\"\")","v":""},"","","",null,null,null,0,0,0,0,{"$f":"IFERROR(VLOOKUP(G3583,DropDowns!$D$2:$E$151,2,FALSE),\"\")","v":""},{"$f":"IFERROR(VLOOKUP(H3583,DropDowns!$F$2:$G$7,2,FALSE),\"Residual categories\")","v":"Residual categories"},null,null,null,0,0,0]
[0,{"$f":"IF(OR(COUNTA(O3554:O3583)>0,COUNTA(O3583:$O$5195)>0),IF(COUNTIF(B3574:B3583,B3583)=10,B3583+7,B3583),\"\")","v":""},"","","",null,null,null,0,0,0,0,{"$f":"IFERROR(VLOOKUP(G3584,DropDowns!$D$2:$E$151,2,FALSE),\"\")","v":""},{"$f":"IFERROR(VLOOKUP(H3584,DropDowns!$F$2:$G$7,2,FALSE),\"Residual categories\")","v":"Residual categories"},null,null,null,0,0,0]
[0,{"$f":"IF(OR(COUNTA(O3556:O3585)>0,COUNTA(O3585:$O$5195)>0),IF(COUNTIF(B3576:B3585,B3585)=10,B3585+7,B3585),\"\")","v":""},"","","",null,null,null,0,0,0,0,{"$f":"IFERROR(VLOOKUP(G3586,DropDowns!$D$2:$E$151,2,FALSE),\"\")","v":""},{"$f":"IFERROR(VLOOKUP(H3586,DropDowns!$F$2:$G$7,2,FALSE),\"Residual categories\")","v":"Residual categories"},null,null,null,0,0,0]
[0,{"$f":"IF(OR(COUNTA(O3557:O3586)>0,COUNTA(O3586:$O$5195)>0),IF(COUNTIF(B3577:B3586,B3586)=10,B3586+7,B3586),\"\")","v":""},"","","",null,null,null,0,0,0,0,{"$f":"IFERROR(VLOOKUP(G3587,DropDowns!$D$2:$E$151,2,FALSE),\"\")","v":""},{"$f":"IFERROR(VLOOKUP(H3587,DropDowns!$F$2:$G$7,2,FALSE),\"Residual categories\")","v":"Residual categories"},null,null,null,0,0,0]
[0,{"$f":"IF(OR(COUNTA(O3558:O3587)>0,COUNTA(O3587:$O$5195)>0),IF(COUNTIF(B3578:B3587,B3587)=10,B3587+7,B3587),\"\")","v":""},"","","",null,null,null,0,0,0,0,{"$f":"IFERROR(VLOOKUP(G3588,DropDowns!$D$2:$E$151,2,FALSE),\"\")","v":""},{"$f":"IFERROR(VLOOKUP(H3588,DropDowns!$F$2:$G$7,2,FALSE),\"Residual categories\")","v":"Residual categories"},null,null,null,0,0,0]
[0,{"$f":"IF(OR(COUNTA(O3559:O3588)>0,COUNTA(O3588:$O$5195)>0),IF(COUNTIF(B3579:B3588,B3588)=10,B3588+7,B3588),\"\")","v":""},"","","",null,null,null,0,0,0,0,{"$f":"IFERROR(VLOOKUP(G3589,DropDowns!$D$2:$E$151,2,FALSE),\"\")","v":""},{"$f":"IFERROR(VLOOKUP(H3589,DropDowns!$F$2:$G$7,2,FALSE),\"Residual categories\")","v":"Residual categories"},null,null,null,0,0,0]
[0,{"$f":"IF(OR(COUNTA(O3561:O3590)>0,COUNTA(O3590:$O$5195)>0),IF(COUNTIF(B3581:B3590,B3590)=10,B3590+7,B3590),\"\")","v":""},{"$f":"IF(D3591=1,A3591,\"\")","v":""},"","",null,null,null,{"$f":"IF(COUNTA(O3591:Q3591)>0,1,0)","v":0},{"$f":"IF(O3591=\"y\",1,0)","v":0},{"$f":"IF(P3591=\"y\",1,0)","v":0},{"$f":"IF(Q3591=\"y\",1,0)","v":0},{"$f":"IFERROR(VLOOKUP(G3591,DropDowns!$D$2:$E$151,2,FALSE),\"\")","v":""},{"$f":"IFERROR(VLOOKUP(H3591,DropDowns!$F$2:$G$7,2,FALSE),\"Residual categories\")","v":"Residual categories"},null,null,null,{"$f":"IF(O3591=\"yes\",1,0)","v":0},{"$f":"IF(P3591=\"yes\",1,0)","v":0},{"$f":"IF(Q3591=\"yes\",1,0)","v":0}]
[0,{"$f":"IF(OR(COUNTA(O3562:O3591)>0,COUNTA(O3591:$O$5195)>0),IF(COUNTIF(B3582:B3591,B3591)=10,B3591+7,B3591),\"\")","v":""},"","","",null,null,null,0,0,0,0,{"$f":"IFERROR(VLOOKUP(G3592,DropDowns!$D$2:$E$151,2,FALSE),\"\")","v":""},{"$f":"IFERROR(VLOOKUP(H3592,DropDowns!$F$2:$G$7,2,FALSE),\"Residual categories\")","v":"Residual categories"},null,null,null,0,0,0]
[0,{"$f":"IF(OR(COUNTA(O3564:O3593)>0,COUNTA(O3593:$O$5195)>0),IF(COUNTIF(B3584:B3593,B3593)=10,B3593+7,B3593),\"\")","v":""},"","","",null,null,null,0,0,0,0,{"$f":"IFERROR(VLOOKUP(G3594,DropDowns!$D$2:$E$151,2,FALSE),\"\")","v":""},{"$f":"IFERROR(VLOOKUP(H3594,DropDowns!$F$2:$G$7,2,FALSE),\"Residual categories\")","v":"Residual categories"},null,null,null,0,0,0]
[0,{"$f":"IF(OR(COUNTA(O3565:O3594)>0,COUNTA(O3594:$O$5195)>0),IF(COUNTIF(B3585:B3594,B3594)=10,B3594+7,B3594),\"\")","v":""},"","","",null,null,null,0,0,0,0,{"$f":"IFERROR(VLOOKUP(G3595,DropDowns!$D$2:$E$151,2,FALSE),\"\")","v":""},{"$f":"IFERROR(VLOOKUP(H3595,DropDowns!$F$2:$G$7,2,FALSE),\"Residual categories\")","v":"Residual categories"},null,null,null,0,0,0]
[0,{"$f":"IF(OR(COUNTA(O3566:O3595)>0,COUNTA(O3595:$O$5195)>0),IF(COUNTIF(B3586:B3595,B3595)=10,B3595+7,B3595),\"\")","v":""},"","","",null,null,null,0,0,0,0,{"$f":"IFERROR(VLOOKUP(G3596,DropDowns!$D$2:$E$151,2,FALSE),\"\")","v":""},{"$f":"IFERROR(VLOOKUP(H3596,DropDowns!$F$2:$G$7,2,FALSE),\"Residual categories\")","v":"Residual categories"},null,null,null,0,0,0]
[0,{"$f":"IF(OR(COUNTA(O3567:O3596)>0,COUNTA(O3596:$O$5195)>0),IF(COUNTIF(B3587:B3596,B3596)=10,B3596+7,B3596),\"\")","v":""},"","","",null,null,null,0,0,0,0,{"$f":"IFERROR(VLOOKUP(G3597,DropDowns!$D$2:$E$151,2,FALSE),\"\")","v":""},{"$f":"IFERROR(VLOOKUP(H3597,DropDowns!$F$2:$G$7,2,FALSE),\"Residual categories\")","v":"Residual categories"},null,null,null,0,0,0]
[0,{"$f":"IF(OR(COUNTA(O3569:O3598)>0,COUNTA(O3598:$O$5195)>0),IF(COUNTIF(B3589:B3598,B3598)=10,B3598+7,B3598),\"\")","v":""},"","","",null,null,null,0,0,0,0,{"$f":"IFERROR(VLOOKUP(G3599,DropDowns!$D$2:$E$151,2,FALSE),\"\")","v":""},{"$f":"IFERROR(VLOOKUP(H3599,DropDowns!$F$2:$G$7,2,FALSE),\"Residual categories\")","v":"Residual categories"},null,null,null,0,0,0]
[0,{"$f":"IF(OR(COUNTA(O3570:O3599)>0,COUNTA(O3599:$O$5195)>0),IF(COUNTIF(B3590:B3599,B3599)=10,B3599+7,B3599),\"\")","v":""},"","","",null,null,null,0,0,0,0,{"$f":"IFERROR(VLOOKUP(G3600,DropDowns!$D$2:$E$151,2,FALSE),\"\")","v":""},{"$f":"IFERROR(VLOOKUP(H3600,DropDowns!$F$2:$G$7,2,FALSE),\"Residual categories\")","v":"Residual categories"},null,null,null,0,0,0]
[0,{"$f":"IF(OR(COUNTA(O3572:O3601)>0,COUNTA(O3601:$O$5195)>0),IF(COUNTIF(B3592:B3601,B3601)=10,B3601+7,B3601),\"\")","v":""},"","","",null,null,null,0,0,0,0,{"$f":"IFERROR(VLOOKUP(G3602,DropDowns!$D$2:$E$151,2,FALSE),\"\")","v":""},{"$f":"IFERROR(VLOOKUP(H3602,DropDowns!$F$2:$G$7,2,FALSE),\"Residual categories\")","v":"Residual categories"},null,null,null,0,0,0]
[0,{"$f":"IF(OR(COUNTA(O3573:O3602)>0,COUNTA(O3602:$O$5195)>0),IF(COUNTIF(B3593:B3602,B3602)=10,B3602+7,B3602),\"\")","v":""},"","","",null,null,null,0,0,0,0,{"$f":"IFERROR(VLOOKUP(G3603,DropDowns!$D$2:$E$151,2,FALSE),\"\")","v":""},{"$f":"IFERROR(VLOOKUP(H3603,DropDowns!$F$2:$G$7,2,FALSE),\"Residual categories\")","v":"Residual categories"},null,null,null,0,0,0]
[{"$f":"$E$2","v":0},{"$f":"IF(OR(COUNTA(O3574:O3603)>0,COUNTA(O3603:$O$5195)>0),IF(COUNTIF(B3594:B3603,B3603)=10,B3603+7,B3603),\"\")","v":""},"","","",null,null,null,0,0,0,0,{"$f":"IFERROR(VLOOKUP(G3604,DropDowns!$D$2:$E$151,2,FALSE),\"\")","v":""},{"$f":"IFERROR(VLOOKUP(H3604,DropDowns!$F$2:$G$7,2,FALSE),\"Residual categories\")","v":"Residual categories"},null,null,null,0,0,0]
[0,{"$f":"IF(OR(COUNTA(O3575:O3604)>0,COUNTA(O3604:$O$5195)>0),IF(COUNTIF(B3595:B3604,B3604)=10,B3604+7,B3604),\"\")","v":""},"","","",null,null,null,0,0,0,0,{"$f":"IFERROR(VLOOKUP(G3605,DropDowns!$D$2:$E$151,2,FALSE),\"\")","v":""},{"$f":"IFERROR(VLOOKUP(H3605,DropDowns!$F$2:$G$7,2,FALSE),\"Residual categories\")","v":"Residual categories"},null,null,null,0,0,0]
[0,{"$f":"IF(OR(COUNTA(O3577:O3606)>0,COUNTA(O3606:$O$5195)>0),IF(COUNTIF(B3597:B3606,B3606)=10,B3606+7,B3606),\"\")","v":""},"","","",null,null,null,0,0,0,0,{"$f":"IFERROR(VLOOKUP(G3607,DropDowns!$D$2:$E$151,2,FALSE),\"\")","v":""},{"$f":"IFERROR(VLOOKUP(H3607,DropDowns!$F$2:$G$7,2,FALSE),\"Residual categories\")","v":"Residual categories"},null,null,null,0,0,0]
[0,{"$f":"IF(OR(COUNTA(O3578:O3607)>0,COUNTA(O3607:$O$5195)>0),IF(COUNTIF(B3598:B3607,B3607)=10,B3607+7,B3607),\"\")","v":""},"","","",null,null,null,0,0,0,0,{"$f":"IFERROR(VLOOKUP(G3608,DropDowns!$D$2:$E$151,2,FALSE),\"\")","v":""},{"$f":"IFERROR(VLOOKUP(H3608,DropDowns!$F$2:$G$7,2,FALSE),\"Residual categories\")","v":"Residual categories"},null,null,null,0,0,0]
[0,{"$f":"IF(OR(COUNTA(O3580:O3609)>0,COUNTA(O3609:$O$5195)>0),IF(COUNTIF(B3600:B3609,B3609)=10,B3609+7,B3609),\"\")","v":""},"","","",null,null,null,0,0,0,0,{"$f":"IFERROR(VLOOKUP(G3610,DropDowns!$D$2:$E$151,2,FALSE),\"\")","v":""},{"$f":"IFERROR(VLOOKUP(H3610,DropDowns!$F$2:$G$7,2,FALSE),\"Residual categories\")","v":"Residual categories"},null,null,null,0,0,0]
[0,{"$f":"IF(OR(COUNTA(O3581:O3610)>0,COUNTA(O3610:$O$5195)>0),IF(COUNTIF(B3601:B3610,B3610)=10,B3610+7,B3610),\"\")","v":""},"","","",null,null,null,0,0,0,0,{"$f":"IFERROR(VLOOKUP(G3611,DropDowns!$D$2:$E$151,2,FALSE),\"\")","v":""},{"$f":"IFERROR(VLOOKUP(H3611,DropDowns!$F$2:$G$7,2,FALSE),\"Residual categories\")","v":"Residual categories"},null,null,null,0,0,0]
[0,{"$f":"IF(OR(COUNTA(O3582:O3611)>0,COUNTA(O3611:$O$5195)>0),IF(COUNTIF(B3602:B3611,B3611)=10,B3611+7,B3611),\"\")","v":""},"","","",null,null,null,0,0,0,0,{"$f":"IFERROR(VLOOKUP(G3612,DropDowns!$D$2:$E$151,2,FALSE),\"\")","v":""},{"$f":"IFERROR(VLOOKUP(H3612,DropDowns!$F$2:$G$7,2,FALSE),\"Residual categories\")","v":"Residual categories"},null,null,null,0,0,0]
[0,{"$f":"IF(OR(COUNTA(O3583:O3612)>0,COUNTA(O3612:$O$5195)>0),IF(COUNTIF(B3603:B3612,B3612)=10,B3612+7,B3612),\"\")","v":""},"","","",null,null,null,0,0,0,0,{"$f":"IFERROR(VLOOKUP(G3613,DropDowns!$D$2:$E$151,2,FALSE),\"\")","v":""},{"$f":"IFERROR(VLOOKUP(H3613,DropDowns!$F$2:$G$7,2,FALSE),\"Residual categories\")","v":"Residual categories"},null,null,null,0,0,0]
[0,{"$f":"IF(OR(COUNTA(O3585:O3614)>0,COUNTA(O3614:$O$5195)>0),IF(COUNTIF(B3605:B3614,B3614)=10,B3614+7,B3614),\"\")","v":""},"","","",null,null,null,0,0,0,0,{"$f":"IFERROR(VLOOKUP(G3615,DropDowns!$D$2:$E$151,2,FALSE),\"\")","v":""},{"$f":"IFERROR(VLOOKUP(H3615,DropDowns!$F$2:$G$7,2,FALSE),\"Residual categories\")","v":"Residual categories"},null,null,null,0,0,0]
[0,{"$f":"IF(OR(COUNTA(O3586:O3615)>0,COUNTA(O3615:$O$5195)>0),IF(COUNTIF(B3606:B3615,B3615)=10,B3615+7,B3615),\"\")","v":""},"","","",null,null,null,0,0,0,0,{"$f":"IFERROR(VLOOKUP(G3616,DropDowns!$D$2:$E$151,2,FALSE),\"\")","v":""},{"$f":"IFERROR(VLOOKUP(H3616,DropDowns!$F$2:$G$7,2,FALSE),\"Residual categories\")","v":"Residual categories"},null,null,null,0,0,0]
[0,{"$f":"IF(OR(COUNTA(O3588:O3617)>0,COUNTA(O3617:$O$5195)>0),IF(COUNTIF(B3608:B3617,B3617)=10,B3617+7,B3617),\"\")","v":""},"","","",null,null,null,0,0,0,0,{"$f":"IFERROR(VLOOKUP(G3618,DropDowns!$D$2:$E$151,2,FALSE),\"\")","v":""},{"$f":"IFERROR(VLOOKUP(H3618,DropDowns!$F$2:$G$7,2,FALSE),\"Residual categories\")","v":"Residual categories"},null,null,null,0,0,0]
[0,{"$f":"IF(OR(COUNTA(O3589:O3618)>0,COUNTA(O3618:$O$5195)>0),IF(COUNTIF(B3609:B3618,B3618)=10,B3618+7,B3618),\"\")","v":""},"","","",null,null,null,0,0,0,0,{"$f":"IFERROR(VLOOKUP(G3619,DropDowns!$D$2:$E$151,2,FALSE),\"\")","v":""},{"$f":"IFERROR(VLOOKUP(H3619,DropDowns!$F$2:$G$7,2,FALSE),\"Residual categories\")","v":"Residual categories"},null,null,null,0,0,0]
[0,{"$f":"IF(OR(COUNTA(O3591:O3620)>0,COUNTA(O3620:$O$5195)>0),IF(COUNTIF(B3611:B3620,B3620)=10,B3620+7,B3620),\"\")","v":""},"","","",null,null,null,0,0,0,0,{"$f":"IFERROR(VLOOKUP(G3621,DropDowns!$D$2:$E$151,2,FALSE),\"\")","v":""},{"$f":"IFERROR(VLOOKUP(H3621,DropDowns!$F$2:$G$7,2,FALSE),\"Residual categories\")","v":"Residual categories"},null,null,null,0,0,0]
[0,{"$f":"IF(OR(COUNTA(O3592:O3621)>0,COUNTA(O3621:$O$5195)>0),IF(COUNTIF(B3612:B3621,B3621)=10,B3621+7,B3621),\"\")","v":""},"","","",null,null,null,0,0,0,0,{"$f":"IFERROR(VLOOKUP(G3622,DropDowns!$D$2:$E$151,2,FALSE),\"\")","v":""},{"$f":"IFERROR(VLOOKUP(H3622,DropDowns!$F$2:$G$7,2,FALSE),\"Residual categories\")","v":"Residual categories"},null,null,null,0,0,0]
[0,{"$f":"IF(OR(COUNTA(O3593:O3622)>0,COUNTA(O3622:$O$5195)>0),IF(COUNTIF(B3613:B3622,B3622)=10,B3622+7,B3622),\"\")","v":""},"","","",null,null,null,0,0,0,0,{"$f":"IFERROR(VLOOKUP(G3623,DropDowns!$D$2:$E$151,2,FALSE),\"\")","v":""},{"$f":"IFERROR(VLOOKUP(H3623,DropDowns!$F$2:$G$7,2,FALSE),\"Residual categories\")","v":"Residual categories"},null,null,null,0,0,0]
[0,{"$f":"IF(OR(COUNTA(O3594:O3623)>0,COUNTA(O3623:$O$5195)>0),IF(COUNTIF(B3614:B3623,B3623)=10,B3623+7,B3623),\"\")","v":""},"","","",null,null,null,0,0,0,0,{"$f":"IFERROR(VLOOKUP(G3624,DropDowns!$D$2:$E$151,2,FALSE),\"\")","v":""},{"$f":"IFERROR(VLOOKUP(H3624,DropDowns!$F$2:$G$7,2,FALSE),\"Residual categories\")","v":"Residual categories"},null,null,null,0,0,0]
[0,{"$f":"IF(OR(COUNTA(O3596:O3625)>0,COUNTA(O3625:$O$5195)>0),IF(COUNTIF(B3616:B3625,B3625)=10,B3625+7,B3625),\"\")","v":""},"","","",null,null,null,0,0,0,0,{"$f":"IFERROR(VLOOKUP(G3626,DropDowns!$D$2:$E$151,2,FALSE),\"\")","v":""},{"$f":"IFERROR(VLOOKUP(H3626,DropDowns!$F$2:$G$7,2,FALSE),\"Residual categories\")","v":"Residual categories"},null,null,null,0,0,0]
[0,{"$f":"IF(OR(COUNTA(O3597:O3626)>0,COUNTA(O3626:$O$5195)>0),IF(COUNTIF(B3617:B3626,B3626)=10,B3626+7,B3626),\"\")","v":""},"","","",null,null,null,0,0,0,0,{"$f":"IFERROR(VLOOKUP(G3627,DropDowns!$D$2:$E$151,2,FALSE),\"\")","v":""},{"$f":"IFERROR(VLOOKUP(H3627,DropDowns!$F$2:$G$7,2,FALSE),\"Residual categories\")","v":"Residual categories"},null,null,null,0,0,0]
[0,{"$f":"IF(OR(COUNTA(O3599:O3628)>0,COUNTA(O3628:$O$5195)>0),IF(COUNTIF(B3619:B3628,B3628)=10,B3628+7,B3628),\"\")","v":""},"","","",null,null,null,0,0,0,0,{"$f":"IFERROR(VLOOKUP(G3629,DropDowns!$D$2:$E$151,2,FALSE),\"\")","v":""},{"$f":"IFERROR(VLOOKUP(H3629,DropDowns!$F$2:$G$7,2,FALSE),\"Residual categories\")","v":"Residual categories"},null,null,null,0,0,0]
[0,{"$f":"IF(OR(COUNTA(O3600:O3629)>0,COUNTA(O3629:$O$5195)>0),IF(COUNTIF(B3620:B3629,B3629)=10,B3629+7,B3629),\"\")","v":""},"","","",null,null,null,0,0,0,0,{"$f":"IFERROR(VLOOKUP(G3630,DropDowns!$D$2:$E$151,2,FALSE),\"\")","v":""},{"$f":"IFERROR(VLOOKUP(H3630,DropDowns!$F$2:$G$7,2,FALSE),\"Residual categories\")","v":"Residual categories"},null,null,null,0,0,0]
[0,{"$f":"IF(OR(COUNTA(O3601:O3630)>0,COUNTA(O3630:$O$5195)>0),IF(COUNTIF(B3621:B3630,B3630)=10,B3630+7,B3630),\"\")","v":""},"","","",null,null,null,0,0,0,0,{"$f":"IFERROR(VLOOKUP(G3631,DropDowns!$D$2:$E$151,2,FALSE),\"\")","v":""},{"$f":"IFERROR(VLOOKUP(H3631,DropDowns!$F$2:$G$7,2,FALSE),\"Residual categories\")","v":"Residual categories"},null,null,null,0,0,0]
[0,{"$f":"IF(OR(COUNTA(O3602:O3631)>0,COUNTA(O3631:$O$5195)>0),IF(COUNTIF(B3622:B3631,B3631)=10,B3631+7,B3631),\"\")","v":""},"","","",null,null,null,0,0,0,0,{"$f":"IFERROR(VLOOKUP(G3632,DropDowns!$D$2:$E$151,2,FALSE),\"\")","v":""},{"$f":"IFERROR(VLOOKUP(H3632,DropDowns!$F$2:$G$7,2,FALSE),\"Residual categories\")","v":"Residual categories"},null,null,null,0,0,0]
[0,{"$f":"IF(OR(COUNTA(O3604:O3633)>0,COUNTA(O3633:$O$5195)>0),IF(COUNTIF(B3624:B3633,B3633)=10,B3633+7,B3633),\"\")","v":""},"","","",null,null,null,0,0,0,0,{"$f":"IFERROR(VLOOKUP(G3634,DropDowns!$D$2:$E$151,2,FALSE),\"\")","v":""},{"$f":"IFERROR(VLOOKUP(H3634,DropDowns!$F$2:$G$7,2,FALSE),\"Residual categories\")","v":"Residual categories"},null,null,null,0,0,0]
[0,{"$f":"IF(OR(COUNTA(O3605:O3634)>0,COUNTA(O3634:$O$5195)>0),IF(COUNTIF(B3625:B3634,B3634)=10,B3634+7,B3634),\"\")","v":""},"","","",null,null,null,0,0,0,0,{"$f":"IFERROR(VLOOKUP(G3635,DropDowns!$D$2:$E$151,2,FALSE),\"\")","v":""},{"$f":"IFERROR(VLOOKUP(H3635,DropDowns!$F$2:$G$7,2,FALSE),\"Residual categories\")","v":"Residual categories"},null,null,null,0,0,0]
[0,{"$f":"IF(OR(COUNTA(O3607:O3636)>0,COUNTA(O3636:$O$5195)>0),IF(COUNTIF(B3627:B3636,B3636)=10,B3636+7,B3636),\"\")","v":""},"","","",null,null,null,0,0,0,0,{"$f":"IFERROR(VLOOKUP(G3637,DropDowns!$D$2:$E$151,2,FALSE),\"\")","v":""},{"$f":"IFERROR(VLOOKUP(H3637,DropDowns!$F$2:$G$7,2,FALSE),\"Residual categories\")","v":"Residual categories"},null,null,null,0,0,0]
[0,{"$f":"IF(OR(COUNTA(O3608:O3637)>0,COUNTA(O3637:$O$5195)>0),IF(COUNTIF(B3628:B3637,B3637)=10,B3637+7,B3637),\"\")","v":""},"","","",null,null,null,0,0,0,0,{"$f":"IFERROR(VLOOKUP(G3638,DropDowns!$D$2:$E$151,2,FALSE),\"\")","v":""},{"$f":"IFERROR(VLOOKUP(H3638,DropDowns!$F$2:$G$7,2,FALSE),\"Residual categories\")","v":"Residual categories"},null,null,null,0,0,0]
[0,{"$f":"IF(OR(COUNTA(O3609:O3638)>0,COUNTA(O3638:$O$5195)>0),IF(COUNTIF(B3629:B3638,B3638)=10,B3638+7,B3638),\"\")","v":""},"","","",null,null,null,0,0,0,0,{"$f":"IFERROR(VLOOKUP(G3639,DropDowns!$D$2:$E$151,2,FALSE),\"\")","v":""},{"$f":"IFERROR(VLOOKUP(H3639,DropDowns!$F$2:$G$7,2,FALSE),\"Residual categories\")","v":"Residual categories"},null,null,null,0,0,0]
[0,{"$f":"IF(OR(COUNTA(O3610:O3639)>0,COUNTA(O3639:$O$5195)>0),IF(COUNTIF(B3630:B3639,B3639)=10,B3639+7,B3639),\"\")","v":""},"","","",null,null,null,0,0,0,0,{"$f":"IFERROR(VLOOKUP(G3640,DropDowns!$D$2:$E$151,2,FALSE),\"\")","v":""},{"$f":"IFERROR(VLOOKUP(H3640,DropDowns!$F$2:$G$7,2,FALSE),\"Residual categories\")","v":"Residual categories"},null,null,null,0,0,0]
[0,{"$f":"IF(OR(COUNTA(O3612:O3641)>0,COUNTA(O3641:$O$5195)>0),IF(COUNTIF(B3632:B3641,B3641)=10,B3641+7,B3641),\"\")","v":""},"","","",null,null,null,0,0,0,0,{"$f":"IFERROR(VLOOKUP(G3642,DropDowns!$D$2:$E$151,2,FALSE),\"\")","v":""},{"$f":"IFERROR(VLOOKUP(H3642,DropDowns!$F$2:$G$7,2,FALSE),\"Residual categories\")","v":"Residual categories"},null,null,null,0,0,0]
[0,{"$f":"IF(OR(COUNTA(O3613:O3642)>0,COUNTA(O3642:$O$5195)>0),IF(COUNTIF(B3633:B3642,B3642)=10,B3642+7,B3642),\"\")","v":""},"","","",null,null,null,0,0,0,0,{"$f":"IFERROR(VLOOKUP(G3643,DropDowns!$D$2:$E$151,2,FALSE),\"\")","v":""},{"$f":"IFERROR(VLOOKUP(H3643,DropDowns!$F$2:$G$7,2,FALSE),\"Residual categories\")","v":"Residual categories"},null,null,null,0,0,0]
[0,{"$f":"IF(OR(COUNTA(O3615:O3644)>0,COUNTA(O3644:$O$5195)>0),IF(COUNTIF(B3635:B3644,B3644)=10,B3644+7,B3644),\"\")","v":""},"","","",null,null,null,0,0,0,0,{"$f":"IFERROR(VLOOKUP(G3645,DropDowns!$D$2:$E$151,2,FALSE),\"\")","v":""},{"$f":"IFERROR(VLOOKUP(H3645,DropDowns!$F$2:$G$7,2,FALSE),\"Residual categories\")","v":"Residual categories"},null,null,null,0,0,0]
[0,{"$f":"IF(OR(COUNTA(O3616:O3645)>0,COUNTA(O3645:$O$5195)>0),IF(COUNTIF(B3636:B3645,B3645)=10,B3645+7,B3645),\"\")","v":""},"","","",null,null,null,0,0,0,0,{"$f":"IFERROR(VLOOKUP(G3646,DropDowns!$D$2:$E$151,2,FALSE),\"\")","v":""},{"$f":"IFERROR(VLOOKUP(H3646,DropDowns!$F$2:$G$7,2,FALSE),\"Residual categories\")","v":"Residual categories"},null,null,null,0,0,0]
[0,{"$f":"IF(OR(COUNTA(O3617:O3646)>0,COUNTA(O3646:$O$5195)>0),IF(COUNTIF(B3637:B3646,B3646)=10,B3646+7,B3646),\"\")","v":""},"","","",null,null,null,0,0,0,0,{"$f":"IFERROR(VLOOKUP(G3647,DropDowns!$D$2:$E$151,2,FALSE),\"\")","v":""},{"$f":"IFERROR(VLOOKUP(H3647,DropDowns!$F$2:$G$7,2,FALSE),\"Residual categories\")","v":"Residual categories"},null,null,null,0,0,0]
[0,{"$f":"IF(OR(COUNTA(O3618:O3647)>0,COUNTA(O3647:$O$5195)>0),IF(COUNTIF(B3638:B3647,B3647)=10,B3647+7,B3647),\"\")","v":""},"","","",null,null,null,0,0,0,0,{"$f":"IFERROR(VLOOKUP(G3648,DropDowns!$D$2:$E$151,2,FALSE),\"\")","v":""},{"$f":"IFERROR(VLOOKUP(H3648,DropDowns!$F$2:$G$7,2,FALSE),\"Residual categories\")","v":"Residual categories"},null,null,null,0,0,0]
[0,{"$f":"IF(OR(COUNTA(O3620:O3649)>0,COUNTA(O3649:$O$5195)>0),IF(COUNTIF(B3640:B3649,B3649)=10,B3649+7,B3649),\"\")","v":""},"","","",null,null,null,0,0,0,0,{"$f":"IFERROR(VLOOKUP(G3650,DropDowns!$D$2:$E$151,2,FALSE),\"\")","v":""},{"$f":"IFERROR(VLOOKUP(H3650,DropDowns!$F$2:$G$7,2,FALSE),\"Residual categories\")","v":"Residual categories"},null,null,null,0,0,0]
[0,{"$f":"IF(OR(COUNTA(O3621:O3650)>0,COUNTA(O3650:$O$5195)>0),IF(COUNTIF(B3641:B3650,B3650)=10,B3650+7,B3650),\"\")","v":""},"","","",null,null,null,0,0,0,0,{"$f":"IFERROR(VLOOKUP(G3651,DropDowns!$D$2:$E$151,2,FALSE),\"\")","v":""},{"$f":"IFERROR(VLOOKUP(H3651,DropDowns!$F$2:$G$7,2,FALSE),\"Residual categories\")","v":"Residual categories"},null,null,null,0,0,0]
[0,{"$f":"IF(OR(COUNTA(O3623:O3652)>0,COUNTA(O3652:$O$5195)>0),IF(COUNTIF(B3643:B3652,B3652)=10,B3652+7,B3652),\"\")","v":""},"","","",null,null,null,0,0,0,0,{"$f":"IFERROR(VLOOKUP(G3653,DropDowns!$D$2:$E$151,2,FALSE),\"\")","v":""},{"$f":"IFERROR(VLOOKUP(H3653,DropDowns!$F$2:$G$7,2,FALSE),\"Residual categories\")","v":"Residual categories"},null,null,null,0,0,0]
[0,{"$f":"IF(OR(COUNTA(O3624:O3653)>0,COUNTA(O3653:$O$5195)>0),IF(COUNTIF(B3644:B3653,B3653)=10,B3653+7,B3653),\"\")","v":""},"","","",null,null,null,0,0,0,0,{"$f":"IFERROR(VLOOKUP(G3654,DropDowns!$D$2:$E$151,2,FALSE),\"\")","v":""},{"$f":"IFERROR(VLOOKUP(H3654,DropDowns!$F$2:$G$7,2,FALSE),\"Residual categories\")","v":"Residual categories"},null,null,null,0,0,0]
[0,{"$f":"IF(OR(COUNTA(O3626:O3655)>0,COUNTA(O3655:$O$5195)>0),IF(COUNTIF(B3646:B3655,B3655)=10,B3655+7,B3655),\"\")","v":""},"","","",null,null,null,0,0,0,0,{"$f":"IFERROR(VLOOKUP(G3656,DropDowns!$D$2:$E$151,2,FALSE),\"\")","v":""},{"$f":"IFERROR(VLOOKUP(H3656,DropDowns!$F$2:$G$7,2,FALSE),\"Residual categories\")","v":"Residual categories"},null,null,null,0,0,0]
[0,{"$f":"IF(OR(COUNTA(O3627:O3656)>0,COUNTA(O3656:$O$5195)>0),IF(COUNTIF(B3647:B3656,B3656)=10,B3656+7,B3656),\"\")","v":""},"","","",null,null,null,0,0,0,0,{"$f":"IFERROR(VLOOKUP(G3657,DropDowns!$D$2:$E$151,2,FALSE),\"\")","v":""},{"$f":"IFERROR(VLOOKUP(H3657,DropDowns!$F$2:$G$7,2,FALSE),\"Residual categories\")","v":"Residual categories"},null,null,null,0,0,0]
[0,{"$f":"IF(OR(COUNTA(O3628:O3657)>0,COUNTA(O3657:$O$5195)>0),IF(COUNTIF(B3648:B3657,B3657)=10,B3657+7,B3657),\"\")","v":""},"","","",null,null,null,0,0,0,0,{"$f":"IFERROR(VLOOKUP(G3658,DropDowns!$D$2:$E$151,2,FALSE),\"\")","v":""},{"$f":"IFERROR(VLOOKUP(H3658,DropDowns!$F$2:$G$7,2,FALSE),\"Residual categories\")","v":"Residual categories"},null,null,null,0,0,0]
[0,{"$f":"IF(OR(COUNTA(O3629:O3658)>0,COUNTA(O3658:$O$5195)>0),IF(COUNTIF(B3649:B3658,B3658)=10,B3658+7,B3658),\"\")","v":""},"","","",null,null,null,0,0,0,0,{"$f":"IFERROR(VLOOKUP(G3659,DropDowns!$D$2:$E$151,2,FALSE),\"\")","v":""},{"$f":"IFERROR(VLOOKUP(H3659,DropDowns!$F$2:$G$7,2,FALSE),\"Residual categories\")","v":"Residual categories"},null,null,null,0,0,0]
[0,{"$f":"IF(OR(COUNTA(O3631:O3660)>0,COUNTA(O3660:$O$5195)>0),IF(COUNTIF(B3651:B3660,B3660)=10,B3660+7,B3660),\"\")","v":""},"","","",null,null,null,0,0,0,0,{"$f":"IFERROR(VLOOKUP(G3661,DropDowns!$D$2:$E$151,2,FALSE),\"\")","v":""},{"$f":"IFERROR(VLOOKUP(H3661,DropDowns!$F$2:$G$7,2,FALSE),\"Residual categories\")","v":"Residual categories"},null,null,null,0,0,0]
[0,{"$f":"IF(OR(COUNTA(O3632:O3661)>0,COUNTA(O3661:$O$5195)>0),IF(COUNTIF(B3652:B3661,B3661)=10,B3661+7,B3661),\"\")","v":""},"","","",null,null,null,0,0,0,0,{"$f":"IFERROR(VLOOKUP(G3662,DropDowns!$D$2:$E$151,2,FALSE),\"\")","v":""},{"$f":"IFERROR(VLOOKUP(H3662,DropDowns!$F$2:$G$7,2,FALSE),\"Residual categories\")","v":"Residual categories"},null,null,null,0,0,0]
[0,{"$f":"IF(OR(COUNTA(O3634:O3663)>0,COUNTA(O3663:$O$5195)>0),IF(COUNTIF(B3654:B3663,B3663)=10,B3663+7,B3663),\"\")","v":""},"","","",null,null,null,0,0,0,0,{"$f":"IFERROR(VLOOKUP(G3664,DropDowns!$D$2:$E$151,2,FALSE),\"\")","v":""},{"$f":"IFERROR(VLOOKUP(H3664,DropDowns!$F$2:$G$7,2,FALSE),\"Residual categories\")","v":"Residual categories"},null,null,null,0,0,0]
[0,{"$f":"IF(OR(COUNTA(O3635:O3664)>0,COUNTA(O3664:$O$5195)>0),IF(COUNTIF(B3655:B3664,B3664)=10,B3664+7,B3664),\"\")","v":""},"","",{"$f":"IF(B3665=\"\",\"\",COUNTIF(B3656:B3665,B3665))","v":""},null,null,null,0,0,0,0,{"$f":"IFERROR(VLOOKUP(G3665,DropDowns!$D$2:$E$151,2,FALSE),\"\")","v":""},{"$f":"IFERROR(VLOOKUP(H3665,DropDowns!$F$2:$G$7,2,FALSE),\"Residual categories\")","v":"Residual categories"},null,null,null,0,0,0]
[0,{"$f":"IF(OR(COUNTA(O3636:O3665)>0,COUNTA(O3665:$O$5195)>0),IF(COUNTIF(B3656:B3665,B3665)=10,B3665+7,B3665),\"\")","v":""},"","","",null,null,null,0,0,0,0,{"$f":"IFERROR(VLOOKUP(G3666,DropDowns!$D$2:$E$151,2,FALSE),\"\")","v":""},{"$f":"IFERROR(VLOOKUP(H3666,DropDowns!$F$2:$G$7,2,FALSE),\"Residual categories\")","v":"Residual categories"},null,null,null,0,0,0]
[0,{"$f":"IF(OR(COUNTA(O3637:O3666)>0,COUNTA(O3666:$O$5195)>0),IF(COUNTIF(B3657:B3666,B3666)=10,B3666+7,B3666),\"\")","v":""},"","","",null,null,null,0,0,0,0,{"$f":"IFERROR(VLOOKUP(G3667,DropDowns!$D$2:$E$151,2,FALSE),\"\")","v":""},{"$f":"IFERROR(VLOOKUP(H3667,DropDowns!$F$2:$G$7,2,FALSE),\"Residual categories\")","v":"Residual categories"},null,null,null,0,0,0]
[0,{"$f":"IF(OR(COUNTA(O3639:O3668)>0,COUNTA(O3668:$O$5195)>0),IF(COUNTIF(B3659:B3668,B3668)=10,B3668+7,B3668),\"\")","v":""},"","","",null,null,null,0,0,0,0,{"$f":"IFERROR(VLOOKUP(G3669,DropDowns!$D$2:$E$151,2,FALSE),\"\")","v":""},{"$f":"IFERROR(VLOOKUP(H3669,DropDowns!$F$2:$G$7,2,FALSE),\"Residual categories\")","v":"Residual categories"},null,null,null,0,0,0]
[0,{"$f":"IF(OR(COUNTA(O3640:O3669)>0,COUNTA(O3669:$O$5195)>0),IF(COUNTIF(B3660:B3669,B3669)=10,B3669+7,B3669),\"\")","v":""},"","","",null,null,null,0,0,0,0,{"$f":"IFERROR(VLOOKUP(G3670,DropDowns!$D$2:$E$151,2,FALSE),\"\")","v":""},{"$f":"IFERROR(VLOOKUP(H3670,DropDowns!$F$2:$G$7,2,FALSE),\"Residual categories\")","v":"Residual categories"},null,null,null,0,0,0]
[0,{"$f":"IF(OR(COUNTA(O3642:O3671)>0,COUNTA(O3671:$O$5195)>0),IF(COUNTIF(B3662:B3671,B3671)=10,B3671+7,B3671),\"\")","v":""},"","","",null,null,null,0,0,0,0,{"$f":"IFERROR(VLOOKUP(G3672,DropDowns!$D$2:$E$151,2,FALSE),\"\")","v":""},{"$f":"IFERROR(VLOOKUP(H3672,DropDowns!$F$2:$G$7,2,FALSE),\"Residual categories\")","v":"Residual categories"},null,null,null,0,0,0]
[0,{"$f":"IF(OR(COUNTA(O3643:O3672)>0,COUNTA(O3672:$O$5195)>0),IF(COUNTIF(B3663:B3672,B3672)=10,B3672+7,B3672),\"\")","v":""},"","","",null,null,null,0,0,0,0,{"$f":"IFERROR(VLOOKUP(G3673,DropDowns!$D$2:$E$151,2,FALSE),\"\")","v":""},{"$f":"IFERROR(VLOOKUP(H3673,DropDowns!$F$2:$G$7,2,FALSE),\"Residual categories\")","v":"Residual categories"},null,null,null,0,0,0]
[0,{"$f":"IF(OR(COUNTA(O3644:O3673)>0,COUNTA(O3673:$O$5195)>0),IF(COUNTIF(B3664:B3673,B3673)=10,B3673+7,B3673),\"\")","v":""},"","","",null,null,null,0,0,0,0,{"$f":"IFERROR(VLOOKUP(G3674,DropDowns!$D$2:$E$151,2,FALSE),\"\")","v":""},{"$f":"IFERROR(VLOOKUP(H3674,DropDowns!$F$2:$G$7,2,FALSE),\"Residual categories\")","v":"Residual categories"},null,null,null,0,0,0]
[0,{"$f":"IF(OR(COUNTA(O3645:O3674)>0,COUNTA(O3674:$O$5195)>0),IF(COUNTIF(B3665:B3674,B3674)=10,B3674+7,B3674),\"\")","v":""},"","","",null,null,null,0,0,0,0,{"$f":"IFERROR(VLOOKUP(G3675,DropDowns!$D$2:$E$151,2,FALSE),\"\")","v":""},{"$f":"IFERROR(VLOOKUP(H3675,DropDowns!$F$2:$G$7,2,FALSE),\"Residual categories\")","v":"Residual categories"},null,null,null,0,0,0]
[0,{"$f":"IF(OR(COUNTA(O3647:O3676)>0,COUNTA(O3676:$O$5195)>0),IF(COUNTIF(B3667:B3676,B3676)=10,B3676+7,B3676),\"\")","v":""},"","","",null,null,null,0,0,0,0,{"$f":"IFERROR(VLOOKUP(G3677,DropDowns!$D$2:$E$151,2,FALSE),\"\")","v":""},{"$f":"IFERROR(VLOOKUP(H3677,DropDowns!$F$2:$G$7,2,FALSE),\"Residual categories\")","v":"Residual categories"},null,null,null,0,0,0]
[0,{"$f":"IF(OR(COUNTA(O3648:O3677)>0,COUNTA(O3677:$O$5195)>0),IF(COUNTIF(B3668:B3677,B3677)=10,B3677+7,B3677),\"\")","v":""},"","","",null,null,null,0,0,0,0,{"$f":"IFERROR(VLOOKUP(G3678,DropDowns!$D$2:$E$151,2,FALSE),\"\")","v":""},{"$f":"IFERROR(VLOOKUP(H3678,DropDowns!$F$2:$G$7,2,FALSE),\"Residual categories\")","v":"Residual categories"},null,null,null,0,0,0]
[0,{"$f":"IF(OR(COUNTA(O3650:O3679)>0,COUNTA(O3679:$O$5195)>0),IF(COUNTIF(B3670:B3679,B3679)=10,B3679+7,B3679),\"\")","v":""},"","","",null,null,null,0,0,0,0,{"$f":"IFERROR(VLOOKUP(G3680,DropDowns!$D$2:$E$151,2,FALSE),\"\")","v":""},{"$f":"IFERROR(VLOOKUP(H3680,DropDowns!$F$2:$G$7,2,FALSE),\"Residual categories\")","v":"Residual categories"},null,null,null,0,0,0]
[0,{"$f":"IF(OR(COUNTA(O3651:O3680)>0,COUNTA(O3680:$O$5195)>0),IF(COUNTIF(B3671:B3680,B3680)=10,B3680+7,B3680),\"\")","v":""},"","","",null,null,null,0,0,0,0,{"$f":"IFERROR(VLOOKUP(G3681,DropDowns!$D$2:$E$151,2,FALSE),\"\")","v":""},{"$f":"IFERROR(VLOOKUP(H3681,DropDowns!$F$2:$G$7,2,FALSE),\"Residual categories\")","v":"Residual categories"},null,null,null,0,0,0]
[0,{"$f":"IF(OR(COUNTA(O3653:O3682)>0,COUNTA(O3682:$O$5195)>0),IF(COUNTIF(B3673:B3682,B3682)=10,B3682+7,B3682),\"\")","v":""},"","","",null,null,null,0,0,0,0,{"$f":"IFERROR(VLOOKUP(G3683,DropDowns!$D$2:$E$151,2,FALSE),\"\")","v":""},{"$f":"IFERROR(VLOOKUP(H3683,DropDowns!$F$2:$G$7,2,FALSE),\"Residual categories\")","v":"Residual categories"},null,null,null,0,0,0]
[0,{"$f":"IF(OR(COUNTA(O3654:O3683)>0,COUNTA(O3683:$O$5195)>0),IF(COUNTIF(B3674:B3683,B3683)=10,B3683+7,B3683),\"\")","v":""},"","","",null,null,null,0,0,0,0,{"$f":"IFERROR(VLOOKUP(G3684,DropDowns!$D$2:$E$151,2,FALSE),\"\")","v":""},{"$f":"IFERROR(VLOOKUP(H3684,DropDowns!$F$2:$G$7,2,FALSE),\"Residual categories\")","v":"Residual categories"},null,null,null,0,0,0]
[0,{"$f":"IF(OR(COUNTA(O3655:O3684)>0,COUNTA(O3684:$O$5195)>0),IF(COUNTIF(B3675:B3684,B3684)=10,B3684+7,B3684),\"\")","v":""},"","","",null,null,null,0,0,0,0,{"$f":"IFERROR(VLOOKUP(G3685,DropDowns!$D$2:$E$151,2,FALSE),\"\")","v":""},{"$f":"IFERROR(VLOOKUP(H3685,DropDowns!$F$2:$G$7,2,FALSE),\"Residual categories\")","v":"Residual categories"},null,null,null,0,0,0]
[0,{"$f":"IF(OR(COUNTA(O3656:O3685)>0,COUNTA(O3685:$O$5195)>0),IF(COUNTIF(B3676:B3685,B3685)=10,B3685+7,B3685),\"\")","v":""},"","","",null,null,null,0,0,0,0,{"$f":"IFERROR(VLOOKUP(G3686,DropDowns!$D$2:$E$151,2,FALSE),\"\")","v":""},{"$f":"IFERROR(VLOOKUP(H3686,DropDowns!$F$2:$G$7,2,FALSE),\"Residual categories\")","v":"Residual categories"},null,null,null,0,0,0]
[0,{"$f":"IF(OR(COUNTA(O3658:O3687)>0,COUNTA(O3687:$O$5195)>0),IF(COUNTIF(B3678:B3687,B3687)=10,B3687+7,B3687),\"\")","v":""},"","","",null,null,null,0,0,0,0,{"$f":"IFERROR(VLOOKUP(G3688,DropDowns!$D$2:$E$151,2,FALSE),\"\")","v":""},{"$f":"IFERROR(VLOOKUP(H3688,DropDowns!$F$2:$G$7,2,FALSE),\"Residual categories\")","v":"Residual categories"},null,null,null,0,0,0]
[0,{"$f":"IF(OR(COUNTA(O3659:O3688)>0,COUNTA(O3688:$O$5195)>0),IF(COUNTIF(B3679:B3688,B3688)=10,B3688+7,B3688),\"\")","v":""},"","","",null,null,null,0,0,0,0,{"$f":"IFERROR(VLOOKUP(G3689,DropDowns!$D$2:$E$151,2,FALSE),\"\")","v":""},{"$f":"IFERROR(VLOOKUP(H3689,DropDowns!$F$2:$G$7,2,FALSE),\"Residual categories\")","v":"Residual categories"},null,null,null,0,0,0]
[0,{"$f":"IF(OR(COUNTA(O3661:O3690)>0,COUNTA(O3690:$O$5195)>0),IF(COUNTIF(B3681:B3690,B3690)=10,B3690+7,B3690),\"\")","v":""},"","","",null,null,null,0,0,0,0,{"$f":"IFERROR(VLOOKUP(G3691,DropDowns!$D$2:$E$151,2,FALSE),\"\")","v":""},{"$f":"IFERROR(VLOOKUP(H3691,DropDowns!$F$2:$G$7,2,FALSE),\"Residual categories\")","v":"Residual categories"},null,null,null,0,0,0]
[0,{"$f":"IF(OR(COUNTA(O3662:O3691)>0,COUNTA(O3691:$O$5195)>0),IF(COUNTIF(B3682:B3691,B3691)=10,B3691+7,B3691),\"\")","v":""},"","","",null,null,null,0,0,0,0,{"$f":"IFERROR(VLOOKUP(G3692,DropDowns!$D$2:$E$151,2,FALSE),\"\")","v":""},{"$f":"IFERROR(VLOOKUP(H3692,DropDowns!$F$2:$G$7,2,FALSE),\"Residual categories\")","v":"Residual categories"},null,null,null,0,0,0]
[0,{"$f":"IF(OR(COUNTA(O3663:O3692)>0,COUNTA(O3692:$O$5195)>0),IF(COUNTIF(B3683:B3692,B3692)=10,B3692+7,B3692),\"\")","v":""},"","","",null,null,null,0,0,0,0,{"$f":"IFERROR(VLOOKUP(G3693,DropDowns!$D$2:$E$151,2,FALSE),\"\")","v":""},{"$f":"IFERROR(VLOOKUP(H3693,DropDowns!$F$2:$G$7,2,FALSE),\"Residual categories\")","v":"Residual categories"},null,null,null,0,0,0]
[0,{"$f":"IF(OR(COUNTA(O3664:O3693)>0,COUNTA(O3693:$O$5195)>0),IF(COUNTIF(B3684:B3693,B3693)=10,B3693+7,B3693),\"\")","v":""},"","","",null,null,null,0,0,0,0,{"$f":"IFERROR(VLOOKUP(G3694,DropDowns!$D$2:$E$151,2,FALSE),\"\")","v":""},{"$f":"IFERROR(VLOOKUP(H3694,DropDowns!$F$2:$G$7,2,FALSE),\"Residual categories\")","v":"Residual categories"},null,null,null,0,0,0]
[0,{"$f":"IF(OR(COUNTA(O3666:O3695)>0,COUNTA(O3695:$O$5195)>0),IF(COUNTIF(B3686:B3695,B3695)=10,B3695+7,B3695),\"\")","v":""},"","","",null,null,null,0,0,0,0,{"$f":"IFERROR(VLOOKUP(G3696,DropDowns!$D$2:$E$151,2,FALSE),\"\")","v":""},{"$f":"IFERROR(VLOOKUP(H3696,DropDowns!$F$2:$G$7,2,FALSE),\"Residual categories\")","v":"Residual categories"},null,null,null,0,0,0]
[0,{"$f":"IF(OR(COUNTA(O3667:O3696)>0,COUNTA(O3696:$O$5195)>0),IF(COUNTIF(B3687:B3696,B3696)=10,B3696+7,B3696),\"\")","v":""},"","","",null,null,null,0,0,0,0,{"$f":"IFERROR(VLOOKUP(G3697,DropDowns!$D$2:$E$151,2,FALSE),\"\")","v":""},{"$f":"IFERROR(VLOOKUP(H3697,DropDowns!$F$2:$G$7,2,FALSE),\"Residual categories\")","v":"Residual categories"},null,null,null,0,0,0]
[0,{"$f":"IF(OR(COUNTA(O3669:O3698)>0,COUNTA(O3698:$O$5195)>0),IF(COUNTIF(B3689:B3698,B3698)=10,B3698+7,B3698),\"\")","v":""},"","","",null,null,null,0,0,0,0,{"$f":"IFERROR(VLOOKUP(G3699,DropDowns!$D$2:$E$151,2,FALSE),\"\")","v":""},{"$f":"IFERROR(VLOOKUP(H3699,DropDowns!$F$2:$G$7,2,FALSE),\"Residual categories\")","v":"Residual categories"},null,null,null,0,0,0]
[0,{"$f":"IF(OR(COUNTA(O3670:O3699)>0,COUNTA(O3699:$O$5195)>0),IF(COUNTIF(B3690:B3699,B3699)=10,B3699+7,B3699),\"\")","v":""},"","","",null,null,null,0,0,0,0,{"$f":"IFERROR(VLOOKUP(G3700,DropDowns!$D$2:$E$151,2,FALSE),\"\")","v":""},{"$f":"IFERROR(VLOOKUP(H3700,DropDowns!$F$2:$G$7,2,FALSE),\"Residual categories\")","v":"Residual categories"},null,null,null,0,0,0]
[0,{"$f":"IF(OR(COUNTA(O3671:O3700)>0,COUNTA(O3700:$O$5195)>0),IF(COUNTIF(B3691:B3700,B3700)=10,B3700+7,B3700),\"\")","v":""},"","","",null,null,null,0,0,0,0,{"$f":"IFERROR(VLOOKUP(G3701,DropDowns!$D$2:$E$151,2,FALSE),\"\")","v":""},{"$f":"IFERROR(VLOOKUP(H3701,DropDowns!$F$2:$G$7,2,FALSE),\"Residual categories\")","v":"Residual categories"},null,null,null,0,0,0]
[0,{"$f":"IF(OR(COUNTA(O3672:O3701)>0,COUNTA(O3701:$O$5195)>0),IF(COUNTIF(B3692:B3701,B3701)=10,B3701+7,B3701),\"\")","v":""},"","","",null,null,null,0,0,0,0,{"$f":"IFERROR(VLOOKUP(G3702,DropDowns!$D$2:$E$151,2,FALSE),\"\")","v":""},{"$f":"IFERROR(VLOOKUP(H3702,DropDowns!$F$2:$G$7,2,FALSE),\"Residual categories\")","v":"Residual categories"},null,null,null,0,0,0]
[0,{"$f":"IF(OR(COUNTA(O3674:O3703)>0,COUNTA(O3703:$O$5195)>0),IF(COUNTIF(B3694:B3703,B3703)=10,B3703+7,B3703),\"\")","v":""},"","","",null,null,null,0,0,0,0,{"$f":"IFERROR(VLOOKUP(G3704,DropDowns!$D$2:$E$151,2,FALSE),\"\")","v":""},{"$f":"IFERROR(VLOOKUP(H3704,DropDowns!$F$2:$G$7,2,FALSE),\"Residual categories\")","v":"Residual categories"},null,null,null,0,0,0]
[0,{"$f":"IF(OR(COUNTA(O3675:O3704)>0,COUNTA(O3704:$O$5195)>0),IF(COUNTIF(B3695:B3704,B3704)=10,B3704+7,B3704),\"\")","v":""},"","","",null,null,null,0,0,0,0,{"$f":"IFERROR(VLOOKUP(G3705,DropDowns!$D$2:$E$151,2,FALSE),\"\")","v":""},{"$f":"IFERROR(VLOOKUP(H3705,DropDowns!$F$2:$G$7,2,FALSE),\"Residual categories\")","v":"Residual categories"},null,null,null,0,0,0]
[0,{"$f":"IF(OR(COUNTA(O3677:O3706)>0,COUNTA(O3706:$O$5195)>0),IF(COUNTIF(B3697:B3706,B3706)=10,B3706+7,B3706),\"\")","v":""},"","","",null,null,null,0,0,0,0,{"$f":"IFERROR(VLOOKUP(G3707,DropDowns!$D$2:$E$151,2,FALSE),\"\")","v":""},{"$f":"IFERROR(VLOOKUP(H3707,DropDowns!$F$2:$G$7,2,FALSE),\"Residual categories\")","v":"Residual categories"},null,null,null,0,0,0]
[0,{"$f":"IF(OR(COUNTA(O3678:O3707)>0,COUNTA(O3707:$O$5195)>0),IF(COUNTIF(B3698:B3707,B3707)=10,B3707+7,B3707),\"\")","v":""},"","","",null,null,null,0,0,0,0,{"$f":"IFERROR(VLOOKUP(G3708,DropDowns!$D$2:$E$151,2,FALSE),\"\")","v":""},{"$f":"IFERROR(VLOOKUP(H3708,DropDowns!$F$2:$G$7,2,FALSE),\"Residual categories\")","v":"Residual categories"},null,null,null,0,0,0]
[0,{"$f":"IF(OR(COUNTA(O3679:O3708)>0,COUNTA(O3708:$O$5195)>0),IF(COUNTIF(B3699:B3708,B3708)=10,B3708+7,B3708),\"\")","v":""},"","","",null,null,null,0,0,0,0,{"$f":"IFERROR(VLOOKUP(G3709,DropDowns!$D$2:$E$151,2,FALSE),\"\")","v":""},{"$f":"IFERROR(VLOOKUP(H3709,DropDowns!$F$2:$G$7,2,FALSE),\"Residual categories\")","v":"Residual categories"},null,null,null,0,0,0]
[0,{"$f":"IF(OR(COUNTA(O3680:O3709)>0,COUNTA(O3709:$O$5195)>0),IF(COUNTIF(B3700:B3709,B3709)=10,B3709+7,B3709),\"\")","v":""},"","","",null,null,null,0,0,0,0,{"$f":"IFERROR(VLOOKUP(G3710,DropDowns!$D$2:$E$151,2,FALSE),\"\")","v":""},{"$f":"IFERROR(VLOOKUP(H3710,DropDowns!$F$2:$G$7,2,FALSE),\"Residual categories\")","v":"Residual categories"},null,null,null,0,0,0]
[0,{"$f":"IF(OR(COUNTA(O3682:O3711)>0,COUNTA(O3711:$O$5195)>0),IF(COUNTIF(B3702:B3711,B3711)=10,B3711+7,B3711),\"\")","v":""},"","","",null,null,null,0,0,0,0,{"$f":"IFERROR(VLOOKUP(G3712,DropDowns!$D$2:$E$151,2,FALSE),\"\")","v":""},{"$f":"IFERROR(VLOOKUP(H3712,DropDowns!$F$2:$G$7,2,FALSE),\"Residual categories\")","v":"Residual categories"},null,null,null,0,0,0]
[0,{"$f":"IF(OR(COUNTA(O3683:O3712)>0,COUNTA(O3712:$O$5195)>0),IF(COUNTIF(B3703:B3712,B3712)=10,B3712+7,B3712),\"\")","v":""},"","","",null,null,null,0,0,0,0,{"$f":"IFERROR(VLOOKUP(G3713,DropDowns!$D$2:$E$151,2,FALSE),\"\")","v":""},{"$f":"IFERROR(VLOOKUP(H3713,DropDowns!$F$2:$G$7,2,FALSE),\"Residual categories\")","v":"Residual categories"},null,null,null,0,0,0]
[0,{"$f":"IF(OR(COUNTA(O3685:O3714)>0,COUNTA(O3714:$O$5195)>0),IF(COUNTIF(B3705:B3714,B3714)=10,B3714+7,B3714),\"\")","v":""},"","","",null,null,null,0,0,0,0,{"$f":"IFERROR(VLOOKUP(G3715,DropDowns!$D$2:$E$151,2,FALSE),\"\")","v":""},{"$f":"IFERROR(VLOOKUP(H3715,DropDowns!$F$2:$G$7,2,FALSE),\"Residual categories\")","v":"Residual categories"},null,null,null,0,0,0]
[0,{"$f":"IF(OR(COUNTA(O3686:O3715)>0,COUNTA(O3715:$O$5195)>0),IF(COUNTIF(B3706:B3715,B3715)=10,B3715+7,B3715),\"\")","v":""},"","","",null,null,null,0,0,0,0,{"$f":"IFERROR(VLOOKUP(G3716,DropDowns!$D$2:$E$151,2,FALSE),\"\")","v":""},{"$f":"IFERROR(VLOOKUP(H3716,DropDowns!$F$2:$G$7,2,FALSE),\"Residual categories\")","v":"Residual categories"},null,null,null,0,0,0]
[0,{"$f":"IF(OR(COUNTA(O3688:O3717)>0,COUNTA(O3717:$O$5195)>0),IF(COUNTIF(B3708:B3717,B3717)=10,B3717+7,B3717),\"\")","v":""},"","","",null,null,null,0,0,0,0,{"$f":"IFERROR(VLOOKUP(G3718,DropDowns!$D$2:$E$151,2,FALSE),\"\")","v":""},{"$f":"IFERROR(VLOOKUP(H3718,DropDowns!$F$2:$G$7,2,FALSE),\"Residual categories\")","v":"Residual categories"},null,null,null,0,0,0]
[0,{"$f":"IF(OR(COUNTA(O3689:O3718)>0,COUNTA(O3718:$O$5195)>0),IF(COUNTIF(B3709:B3718,B3718)=10,B3718+7,B3718),\"\")","v":""},{"$f":"IF(D3719=1,A3719,\"\")","v":""},"","",null,null,null,{"$f":"IF(COUNTA(O3719:Q3719)>0,1,0)","v":0},{"$f":"IF(O3719=\"y\",1,0)","v":0},{"$f":"IF(P3719=\"y\",1,0)","v":0},{"$f":"IF(Q3719=\"y\",1,0)","v":0},{"$f":"IFERROR(VLOOKUP(G3719,DropDowns!$D$2:$E$151,2,FALSE),\"\")","v":""},{"$f":"IFERROR(VLOOKUP(H3719,DropDowns!$F$2:$G$7,2,FALSE),\"Residual categories\")","v":"Residual categories"},null,null,null,{"$f":"IF(O3719=\"yes\",1,0)","v":0},{"$f":"IF(P3719=\"yes\",1,0)","v":0},{"$f":"IF(Q3719=\"yes\",1,0)","v":0}]
[0,{"$f":"IF(OR(COUNTA(O3690:O3719)>0,COUNTA(O3719:$O$5195)>0),IF(COUNTIF(B3710:B3719,B3719)=10,B3719+7,B3719),\"\")","v":""},"","","",null,null,null,0,0,0,0,{"$f":"IFERROR(VLOOKUP(G3720,DropDowns!$D$2:$E$151,2,FALSE),\"\")","v":""},{"$f":"IFERROR(VLOOKUP(H3720,DropDowns!$F$2:$G$7,2,FALSE),\"Residual categories\")","v":"Residual categories"},null,null,null,0,0,0]
[0,{"$f":"IF(OR(COUNTA(O3691:O3720)>0,COUNTA(O3720:$O$5195)>0),IF(COUNTIF(B3711:B3720,B3720)=10,B3720+7,B3720),\"\")","v":""},"","","",null,null,null,0,0,0,0,{"$f":"IFERROR(VLOOKUP(G3721,DropDowns!$D$2:$E$151,2,FALSE),\"\")","v":""},{"$f":"IFERROR(VLOOKUP(H3721,DropDowns!$F$2:$G$7,2,FALSE),\"Residual categories\")","v":"Residual categories"},null,null,null,0,0,0]
[0,{"$f":"IF(OR(COUNTA(O3693:O3722)>0,COUNTA(O3722:$O$5195)>0),IF(COUNTIF(B3713:B3722,B3722)=10,B3722+7,B3722),\"\")","v":""},"","","",null,null,null,0,0,0,0,{"$f":"IFERROR(VLOOKUP(G3723,DropDowns!$D$2:$E$151,2,FALSE),\"\")","v":""},{"$f":"IFERROR(VLOOKUP(H3723,DropDowns!$F$2:$G$7,2,FALSE),\"Residual categories\")","v":"Residual categories"},null,null,null,0,0,0]
[0,{"$f":"IF(OR(COUNTA(O3694:O3723)>0,COUNTA(O3723:$O$5195)>0),IF(COUNTIF(B3714:B3723,B3723)=10,B3723+7,B3723),\"\")","v":""},"","","",null,null,null,0,0,0,0,{"$f":"IFERROR(VLOOKUP(G3724,DropDowns!$D$2:$E$151,2,FALSE),\"\")","v":""},{"$f":"IFERROR(VLOOKUP(H3724,DropDowns!$F$2:$G$7,2,FALSE),\"Residual categories\")","v":"Residual categories"},null,null,null,0,0,0]
[0,{"$f":"IF(OR(COUNTA(O3696:O3725)>0,COUNTA(O3725:$O$5195)>0),IF(COUNTIF(B3716:B3725,B3725)=10,B3725+7,B3725),\"\")","v":""},"","","",null,null,null,0,0,0,0,{"$f":"IFERROR(VLOOKUP(G3726,DropDowns!$D$2:$E$151,2,FALSE),\"\")","v":""},{"$f":"IFERROR(VLOOKUP(H3726,DropDowns!$F$2:$G$7,2,FALSE),\"Residual categories\")","v":"Residual categories"},null,null,null,0,0,0]
[0,{"$f":"IF(OR(COUNTA(O3697:O3726)>0,COUNTA(O3726:$O$5195)>0),IF(COUNTIF(B3717:B3726,B3726)=10,B3726+7,B3726),\"\")","v":""},"","","",null,null,null,0,0,0,0,{"$f":"IFERROR(VLOOKUP(G3727,DropDowns!$D$2:$E$151,2,FALSE),\"\")","v":""},{"$f":"IFERROR(VLOOKUP(H3727,DropDowns!$F$2:$G$7,2,FALSE),\"Residual categories\")","v":"Residual categories"},null,null,null,0,0,0]
[0,{"$f":"IF(OR(COUNTA(O3698:O3727)>0,COUNTA(O3727:$O$5195)>0),IF(COUNTIF(B3718:B3727,B3727)=10,B3727+7,B3727),\"\")","v":""},"","","",null,null,null,0,0,0,0,{"$f":"IFERROR(VLOOKUP(G3728,DropDowns!$D$2:$E$151,2,FALSE),\"\")","v":""},{"$f":"IFERROR(VLOOKUP(H3728,DropDowns!$F$2:$G$7,2,FALSE),\"Residual categories\")","v":"Residual categories"},null,null,null,0,0,0]
[0,{"$f":"IF(OR(COUNTA(O3699:O3728)>0,COUNTA(O3728:$O$5195)>0),IF(COUNTIF(B3719:B3728,B3728)=10,B3728+7,B3728),\"\")","v":""},"","",{"$f":"IF(B3729=\"\",\"\",COUNTIF(B3720:B3729,B3729))","v":""},null,null,null,0,0,0,0,{"$f":"IFERROR(VLOOKUP(G3729,DropDowns!$D$2:$E$151,2,FALSE),\"\")","v":""},{"$f":"IFERROR(VLOOKUP(H3729,DropDowns!$F$2:$G$7,2,FALSE),\"Residual categories\")","v":"Residual categories"},null,null,null,0,0,0]
[0,{"$f":"IF(OR(COUNTA(O3701:O3730)>0,COUNTA(O3730:$O$5195)>0),IF(COUNTIF(B3721:B3730,B3730)=10,B3730+7,B3730),\"\")","v":""},"","","",null,null,null,0,0,0,0,{"$f":"IFERROR(VLOOKUP(G3731,DropDowns!$D$2:$E$151,2,FALSE),\"\")","v":""},{"$f":"IFERROR(VLOOKUP(H3731,DropDowns!$F$2:$G$7,2,FALSE),\"Residual categories\")","v":"Residual categories"},null,null,null,0,0,0]
[{"$f":"$E$2","v":0},{"$f":"IF(OR(COUNTA(O3702:O3731)>0,COUNTA(O3731:$O$5195)>0),IF(COUNTIF(B3722:B3731,B3731)=10,B3731+7,B3731),\"\")","v":""},"","","",null,null,null,0,0,0,0,{"$f":"IFERROR(VLOOKUP(G3732,DropDowns!$D$2:$E$151,2,FALSE),\"\")","v":""},{"$f":"IFERROR(VLOOKUP(H3732,DropDowns!$F$2:$G$7,2,FALSE),\"Residual categories\")","v":"Residual categories"},null,null,null,0,0,0]
[0,{"$f":"IF(OR(COUNTA(O3704:O3733)>0,COUNTA(O3733:$O$5195)>0),IF(COUNTIF(B3724:B3733,B3733)=10,B3733+7,B3733),\"\")","v":""},"","","",null,null,null,0,0,0,0,{"$f":"IFERROR(VLOOKUP(G3734,DropDowns!$D$2:$E$151,2,FALSE),\"\")","v":""},{"$f":"IFERROR(VLOOKUP(H3734,DropDowns!$F$2:$G$7,2,FALSE),\"Residual categories\")","v":"Residual categories"},null,null,null,0,0,0]
[0,{"$f":"IF(OR(COUNTA(O3705:O3734)>0,COUNTA(O3734:$O$5195)>0),IF(COUNTIF(B3725:B3734,B3734)=10,B3734+7,B3734),\"\")","v":""},"","","",null,null,null,0,0,0,0,{"$f":"IFERROR(VLOOKUP(G3735,DropDowns!$D$2:$E$151,2,FALSE),\"\")","v":""},{"$f":"IFERROR(VLOOKUP(H3735,DropDowns!$F$2:$G$7,2,FALSE),\"Residual categories\")","v":"Residual categories"},null,null,null,0,0,0]
[0,{"$f":"IF(OR(COUNTA(O3706:O3735)>0,COUNTA(O3735:$O$5195)>0),IF(COUNTIF(B3726:B3735,B3735)=10,B3735+7,B3735),\"\")","v":""},"","","",null,null,null,0,0,0,0,{"$f":"IFERROR(VLOOKUP(G3736,DropDowns!$D$2:$E$151,2,FALSE),\"\")","v":""},{"$f":"IFERROR(VLOOKUP(H3736,DropDowns!$F$2:$G$7,2,FALSE),\"Residual categories\")","v":"Residual categories"},null,null,null,0,0,0]
[0,{"$f":"IF(OR(COUNTA(O3707:O3736)>0,COUNTA(O3736:$O$5195)>0),IF(COUNTIF(B3727:B3736,B3736)=10,B3736+7,B3736),\"\")","v":""},"","","",null,null,null,0,0,0,0,{"$f":"IFERROR(VLOOKUP(G3737,DropDowns!$D$2:$E$151,2,FALSE),\"\")","v":""},{"$f":"IFERROR(VLOOKUP(H3737,DropDowns!$F$2:$G$7,2,FALSE),\"Residual categories\")","v":"Residual categories"},null,null,null,0,0,0]
[0,{"$f":"IF(OR(COUNTA(O3709:O3738)>0,COUNTA(O3738:$O$5195)>0),IF(COUNTIF(B3729:B3738,B3738)=10,B3738+7,B3738),\"\")","v":""},"","","",null,null,null,0,0,0,0,{"$f":"IFERROR(VLOOKUP(G3739,DropDowns!$D$2:$E$151,2,FALSE),\"\")","v":""},{"$f":"IFERROR(VLOOKUP(H3739,DropDowns!$F$2:$G$7,2,FALSE),\"Residual categories\")","v":"Residual categories"},null,null,null,0,0,0]
[0,{"$f":"IF(OR(COUNTA(O3710:O3739)>0,COUNTA(O3739:$O$5195)>0),IF(COUNTIF(B3730:B3739,B3739)=10,B3739+7,B3739),\"\")","v":""},"","","",null,null,null,0,0,0,0,{"$f":"IFERROR(VLOOKUP(G3740,DropDowns!$D$2:$E$151,2,FALSE),\"\")","v":""},{"$f":"IFERROR(VLOOKUP(H3740,DropDowns!$F$2:$G$7,2,FALSE),\"Residual categories\")","v":"Residual categories"},null,null,null,0,0,0]
[0,{"$f":"IF(OR(COUNTA(O3712:O3741)>0,COUNTA(O3741:$O$5195)>0),IF(COUNTIF(B3732:B3741,B3741)=10,B3741+7,B3741),\"\")","v":""},"","","",null,null,null,0,0,0,0,{"$f":"IFERROR(VLOOKUP(G3742,DropDowns!$D$2:$E$151,2,FALSE),\"\")","v":""},{"$f":"IFERROR(VLOOKUP(H3742,DropDowns!$F$2:$G$7,2,FALSE),\"Residual categories\")","v":"Residual categories"},null,null,null,0,0,0]
[0,{"$f":"IF(OR(COUNTA(O3713:O3742)>0,COUNTA(O3742:$O$5195)>0),IF(COUNTIF(B3733:B3742,B3742)=10,B3742+7,B3742),\"\")","v":""},"","","",null,null,null,0,0,0,0,{"$f":"IFERROR(VLOOKUP(G3743,DropDowns!$D$2:$E$151,2,FALSE),\"\")","v":""},{"$f":"IFERROR(VLOOKUP(H3743,DropDowns!$F$2:$G$7,2,FALSE),\"Residual categories\")","v":"Residual categories"},null,null,null,0,0,0]
[0,{"$f":"IF(OR(COUNTA(O3715:O3744)>0,COUNTA(O3744:$O$5195)>0),IF(COUNTIF(B3735:B3744,B3744)=10,B3744+7,B3744),\"\")","v":""},"","","",null,null,null,0,0,0,0,{"$f":"IFERROR(VLOOKUP(G3745,DropDowns!$D$2:$E$151,2,FALSE),\"\")","v":""},{"$f":"IFERROR(VLOOKUP(H3745,DropDowns!$F$2:$G$7,2,FALSE),\"Residual categories\")","v":"Residual categories"},null,null,null,0,0,0]
[0,{"$f":"IF(OR(COUNTA(O3716:O3745)>0,COUNTA(O3745:$O$5195)>0),IF(COUNTIF(B3736:B3745,B3745)=10,B3745+7,B3745),\"\")","v":""},"","","",null,null,null,0,0,0,0,{"$f":"IFERROR(VLOOKUP(G3746,DropDowns!$D$2:$E$151,2,FALSE),\"\")","v":""},{"$f":"IFERROR(VLOOKUP(H3746,DropDowns!$F$2:$G$7,2,FALSE),\"Residual categories\")","v":"Residual categories"},null,null,null,0,0,0]
[0,{"$f":"IF(OR(COUNTA(O3717:O3746)>0,COUNTA(O3746:$O$5195)>0),IF(COUNTIF(B3737:B3746,B3746)=10,B3746+7,B3746),\"\")","v":""},"","","",null,null,null,0,0,0,0,{"$f":"IFERROR(VLOOKUP(G3747,DropDowns!$D$2:$E$151,2,FALSE),\"\")","v":""},{"$f":"IFERROR(VLOOKUP(H3747,DropDowns!$F$2:$G$7,2,FALSE),\"Residual categories\")","v":"Residual categories"},null,null,null,0,0,0]
[0,{"$f":"IF(OR(COUNTA(O3718:O3747)>0,COUNTA(O3747:$O$5195)>0),IF(COUNTIF(B3738:B3747,B3747)=10,B3747+7,B3747),\"\")","v":""},"","","",null,null,null,0,0,0,0,{"$f":"IFERROR(VLOOKUP(G3748,DropDowns!$D$2:$E$151,2,FALSE),\"\")","v":""},{"$f":"IFERROR(VLOOKUP(H3748,DropDowns!$F$2:$G$7,2,FALSE),\"Residual categories\")","v":"Residual categories"},null,null,null,0,0,0]
[0,{"$f":"IF(OR(COUNTA(O3720:O3749)>0,COUNTA(O3749:$O$5195)>0),IF(COUNTIF(B3740:B3749,B3749)=10,B3749+7,B3749),\"\")","v":""},"","","",null,null,null,0,0,0,0,{"$f":"IFERROR(VLOOKUP(G3750,DropDowns!$D$2:$E$151,2,FALSE),\"\")","v":""},{"$f":"IFERROR(VLOOKUP(H3750,DropDowns!$F$2:$G$7,2,FALSE),\"Residual categories\")","v":"Residual categories"},null,null,null,0,0,0]
[0,{"$f":"IF(OR(COUNTA(O3721:O3750)>0,COUNTA(O3750:$O$5195)>0),IF(COUNTIF(B3741:B3750,B3750)=10,B3750+7,B3750),\"\")","v":""},"","","",null,null,null,0,0,0,0,{"$f":"IFERROR(VLOOKUP(G3751,DropDowns!$D$2:$E$151,2,FALSE),\"\")","v":""},{"$f":"IFERROR(VLOOKUP(H3751,DropDowns!$F$2:$G$7,2,FALSE),\"Residual categories\")","v":"Residual categories"},null,null,null,0,0,0]
[0,{"$f":"IF(OR(COUNTA(O3723:O3752)>0,COUNTA(O3752:$O$5195)>0),IF(COUNTIF(B3743:B3752,B3752)=10,B3752+7,B3752),\"\")","v":""},"","","",null,null,null,0,0,0,0,{"$f":"IFERROR(VLOOKUP(G3753,DropDowns!$D$2:$E$151,2,FALSE),\"\")","v":""},{"$f":"IFERROR(VLOOKUP(H3753,DropDowns!$F$2:$G$7,2,FALSE),\"Residual categories\")","v":"Residual categories"},null,null,null,0,0,0]
[0,{"$f":"IF(OR(COUNTA(O3724:O3753)>0,COUNTA(O3753:$O$5195)>0),IF(COUNTIF(B3744:B3753,B3753)=10,B3753+7,B3753),\"\")","v":""},"","","",null,null,null,0,0,0,0,{"$f":"IFERROR(VLOOKUP(G3754,DropDowns!$D$2:$E$151,2,FALSE),\"\")","v":""},{"$f":"IFERROR(VLOOKUP(H3754,DropDowns!$F$2:$G$7,2,FALSE),\"Residual categories\")","v":"Residual categories"},null,null,null,0,0,0]
[0,{"$f":"IF(OR(COUNTA(O3725:O3754)>0,COUNTA(O3754:$O$5195)>0),IF(COUNTIF(B3745:B3754,B3754)=10,B3754+7,B3754),\"\")","v":""},"","","",null,null,null,0,0,0,0,{"$f":"IFERROR(VLOOKUP(G3755,DropDowns!$D$2:$E$151,2,FALSE),\"\")","v":""},{"$f":"IFERROR(VLOOKUP(H3755,DropDowns!$F$2:$G$7,2,FALSE),\"Residual categories\")","v":"Residual categories"},null,null,null,0,0,0]
[0,{"$f":"IF(OR(COUNTA(O3726:O3755)>0,COUNTA(O3755:$O$5195)>0),IF(COUNTIF(B3746:B3755,B3755)=10,B3755+7,B3755),\"\")","v":""},"","","",null,null,null,0,0,0,0,{"$f":"IFERROR(VLOOKUP(G3756,DropDowns!$D$2:$E$151,2,FALSE),\"\")","v":""},{"$f":"IFERROR(VLOOKUP(H3756,DropDowns!$F$2:$G$7,2,FALSE),\"Residual categories\")","v":"Residual categories"},null,null,null,0,0,0]
[0,{"$f":"IF(OR(COUNTA(O3728:O3757)>0,COUNTA(O3757:$O$5195)>0),IF(COUNTIF(B3748:B3757,B3757)=10,B3757+7,B3757),\"\")","v":""},"","","",null,null,null,0,0,0,0,{"$f":"IFERROR(VLOOKUP(G3758,DropDowns!$D$2:$E$151,2,FALSE),\"\")","v":""},{"$f":"IFERROR(VLOOKUP(H3758,DropDowns!$F$2:$G$7,2,FALSE),\"Residual categories\")","v":"Residual categories"},null,null,null,0,0,0]
[0,{"$f":"IF(OR(COUNTA(O3729:O3758)>0,COUNTA(O3758:$O$5195)>0),IF(COUNTIF(B3749:B3758,B3758)=10,B3758+7,B3758),\"\")","v":""},"","","",null,null,null,0,0,0,0,{"$f":"IFERROR(VLOOKUP(G3759,DropDowns!$D$2:$E$151,2,FALSE),\"\")","v":""},{"$f":"IFERROR(VLOOKUP(H3759,DropDowns!$F$2:$G$7,2,FALSE),\"Residual categories\")","v":"Residual categories"},null,null,null,0,0,0]
[0,{"$f":"IF(OR(COUNTA(O3731:O3760)>0,COUNTA(O3760:$O$5195)>0),IF(COUNTIF(B3751:B3760,B3760)=10,B3760+7,B3760),\"\")","v":""},"","","",null,null,null,0,0,0,0,{"$f":"IFERROR(VLOOKUP(G3761,DropDowns!$D$2:$E$151,2,FALSE),\"\")","v":""},{"$f":"IFERROR(VLOOKUP(H3761,DropDowns!$F$2:$G$7,2,FALSE),\"Residual categories\")","v":"Residual categories"},null,null,null,0,0,0]
[0,{"$f":"IF(OR(COUNTA(O3732:O3761)>0,COUNTA(O3761:$O$5195)>0),IF(COUNTIF(B3752:B3761,B3761)=10,B3761+7,B3761),\"\")","v":""},"","","",null,null,null,0,0,0,0,{"$f":"IFERROR(VLOOKUP(G3762,DropDowns!$D$2:$E$151,2,FALSE),\"\")","v":""},{"$f":"IFERROR(VLOOKUP(H3762,DropDowns!$F$2:$G$7,2,FALSE),\"Residual categories\")","v":"Residual categories"},null,null,null,0,0,0]
[0,{"$f":"IF(OR(COUNTA(O3733:O3762)>0,COUNTA(O3762:$O$5195)>0),IF(COUNTIF(B3753:B3762,B3762)=10,B3762+7,B3762),\"\")","v":""},"","","",null,null,null,0,0,0,0,{"$f":"IFERROR(VLOOKUP(G3763,DropDowns!$D$2:$E$151,2,FALSE),\"\")","v":""},{"$f":"IFERROR(VLOOKUP(H3763,DropDowns!$F$2:$G$7,2,FALSE),\"Residual categories\")","v":"Residual categories"},null,null,null,0,0,0]
[0,{"$f":"IF(OR(COUNTA(O3734:O3763)>0,COUNTA(O3763:$O$5195)>0),IF(COUNTIF(B3754:B3763,B3763)=10,B3763+7,B3763),\"\")","v":""},"","","",null,null,null,0,0,0,0,{"$f":"IFERROR(VLOOKUP(G3764,DropDowns!$D$2:$E$151,2,FALSE),\"\")","v":""},{"$f":"IFERROR(VLOOKUP(H3764,DropDowns!$F$2:$G$7,2,FALSE),\"Residual categories\")","v":"Residual categories"},null,null,null,0,0,0]
[0,{"$f":"IF(OR(COUNTA(O3736:O3765)>0,COUNTA(O3765:$O$5195)>0),IF(COUNTIF(B3756:B3765,B3765)=10,B3765+7,B3765),\"\")","v":""},"","","",null,null,null,0,0,0,0,{"$f":"IFERROR(VLOOKUP(G3766,DropDowns!$D$2:$E$151,2,FALSE),\"\")","v":""},{"$f":"IFERROR(VLOOKUP(H3766,DropDowns!$F$2:$G$7,2,FALSE),\"Residual categories\")","v":"Residual categories"},null,null,null,0,0,0]
[0,{"$f":"IF(OR(COUNTA(O3737:O3766)>0,COUNTA(O3766:$O$5195)>0),IF(COUNTIF(B3757:B3766,B3766)=10,B3766+7,B3766),\"\")","v":""},"","","",null,null,null,0,0,0,0,{"$f":"IFERROR(VLOOKUP(G3767,DropDowns!$D$2:$E$151,2,FALSE),\"\")","v":""},{"$f":"IFERROR(VLOOKUP(H3767,DropDowns!$F$2:$G$7,2,FALSE),\"Residual categories\")","v":"Residual categories"},null,null,null,0,0,0]
[0,{"$f":"IF(OR(COUNTA(O3739:O3768)>0,COUNTA(O3768:$O$5195)>0),IF(COUNTIF(B3759:B3768,B3768)=10,B3768+7,B3768),\"\")","v":""},"","","",null,null,null,0,0,0,0,{"$f":"IFERROR(VLOOKUP(G3769,DropDowns!$D$2:$E$151,2,FALSE),\"\")","v":""},{"$f":"IFERROR(VLOOKUP(H3769,DropDowns!$F$2:$G$7,2,FALSE),\"Residual categories\")","v":"Residual categories"},null,null,null,0,0,0]
[0,{"$f":"IF(OR(COUNTA(O3740:O3769)>0,COUNTA(O3769:$O$5195)>0),IF(COUNTIF(B3760:B3769,B3769)=10,B3769+7,B3769),\"\")","v":""},"","","",null,null,null,0,0,0,0,{"$f":"IFERROR(VLOOKUP(G3770,DropDowns!$D$2:$E$151,2,FALSE),\"\")","v":""},{"$f":"IFERROR(VLOOKUP(H3770,DropDowns!$F$2:$G$7,2,FALSE),\"Residual categories\")","v":"Residual categories"},null,null,null,0,0,0]
[0,{"$f":"IF(OR(COUNTA(O3741:O3770)>0,COUNTA(O3770:$O$5195)>0),IF(COUNTIF(B3761:B3770,B3770)=10,B3770+7,B3770),\"\")","v":""},"","","",null,null,null,0,0,0,0,{"$f":"IFERROR(VLOOKUP(G3771,DropDowns!$D$2:$E$151,2,FALSE),\"\")","v":""},{"$f":"IFERROR(VLOOKUP(H3771,DropDowns!$F$2:$G$7,2,FALSE),\"Residual categories\")","v":"Residual categories"},null,null,null,0,0,0]
[0,{"$f":"IF(OR(COUNTA(O3742:O3771)>0,COUNTA(O3771:$O$5195)>0),IF(COUNTIF(B3762:B3771,B3771)=10,B3771+7,B3771),\"\")","v":""},"","","",null,null,null,0,0,0,0,{"$f":"IFERROR(VLOOKUP(G3772,DropDowns!$D$2:$E$151,2,FALSE),\"\")","v":""},{"$f":"IFERROR(VLOOKUP(H3772,DropDowns!$F$2:$G$7,2,FALSE),\"Residual categories\")","v":"Residual categories"},null,null,null,0,0,0]
[0,{"$f":"IF(OR(COUNTA(O3744:O3773)>0,COUNTA(O3773:$O$5195)>0),IF(COUNTIF(B3764:B3773,B3773)=10,B3773+7,B3773),\"\")","v":""},"","","",null,null,null,0,0,0,0,{"$f":"IFERROR(VLOOKUP(G3774,DropDowns!$D$2:$E$151,2,FALSE),\"\")","v":""},{"$f":"IFERROR(VLOOKUP(H3774,DropDowns!$F$2:$G$7,2,FALSE),\"Residual categories\")","v":"Residual categories"},null,null,null,0,0,0]
[0,{"$f":"IF(OR(COUNTA(O3745:O3774)>0,COUNTA(O3774:$O$5195)>0),IF(COUNTIF(B3765:B3774,B3774)=10,B3774+7,B3774),\"\")","v":""},"","","",null,null,null,0,0,0,0,{"$f":"IFERROR(VLOOKUP(G3775,DropDowns!$D$2:$E$151,2,FALSE),\"\")","v":""},{"$f":"IFERROR(VLOOKUP(H3775,DropDowns!$F$2:$G$7,2,FALSE),\"Residual categories\")","v":"Residual categories"},null,null,null,0,0,0]
[0,{"$f":"IF(OR(COUNTA(O3747:O3776)>0,COUNTA(O3776:$O$5195)>0),IF(COUNTIF(B3767:B3776,B3776)=10,B3776+7,B3776),\"\")","v":""},"","","",null,null,null,0,0,0,0,{"$f":"IFERROR(VLOOKUP(G3777,DropDowns!$D$2:$E$151,2,FALSE),\"\")","v":""},{"$f":"IFERROR(VLOOKUP(H3777,DropDowns!$F$2:$G$7,2,FALSE),\"Residual categories\")","v":"Residual categories"},null,null,null,0,0,0]
[0,{"$f":"IF(OR(COUNTA(O3748:O3777)>0,COUNTA(O3777:$O$5195)>0),IF(COUNTIF(B3768:B3777,B3777)=10,B3777+7,B3777),\"\")","v":""},"","","",null,null,null,0,0,0,0,{"$f":"IFERROR(VLOOKUP(G3778,DropDowns!$D$2:$E$151,2,FALSE),\"\")","v":""},{"$f":"IFERROR(VLOOKUP(H3778,DropDowns!$F$2:$G$7,2,FALSE),\"Residual categories\")","v":"Residual categories"},null,null,null,0,0,0]
[0,{"$f":"IF(OR(COUNTA(O3750:O3779)>0,COUNTA(O3779:$O$5195)>0),IF(COUNTIF(B3770:B3779,B3779)=10,B3779+7,B3779),\"\")","v":""},"","","",null,null,null,0,0,0,0,{"$f":"IFERROR(VLOOKUP(G3780,DropDowns!$D$2:$E$151,2,FALSE),\"\")","v":""},{"$f":"IFERROR(VLOOKUP(H3780,DropDowns!$F$2:$G$7,2,FALSE),\"Residual categories\")","v":"Residual categories"},null,null,null,0,0,0]
[0,{"$f":"IF(OR(COUNTA(O3751:O3780)>0,COUNTA(O3780:$O$5195)>0),IF(COUNTIF(B3771:B3780,B3780)=10,B3780+7,B3780),\"\")","v":""},"","","",null,null,null,0,0,0,0,{"$f":"IFERROR(VLOOKUP(G3781,DropDowns!$D$2:$E$151,2,FALSE),\"\")","v":""},{"$f":"IFERROR(VLOOKUP(H3781,DropDowns!$F$2:$G$7,2,FALSE),\"Residual categories\")","v":"Residual categories"},null,null,null,0,0,0]
[0,{"$f":"IF(OR(COUNTA(O3752:O3781)>0,COUNTA(O3781:$O$5195)>0),IF(COUNTIF(B3772:B3781,B3781)=10,B3781+7,B3781),\"\")","v":""},"","","",null,null,null,0,0,0,0,{"$f":"IFERROR(VLOOKUP(G3782,DropDowns!$D$2:$E$151,2,FALSE),\"\")","v":""},{"$f":"IFERROR(VLOOKUP(H3782,DropDowns!$F$2:$G$7,2,FALSE),\"Residual categories\")","v":"Residual categories"},null,null,null,0,0,0]
[0,{"$f":"IF(OR(COUNTA(O3753:O3782)>0,COUNTA(O3782:$O$5195)>0),IF(COUNTIF(B3773:B3782,B3782)=10,B3782+7,B3782),\"\")","v":""},{"$f":"IF(D3783=1,A3783,\"\")","v":""},"","",null,null,null,{"$f":"IF(COUNTA(O3783:Q3783)>0,1,0)","v":0},{"$f":"IF(O3783=\"y\",1,0)","v":0},{"$f":"IF(P3783=\"y\",1,0)","v":0},{"$f":"IF(Q3783=\"y\",1,0)","v":0},{"$f":"IFERROR(VLOOKUP(G3783,DropDowns!$D$2:$E$151,2,FALSE),\"\")","v":""},{"$f":"IFERROR(VLOOKUP(H3783,DropDowns!$F$2:$G$7,2,FALSE),\"Residual categories\")","v":"Residual categories"},null,null,null,{"$f":"IF(O3783=\"yes\",1,0)","v":0},{"$f":"IF(P3783=\"yes\",1,0)","v":0},{"$f":"IF(Q3783=\"yes\",1,0)","v":0}]
[0,{"$f":"IF(OR(COUNTA(O3755:O3784)>0,COUNTA(O3784:$O$5195)>0),IF(COUNTIF(B3775:B3784,B3784)=10,B3784+7,B3784),\"\")","v":""},"","","",null,null,null,0,0,0,0,{"$f":"IFERROR(VLOOKUP(G3785,DropDowns!$D$2:$E$151,2,FALSE),\"\")","v":""},{"$f":"IFERROR(VLOOKUP(H3785,DropDowns!$F$2:$G$7,2,FALSE),\"Residual categories\")","v":"Residual categories"},null,null,null,0,0,0]
[0,{"$f":"IF(OR(COUNTA(O3756:O3785)>0,COUNTA(O3785:$O$5195)>0),IF(COUNTIF(B3776:B3785,B3785)=10,B3785+7,B3785),\"\")","v":""},"","","",null,null,null,0,0,0,0,{"$f":"IFERROR(VLOOKUP(G3786,DropDowns!$D$2:$E$151,2,FALSE),\"\")","v":""},{"$f":"IFERROR(VLOOKUP(H3786,DropDowns!$F$2:$G$7,2,FALSE),\"Residual categories\")","v":"Residual categories"},null,null,null,0,0,0]
[0,{"$f":"IF(OR(COUNTA(O3758:O3787)>0,COUNTA(O3787:$O$5195)>0),IF(COUNTIF(B3778:B3787,B3787)=10,B3787+7,B3787),\"\")","v":""},"","","",null,null,null,0,0,0,0,{"$f":"IFERROR(VLOOKUP(G3788,DropDowns!$D$2:$E$151,2,FALSE),\"\")","v":""},{"$f":"IFERROR(VLOOKUP(H3788,DropDowns!$F$2:$G$7,2,FALSE),\"Residual categories\")","v":"Residual categories"},null,null,null,0,0,0]
[0,{"$f":"IF(OR(COUNTA(O3759:O3788)>0,COUNTA(O3788:$O$5195)>0),IF(COUNTIF(B3779:B3788,B3788)=10,B3788+7,B3788),\"\")","v":""},"","","",null,null,null,0,0,0,0,{"$f":"IFERROR(VLOOKUP(G3789,DropDowns!$D$2:$E$151,2,FALSE),\"\")","v":""},{"$f":"IFERROR(VLOOKUP(H3789,DropDowns!$F$2:$G$7,2,FALSE),\"Residual categories\")","v":"Residual categories"},null,null,null,0,0,0]
[0,{"$f":"IF(OR(COUNTA(O3760:O3789)>0,COUNTA(O3789:$O$5195)>0),IF(COUNTIF(B3780:B3789,B3789)=10,B3789+7,B3789),\"\")","v":""},"","","",null,null,null,0,0,0,0,{"$f":"IFERROR(VLOOKUP(G3790,DropDowns!$D$2:$E$151,2,FALSE),\"\")","v":""},{"$f":"IFERROR(VLOOKUP(H3790,DropDowns!$F$2:$G$7,2,FALSE),\"Residual categories\")","v":"Residual categories"},null,null,null,0,0,0]
[0,{"$f":"IF(OR(COUNTA(O3761:O3790)>0,COUNTA(O3790:$O$5195)>0),IF(COUNTIF(B3781:B3790,B3790)=10,B3790+7,B3790),\"\")","v":""},"","","",null,null,null,0,0,0,0,{"$f":"IFERROR(VLOOKUP(G3791,DropDowns!$D$2:$E$151,2,FALSE),\"\")","v":""},{"$f":"IFERROR(VLOOKUP(H3791,DropDowns!$F$2:$G$7,2,FALSE),\"Residual categories\")","v":"Residual categories"},null,null,null,0,0,0]
[0,{"$f":"IF(OR(COUNTA(O3763:O3792)>0,COUNTA(O3792:$O$5195)>0),IF(COUNTIF(B3783:B3792,B3792)=10,B3792+7,B3792),\"\")","v":""},"","",{"$f":"IF(B3793=\"\",\"\",COUNTIF(B3784:B3793,B3793))","v":""},null,null,null,0,0,0,0,{"$f":"IFERROR(VLOOKUP(G3793,DropDowns!$D$2:$E$151,2,FALSE),\"\")","v":""},{"$f":"IFERROR(VLOOKUP(H3793,DropDowns!$F$2:$G$7,2,FALSE),\"Residual categories\")","v":"Residual categories"},null,null,null,0,0,0]
[0,{"$f":"IF(OR(COUNTA(O3764:O3793)>0,COUNTA(O3793:$O$5195)>0),IF(COUNTIF(B3784:B3793,B3793)=10,B3793+7,B3793),\"\")","v":""},"","","",null,null,null,0,0,0,0,{"$f":"IFERROR(VLOOKUP(G3794,DropDowns!$D$2:$E$151,2,FALSE),\"\")","v":""},{"$f":"IFERROR(VLOOKUP(H3794,DropDowns!$F$2:$G$7,2,FALSE),\"Residual categories\")","v":"Residual categories"},null,null,null,0,0,0]
[{"$f":"$E$2","v":0},{"$f":"IF(OR(COUNTA(O3766:O3795)>0,COUNTA(O3795:$O$5195)>0),IF(COUNTIF(B3786:B3795,B3795)=10,B3795+7,B3795),\"\")","v":""},"","","",null,null,null,0,0,0,0,{"$f":"IFERROR(VLOOKUP(G3796,DropDowns!$D$2:$E$151,2,FALSE),\"\")","v":""},{"$f":"IFERROR(VLOOKUP(H3796,DropDowns!$F$2:$G$7,2,FALSE),\"Residual categories\")","v":"Residual categories"},null,null,null,0,0,0]
[0,{"$f":"IF(OR(COUNTA(O3767:O3796)>0,COUNTA(O3796:$O$5195)>0),IF(COUNTIF(B3787:B3796,B3796)=10,B3796+7,B3796),\"\")","v":""},"","","",null,null,null,0,0,0,0,{"$f":"IFERROR(VLOOKUP(G3797,DropDowns!$D$2:$E$151,2,FALSE),\"\")","v":""},{"$f":"IFERROR(VLOOKUP(H3797,DropDowns!$F$2:$G$7,2,FALSE),\"Residual categories\")","v":"Residual categories"},null,null,null,0,0,0]
[0,{"$f":"IF(OR(COUNTA(O3768:O3797)>0,COUNTA(O3797:$O$5195)>0),IF(COUNTIF(B3788:B3797,B3797)=10,B3797+7,B3797),\"\")","v":""},"","","",null,null,null,0,0,0,0,{"$f":"IFERROR(VLOOKUP(G3798,DropDowns!$D$2:$E$151,2,FALSE),\"\")","v":""},{"$f":"IFERROR(VLOOKUP(H3798,DropDowns!$F$2:$G$7,2,FALSE),\"Residual categories\")","v":"Residual categories"},null,null,null,0,0,0]
[0,{"$f":"IF(OR(COUNTA(O3769:O3798)>0,COUNTA(O3798:$O$5195)>0),IF(COUNTIF(B3789:B3798,B3798)=10,B3798+7,B3798),\"\")","v":""},"","","",null,null,null,0,0,0,0,{"$f":"IFERROR(VLOOKUP(G3799,DropDowns!$D$2:$E$151,2,FALSE),\"\")","v":""},{"$f":"IFERROR(VLOOKUP(H3799,DropDowns!$F$2:$G$7,2,FALSE),\"Residual categories\")","v":"Residual categories"},null,null,null,0,0,0]
[0,{"$f":"IF(OR(COUNTA(O3771:O3800)>0,COUNTA(O3800:$O$5195)>0),IF(COUNTIF(B3791:B3800,B3800)=10,B3800+7,B3800),\"\")","v":""},"","","",null,null,null,0,0,0,0,{"$f":"IFERROR(VLOOKUP(G3801,DropDowns!$D$2:$E$151,2,FALSE),\"\")","v":""},{"$f":"IFERROR(VLOOKUP(H3801,DropDowns!$F$2:$G$7,2,FALSE),\"Residual categories\")","v":"Residual categories"},null,null,null,0,0,0]
[0,{"$f":"IF(OR(COUNTA(O3772:O3801)>0,COUNTA(O3801:$O$5195)>0),IF(COUNTIF(B3792:B3801,B3801)=10,B3801+7,B3801),\"\")","v":""},"","","",null,null,null,0,0,0,0,{"$f":"IFERROR(VLOOKUP(G3802,DropDowns!$D$2:$E$151,2,FALSE),\"\")","v":""},{"$f":"IFERROR(VLOOKUP(H3802,DropDowns!$F$2:$G$7,2,FALSE),\"Residual categories\")","v":"Residual categories"},null,null,null,0,0,0]
[0,{"$f":"IF(OR(COUNTA(O3774:O3803)>0,COUNTA(O3803:$O$5195)>0),IF(COUNTIF(B3794:B3803,B3803)=10,B3803+7,B3803),\"\")","v":""},"","","",null,null,null,0,0,0,0,{"$f":"IFERROR(VLOOKUP(G3804,DropDowns!$D$2:$E$151,2,FALSE),\"\")","v":""},{"$f":"IFERROR(VLOOKUP(H3804,DropDowns!$F$2:$G$7,2,FALSE),\"Residual categories\")","v":"Residual categories"},null,null,null,0,0,0]
[0,{"$f":"IF(OR(COUNTA(O3775:O3804)>0,COUNTA(O3804:$O$5195)>0),IF(COUNTIF(B3795:B3804,B3804)=10,B3804+7,B3804),\"\")","v":""},"","","",null,null,null,0,0,0,0,{"$f":"IFERROR(VLOOKUP(G3805,DropDowns!$D$2:$E$151,2,FALSE),\"\")","v":""},{"$f":"IFERROR(VLOOKUP(H3805,DropDowns!$F$2:$G$7,2,FALSE),\"Residual categories\")","v":"Residual categories"},null,null,null,0,0,0]
[0,{"$f":"IF(OR(COUNTA(O3776:O3805)>0,COUNTA(O3805:$O$5195)>0),IF(COUNTIF(B3796:B3805,B3805)=10,B3805+7,B3805),\"\")","v":""},"","","",null,null,null,0,0,0,0,{"$f":"IFERROR(VLOOKUP(G3806,DropDowns!$D$2:$E$151,2,FALSE),\"\")","v":""},{"$f":"IFERROR(VLOOKUP(H3806,DropDowns!$F$2:$G$7,2,FALSE),\"Residual categories\")","v":"Residual categories"},null,null,null,0,0,0]
[0,{"$f":"IF(OR(COUNTA(O3777:O3806)>0,COUNTA(O3806:$O$5195)>0),IF(COUNTIF(B3797:B3806,B3806)=10,B3806+7,B3806),\"\")","v":""},"","","",null,null,null,0,0,0,0,{"$f":"IFERROR(VLOOKUP(G3807,DropDowns!$D$2:$E$151,2,FALSE),\"\")","v":""},{"$f":"IFERROR(VLOOKUP(H3807,DropDowns!$F$2:$G$7,2,FALSE),\"Residual categories\")","v":"Residual categories"},null,null,null,0,0,0]
[0,{"$f":"IF(OR(COUNTA(O3779:O3808)>0,COUNTA(O3808:$O$5195)>0),IF(COUNTIF(B3799:B3808,B3808)=10,B3808+7,B3808),\"\")","v":""},"","","",null,null,null,0,0,0,0,{"$f":"IFERROR(VLOOKUP(G3809,DropDowns!$D$2:$E$151,2,FALSE),\"\")","v":""},{"$f":"IFERROR(VLOOKUP(H3809,DropDowns!$F$2:$G$7,2,FALSE),\"Residual categories\")","v":"Residual categories"},null,null,null,0,0,0]
[0,{"$f":"IF(OR(COUNTA(O3780:O3809)>0,COUNTA(O3809:$O$5195)>0),IF(COUNTIF(B3800:B3809,B3809)=10,B3809+7,B3809),\"\")","v":""},"","","",null,null,null,0,0,0,0,{"$f":"IFERROR(VLOOKUP(G3810,DropDowns!$D$2:$E$151,2,FALSE),\"\")","v":""},{"$f":"IFERROR(VLOOKUP(H3810,DropDowns!$F$2:$G$7,2,FALSE),\"Residual categories\")","v":"Residual categories"},null,null,null,0,0,0]
[0,{"$f":"IF(OR(COUNTA(O3782:O3811)>0,COUNTA(O3811:$O$5195)>0),IF(COUNTIF(B3802:B3811,B3811)=10,B3811+7,B3811),\"\")","v":""},"","","",null,null,null,0,0,0,0,{"$f":"IFERROR(VLOOKUP(G3812,DropDowns!$D$2:$E$151,2,FALSE),\"\")","v":""},{"$f":"IFERROR(VLOOKUP(H3812,DropDowns!$F$2:$G$7,2,FALSE),\"Residual categories\")","v":"Residual categories"},null,null,null,0,0,0]
[0,{"$f":"IF(OR(COUNTA(O3783:O3812)>0,COUNTA(O3812:$O$5195)>0),IF(COUNTIF(B3803:B3812,B3812)=10,B3812+7,B3812),\"\")","v":""},"","","",null,null,null,0,0,0,0,{"$f":"IFERROR(VLOOKUP(G3813,DropDowns!$D$2:$E$151,2,FALSE),\"\")","v":""},{"$f":"IFERROR(VLOOKUP(H3813,DropDowns!$F$2:$G$7,2,FALSE),\"Residual categories\")","v":"Residual categories"},null,null,null,0,0,0]
[0,{"$f":"IF(OR(COUNTA(O3785:O3814)>0,COUNTA(O3814:$O$5195)>0),IF(COUNTIF(B3805:B3814,B3814)=10,B3814+7,B3814),\"\")","v":""},"","","",null,null,null,0,0,0,0,{"$f":"IFERROR(VLOOKUP(G3815,DropDowns!$D$2:$E$151,2,FALSE),\"\")","v":""},{"$f":"IFERROR(VLOOKUP(H3815,DropDowns!$F$2:$G$7,2,FALSE),\"Residual categories\")","v":"Residual categories"},null,null,null,0,0,0]
[0,{"$f":"IF(OR(COUNTA(O3786:O3815)>0,COUNTA(O3815:$O$5195)>0),IF(COUNTIF(B3806:B3815,B3815)=10,B3815+7,B3815),\"\")","v":""},"","","",null,null,null,0,0,0,0,{"$f":"IFERROR(VLOOKUP(G3816,DropDowns!$D$2:$E$151,2,FALSE),\"\")","v":""},{"$f":"IFERROR(VLOOKUP(H3816,DropDowns!$F$2:$G$7,2,FALSE),\"Residual categories\")","v":"Residual categories"},null,null,null,0,0,0]
[0,{"$f":"IF(OR(COUNTA(O3787:O3816)>0,COUNTA(O3816:$O$5195)>0),IF(COUNTIF(B3807:B3816,B3816)=10,B3816+7,B3816),\"\")","v":""},"","","",null,null,null,0,0,0,0,{"$f":"IFERROR(VLOOKUP(G3817,DropDowns!$D$2:$E$151,2,FALSE),\"\")","v":""},{"$f":"IFERROR(VLOOKUP(H3817,DropDowns!$F$2:$G$7,2,FALSE),\"Residual categories\")","v":"Residual categories"},null,null,null,0,0,0]
[0,{"$f":"IF(OR(COUNTA(O3788:O3817)>0,COUNTA(O3817:$O$5195)>0),IF(COUNTIF(B3808:B3817,B3817)=10,B3817+7,B3817),\"\")","v":""},"","","",null,null,null,0,0,0,0,{"$f":"IFERROR(VLOOKUP(G3818,DropDowns!$D$2:$E$151,2,FALSE),\"\")","v":""},{"$f":"IFERROR(VLOOKUP(H3818,DropDowns!$F$2:$G$7,2,FALSE),\"Residual categories\")","v":"Residual categories"},null,null,null,0,0,0]
[0,{"$f":"IF(OR(COUNTA(O3790:O3819)>0,COUNTA(O3819:$O$5195)>0),IF(COUNTIF(B3810:B3819,B3819)=10,B3819+7,B3819),\"\")","v":""},"","","",null,null,null,0,0,0,0,{"$f":"IFERROR(VLOOKUP(G3820,DropDowns!$D$2:$E$151,2,FALSE),\"\")","v":""},{"$f":"IFERROR(VLOOKUP(H3820,DropDowns!$F$2:$G$7,2,FALSE),\"Residual categories\")","v":"Residual categories"},null,null,null,0,0,0]
[0,{"$f":"IF(OR(COUNTA(O3791:O3820)>0,COUNTA(O3820:$O$5195)>0),IF(COUNTIF(B3811:B3820,B3820)=10,B3820+7,B3820),\"\")","v":""},"","","",null,null,null,0,0,0,0,{"$f":"IFERROR(VLOOKUP(G3821,DropDowns!$D$2:$E$151,2,FALSE),\"\")","v":""},{"$f":"IFERROR(VLOOKUP(H3821,DropDowns!$F$2:$G$7,2,FALSE),\"Residual categories\")","v":"Residual categories"},null,null,null,0,0,0]
[0,{"$f":"IF(OR(COUNTA(O3793:O3822)>0,COUNTA(O3822:$O$5195)>0),IF(COUNTIF(B3813:B3822,B3822)=10,B3822+7,B3822),\"\")","v":""},"","","",null,null,null,0,0,0,0,{"$f":"IFERROR(VLOOKUP(G3823,DropDowns!$D$2:$E$151,2,FALSE),\"\")","v":""},{"$f":"IFERROR(VLOOKUP(H3823,DropDowns!$F$2:$G$7,2,FALSE),\"Residual categories\")","v":"Residual categories"},null,null,null,0,0,0]
[0,{"$f":"IF(OR(COUNTA(O3794:O3823)>0,COUNTA(O3823:$O$5195)>0),IF(COUNTIF(B3814:B3823,B3823)=10,B3823+7,B3823),\"\")","v":""},"","","",null,null,null,0,0,0,0,{"$f":"IFERROR(VLOOKUP(G3824,DropDowns!$D$2:$E$151,2,FALSE),\"\")","v":""},{"$f":"IFERROR(VLOOKUP(H3824,DropDowns!$F$2:$G$7,2,FALSE),\"Residual categories\")","v":"Residual categories"},null,null,null,0,0,0]
[0,{"$f":"IF(OR(COUNTA(O3795:O3824)>0,COUNTA(O3824:$O$5195)>0),IF(COUNTIF(B3815:B3824,B3824)=10,B3824+7,B3824),\"\")","v":""},"","","",null,null,null,0,0,0,0,{"$f":"IFERROR(VLOOKUP(G3825,DropDowns!$D$2:$E$151,2,FALSE),\"\")","v":""},{"$f":"IFERROR(VLOOKUP(H3825,DropDowns!$F$2:$G$7,2,FALSE),\"Residual categories\")","v":"Residual categories"},null,null,null,0,0,0]
[0,{"$f":"IF(OR(COUNTA(O3796:O3825)>0,COUNTA(O3825:$O$5195)>0),IF(COUNTIF(B3816:B3825,B3825)=10,B3825+7,B3825),\"\")","v":""},"","","",null,null,null,0,0,0,0,{"$f":"IFERROR(VLOOKUP(G3826,DropDowns!$D$2:$E$151,2,FALSE),\"\")","v":""},{"$f":"IFERROR(VLOOKUP(H3826,DropDowns!$F$2:$G$7,2,FALSE),\"Residual categories\")","v":"Residual categories"},null,null,null,0,0,0]
[0,{"$f":"IF(OR(COUNTA(O3798:O3827)>0,COUNTA(O3827:$O$5195)>0),IF(COUNTIF(B3818:B3827,B3827)=10,B3827+7,B3827),\"\")","v":""},"","","",null,null,null,0,0,0,0,{"$f":"IFERROR(VLOOKUP(G3828,DropDowns!$D$2:$E$151,2,FALSE),\"\")","v":""},{"$f":"IFERROR(VLOOKUP(H3828,DropDowns!$F$2:$G$7,2,FALSE),\"Residual categories\")","v":"Residual categories"},null,null,null,0,0,0]
[0,{"$f":"IF(OR(COUNTA(O3799:O3828)>0,COUNTA(O3828:$O$5195)>0),IF(COUNTIF(B3819:B3828,B3828)=10,B3828+7,B3828),\"\")","v":""},"","","",null,null,null,0,0,0,0,{"$f":"IFERROR(VLOOKUP(G3829,DropDowns!$D$2:$E$151,2,FALSE),\"\")","v":""},{"$f":"IFERROR(VLOOKUP(H3829,DropDowns!$F$2:$G$7,2,FALSE),\"Residual categories\")","v":"Residual categories"},null,null,null,0,0,0]
[0,{"$f":"IF(OR(COUNTA(O3801:O3830)>0,COUNTA(O3830:$O$5195)>0),IF(COUNTIF(B3821:B3830,B3830)=10,B3830+7,B3830),\"\")","v":""},"","","",null,null,null,0,0,0,0,{"$f":"IFERROR(VLOOKUP(G3831,DropDowns!$D$2:$E$151,2,FALSE),\"\")","v":""},{"$f":"IFERROR(VLOOKUP(H3831,DropDowns!$F$2:$G$7,2,FALSE),\"Residual categories\")","v":"Residual categories"},null,null,null,0,0,0]
[0,{"$f":"IF(OR(COUNTA(O3802:O3831)>0,COUNTA(O3831:$O$5195)>0),IF(COUNTIF(B3822:B3831,B3831)=10,B3831+7,B3831),\"\")","v":""},"","","",null,null,null,0,0,0,0,{"$f":"IFERROR(VLOOKUP(G3832,DropDowns!$D$2:$E$151,2,FALSE),\"\")","v":""},{"$f":"IFERROR(VLOOKUP(H3832,DropDowns!$F$2:$G$7,2,FALSE),\"Residual categories\")","v":"Residual categories"},null,null,null,0,0,0]
[0,{"$f":"IF(OR(COUNTA(O3803:O3832)>0,COUNTA(O3832:$O$5195)>0),IF(COUNTIF(B3823:B3832,B3832)=10,B3832+7,B3832),\"\")","v":""},"","","",null,null,null,0,0,0,0,{"$f":"IFERROR(VLOOKUP(G3833,DropDowns!$D$2:$E$151,2,FALSE),\"\")","v":""},{"$f":"IFERROR(VLOOKUP(H3833,DropDowns!$F$2:$G$7,2,FALSE),\"Residual categories\")","v":"Residual categories"},null,null,null,0,0,0]
[0,{"$f":"IF(OR(COUNTA(O3804:O3833)>0,COUNTA(O3833:$O$5195)>0),IF(COUNTIF(B3824:B3833,B3833)=10,B3833+7,B3833),\"\")","v":""},"","","",null,null,null,0,0,0,0,{"$f":"IFERROR(VLOOKUP(G3834,DropDowns!$D$2:$E$151,2,FALSE),\"\")","v":""},{"$f":"IFERROR(VLOOKUP(H3834,DropDowns!$F$2:$G$7,2,FALSE),\"Residual categories\")","v":"Residual categories"},null,null,null,0,0,0]
[0,{"$f":"IF(OR(COUNTA(O3806:O3835)>0,COUNTA(O3835:$O$5195)>0),IF(COUNTIF(B3826:B3835,B3835)=10,B3835+7,B3835),\"\")","v":""},"","","",null,null,null,0,0,0,0,{"$f":"IFERROR(VLOOKUP(G3836,DropDowns!$D$2:$E$151,2,FALSE),\"\")","v":""},{"$f":"IFERROR(VLOOKUP(H3836,DropDowns!$F$2:$G$7,2,FALSE),\"Residual categories\")","v":"Residual categories"},null,null,null,0,0,0]
[0,{"$f":"IF(OR(COUNTA(O3807:O3836)>0,COUNTA(O3836:$O$5195)>0),IF(COUNTIF(B3827:B3836,B3836)=10,B3836+7,B3836),\"\")","v":""},"","","",null,null,null,0,0,0,0,{"$f":"IFERROR(VLOOKUP(G3837,DropDowns!$D$2:$E$151,2,FALSE),\"\")","v":""},{"$f":"IFERROR(VLOOKUP(H3837,DropDowns!$F$2:$G$7,2,FALSE),\"Residual categories\")","v":"Residual categories"},null,null,null,0,0,0]
[0,{"$f":"IF(OR(COUNTA(O3809:O3838)>0,COUNTA(O3838:$O$5195)>0),IF(COUNTIF(B3829:B3838,B3838)=10,B3838+7,B3838),\"\")","v":""},"","","",null,null,null,0,0,0,0,{"$f":"IFERROR(VLOOKUP(G3839,DropDowns!$D$2:$E$151,2,FALSE),\"\")","v":""},{"$f":"IFERROR(VLOOKUP(H3839,DropDowns!$F$2:$G$7,2,FALSE),\"Residual categories\")","v":"Residual categories"},null,null,null,0,0,0]
[0,{"$f":"IF(OR(COUNTA(O3810:O3839)>0,COUNTA(O3839:$O$5195)>0),IF(COUNTIF(B3830:B3839,B3839)=10,B3839+7,B3839),\"\")","v":""},"","","",null,null,null,0,0,0,0,{"$f":"IFERROR(VLOOKUP(G3840,DropDowns!$D$2:$E$151,2,FALSE),\"\")","v":""},{"$f":"IFERROR(VLOOKUP(H3840,DropDowns!$F$2:$G$7,2,FALSE),\"Residual categories\")","v":"Residual categories"},null,null,null,0,0,0]
[0,{"$f":"IF(OR(COUNTA(O3812:O3841)>0,COUNTA(O3841:$O$5195)>0),IF(COUNTIF(B3832:B3841,B3841)=10,B3841+7,B3841),\"\")","v":""},"","","",null,null,null,0,0,0,0,{"$f":"IFERROR(VLOOKUP(G3842,DropDowns!$D$2:$E$151,2,FALSE),\"\")","v":""},{"$f":"IFERROR(VLOOKUP(H3842,DropDowns!$F$2:$G$7,2,FALSE),\"Residual categories\")","v":"Residual categories"},null,null,null,0,0,0]
[0,{"$f":"IF(OR(COUNTA(O3813:O3842)>0,COUNTA(O3842:$O$5195)>0),IF(COUNTIF(B3833:B3842,B3842)=10,B3842+7,B3842),\"\")","v":""},"","","",null,null,null,0,0,0,0,{"$f":"IFERROR(VLOOKUP(G3843,DropDowns!$D$2:$E$151,2,FALSE),\"\")","v":""},{"$f":"IFERROR(VLOOKUP(H3843,DropDowns!$F$2:$G$7,2,FALSE),\"Residual categories\")","v":"Residual categories"},null,null,null,0,0,0]
[0,{"$f":"IF(OR(COUNTA(O3814:O3843)>0,COUNTA(O3843:$O$5195)>0),IF(COUNTIF(B3834:B3843,B3843)=10,B3843+7,B3843),\"\")","v":""},"","","",null,null,null,0,0,0,0,{"$f":"IFERROR(VLOOKUP(G3844,DropDowns!$D$2:$E$151,2,FALSE),\"\")","v":""},{"$f":"IFERROR(VLOOKUP(H3844,DropDowns!$F$2:$G$7,2,FALSE),\"Residual categories\")","v":"Residual categories"},null,null,null,0,0,0]
[0,{"$f":"IF(OR(COUNTA(O3815:O3844)>0,COUNTA(O3844:$O$5195)>0),IF(COUNTIF(B3835:B3844,B3844)=10,B3844+7,B3844),\"\")","v":""},"","","",null,null,null,0,0,0,0,{"$f":"IFERROR(VLOOKUP(G3845,DropDowns!$D$2:$E$151,2,FALSE),\"\")","v":""},{"$f":"IFERROR(VLOOKUP(H3845,DropDowns!$F$2:$G$7,2,FALSE),\"Residual categories\")","v":"Residual categories"},null,null,null,0,0,0]
[0,{"$f":"IF(OR(COUNTA(O3817:O3846)>0,COUNTA(O3846:$O$5195)>0),IF(COUNTIF(B3837:B3846,B3846)=10,B3846+7,B3846),\"\")","v":""},{"$f":"IF(D3847=1,A3847,\"\")","v":""},"","",null,null,null,{"$f":"IF(COUNTA(O3847:Q3847)>0,1,0)","v":0},{"$f":"IF(O3847=\"y\",1,0)","v":0},{"$f":"IF(P3847=\"y\",1,0)","v":0},{"$f":"IF(Q3847=\"y\",1,0)","v":0},{"$f":"IFERROR(VLOOKUP(G3847,DropDowns!$D$2:$E$151,2,FALSE),\"\")","v":""},{"$f":"IFERROR(VLOOKUP(H3847,DropDowns!$F$2:$G$7,2,FALSE),\"Residual categories\")","v":"Residual categories"},null,null,null,{"$f":"IF(O3847=\"yes\",1,0)","v":0},{"$f":"IF(P3847=\"yes\",1,0)","v":0},{"$f":"IF(Q3847=\"yes\",1,0)","v":0}]
[0,{"$f":"IF(OR(COUNTA(O3818:O3847)>0,COUNTA(O3847:$O$5195)>0),IF(COUNTIF(B3838:B3847,B3847)=10,B3847+7,B3847),\"\")","v":""},"","","",null,null,null,0,0,0,0,{"$f":"IFERROR(VLOOKUP(G3848,DropDowns!$D$2:$E$151,2,FALSE),\"\")","v":""},{"$f":"IFERROR(VLOOKUP(H3848,DropDowns!$F$2:$G$7,2,FALSE),\"Residual categories\")","v":"Residual categories"},null,null,null,0,0,0]
[0,{"$f":"IF(OR(COUNTA(O3820:O3849)>0,COUNTA(O3849:$O$5195)>0),IF(COUNTIF(B3840:B3849,B3849)=10,B3849+7,B3849),\"\")","v":""},"","","",null,null,null,0,0,0,0,{"$f":"IFERROR(VLOOKUP(G3850,DropDowns!$D$2:$E$151,2,FALSE),\"\")","v":""},{"$f":"IFERROR(VLOOKUP(H3850,DropDowns!$F$2:$G$7,2,FALSE),\"Residual categories\")","v":"Residual categories"},null,null,null,0,0,0]
[0,{"$f":"IF(OR(COUNTA(O3821:O3850)>0,COUNTA(O3850:$O$5195)>0),IF(COUNTIF(B3841:B3850,B3850)=10,B3850+7,B3850),\"\")","v":""},"","","",null,null,null,0,0,0,0,{"$f":"IFERROR(VLOOKUP(G3851,DropDowns!$D$2:$E$151,2,FALSE),\"\")","v":""},{"$f":"IFERROR(VLOOKUP(H3851,DropDowns!$F$2:$G$7,2,FALSE),\"Residual categories\")","v":"Residual categories"},null,null,null,0,0,0]
[0,{"$f":"IF(OR(COUNTA(O3822:O3851)>0,COUNTA(O3851:$O$5195)>0),IF(COUNTIF(B3842:B3851,B3851)=10,B3851+7,B3851),\"\")","v":""},"","","",null,null,null,0,0,0,0,{"$f":"IFERROR(VLOOKUP(G3852,DropDowns!$D$2:$E$151,2,FALSE),\"\")","v":""},{"$f":"IFERROR(VLOOKUP(H3852,DropDowns!$F$2:$G$7,2,FALSE),\"Residual categories\")","v":"Residual categories"},null,null,null,0,0,0]
[0,{"$f":"IF(OR(COUNTA(O3823:O3852)>0,COUNTA(O3852:$O$5195)>0),IF(COUNTIF(B3843:B3852,B3852)=10,B3852+7,B3852),\"\")","v":""},"","","",null,null,null,0,0,0,0,{"$f":"IFERROR(VLOOKUP(G3853,DropDowns!$D$2:$E$151,2,FALSE),\"\")","v":""},{"$f":"IFERROR(VLOOKUP(H3853,DropDowns!$F$2:$G$7,2,FALSE),\"Residual categories\")","v":"Residual categories"},null,null,null,0,0,0]
[0,{"$f":"IF(OR(COUNTA(O3825:O3854)>0,COUNTA(O3854:$O$5195)>0),IF(COUNTIF(B3845:B3854,B3854)=10,B3854+7,B3854),\"\")","v":""},"","","",null,null,null,0,0,0,0,{"$f":"IFERROR(VLOOKUP(G3855,DropDowns!$D$2:$E$151,2,FALSE),\"\")","v":""},{"$f":"IFERROR(VLOOKUP(H3855,DropDowns!$F$2:$G$7,2,FALSE),\"Residual categories\")","v":"Residual categories"},null,null,null,0,0,0]
[0,{"$f":"IF(OR(COUNTA(O3826:O3855)>0,COUNTA(O3855:$O$5195)>0),IF(COUNTIF(B3846:B3855,B3855)=10,B3855+7,B3855),\"\")","v":""},"","","",null,null,null,0,0,0,0,{"$f":"IFERROR(VLOOKUP(G3856,DropDowns!$D$2:$E$151,2,FALSE),\"\")","v":""},{"$f":"IFERROR(VLOOKUP(H3856,DropDowns!$F$2:$G$7,2,FALSE),\"Residual categories\")","v":"Residual categories"},null,null,null,0,0,0]
[0,{"$f":"IF(OR(COUNTA(O3828:O3857)>0,COUNTA(O3857:$O$5195)>0),IF(COUNTIF(B3848:B3857,B3857)=10,B3857+7,B3857),\"\")","v":""},"","","",null,null,null,0,0,0,0,{"$f":"IFERROR(VLOOKUP(G3858,DropDowns!$D$2:$E$151,2,FALSE),\"\")","v":""},{"$f":"IFERROR(VLOOKUP(H3858,DropDowns!$F$2:$G$7,2,FALSE),\"Residual categories\")","v":"Residual categories"},null,null,null,0,0,0]
[0,{"$f":"IF(OR(COUNTA(O3829:O3858)>0,COUNTA(O3858:$O$5195)>0),IF(COUNTIF(B3849:B3858,B3858)=10,B3858+7,B3858),\"\")","v":""},"","","",null,null,null,0,0,0,0,{"$f":"IFERROR(VLOOKUP(G3859,DropDowns!$D$2:$E$151,2,FALSE),\"\")","v":""},{"$f":"IFERROR(VLOOKUP(H3859,DropDowns!$F$2:$G$7,2,FALSE),\"Residual categories\")","v":"Residual categories"},null,null,null,0,0,0]
[{"$f":"$E$2","v":0},{"$f":"IF(OR(COUNTA(O3830:O3859)>0,COUNTA(O3859:$O$5195)>0),IF(COUNTIF(B3850:B3859,B3859)=10,B3859+7,B3859),\"\")","v":""},"","","",null,null,null,0,0,0,0,{"$f":"IFERROR(VLOOKUP(G3860,DropDowns!$D$2:$E$151,2,FALSE),\"\")","v":""},{"$f":"IFERROR(VLOOKUP(H3860,DropDowns!$F$2:$G$7,2,FALSE),\"Residual categories\")","v":"Residual categories"},null,null,null,0,0,0]
[0,{"$f":"IF(OR(COUNTA(O3831:O3860)>0,COUNTA(O3860:$O$5195)>0),IF(COUNTIF(B3851:B3860,B3860)=10,B3860+7,B3860),\"\")","v":""},"","","",null,null,null,0,0,0,0,{"$f":"IFERROR(VLOOKUP(G3861,DropDowns!$D$2:$E$151,2,FALSE),\"\")","v":""},{"$f":"IFERROR(VLOOKUP(H3861,DropDowns!$F$2:$G$7,2,FALSE),\"Residual categories\")","v":"Residual categories"},null,null,null,0,0,0]
[0,{"$f":"IF(OR(COUNTA(O3833:O3862)>0,COUNTA(O3862:$O$5195)>0),IF(COUNTIF(B3853:B3862,B3862)=10,B3862+7,B3862),\"\")","v":""},"","","",null,null,null,0,0,0,0,{"$f":"IFERROR(VLOOKUP(G3863,DropDowns!$D$2:$E$151,2,FALSE),\"\")","v":""},{"$f":"IFERROR(VLOOKUP(H3863,DropDowns!$F$2:$G$7,2,FALSE),\"Residual categories\")","v":"Residual categories"},null,null,null,0,0,0]
[0,{"$f":"IF(OR(COUNTA(O3834:O3863)>0,COUNTA(O3863:$O$5195)>0),IF(COUNTIF(B3854:B3863,B3863)=10,B3863+7,B3863),\"\")","v":""},"","","",null,null,null,0,0,0,0,{"$f":"IFERROR(VLOOKUP(G3864,DropDowns!$D$2:$E$151,2,FALSE),\"\")","v":""},{"$f":"IFERROR(VLOOKUP(H3864,DropDowns!$F$2:$G$7,2,FALSE),\"Residual categories\")","v":"Residual categories"},null,null,null,0,0,0]
[0,{"$f":"IF(OR(COUNTA(O3836:O3865)>0,COUNTA(O3865:$O$5195)>0),IF(COUNTIF(B3856:B3865,B3865)=10,B3865+7,B3865),\"\")","v":""},"","","",null,null,null,0,0,0,0,{"$f":"IFERROR(VLOOKUP(G3866,DropDowns!$D$2:$E$151,2,FALSE),\"\")","v":""},{"$f":"IFERROR(VLOOKUP(H3866,DropDowns!$F$2:$G$7,2,FALSE),\"Residual categories\")","v":"Residual categories"},null,null,null,0,0,0]
[0,{"$f":"IF(OR(COUNTA(O3837:O3866)>0,COUNTA(O3866:$O$5195)>0),IF(COUNTIF(B3857:B3866,B3866)=10,B3866+7,B3866),\"\")","v":""},"","","",null,null,null,0,0,0,0,{"$f":"IFERROR(VLOOKUP(G3867,DropDowns!$D$2:$E$151,2,FALSE),\"\")","v":""},{"$f":"IFERROR(VLOOKUP(H3867,DropDowns!$F$2:$G$7,2,FALSE),\"Residual categories\")","v":"Residual categories"},null,null,null,0,0,0]
[0,{"$f":"IF(OR(COUNTA(O3838:O3867)>0,COUNTA(O3867:$O$5195)>0),IF(COUNTIF(B3858:B3867,B3867)=10,B3867+7,B3867),\"\")","v":""},"","","",null,null,null,0,0,0,0,{"$f":"IFERROR(VLOOKUP(G3868,DropDowns!$D$2:$E$151,2,FALSE),\"\")","v":""},{"$f":"IFERROR(VLOOKUP(H3868,DropDowns!$F$2:$G$7,2,FALSE),\"Residual categories\")","v":"Residual categories"},null,null,null,0,0,0]
[0,{"$f":"IF(OR(COUNTA(O3839:O3868)>0,COUNTA(O3868:$O$5195)>0),IF(COUNTIF(B3859:B3868,B3868)=10,B3868+7,B3868),\"\")","v":""},"","","",null,null,null,0,0,0,0,{"$f":"IFERROR(VLOOKUP(G3869,DropDowns!$D$2:$E$151,2,FALSE),\"\")","v":""},{"$f":"IFERROR(VLOOKUP(H3869,DropDowns!$F$2:$G$7,2,FALSE),\"Residual categories\")","v":"Residual categories"},null,null,null,0,0,0]
[0,{"$f":"IF(OR(COUNTA(O3841:O3870)>0,COUNTA(O3870:$O$5195)>0),IF(COUNTIF(B3861:B3870,B3870)=10,B3870+7,B3870),\"\")","v":""},"","","",null,null,null,0,0,0,0,{"$f":"IFERROR(VLOOKUP(G3871,DropDowns!$D$2:$E$151,2,FALSE),\"\")","v":""},{"$f":"IFERROR(VLOOKUP(H3871,DropDowns!$F$2:$G$7,2,FALSE),\"Residual categories\")","v":"Residual categories"},null,null,null,0,0,0]
[0,{"$f":"IF(OR(COUNTA(O3842:O3871)>0,COUNTA(O3871:$O$5195)>0),IF(COUNTIF(B3862:B3871,B3871)=10,B3871+7,B3871),\"\")","v":""},"","","",null,null,null,0,0,0,0,{"$f":"IFERROR(VLOOKUP(G3872,DropDowns!$D$2:$E$151,2,FALSE),\"\")","v":""},{"$f":"IFERROR(VLOOKUP(H3872,DropDowns!$F$2:$G$7,2,FALSE),\"Residual categories\")","v":"Residual categories"},null,null,null,0,0,0]
[0,{"$f":"IF(OR(COUNTA(O3844:O3873)>0,COUNTA(O3873:$O$5195)>0),IF(COUNTIF(B3864:B3873,B3873)=10,B3873+7,B3873),\"\")","v":""},"","","",null,null,null,0,0,0,0,{"$f":"IFERROR(VLOOKUP(G3874,DropDowns!$D$2:$E$151,2,FALSE),\"\")","v":""},{"$f":"IFERROR(VLOOKUP(H3874,DropDowns!$F$2:$G$7,2,FALSE),\"Residual categories\")","v":"Residual categories"},null,null,null,0,0,0]
[0,{"$f":"IF(OR(COUNTA(O3845:O3874)>0,COUNTA(O3874:$O$5195)>0),IF(COUNTIF(B3865:B3874,B3874)=10,B3874+7,B3874),\"\")","v":""},"","","",null,null,null,0,0,0,0,{"$f":"IFERROR(VLOOKUP(G3875,DropDowns!$D$2:$E$151,2,FALSE),\"\")","v":""},{"$f":"IFERROR(VLOOKUP(H3875,DropDowns!$F$2:$G$7,2,FALSE),\"Residual categories\")","v":"Residual categories"},null,null,null,0,0,0]
[0,{"$f":"IF(OR(COUNTA(O3847:O3876)>0,COUNTA(O3876:$O$5195)>0),IF(COUNTIF(B3867:B3876,B3876)=10,B3876+7,B3876),\"\")","v":""},"","","",null,null,null,0,0,0,0,{"$f":"IFERROR(VLOOKUP(G3877,DropDowns!$D$2:$E$151,2,FALSE),\"\")","v":""},{"$f":"IFERROR(VLOOKUP(H3877,DropDowns!$F$2:$G$7,2,FALSE),\"Residual categories\")","v":"Residual categories"},null,null,null,0,0,0]
[0,{"$f":"IF(OR(COUNTA(O3848:O3877)>0,COUNTA(O3877:$O$5195)>0),IF(COUNTIF(B3868:B3877,B3877)=10,B3877+7,B3877),\"\")","v":""},"","","",null,null,null,0,0,0,0,{"$f":"IFERROR(VLOOKUP(G3878,DropDowns!$D$2:$E$151,2,FALSE),\"\")","v":""},{"$f":"IFERROR(VLOOKUP(H3878,DropDowns!$F$2:$G$7,2,FALSE),\"Residual categories\")","v":"Residual categories"},null,null,null,0,0,0]
[0,{"$f":"IF(OR(COUNTA(O3849:O3878)>0,COUNTA(O3878:$O$5195)>0),IF(COUNTIF(B3869:B3878,B3878)=10,B3878+7,B3878),\"\")","v":""},"","","",null,null,null,0,0,0,0,{"$f":"IFERROR(VLOOKUP(G3879,DropDowns!$D$2:$E$151,2,FALSE),\"\")","v":""},{"$f":"IFERROR(VLOOKUP(H3879,DropDowns!$F$2:$G$7,2,FALSE),\"Residual categories\")","v":"Residual categories"},null,null,null,0,0,0]
[0,{"$f":"IF(OR(COUNTA(O3850:O3879)>0,COUNTA(O3879:$O$5195)>0),IF(COUNTIF(B3870:B3879,B3879)=10,B3879+7,B3879),\"\")","v":""},"","","",null,null,null,0,0,0,0,{"$f":"IFERROR(VLOOKUP(G3880,DropDowns!$D$2:$E$151,2,FALSE),\"\")","v":""},{"$f":"IFERROR(VLOOKUP(H3880,DropDowns!$F$2:$G$7,2,FALSE),\"Residual categories\")","v":"Residual categories"},null,null,null,0,0,0]
[0,{"$f":"IF(OR(COUNTA(O3852:O3881)>0,COUNTA(O3881:$O$5195)>0),IF(COUNTIF(B3872:B3881,B3881)=10,B3881+7,B3881),\"\")","v":""},"","","",null,null,null,0,0,0,0,{"$f":"IFERROR(VLOOKUP(G3882,DropDowns!$D$2:$E$151,2,FALSE),\"\")","v":""},{"$f":"IFERROR(VLOOKUP(H3882,DropDowns!$F$2:$G$7,2,FALSE),\"Residual categories\")","v":"Residual categories"},null,null,null,0,0,0]
[0,{"$f":"IF(OR(COUNTA(O3853:O3882)>0,COUNTA(O3882:$O$5195)>0),IF(COUNTIF(B3873:B3882,B3882)=10,B3882+7,B3882),\"\")","v":""},"","","",null,null,null,0,0,0,0,{"$f":"IFERROR(VLOOKUP(G3883,DropDowns!$D$2:$E$151,2,FALSE),\"\")","v":""},{"$f":"IFERROR(VLOOKUP(H3883,DropDowns!$F$2:$G$7,2,FALSE),\"Residual categories\")","v":"Residual categories"},null,null,null,0,0,0]
[0,{"$f":"IF(OR(COUNTA(O3855:O3884)>0,COUNTA(O3884:$O$5195)>0),IF(COUNTIF(B3875:B3884,B3884)=10,B3884+7,B3884),\"\")","v":""},"","","",null,null,null,0,0,0,0,{"$f":"IFERROR(VLOOKUP(G3885,DropDowns!$D$2:$E$151,2,FALSE),\"\")","v":""},{"$f":"IFERROR(VLOOKUP(H3885,DropDowns!$F$2:$G$7,2,FALSE),\"Residual categories\")","v":"Residual categories"},null,null,null,0,0,0]
[0,{"$f":"IF(OR(COUNTA(O3856:O3885)>0,COUNTA(O3885:$O$5195)>0),IF(COUNTIF(B3876:B3885,B3885)=10,B3885+7,B3885),\"\")","v":""},"","","",null,null,null,0,0,0,0,{"$f":"IFERROR(VLOOKUP(G3886,DropDowns!$D$2:$E$151,2,FALSE),\"\")","v":""},{"$f":"IFERROR(VLOOKUP(H3886,DropDowns!$F$2:$G$7,2,FALSE),\"Residual categories\")","v":"Residual categories"},null,null,null,0,0,0]
[0,{"$f":"IF(OR(COUNTA(O3857:O3886)>0,COUNTA(O3886:$O$5195)>0),IF(COUNTIF(B3877:B3886,B3886)=10,B3886+7,B3886),\"\")","v":""},"","","",null,null,null,0,0,0,0,{"$f":"IFERROR(VLOOKUP(G3887,DropDowns!$D$2:$E$151,2,FALSE),\"\")","v":""},{"$f":"IFERROR(VLOOKUP(H3887,DropDowns!$F$2:$G$7,2,FALSE),\"Residual categories\")","v":"Residual categories"},null,null,null,0,0,0]
[0,{"$f":"IF(OR(COUNTA(O3858:O3887)>0,COUNTA(O3887:$O$5195)>0),IF(COUNTIF(B3878:B3887,B3887)=10,B3887+7,B3887),\"\")","v":""},"","","",null,null,null,0,0,0,0,{"$f":"IFERROR(VLOOKUP(G3888,DropDowns!$D$2:$E$151,2,FALSE),\"\")","v":""},{"$f":"IFERROR(VLOOKUP(H3888,DropDowns!$F$2:$G$7,2,FALSE),\"Residual categories\")","v":"Residual categories"},null,null,null,0,0,0]
[0,{"$f":"IF(OR(COUNTA(O3860:O3889)>0,COUNTA(O3889:$O$5195)>0),IF(COUNTIF(B3880:B3889,B3889)=10,B3889+7,B3889),\"\")","v":""},"","","",null,null,null,0,0,0,0,{"$f":"IFERROR(VLOOKUP(G3890,DropDowns!$D$2:$E$151,2,FALSE),\"\")","v":""},{"$f":"IFERROR(VLOOKUP(H3890,DropDowns!$F$2:$G$7,2,FALSE),\"Residual categories\")","v":"Residual categories"},null,null,null,0,0,0]
[0,{"$f":"IF(OR(COUNTA(O3861:O3890)>0,COUNTA(O3890:$O$5195)>0),IF(COUNTIF(B3881:B3890,B3890)=10,B3890+7,B3890),\"\")","v":""},"","","",null,null,null,0,0,0,0,{"$f":"IFERROR(VLOOKUP(G3891,DropDowns!$D$2:$E$151,2,FALSE),\"\")","v":""},{"$f":"IFERROR(VLOOKUP(H3891,DropDowns!$F$2:$G$7,2,FALSE),\"Residual categories\")","v":"Residual categories"},null,null,null,0,0,0]
[0,{"$f":"IF(OR(COUNTA(O3863:O3892)>0,COUNTA(O3892:$O$5195)>0),IF(COUNTIF(B3883:B3892,B3892)=10,B3892+7,B3892),\"\")","v":""},"","","",null,null,null,0,0,0,0,{"$f":"IFERROR(VLOOKUP(G3893,DropDowns!$D$2:$E$151,2,FALSE),\"\")","v":""},{"$f":"IFERROR(VLOOKUP(H3893,DropDowns!$F$2:$G$7,2,FALSE),\"Residual categories\")","v":"Residual categories"},null,null,null,0,0,0]
[0,{"$f":"IF(OR(COUNTA(O3864:O3893)>0,COUNTA(O3893:$O$5195)>0),IF(COUNTIF(B3884:B3893,B3893)=10,B3893+7,B3893),\"\")","v":""},"","","",null,null,null,0,0,0,0,{"$f":"IFERROR(VLOOKUP(G3894,DropDowns!$D$2:$E$151,2,FALSE),\"\")","v":""},{"$f":"IFERROR(VLOOKUP(H3894,DropDowns!$F$2:$G$7,2,FALSE),\"Residual categories\")","v":"Residual categories"},null,null,null,0,0,0]
[0,{"$f":"IF(OR(COUNTA(O3865:O3894)>0,COUNTA(O3894:$O$5195)>0),IF(COUNTIF(B3885:B3894,B3894)=10,B3894+7,B3894),\"\")","v":""},"","","",null,null,null,0,0,0,0,{"$f":"IFERROR(VLOOKUP(G3895,DropDowns!$D$2:$E$151,2,FALSE),\"\")","v":""},{"$f":"IFERROR(VLOOKUP(H3895,DropDowns!$F$2:$G$7,2,FALSE),\"Residual categories\")","v":"Residual categories"},null,null,null,0,0,0]
[0,{"$f":"IF(OR(COUNTA(O3866:O3895)>0,COUNTA(O3895:$O$5195)>0),IF(COUNTIF(B3886:B3895,B3895)=10,B3895+7,B3895),\"\")","v":""},"","","",null,null,null,0,0,0,0,{"$f":"IFERROR(VLOOKUP(G3896,DropDowns!$D$2:$E$151,2,FALSE),\"\")","v":""},{"$f":"IFERROR(VLOOKUP(H3896,DropDowns!$F$2:$G$7,2,FALSE),\"Residual categories\")","v":"Residual categories"},null,null,null,0,0,0]
[0,{"$f":"IF(OR(COUNTA(O3868:O3897)>0,COUNTA(O3897:$O$5195)>0),IF(COUNTIF(B3888:B3897,B3897)=10,B3897+7,B3897),\"\")","v":""},"","","",null,null,null,0,0,0,0,{"$f":"IFERROR(VLOOKUP(G3898,DropDowns!$D$2:$E$151,2,FALSE),\"\")","v":""},{"$f":"IFERROR(VLOOKUP(H3898,DropDowns!$F$2:$G$7,2,FALSE),\"Residual categories\")","v":"Residual categories"},null,null,null,0,0,0]
[0,{"$f":"IF(OR(COUNTA(O3869:O3898)>0,COUNTA(O3898:$O$5195)>0),IF(COUNTIF(B3889:B3898,B3898)=10,B3898+7,B3898),\"\")","v":""},"","","",null,null,null,0,0,0,0,{"$f":"IFERROR(VLOOKUP(G3899,DropDowns!$D$2:$E$151,2,FALSE),\"\")","v":""},{"$f":"IFERROR(VLOOKUP(H3899,DropDowns!$F$2:$G$7,2,FALSE),\"Residual categories\")","v":"Residual categories"},null,null,null,0,0,0]
[0,{"$f":"IF(OR(COUNTA(O3871:O3900)>0,COUNTA(O3900:$O$5195)>0),IF(COUNTIF(B3891:B3900,B3900)=10,B3900+7,B3900),\"\")","v":""},"","","",null,null,null,0,0,0,0,{"$f":"IFERROR(VLOOKUP(G3901,DropDowns!$D$2:$E$151,2,FALSE),\"\")","v":""},{"$f":"IFERROR(VLOOKUP(H3901,DropDowns!$F$2:$G$7,2,FALSE),\"Residual categories\")","v":"Residual categories"},null,null,null,0,0,0]
[0,{"$f":"IF(OR(COUNTA(O3872:O3901)>0,COUNTA(O3901:$O$5195)>0),IF(COUNTIF(B3892:B3901,B3901)=10,B3901+7,B3901),\"\")","v":""},"","","",null,null,null,0,0,0,0,{"$f":"IFERROR(VLOOKUP(G3902,DropDowns!$D$2:$E$151,2,FALSE),\"\")","v":""},{"$f":"IFERROR(VLOOKUP(H3902,DropDowns!$F$2:$G$7,2,FALSE),\"Residual categories\")","v":"Residual categories"},null,null,null,0,0,0]
[0,{"$f":"IF(OR(COUNTA(O3874:O3903)>0,COUNTA(O3903:$O$5195)>0),IF(COUNTIF(B3894:B3903,B3903)=10,B3903+7,B3903),\"\")","v":""},"","","",null,null,null,0,0,0,0,{"$f":"IFERROR(VLOOKUP(G3904,DropDowns!$D$2:$E$151,2,FALSE),\"\")","v":""},{"$f":"IFERROR(VLOOKUP(H3904,DropDowns!$F$2:$G$7,2,FALSE),\"Residual categories\")","v":"Residual categories"},null,null,null,0,0,0]
[0,{"$f":"IF(OR(COUNTA(O3875:O3904)>0,COUNTA(O3904:$O$5195)>0),IF(COUNTIF(B3895:B3904,B3904)=10,B3904+7,B3904),\"\")","v":""},"","","",null,null,null,0,0,0,0,{"$f":"IFERROR(VLOOKUP(G3905,DropDowns!$D$2:$E$151,2,FALSE),\"\")","v":""},{"$f":"IFERROR(VLOOKUP(H3905,DropDowns!$F$2:$G$7,2,FALSE),\"Residual categories\")","v":"Residual categories"},null,null,null,0,0,0]
[0,{"$f":"IF(OR(COUNTA(O3876:O3905)>0,COUNTA(O3905:$O$5195)>0),IF(COUNTIF(B3896:B3905,B3905)=10,B3905+7,B3905),\"\")","v":""},"","","",null,null,null,0,0,0,0,{"$f":"IFERROR(VLOOKUP(G3906,DropDowns!$D$2:$E$151,2,FALSE),\"\")","v":""},{"$f":"IFERROR(VLOOKUP(H3906,DropDowns!$F$2:$G$7,2,FALSE),\"Residual categories\")","v":"Residual categories"},null,null,null,0,0,0]
[0,{"$f":"IF(OR(COUNTA(O3877:O3906)>0,COUNTA(O3906:$O$5195)>0),IF(COUNTIF(B3897:B3906,B3906)=10,B3906+7,B3906),\"\")","v":""},"","","",null,null,null,0,0,0,0,{"$f":"IFERROR(VLOOKUP(G3907,DropDowns!$D$2:$E$151,2,FALSE),\"\")","v":""},{"$f":"IFERROR(VLOOKUP(H3907,DropDowns!$F$2:$G$7,2,FALSE),\"Residual categories\")","v":"Residual categories"},null,null,null,0,0,0]
[0,{"$f":"IF(OR(COUNTA(O3879:O3908)>0,COUNTA(O3908:$O$5195)>0),IF(COUNTIF(B3899:B3908,B3908)=10,B3908+7,B3908),\"\")","v":""},"","","",null,null,null,0,0,0,0,{"$f":"IFERROR(VLOOKUP(G3909,DropDowns!$D$2:$E$151,2,FALSE),\"\")","v":""},{"$f":"IFERROR(VLOOKUP(H3909,DropDowns!$F$2:$G$7,2,FALSE),\"Residual categories\")","v":"Residual categories"},null,null,null,0,0,0]
[0,{"$f":"IF(OR(COUNTA(O3880:O3909)>0,COUNTA(O3909:$O$5195)>0),IF(COUNTIF(B3900:B3909,B3909)=10,B3909+7,B3909),\"\")","v":""},"","","",null,null,null,0,0,0,0,{"$f":"IFERROR(VLOOKUP(G3910,DropDowns!$D$2:$E$151,2,FALSE),\"\")","v":""},{"$f":"IFERROR(VLOOKUP(H3910,DropDowns!$F$2:$G$7,2,FALSE),\"Residual categories\")","v":"Residual categories"},null,null,null,0,0,0]
[0,{"$f":"IF(OR(COUNTA(O3882:O3911)>0,COUNTA(O3911:$O$5195)>0),IF(COUNTIF(B3902:B3911,B3911)=10,B3911+7,B3911),\"\")","v":""},"","","",null,null,null,0,0,0,0,{"$f":"IFERROR(VLOOKUP(G3912,DropDowns!$D$2:$E$151,2,FALSE),\"\")","v":""},{"$f":"IFERROR(VLOOKUP(H3912,DropDowns!$F$2:$G$7,2,FALSE),\"Residual categories\")","v":"Residual categories"},null,null,null,0,0,0]
[0,{"$f":"IF(OR(COUNTA(O3883:O3912)>0,COUNTA(O3912:$O$5195)>0),IF(COUNTIF(B3903:B3912,B3912)=10,B3912+7,B3912),\"\")","v":""},"","","",null,null,null,0,0,0,0,{"$f":"IFERROR(VLOOKUP(G3913,DropDowns!$D$2:$E$151,2,FALSE),\"\")","v":""},{"$f":"IFERROR(VLOOKUP(H3913,DropDowns!$F$2:$G$7,2,FALSE),\"Residual categories\")","v":"Residual categories"},null,null,null,0,0,0]
[0,{"$f":"IF(OR(COUNTA(O3884:O3913)>0,COUNTA(O3913:$O$5195)>0),IF(COUNTIF(B3904:B3913,B3913)=10,B3913+7,B3913),\"\")","v":""},"","","",null,null,null,0,0,0,0,{"$f":"IFERROR(VLOOKUP(G3914,DropDowns!$D$2:$E$151,2,FALSE),\"\")","v":""},{"$f":"IFERROR(VLOOKUP(H3914,DropDowns!$F$2:$G$7,2,FALSE),\"Residual categories\")","v":"Residual categories"},null,null,null,0,0,0]
[0,{"$f":"IF(OR(COUNTA(O3885:O3914)>0,COUNTA(O3914:$O$5195)>0),IF(COUNTIF(B3905:B3914,B3914)=10,B3914+7,B3914),\"\")","v":""},"","","",null,null,null,0,0,0,0,{"$f":"IFERROR(VLOOKUP(G3915,DropDowns!$D$2:$E$151,2,FALSE),\"\")","v":""},{"$f":"IFERROR(VLOOKUP(H3915,DropDowns!$F$2:$G$7,2,FALSE),\"Residual categories\")","v":"Residual categories"},null,null,null,0,0,0]
[0,{"$f":"IF(OR(COUNTA(O3887:O3916)>0,COUNTA(O3916:$O$5195)>0),IF(COUNTIF(B3907:B3916,B3916)=10,B3916+7,B3916),\"\")","v":""},"","","",null,null,null,0,0,0,0,{"$f":"IFERROR(VLOOKUP(G3917,DropDowns!$D$2:$E$151,2,FALSE),\"\")","v":""},{"$f":"IFERROR(VLOOKUP(H3917,DropDowns!$F$2:$G$7,2,FALSE),\"Residual categories\")","v":"Residual categories"},null,null,null,0,0,0]
[0,{"$f":"IF(OR(COUNTA(O3888:O3917)>0,COUNTA(O3917:$O$5195)>0),IF(COUNTIF(B3908:B3917,B3917)=10,B3917+7,B3917),\"\")","v":""},"","","",null,null,null,0,0,0,0,{"$f":"IFERROR(VLOOKUP(G3918,DropDowns!$D$2:$E$151,2,FALSE),\"\")","v":""},{"$f":"IFERROR(VLOOKUP(H3918,DropDowns!$F$2:$G$7,2,FALSE),\"Residual categories\")","v":"Residual categories"},null,null,null,0,0,0]
[0,{"$f":"IF(OR(COUNTA(O3890:O3919)>0,COUNTA(O3919:$O$5195)>0),IF(COUNTIF(B3910:B3919,B3919)=10,B3919+7,B3919),\"\")","v":""},"","","",null,null,null,0,0,0,0,{"$f":"IFERROR(VLOOKUP(G3920,DropDowns!$D$2:$E$151,2,FALSE),\"\")","v":""},{"$f":"IFERROR(VLOOKUP(H3920,DropDowns!$F$2:$G$7,2,FALSE),\"Residual categories\")","v":"Residual categories"},null,null,null,0,0,0]
[0,{"$f":"IF(OR(COUNTA(O3891:O3920)>0,COUNTA(O3920:$O$5195)>0),IF(COUNTIF(B3911:B3920,B3920)=10,B3920+7,B3920),\"\")","v":""},"","",{"$f":"IF(B3921=\"\",\"\",COUNTIF(B3912:B3921,B3921))","v":""},null,null,null,0,0,0,0,{"$f":"IFERROR(VLOOKUP(G3921,DropDowns!$D$2:$E$151,2,FALSE),\"\")","v":""},{"$f":"IFERROR(VLOOKUP(H3921,DropDowns!$F$2:$G$7,2,FALSE),\"Residual categories\")","v":"Residual categories"},null,null,null,0,0,0]
[0,{"$f":"IF(OR(COUNTA(O3892:O3921)>0,COUNTA(O3921:$O$5195)>0),IF(COUNTIF(B3912:B3921,B3921)=10,B3921+7,B3921),\"\")","v":""},"","","",null,null,null,0,0,0,0,{"$f":"IFERROR(VLOOKUP(G3922,DropDowns!$D$2:$E$151,2,FALSE),\"\")","v":""},{"$f":"IFERROR(VLOOKUP(H3922,DropDowns!$F$2:$G$7,2,FALSE),\"Residual categories\")","v":"Residual categories"},null,null,null,0,0,0]
[0,{"$f":"IF(OR(COUNTA(O3893:O3922)>0,COUNTA(O3922:$O$5195)>0),IF(COUNTIF(B3913:B3922,B3922)=10,B3922+7,B3922),\"\")","v":""},"","","",null,null,null,0,0,0,0,{"$f":"IFERROR(VLOOKUP(G3923,DropDowns!$D$2:$E$151,2,FALSE),\"\")","v":""},{"$f":"IFERROR(VLOOKUP(H3923,DropDowns!$F$2:$G$7,2,FALSE),\"Residual categories\")","v":"Residual categories"},null,null,null,0,0,0]
[0,{"$f":"IF(OR(COUNTA(O3895:O3924)>0,COUNTA(O3924:$O$5195)>0),IF(COUNTIF(B3915:B3924,B3924)=10,B3924+7,B3924),\"\")","v":""},"","","",null,null,null,0,0,0,0,{"$f":"IFERROR(VLOOKUP(G3925,DropDowns!$D$2:$E$151,2,FALSE),\"\")","v":""},{"$f":"IFERROR(VLOOKUP(H3925,DropDowns!$F$2:$G$7,2,FALSE),\"Residual categories\")","v":"Residual categories"},null,null,null,0,0,0]
[0,{"$f":"IF(OR(COUNTA(O3896:O3925)>0,COUNTA(O3925:$O$5195)>0),IF(COUNTIF(B3916:B3925,B3925)=10,B3925+7,B3925),\"\")","v":""},"","","",null,null,null,0,0,0,0,{"$f":"IFERROR(VLOOKUP(G3926,DropDowns!$D$2:$E$151,2,FALSE),\"\")","v":""},{"$f":"IFERROR(VLOOKUP(H3926,DropDowns!$F$2:$G$7,2,FALSE),\"Residual categories\")","v":"Residual categories"},null,null,null,0,0,0]
[0,{"$f":"IF(OR(COUNTA(O3898:O3927)>0,COUNTA(O3927:$O$5195)>0),IF(COUNTIF(B3918:B3927,B3927)=10,B3927+7,B3927),\"\")","v":""},"","","",null,null,null,0,0,0,0,{"$f":"IFERROR(VLOOKUP(G3928,DropDowns!$D$2:$E$151,2,FALSE),\"\")","v":""},{"$f":"IFERROR(VLOOKUP(H3928,DropDowns!$F$2:$G$7,2,FALSE),\"Residual categories\")","v":"Residual categories"},null,null,null,0,0,0]
[0,{"$f":"IF(OR(COUNTA(O3899:O3928)>0,COUNTA(O3928:$O$5195)>0),IF(COUNTIF(B3919:B3928,B3928)=10,B3928+7,B3928),\"\")","v":""},"","","",null,null,null,0,0,0,0,{"$f":"IFERROR(VLOOKUP(G3929,DropDowns!$D$2:$E$151,2,FALSE),\"\")","v":""},{"$f":"IFERROR(VLOOKUP(H3929,DropDowns!$F$2:$G$7,2,FALSE),\"Residual categories\")","v":"Residual categories"},null,null,null,0,0,0]
[0,{"$f":"IF(OR(COUNTA(O3900:O3929)>0,COUNTA(O3929:$O$5195)>0),IF(COUNTIF(B3920:B3929,B3929)=10,B3929+7,B3929),\"\")","v":""},"","","",null,null,null,0,0,0,0,{"$f":"IFERROR(VLOOKUP(G3930,DropDowns!$D$2:$E$151,2,FALSE),\"\")","v":""},{"$f":"IFERROR(VLOOKUP(H3930,DropDowns!$F$2:$G$7,2,FALSE),\"Residual categories\")","v":"Residual categories"},null,null,null,0,0,0]
[0,{"$f":"IF(OR(COUNTA(O3901:O3930)>0,COUNTA(O3930:$O$5195)>0),IF(COUNTIF(B3921:B3930,B3930)=10,B3930+7,B3930),\"\")","v":""},"","","",null,null,null,0,0,0,0,{"$f":"IFERROR(VLOOKUP(G3931,DropDowns!$D$2:$E$151,2,FALSE),\"\")","v":""},{"$f":"IFERROR(VLOOKUP(H3931,DropDowns!$F$2:$G$7,2,FALSE),\"Residual categories\")","v":"Residual categories"},null,null,null,0,0,0]
[0,{"$f":"IF(OR(COUNTA(O3903:O3932)>0,COUNTA(O3932:$O$5195)>0),IF(COUNTIF(B3923:B3932,B3932)=10,B3932+7,B3932),\"\")","v":""},"","","",null,null,null,0,0,0,0,{"$f":"IFERROR(VLOOKUP(G3933,DropDowns!$D$2:$E$151,2,FALSE),\"\")","v":""},{"$f":"IFERROR(VLOOKUP(H3933,DropDowns!$F$2:$G$7,2,FALSE),\"Residual categories\")","v":"Residual categories"},null,null,null,0,0,0]
[0,{"$f":"IF(OR(COUNTA(O3904:O3933)>0,COUNTA(O3933:$O$5195)>0),IF(COUNTIF(B3924:B3933,B3933)=10,B3933+7,B3933),\"\")","v":""},"","","",null,null,null,0,0,0,0,{"$f":"IFERROR(VLOOKUP(G3934,DropDowns!$D$2:$E$151,2,FALSE),\"\")","v":""},{"$f":"IFERROR(VLOOKUP(H3934,DropDowns!$F$2:$G$7,2,FALSE),\"Residual categories\")","v":"Residual categories"},null,null,null,0,0,0]
[0,{"$f":"IF(OR(COUNTA(O3906:O3935)>0,COUNTA(O3935:$O$5195)>0),IF(COUNTIF(B3926:B3935,B3935)=10,B3935+7,B3935),\"\")","v":""},"","","",null,null,null,0,0,0,0,{"$f":"IFERROR(VLOOKUP(G3936,DropDowns!$D$2:$E$151,2,FALSE),\"\")","v":""},{"$f":"IFERROR(VLOOKUP(H3936,DropDowns!$F$2:$G$7,2,FALSE),\"Residual categories\")","v":"Residual categories"},null,null,null,0,0,0]
[0,{"$f":"IF(OR(COUNTA(O3907:O3936)>0,COUNTA(O3936:$O$5195)>0),IF(COUNTIF(B3927:B3936,B3936)=10,B3936+7,B3936),\"\")","v":""},"","","",null,null,null,0,0,0,0,{"$f":"IFERROR(VLOOKUP(G3937,DropDowns!$D$2:$E$151,2,FALSE),\"\")","v":""},{"$f":"IFERROR(VLOOKUP(H3937,DropDowns!$F$2:$G$7,2,FALSE),\"Residual categories\")","v":"Residual categories"},null,null,null,0,0,0]
[0,{"$f":"IF(OR(COUNTA(O3909:O3938)>0,COUNTA(O3938:$O$5195)>0),IF(COUNTIF(B3929:B3938,B3938)=10,B3938+7,B3938),\"\")","v":""},"","","",null,null,null,0,0,0,0,{"$f":"IFERROR(VLOOKUP(G3939,DropDowns!$D$2:$E$151,2,FALSE),\"\")","v":""},{"$f":"IFERROR(VLOOKUP(H3939,DropDowns!$F$2:$G$7,2,FALSE),\"Residual categories\")","v":"Residual categories"},null,null,null,0,0,0]
[0,{"$f":"IF(OR(COUNTA(O3910:O3939)>0,COUNTA(O3939:$O$5195)>0),IF(COUNTIF(B3930:B3939,B3939)=10,B3939+7,B3939),\"\")","v":""},"","","",null,null,null,0,0,0,0,{"$f":"IFERROR(VLOOKUP(G3940,DropDowns!$D$2:$E$151,2,FALSE),\"\")","v":""},{"$f":"IFERROR(VLOOKUP(H3940,DropDowns!$F$2:$G$7,2,FALSE),\"Residual categories\")","v":"Residual categories"},null,null,null,0,0,0]
[0,{"$f":"IF(OR(COUNTA(O3911:O3940)>0,COUNTA(O3940:$O$5195)>0),IF(COUNTIF(B3931:B3940,B3940)=10,B3940+7,B3940),\"\")","v":""},"","","",null,null,null,0,0,0,0,{"$f":"IFERROR(VLOOKUP(G3941,DropDowns!$D$2:$E$151,2,FALSE),\"\")","v":""},{"$f":"IFERROR(VLOOKUP(H3941,DropDowns!$F$2:$G$7,2,FALSE),\"Residual categories\")","v":"Residual categories"},null,null,null,0,0,0]
[0,{"$f":"IF(OR(COUNTA(O3912:O3941)>0,COUNTA(O3941:$O$5195)>0),IF(COUNTIF(B3932:B3941,B3941)=10,B3941+7,B3941),\"\")","v":""},"","","",null,null,null,0,0,0,0,{"$f":"IFERROR(VLOOKUP(G3942,DropDowns!$D$2:$E$151,2,FALSE),\"\")","v":""},{"$f":"IFERROR(VLOOKUP(H3942,DropDowns!$F$2:$G$7,2,FALSE),\"Residual categories\")","v":"Residual categories"},null,null,null,0,0,0]
[0,{"$f":"IF(OR(COUNTA(O3914:O3943)>0,COUNTA(O3943:$O$5195)>0),IF(COUNTIF(B3934:B3943,B3943)=10,B3943+7,B3943),\"\")","v":""},"","","",null,null,null,0,0,0,0,{"$f":"IFERROR(VLOOKUP(G3944,DropDowns!$D$2:$E$151,2,FALSE),\"\")","v":""},{"$f":"IFERROR(VLOOKUP(H3944,DropDowns!$F$2:$G$7,2,FALSE),\"Residual categories\")","v":"Residual categories"},null,null,null,0,0,0]
[0,{"$f":"IF(OR(COUNTA(O3915:O3944)>0,COUNTA(O3944:$O$5195)>0),IF(COUNTIF(B3935:B3944,B3944)=10,B3944+7,B3944),\"\")","v":""},"","","",null,null,null,0,0,0,0,{"$f":"IFERROR(VLOOKUP(G3945,DropDowns!$D$2:$E$151,2,FALSE),\"\")","v":""},{"$f":"IFERROR(VLOOKUP(H3945,DropDowns!$F$2:$G$7,2,FALSE),\"Residual categories\")","v":"Residual categories"},null,null,null,0,0,0]
[0,{"$f":"IF(OR(COUNTA(O3917:O3946)>0,COUNTA(O3946:$O$5195)>0),IF(COUNTIF(B3937:B3946,B3946)=10,B3946+7,B3946),\"\")","v":""},"","","",null,null,null,0,0,0,0,{"$f":"IFERROR(VLOOKUP(G3947,DropDowns!$D$2:$E$151,2,FALSE),\"\")","v":""},{"$f":"IFERROR(VLOOKUP(H3947,DropDowns!$F$2:$G$7,2,FALSE),\"Residual categories\")","v":"Residual categories"},null,null,null,0,0,0]
[0,{"$f":"IF(OR(COUNTA(O3918:O3947)>0,COUNTA(O3947:$O$5195)>0),IF(COUNTIF(B3938:B3947,B3947)=10,B3947+7,B3947),\"\")","v":""},"","","",null,null,null,0,0,0,0,{"$f":"IFERROR(VLOOKUP(G3948,DropDowns!$D$2:$E$151,2,FALSE),\"\")","v":""},{"$f":"IFERROR(VLOOKUP(H3948,DropDowns!$F$2:$G$7,2,FALSE),\"Residual categories\")","v":"Residual categories"},null,null,null,0,0,0]
[0,{"$f":"IF(OR(COUNTA(O3919:O3948)>0,COUNTA(O3948:$O$5195)>0),IF(COUNTIF(B3939:B3948,B3948)=10,B3948+7,B3948),\"\")","v":""},"","","",null,null,null,0,0,0,0,{"$f":"IFERROR(VLOOKUP(G3949,DropDowns!$D$2:$E$151,2,FALSE),\"\")","v":""},{"$f":"IFERROR(VLOOKUP(H3949,DropDowns!$F$2:$G$7,2,FALSE),\"Residual categories\")","v":"Residual categories"},null,null,null,0,0,0]
[0,{"$f":"IF(OR(COUNTA(O3920:O3949)>0,COUNTA(O3949:$O$5195)>0),IF(COUNTIF(B3940:B3949,B3949)=10,B3949+7,B3949),\"\")","v":""},"","","",null,null,null,0,0,0,0,{"$f":"IFERROR(VLOOKUP(G3950,DropDowns!$D$2:$E$151,2,FALSE),\"\")","v":""},{"$f":"IFERROR(VLOOKUP(H3950,DropDowns!$F$2:$G$7,2,FALSE),\"Residual categories\")","v":"Residual categories"},null,null,null,0,0,0]
[0,{"$f":"IF(OR(COUNTA(O3922:O3951)>0,COUNTA(O3951:$O$5195)>0),IF(COUNTIF(B3942:B3951,B3951)=10,B3951+7,B3951),\"\")","v":""},"","","",null,null,null,0,0,0,0,{"$f":"IFERROR(VLOOKUP(G3952,DropDowns!$D$2:$E$151,2,FALSE),\"\")","v":""},{"$f":"IFERROR(VLOOKUP(H3952,DropDowns!$F$2:$G$7,2,FALSE),\"Residual categories\")","v":"Residual categories"},null,null,null,0,0,0]
[0,{"$f":"IF(OR(COUNTA(O3923:O3952)>0,COUNTA(O3952:$O$5195)>0),IF(COUNTIF(B3943:B3952,B3952)=10,B3952+7,B3952),\"\")","v":""},"","","",null,null,null,0,0,0,0,{"$f":"IFERROR(VLOOKUP(G3953,DropDowns!$D$2:$E$151,2,FALSE),\"\")","v":""},{"$f":"IFERROR(VLOOKUP(H3953,DropDowns!$F$2:$G$7,2,FALSE),\"Residual categories\")","v":"Residual categories"},null,null,null,0,0,0]
[0,{"$f":"IF(OR(COUNTA(O3925:O3954)>0,COUNTA(O3954:$O$5195)>0),IF(COUNTIF(B3945:B3954,B3954)=10,B3954+7,B3954),\"\")","v":""},"","","",null,null,null,0,0,0,0,{"$f":"IFERROR(VLOOKUP(G3955,DropDowns!$D$2:$E$151,2,FALSE),\"\")","v":""},{"$f":"IFERROR(VLOOKUP(H3955,DropDowns!$F$2:$G$7,2,FALSE),\"Residual categories\")","v":"Residual categories"},null,null,null,0,0,0]
[0,{"$f":"IF(OR(COUNTA(O3926:O3955)>0,COUNTA(O3955:$O$5195)>0),IF(COUNTIF(B3946:B3955,B3955)=10,B3955+7,B3955),\"\")","v":""},"","","",null,null,null,0,0,0,0,{"$f":"IFERROR(VLOOKUP(G3956,DropDowns!$D$2:$E$151,2,FALSE),\"\")","v":""},{"$f":"IFERROR(VLOOKUP(H3956,DropDowns!$F$2:$G$7,2,FALSE),\"Residual categories\")","v":"Residual categories"},null,null,null,0,0,0]
[0,{"$f":"IF(OR(COUNTA(O3927:O3956)>0,COUNTA(O3956:$O$5195)>0),IF(COUNTIF(B3947:B3956,B3956)=10,B3956+7,B3956),\"\")","v":""},"","","",null,null,null,0,0,0,0,{"$f":"IFERROR(VLOOKUP(G3957,DropDowns!$D$2:$E$151,2,FALSE),\"\")","v":""},{"$f":"IFERROR(VLOOKUP(H3957,DropDowns!$F$2:$G$7,2,FALSE),\"Residual categories\")","v":"Residual categories"},null,null,null,0,0,0]
[0,{"$f":"IF(OR(COUNTA(O3928:O3957)>0,COUNTA(O3957:$O$5195)>0),IF(COUNTIF(B3948:B3957,B3957)=10,B3957+7,B3957),\"\")","v":""},"","","",null,null,null,0,0,0,0,{"$f":"IFERROR(VLOOKUP(G3958,DropDowns!$D$2:$E$151,2,FALSE),\"\")","v":""},{"$f":"IFERROR(VLOOKUP(H3958,DropDowns!$F$2:$G$7,2,FALSE),\"Residual categories\")","v":"Residual categories"},null,null,null,0,0,0]
[0,{"$f":"IF(OR(COUNTA(O3930:O3959)>0,COUNTA(O3959:$O$5195)>0),IF(COUNTIF(B3950:B3959,B3959)=10,B3959+7,B3959),\"\")","v":""},"","","",null,null,null,0,0,0,0,{"$f":"IFERROR(VLOOKUP(G3960,DropDowns!$D$2:$E$151,2,FALSE),\"\")","v":""},{"$f":"IFERROR(VLOOKUP(H3960,DropDowns!$F$2:$G$7,2,FALSE),\"Residual categories\")","v":"Residual categories"},null,null,null,0,0,0]
[0,{"$f":"IF(OR(COUNTA(O3931:O3960)>0,COUNTA(O3960:$O$5195)>0),IF(COUNTIF(B3951:B3960,B3960)=10,B3960+7,B3960),\"\")","v":""},"","","",null,null,null,0,0,0,0,{"$f":"IFERROR(VLOOKUP(G3961,DropDowns!$D$2:$E$151,2,FALSE),\"\")","v":""},{"$f":"IFERROR(VLOOKUP(H3961,DropDowns!$F$2:$G$7,2,FALSE),\"Residual categories\")","v":"Residual categories"},null,null,null,0,0,0]
[0,{"$f":"IF(OR(COUNTA(O3933:O3962)>0,COUNTA(O3962:$O$5195)>0),IF(COUNTIF(B3953:B3962,B3962)=10,B3962+7,B3962),\"\")","v":""},"","","",null,null,null,0,0,0,0,{"$f":"IFERROR(VLOOKUP(G3963,DropDowns!$D$2:$E$151,2,FALSE),\"\")","v":""},{"$f":"IFERROR(VLOOKUP(H3963,DropDowns!$F$2:$G$7,2,FALSE),\"Residual categories\")","v":"Residual categories"},null,null,null,0,0,0]
[0,{"$f":"IF(OR(COUNTA(O3934:O3963)>0,COUNTA(O3963:$O$5195)>0),IF(COUNTIF(B3954:B3963,B3963)=10,B3963+7,B3963),\"\")","v":""},"","","",null,null,null,0,0,0,0,{"$f":"IFERROR(VLOOKUP(G3964,DropDowns!$D$2:$E$151,2,FALSE),\"\")","v":""},{"$f":"IFERROR(VLOOKUP(H3964,DropDowns!$F$2:$G$7,2,FALSE),\"Residual categories\")","v":"Residual categories"},null,null,null,0,0,0]
[0,{"$f":"IF(OR(COUNTA(O3936:O3965)>0,COUNTA(O3965:$O$5195)>0),IF(COUNTIF(B3956:B3965,B3965)=10,B3965+7,B3965),\"\")","v":""},"","","",null,null,null,0,0,0,0,{"$f":"IFERROR(VLOOKUP(G3966,DropDowns!$D$2:$E$151,2,FALSE),\"\")","v":""},{"$f":"IFERROR(VLOOKUP(H3966,DropDowns!$F$2:$G$7,2,FALSE),\"Residual categories\")","v":"Residual categories"},null,null,null,0,0,0]
[0,{"$f":"IF(OR(COUNTA(O3937:O3966)>0,COUNTA(O3966:$O$5195)>0),IF(COUNTIF(B3957:B3966,B3966)=10,B3966+7,B3966),\"\")","v":""},"","","",null,null,null,0,0,0,0,{"$f":"IFERROR(VLOOKUP(G3967,DropDowns!$D$2:$E$151,2,FALSE),\"\")","v":""},{"$f":"IFERROR(VLOOKUP(H3967,DropDowns!$F$2:$G$7,2,FALSE),\"Residual categories\")","v":"Residual categories"},null,null,null,0,0,0]
[0,{"$f":"IF(OR(COUNTA(O3938:O3967)>0,COUNTA(O3967:$O$5195)>0),IF(COUNTIF(B3958:B3967,B3967)=10,B3967+7,B3967),\"\")","v":""},"","","",null,null,null,0,0,0,0,{"$f":"IFERROR(VLOOKUP(G3968,DropDowns!$D$2:$E$151,2,FALSE),\"\")","v":""},{"$f":"IFERROR(VLOOKUP(H3968,DropDowns!$F$2:$G$7,2,FALSE),\"Residual categories\")","v":"Residual categories"},null,null,null,0,0,0]
[0,{"$f":"IF(OR(COUNTA(O3939:O3968)>0,COUNTA(O3968:$O$5195)>0),IF(COUNTIF(B3959:B3968,B3968)=10,B3968+7,B3968),\"\")","v":""},"","","",null,null,null,0,0,0,0,{"$f":"IFERROR(VLOOKUP(G3969,DropDowns!$D$2:$E$151,2,FALSE),\"\")","v":""},{"$f":"IFERROR(VLOOKUP(H3969,DropDowns!$F$2:$G$7,2,FALSE),\"Residual categories\")","v":"Residual categories"},null,null,null,0,0,0]
[0,{"$f":"IF(OR(COUNTA(O3941:O3970)>0,COUNTA(O3970:$O$5195)>0),IF(COUNTIF(B3961:B3970,B3970)=10,B3970+7,B3970),\"\")","v":""},"","","",null,null,null,0,0,0,0,{"$f":"IFERROR(VLOOKUP(G3971,DropDowns!$D$2:$E$151,2,FALSE),\"\")","v":""},{"$f":"IFERROR(VLOOKUP(H3971,DropDowns!$F$2:$G$7,2,FALSE),\"Residual categories\")","v":"Residual categories"},null,null,null,0,0,0]
[0,{"$f":"IF(OR(COUNTA(O3942:O3971)>0,COUNTA(O3971:$O$5195)>0),IF(COUNTIF(B3962:B3971,B3971)=10,B3971+7,B3971),\"\")","v":""},"","","",null,null,null,0,0,0,0,{"$f":"IFERROR(VLOOKUP(G3972,DropDowns!$D$2:$E$151,2,FALSE),\"\")","v":""},{"$f":"IFERROR(VLOOKUP(H3972,DropDowns!$F$2:$G$7,2,FALSE),\"Residual categories\")","v":"Residual categories"},null,null,null,0,0,0]
[0,{"$f":"IF(OR(COUNTA(O3944:O3973)>0,COUNTA(O3973:$O$5195)>0),IF(COUNTIF(B3964:B3973,B3973)=10,B3973+7,B3973),\"\")","v":""},"","","",null,null,null,0,0,0,0,{"$f":"IFERROR(VLOOKUP(G3974,DropDowns!$D$2:$E$151,2,FALSE),\"\")","v":""},{"$f":"IFERROR(VLOOKUP(H3974,DropDowns!$F$2:$G$7,2,FALSE),\"Residual categories\")","v":"Residual categories"},null,null,null,0,0,0]
[0,{"$f":"IF(OR(COUNTA(O3945:O3974)>0,COUNTA(O3974:$O$5195)>0),IF(COUNTIF(B3965:B3974,B3974)=10,B3974+7,B3974),\"\")","v":""},{"$f":"IF(D3975=1,A3975,\"\")","v":""},"","",null,null,null,{"$f":"IF(COUNTA(O3975:Q3975)>0,1,0)","v":0},{"$f":"IF(O3975=\"y\",1,0)","v":0},{"$f":"IF(P3975=\"y\",1,0)","v":0},{"$f":"IF(Q3975=\"y\",1,0)","v":0},{"$f":"IFERROR(VLOOKUP(G3975,DropDowns!$D$2:$E$151,2,FALSE),\"\")","v":""},{"$f":"IFERROR(VLOOKUP(H3975,DropDowns!$F$2:$G$7,2,FALSE),\"Residual categories\")","v":"Residual categories"},null,null,null,{"$f":"IF(O3975=\"yes\",1,0)","v":0},{"$f":"IF(P3975=\"yes\",1,0)","v":0},{"$f":"IF(Q3975=\"yes\",1,0)","v":0}]
[0,{"$f":"IF(OR(COUNTA(O3946:O3975)>0,COUNTA(O3975:$O$5195)>0),IF(COUNTIF(B3966:B3975,B3975)=10,B3975+7,B3975),\"\")","v":""},"","","",null,null,null,0,0,0,0,{"$f":"IFERROR(VLOOKUP(G3976,DropDowns!$D$2:$E$151,2,FALSE),\"\")","v":""},{"$f":"IFERROR(VLOOKUP(H3976,DropDowns!$F$2:$G$7,2,FALSE),\"Residual categories\")","v":"Residual categories"},null,null,null,0,0,0]
[0,{"$f":"IF(OR(COUNTA(O3947:O3976)>0,COUNTA(O3976:$O$5195)>0),IF(COUNTIF(B3967:B3976,B3976)=10,B3976+7,B3976),\"\")","v":""},"","","",null,null,null,0,0,0,0,{"$f":"IFERROR(VLOOKUP(G3977,DropDowns!$D$2:$E$151,2,FALSE),\"\")","v":""},{"$f":"IFERROR(VLOOKUP(H3977,DropDowns!$F$2:$G$7,2,FALSE),\"Residual categories\")","v":"Residual categories"},null,null,null,0,0,0]
[0,{"$f":"IF(OR(COUNTA(O3949:O3978)>0,COUNTA(O3978:$O$5195)>0),IF(COUNTIF(B3969:B3978,B3978)=10,B3978+7,B3978),\"\")","v":""},"","","",null,null,null,0,0,0,0,{"$f":"IFERROR(VLOOKUP(G3979,DropDowns!$D$2:$E$151,2,FALSE),\"\")","v":""},{"$f":"IFERROR(VLOOKUP(H3979,DropDowns!$F$2:$G$7,2,FALSE),\"Residual categories\")","v":"Residual categories"},null,null,null,0,0,0]
[0,{"$f":"IF(OR(COUNTA(O3950:O3979)>0,COUNTA(O3979:$O$5195)>0),IF(COUNTIF(B3970:B3979,B3979)=10,B3979+7,B3979),\"\")","v":""},"","","",null,null,null,0,0,0,0,{"$f":"IFERROR(VLOOKUP(G3980,DropDowns!$D$2:$E$151,2,FALSE),\"\")","v":""},{"$f":"IFERROR(VLOOKUP(H3980,DropDowns!$F$2:$G$7,2,FALSE),\"Residual categories\")","v":"Residual categories"},null,null,null,0,0,0]
[0,{"$f":"IF(OR(COUNTA(O3952:O3981)>0,COUNTA(O3981:$O$5195)>0),IF(COUNTIF(B3972:B3981,B3981)=10,B3981+7,B3981),\"\")","v":""},"","","",null,null,null,0,0,0,0,{"$f":"IFERROR(VLOOKUP(G3982,DropDowns!$D$2:$E$151,2,FALSE),\"\")","v":""},{"$f":"IFERROR(VLOOKUP(H3982,DropDowns!$F$2:$G$7,2,FALSE),\"Residual categories\")","v":"Residual categories"},null,null,null,0,0,0]
[0,{"$f":"IF(OR(COUNTA(O3953:O3982)>0,COUNTA(O3982:$O$5195)>0),IF(COUNTIF(B3973:B3982,B3982)=10,B3982+7,B3982),\"\")","v":""},"","","",null,null,null,0,0,0,0,{"$f":"IFERROR(VLOOKUP(G3983,DropDowns!$D$2:$E$151,2,FALSE),\"\")","v":""},{"$f":"IFERROR(VLOOKUP(H3983,DropDowns!$F$2:$G$7,2,FALSE),\"Residual categories\")","v":"Residual categories"},null,null,null,0,0,0]
[0,{"$f":"IF(OR(COUNTA(O3954:O3983)>0,COUNTA(O3983:$O$5195)>0),IF(COUNTIF(B3974:B3983,B3983)=10,B3983+7,B3983),\"\")","v":""},"","","",null,null,null,0,0,0,0,{"$f":"IFERROR(VLOOKUP(G3984,DropDowns!$D$2:$E$151,2,FALSE),\"\")","v":""},{"$f":"IFERROR(VLOOKUP(H3984,DropDowns!$F$2:$G$7,2,FALSE),\"Residual categories\")","v":"Residual categories"},null,null,null,0,0,0]
[0,{"$f":"IF(OR(COUNTA(O3955:O3984)>0,COUNTA(O3984:$O$5195)>0),IF(COUNTIF(B3975:B3984,B3984)=10,B3984+7,B3984),\"\")","v":""},"","",{"$f":"IF(B3985=\"\",\"\",COUNTIF(B3976:B3985,B3985))","v":""},null,null,null,0,0,0,0,{"$f":"IFERROR(VLOOKUP(G3985,DropDowns!$D$2:$E$151,2,FALSE),\"\")","v":""},{"$f":"IFERROR(VLOOKUP(H3985,DropDowns!$F$2:$G$7,2,FALSE),\"Residual categories\")","v":"Residual categories"},null,null,null,0,0,0]
[0,{"$f":"IF(OR(COUNTA(O3957:O3986)>0,COUNTA(O3986:$O$5195)>0),IF(COUNTIF(B3977:B3986,B3986)=10,B3986+7,B3986),\"\")","v":""},"","","",null,null,null,0,0,0,0,{"$f":"IFERROR(VLOOKUP(G3987,DropDowns!$D$2:$E$151,2,FALSE),\"\")","v":""},{"$f":"IFERROR(VLOOKUP(H3987,DropDowns!$F$2:$G$7,2,FALSE),\"Residual categories\")","v":"Residual categories"},null,null,null,0,0,0]
[{"$f":"$E$2","v":0},{"$f":"IF(OR(COUNTA(O3958:O3987)>0,COUNTA(O3987:$O$5195)>0),IF(COUNTIF(B3978:B3987,B3987)=10,B3987+7,B3987),\"\")","v":""},"","","",null,null,null,0,0,0,0,{"$f":"IFERROR(VLOOKUP(G3988,DropDowns!$D$2:$E$151,2,FALSE),\"\")","v":""},{"$f":"IFERROR(VLOOKUP(H3988,DropDowns!$F$2:$G$7,2,FALSE),\"Residual categories\")","v":"Residual categories"},null,null,null,0,0,0]
[0,{"$f":"IF(OR(COUNTA(O3960:O3989)>0,COUNTA(O3989:$O$5195)>0),IF(COUNTIF(B3980:B3989,B3989)=10,B3989+7,B3989),\"\")","v":""},"","","",null,null,null,0,0,0,0,{"$f":"IFERROR(VLOOKUP(G3990,DropDowns!$D$2:$E$151,2,FALSE),\"\")","v":""},{"$f":"IFERROR(VLOOKUP(H3990,DropDowns!$F$2:$G$7,2,FALSE),\"Residual categories\")","v":"Residual categories"},null,null,null,0,0,0]
[0,{"$f":"IF(OR(COUNTA(O3961:O3990)>0,COUNTA(O3990:$O$5195)>0),IF(COUNTIF(B3981:B3990,B3990)=10,B3990+7,B3990),\"\")","v":""},"","","",null,null,null,0,0,0,0,{"$f":"IFERROR(VLOOKUP(G3991,DropDowns!$D$2:$E$151,2,FALSE),\"\")","v":""},{"$f":"IFERROR(VLOOKUP(H3991,DropDowns!$F$2:$G$7,2,FALSE),\"Residual categories\")","v":"Residual categories"},null,null,null,0,0,0]
[0,{"$f":"IF(OR(COUNTA(O3962:O3991)>0,COUNTA(O3991:$O$5195)>0),IF(COUNTIF(B3982:B3991,B3991)=10,B3991+7,B3991),\"\")","v":""},"","","",null,null,null,0,0,0,0,{"$f":"IFERROR(VLOOKUP(G3992,DropDowns!$D$2:$E$151,2,FALSE),\"\")","v":""},{"$f":"IFERROR(VLOOKUP(H3992,DropDowns!$F$2:$G$7,2,FALSE),\"Residual categories\")","v":"Residual categories"},null,null,null,0,0,0]
[0,{"$f":"IF(OR(COUNTA(O3963:O3992)>0,COUNTA(O3992:$O$5195)>0),IF(COUNTIF(B3983:B3992,B3992)=10,B3992+7,B3992),\"\")","v":""},"","","",null,null,null,0,0,0,0,{"$f":"IFERROR(VLOOKUP(G3993,DropDowns!$D$2:$E$151,2,FALSE),\"\")","v":""},{"$f":"IFERROR(VLOOKUP(H3993,DropDowns!$F$2:$G$7,2,FALSE),\"Residual categories\")","v":"Residual categories"},null,null,null,0,0,0]
[0,{"$f":"IF(OR(COUNTA(O3965:O3994)>0,COUNTA(O3994:$O$5195)>0),IF(COUNTIF(B3985:B3994,B3994)=10,B3994+7,B3994),\"\")","v":""},"","","",null,null,null,0,0,0,0,{"$f":"IFERROR(VLOOKUP(G3995,DropDowns!$D$2:$E$151,2,FALSE),\"\")","v":""},{"$f":"IFERROR(VLOOKUP(H3995,DropDowns!$F$2:$G$7,2,FALSE),\"Residual categories\")","v":"Residual categories"},null,null,null,0,0,0]
[0,{"$f":"IF(OR(COUNTA(O3966:O3995)>0,COUNTA(O3995:$O$5195)>0),IF(COUNTIF(B3986:B3995,B3995)=10,B3995+7,B3995),\"\")","v":""},"","","",null,null,null,0,0,0,0,{"$f":"IFERROR(VLOOKUP(G3996,DropDowns!$D$2:$E$151,2,FALSE),\"\")","v":""},{"$f":"IFERROR(VLOOKUP(H3996,DropDowns!$F$2:$G$7,2,FALSE),\"Residual categories\")","v":"Residual categories"},null,null,null,0,0,0]
[0,{"$f":"IF(OR(COUNTA(O3968:O3997)>0,COUNTA(O3997:$O$5195)>0),IF(COUNTIF(B3988:B3997,B3997)=10,B3997+7,B3997),\"\")","v":""},"","","",null,null,null,0,0,0,0,{"$f":"IFERROR(VLOOKUP(G3998,DropDowns!$D$2:$E$151,2,FALSE),\"\")","v":""},{"$f":"IFERROR(VLOOKUP(H3998,DropDowns!$F$2:$G$7,2,FALSE),\"Residual categories\")","v":"Residual categories"},null,null,null,0,0,0]
[0,{"$f":"IF(OR(COUNTA(O3969:O3998)>0,COUNTA(O3998:$O$5195)>0),IF(COUNTIF(B3989:B3998,B3998)=10,B3998+7,B3998),\"\")","v":""},"","","",null,null,null,0,0,0,0,{"$f":"IFERROR(VLOOKUP(G3999,DropDowns!$D$2:$E$151,2,FALSE),\"\")","v":""},{"$f":"IFERROR(VLOOKUP(H3999,DropDowns!$F$2:$G$7,2,FALSE),\"Residual categories\")","v":"Residual categories"},null,null,null,0,0,0]
[0,{"$f":"IF(OR(COUNTA(O3971:O4000)>0,COUNTA(O4000:$O$5195)>0),IF(COUNTIF(B3991:B4000,B4000)=10,B4000+7,B4000),\"\")","v":""},"","","",null,null,null,0,0,0,0,{"$f":"IFERROR(VLOOKUP(G4001,DropDowns!$D$2:$E$151,2,FALSE),\"\")","v":""},{"$f":"IFERROR(VLOOKUP(H4001,DropDowns!$F$2:$G$7,2,FALSE),\"Residual categories\")","v":"Residual categories"},null,null,null,0,0,0]
[0,{"$f":"IF(OR(COUNTA(O3972:O4001)>0,COUNTA(O4001:$O$5195)>0),IF(COUNTIF(B3992:B4001,B4001)=10,B4001+7,B4001),\"\")","v":""},"","","",null,null,null,0,0,0,0,{"$f":"IFERROR(VLOOKUP(G4002,DropDowns!$D$2:$E$151,2,FALSE),\"\")","v":""},{"$f":"IFERROR(VLOOKUP(H4002,DropDowns!$F$2:$G$7,2,FALSE),\"Residual categories\")","v":"Residual categories"},null,null,null,0,0,0]
[0,{"$f":"IF(OR(COUNTA(O3973:O4002)>0,COUNTA(O4002:$O$5195)>0),IF(COUNTIF(B3993:B4002,B4002)=10,B4002+7,B4002),\"\")","v":""},"","","",null,null,null,0,0,0,0,{"$f":"IFERROR(VLOOKUP(G4003,DropDowns!$D$2:$E$151,2,FALSE),\"\")","v":""},{"$f":"IFERROR(VLOOKUP(H4003,DropDowns!$F$2:$G$7,2,FALSE),\"Residual categories\")","v":"Residual categories"},null,null,null,0,0,0]
[0,{"$f":"IF(OR(COUNTA(O3974:O4003)>0,COUNTA(O4003:$O$5195)>0),IF(COUNTIF(B3994:B4003,B4003)=10,B4003+7,B4003),\"\")","v":""},"","","",null,null,null,0,0,0,0,{"$f":"IFERROR(VLOOKUP(G4004,DropDowns!$D$2:$E$151,2,FALSE),\"\")","v":""},{"$f":"IFERROR(VLOOKUP(H4004,DropDowns!$F$2:$G$7,2,FALSE),\"Residual categories\")","v":"Residual categories"},null,null,null,0,0,0]
[0,{"$f":"IF(OR(COUNTA(O3976:O4005)>0,COUNTA(O4005:$O$5195)>0),IF(COUNTIF(B3996:B4005,B4005)=10,B4005+7,B4005),\"\")","v":""},"","","",null,null,null,0,0,0,0,{"$f":"IFERROR(VLOOKUP(G4006,DropDowns!$D$2:$E$151,2,FALSE),\"\")","v":""},{"$f":"IFERROR(VLOOKUP(H4006,DropDowns!$F$2:$G$7,2,FALSE),\"Residual categories\")","v":"Residual categories"},null,null,null,0,0,0]
[0,{"$f":"IF(OR(COUNTA(O3977:O4006)>0,COUNTA(O4006:$O$5195)>0),IF(COUNTIF(B3997:B4006,B4006)=10,B4006+7,B4006),\"\")","v":""},"","","",null,null,null,0,0,0,0,{"$f":"IFERROR(VLOOKUP(G4007,DropDowns!$D$2:$E$151,2,FALSE),\"\")","v":""},{"$f":"IFERROR(VLOOKUP(H4007,DropDowns!$F$2:$G$7,2,FALSE),\"Residual categories\")","v":"Residual categories"},null,null,null,0,0,0]
[0,{"$f":"IF(OR(COUNTA(O3979:O4008)>0,COUNTA(O4008:$O$5195)>0),IF(COUNTIF(B3999:B4008,B4008)=10,B4008+7,B4008),\"\")","v":""},"","","",null,null,null,0,0,0,0,{"$f":"IFERROR(VLOOKUP(G4009,DropDowns!$D$2:$E$151,2,FALSE),\"\")","v":""},{"$f":"IFERROR(VLOOKUP(H4009,DropDowns!$F$2:$G$7,2,FALSE),\"Residual categories\")","v":"Residual categories"},null,null,null,0,0,0]
[0,{"$f":"IF(OR(COUNTA(O3980:O4009)>0,COUNTA(O4009:$O$5195)>0),IF(COUNTIF(B4000:B4009,B4009)=10,B4009+7,B4009),\"\")","v":""},"","","",null,null,null,0,0,0,0,{"$f":"IFERROR(VLOOKUP(G4010,DropDowns!$D$2:$E$151,2,FALSE),\"\")","v":""},{"$f":"IFERROR(VLOOKUP(H4010,DropDowns!$F$2:$G$7,2,FALSE),\"Residual categories\")","v":"Residual categories"},null,null,null,0,0,0]
[0,{"$f":"IF(OR(COUNTA(O3981:O4010)>0,COUNTA(O4010:$O$5195)>0),IF(COUNTIF(B4001:B4010,B4010)=10,B4010+7,B4010),\"\")","v":""},"","","",null,null,null,0,0,0,0,{"$f":"IFERROR(VLOOKUP(G4011,DropDowns!$D$2:$E$151,2,FALSE),\"\")","v":""},{"$f":"IFERROR(VLOOKUP(H4011,DropDowns!$F$2:$G$7,2,FALSE),\"Residual categories\")","v":"Residual categories"},null,null,null,0,0,0]
[0,{"$f":"IF(OR(COUNTA(O3982:O4011)>0,COUNTA(O4011:$O$5195)>0),IF(COUNTIF(B4002:B4011,B4011)=10,B4011+7,B4011),\"\")","v":""},"","","",null,null,null,0,0,0,0,{"$f":"IFERROR(VLOOKUP(G4012,DropDowns!$D$2:$E$151,2,FALSE),\"\")","v":""},{"$f":"IFERROR(VLOOKUP(H4012,DropDowns!$F$2:$G$7,2,FALSE),\"Residual categories\")","v":"Residual categories"},null,null,null,0,0,0]
[0,{"$f":"IF(OR(COUNTA(O3984:O4013)>0,COUNTA(O4013:$O$5195)>0),IF(COUNTIF(B4004:B4013,B4013)=10,B4013+7,B4013),\"\")","v":""},"","","",null,null,null,0,0,0,0,{"$f":"IFERROR(VLOOKUP(G4014,DropDowns!$D$2:$E$151,2,FALSE),\"\")","v":""},{"$f":"IFERROR(VLOOKUP(H4014,DropDowns!$F$2:$G$7,2,FALSE),\"Residual categories\")","v":"Residual categories"},null,null,null,0,0,0]
[0,{"$f":"IF(OR(COUNTA(O3985:O4014)>0,COUNTA(O4014:$O$5195)>0),IF(COUNTIF(B4005:B4014,B4014)=10,B4014+7,B4014),\"\")","v":""},"","","",null,null,null,0,0,0,0,{"$f":"IFERROR(VLOOKUP(G4015,DropDowns!$D$2:$E$151,2,FALSE),\"\")","v":""},{"$f":"IFERROR(VLOOKUP(H4015,DropDowns!$F$2:$G$7,2,FALSE),\"Residual categories\")","v":"Residual categories"},null,null,null,0,0,0]
[0,{"$f":"IF(OR(COUNTA(O3987:O4016)>0,COUNTA(O4016:$O$5195)>0),IF(COUNTIF(B4007:B4016,B4016)=10,B4016+7,B4016),\"\")","v":""},"","","",null,null,null,0,0,0,0,{"$f":"IFERROR(VLOOKUP(G4017,DropDowns!$D$2:$E$151,2,FALSE),\"\")","v":""},{"$f":"IFERROR(VLOOKUP(H4017,DropDowns!$F$2:$G$7,2,FALSE),\"Residual categories\")","v":"Residual categories"},null,null,null,0,0,0]
[0,{"$f":"IF(OR(COUNTA(O3988:O4017)>0,COUNTA(O4017:$O$5195)>0),IF(COUNTIF(B4008:B4017,B4017)=10,B4017+7,B4017),\"\")","v":""},"","","",null,null,null,0,0,0,0,{"$f":"IFERROR(VLOOKUP(G4018,DropDowns!$D$2:$E$151,2,FALSE),\"\")","v":""},{"$f":"IFERROR(VLOOKUP(H4018,DropDowns!$F$2:$G$7,2,FALSE),\"Residual categories\")","v":"Residual categories"},null,null,null,0,0,0]
[0,{"$f":"IF(OR(COUNTA(O3989:O4018)>0,COUNTA(O4018:$O$5195)>0),IF(COUNTIF(B4009:B4018,B4018)=10,B4018+7,B4018),\"\")","v":""},"","","",null,null,null,0,0,0,0,{"$f":"IFERROR(VLOOKUP(G4019,DropDowns!$D$2:$E$151,2,FALSE),\"\")","v":""},{"$f":"IFERROR(VLOOKUP(H4019,DropDowns!$F$2:$G$7,2,FALSE),\"Residual categories\")","v":"Residual categories"},null,null,null,0,0,0]
[0,{"$f":"IF(OR(COUNTA(O3990:O4019)>0,COUNTA(O4019:$O$5195)>0),IF(COUNTIF(B4010:B4019,B4019)=10,B4019+7,B4019),\"\")","v":""},"","","",null,null,null,0,0,0,0,{"$f":"IFERROR(VLOOKUP(G4020,DropDowns!$D$2:$E$151,2,FALSE),\"\")","v":""},{"$f":"IFERROR(VLOOKUP(H4020,DropDowns!$F$2:$G$7,2,FALSE),\"Residual categories\")","v":"Residual categories"},null,null,null,0,0,0]
[0,{"$f":"IF(OR(COUNTA(O3992:O4021)>0,COUNTA(O4021:$O$5195)>0),IF(COUNTIF(B4012:B4021,B4021)=10,B4021+7,B4021),\"\")","v":""},"","","",null,null,null,0,0,0,0,{"$f":"IFERROR(VLOOKUP(G4022,DropDowns!$D$2:$E$151,2,FALSE),\"\")","v":""},{"$f":"IFERROR(VLOOKUP(H4022,DropDowns!$F$2:$G$7,2,FALSE),\"Residual categories\")","v":"Residual categories"},null,null,null,0,0,0]
[0,{"$f":"IF(OR(COUNTA(O3993:O4022)>0,COUNTA(O4022:$O$5195)>0),IF(COUNTIF(B4013:B4022,B4022)=10,B4022+7,B4022),\"\")","v":""},"","","",null,null,null,0,0,0,0,{"$f":"IFERROR(VLOOKUP(G4023,DropDowns!$D$2:$E$151,2,FALSE),\"\")","v":""},{"$f":"IFERROR(VLOOKUP(H4023,DropDowns!$F$2:$G$7,2,FALSE),\"Residual categories\")","v":"Residual categories"},null,null,null,0,0,0]
[0,{"$f":"IF(OR(COUNTA(O3995:O4024)>0,COUNTA(O4024:$O$5195)>0),IF(COUNTIF(B4015:B4024,B4024)=10,B4024+7,B4024),\"\")","v":""},"","","",null,null,null,0,0,0,0,{"$f":"IFERROR(VLOOKUP(G4025,DropDowns!$D$2:$E$151,2,FALSE),\"\")","v":""},{"$f":"IFERROR(VLOOKUP(H4025,DropDowns!$F$2:$G$7,2,FALSE),\"Residual categories\")","v":"Residual categories"},null,null,null,0,0,0]
[0,{"$f":"IF(OR(COUNTA(O3996:O4025)>0,COUNTA(O4025:$O$5195)>0),IF(COUNTIF(B4016:B4025,B4025)=10,B4025+7,B4025),\"\")","v":""},"","","",null,null,null,0,0,0,0,{"$f":"IFERROR(VLOOKUP(G4026,DropDowns!$D$2:$E$151,2,FALSE),\"\")","v":""},{"$f":"IFERROR(VLOOKUP(H4026,DropDowns!$F$2:$G$7,2,FALSE),\"Residual categories\")","v":"Residual categories"},null,null,null,0,0,0]
[0,{"$f":"IF(OR(COUNTA(O3997:O4026)>0,COUNTA(O4026:$O$5195)>0),IF(COUNTIF(B4017:B4026,B4026)=10,B4026+7,B4026),\"\")","v":""},"","","",null,null,null,0,0,0,0,{"$f":"IFERROR(VLOOKUP(G4027,DropDowns!$D$2:$E$151,2,FALSE),\"\")","v":""},{"$f":"IFERROR(VLOOKUP(H4027,DropDowns!$F$2:$G$7,2,FALSE),\"Residual categories\")","v":"Residual categories"},null,null,null,0,0,0]
[0,{"$f":"IF(OR(COUNTA(O3998:O4027)>0,COUNTA(O4027:$O$5195)>0),IF(COUNTIF(B4018:B4027,B4027)=10,B4027+7,B4027),\"\")","v":""},"","","",null,null,null,0,0,0,0,{"$f":"IFERROR(VLOOKUP(G4028,DropDowns!$D$2:$E$151,2,FALSE),\"\")","v":""},{"$f":"IFERROR(VLOOKUP(H4028,DropDowns!$F$2:$G$7,2,FALSE),\"Residual categories\")","v":"Residual categories"},null,null,null,0,0,0]
[0,{"$f":"IF(OR(COUNTA(O4000:O4029)>0,COUNTA(O4029:$O$5195)>0),IF(COUNTIF(B4020:B4029,B4029)=10,B4029+7,B4029),\"\")","v":""},"","","",null,null,null,0,0,0,0,{"$f":"IFERROR(VLOOKUP(G4030,DropDowns!$D$2:$E$151,2,FALSE),\"\")","v":""},{"$f":"IFERROR(VLOOKUP(H4030,DropDowns!$F$2:$G$7,2,FALSE),\"Residual categories\")","v":"Residual categories"},null,null,null,0,0,0]
[0,{"$f":"IF(OR(COUNTA(O4001:O4030)>0,COUNTA(O4030:$O$5195)>0),IF(COUNTIF(B4021:B4030,B4030)=10,B4030+7,B4030),\"\")","v":""},"","","",null,null,null,0,0,0,0,{"$f":"IFERROR(VLOOKUP(G4031,DropDowns!$D$2:$E$151,2,FALSE),\"\")","v":""},{"$f":"IFERROR(VLOOKUP(H4031,DropDowns!$F$2:$G$7,2,FALSE),\"Residual categories\")","v":"Residual categories"},null,null,null,0,0,0]
[0,{"$f":"IF(OR(COUNTA(O4003:O4032)>0,COUNTA(O4032:$O$5195)>0),IF(COUNTIF(B4023:B4032,B4032)=10,B4032+7,B4032),\"\")","v":""},"","","",null,null,null,0,0,0,0,{"$f":"IFERROR(VLOOKUP(G4033,DropDowns!$D$2:$E$151,2,FALSE),\"\")","v":""},{"$f":"IFERROR(VLOOKUP(H4033,DropDowns!$F$2:$G$7,2,FALSE),\"Residual categories\")","v":"Residual categories"},null,null,null,0,0,0]
[0,{"$f":"IF(OR(COUNTA(O4004:O4033)>0,COUNTA(O4033:$O$5195)>0),IF(COUNTIF(B4024:B4033,B4033)=10,B4033+7,B4033),\"\")","v":""},"","","",null,null,null,0,0,0,0,{"$f":"IFERROR(VLOOKUP(G4034,DropDowns!$D$2:$E$151,2,FALSE),\"\")","v":""},{"$f":"IFERROR(VLOOKUP(H4034,DropDowns!$F$2:$G$7,2,FALSE),\"Residual categories\")","v":"Residual categories"},null,null,null,0,0,0]
[0,{"$f":"IF(OR(COUNTA(O4006:O4035)>0,COUNTA(O4035:$O$5195)>0),IF(COUNTIF(B4026:B4035,B4035)=10,B4035+7,B4035),\"\")","v":""},"","","",null,null,null,0,0,0,0,{"$f":"IFERROR(VLOOKUP(G4036,DropDowns!$D$2:$E$151,2,FALSE),\"\")","v":""},{"$f":"IFERROR(VLOOKUP(H4036,DropDowns!$F$2:$G$7,2,FALSE),\"Residual categories\")","v":"Residual categories"},null,null,null,0,0,0]
[0,{"$f":"IF(OR(COUNTA(O4007:O4036)>0,COUNTA(O4036:$O$5195)>0),IF(COUNTIF(B4027:B4036,B4036)=10,B4036+7,B4036),\"\")","v":""},"","","",null,null,null,0,0,0,0,{"$f":"IFERROR(VLOOKUP(G4037,DropDowns!$D$2:$E$151,2,FALSE),\"\")","v":""},{"$f":"IFERROR(VLOOKUP(H4037,DropDowns!$F$2:$G$7,2,FALSE),\"Residual categories\")","v":"Residual categories"},null,null,null,0,0,0]
[0,{"$f":"IF(OR(COUNTA(O4008:O4037)>0,COUNTA(O4037:$O$5195)>0),IF(COUNTIF(B4028:B4037,B4037)=10,B4037+7,B4037),\"\")","v":""},"","","",null,null,null,0,0,0,0,{"$f":"IFERROR(VLOOKUP(G4038,DropDowns!$D$2:$E$151,2,FALSE),\"\")","v":""},{"$f":"IFERROR(VLOOKUP(H4038,DropDowns!$F$2:$G$7,2,FALSE),\"Residual categories\")","v":"Residual categories"},null,null,null,0,0,0]
[0,{"$f":"IF(OR(COUNTA(O4009:O4038)>0,COUNTA(O4038:$O$5195)>0),IF(COUNTIF(B4029:B4038,B4038)=10,B4038+7,B4038),\"\")","v":""},{"$f":"IF(D4039=1,A4039,\"\")","v":""},"","",null,null,null,{"$f":"IF(COUNTA(O4039:Q4039)>0,1,0)","v":0},{"$f":"IF(O4039=\"y\",1,0)","v":0},{"$f":"IF(P4039=\"y\",1,0)","v":0},{"$f":"IF(Q4039=\"y\",1,0)","v":0},{"$f":"IFERROR(VLOOKUP(G4039,DropDowns!$D$2:$E$151,2,FALSE),\"\")","v":""},{"$f":"IFERROR(VLOOKUP(H4039,DropDowns!$F$2:$G$7,2,FALSE),\"Residual categories\")","v":"Residual categories"},null,null,null,{"$f":"IF(O4039=\"yes\",1,0)","v":0},{"$f":"IF(P4039=\"yes\",1,0)","v":0},{"$f":"IF(Q4039=\"yes\",1,0)","v":0}]
[0,{"$f":"IF(OR(COUNTA(O4011:O4040)>0,COUNTA(O4040:$O$5195)>0),IF(COUNTIF(B4031:B4040,B4040)=10,B4040+7,B4040),\"\")","v":""},"","","",null,null,null,0,0,0,0,{"$f":"IFERROR(VLOOKUP(G4041,DropDowns!$D$2:$E$151,2,FALSE),\"\")","v":""},{"$f":"IFERROR(VLOOKUP(H4041,DropDowns!$F$2:$G$7,2,FALSE),\"Residual categories\")","v":"Residual categories"},null,null,null,0,0,0]
[0,{"$f":"IF(OR(COUNTA(O4012:O4041)>0,COUNTA(O4041:$O$5195)>0),IF(COUNTIF(B4032:B4041,B4041)=10,B4041+7,B4041),\"\")","v":""},"","","",null,null,null,0,0,0,0,{"$f":"IFERROR(VLOOKUP(G4042,DropDowns!$D$2:$E$151,2,FALSE),\"\")","v":""},{"$f":"IFERROR(VLOOKUP(H4042,DropDowns!$F$2:$G$7,2,FALSE),\"Residual categories\")","v":"Residual categories"},null,null,null,0,0,0]
[0,{"$f":"IF(OR(COUNTA(O4014:O4043)>0,COUNTA(O4043:$O$5195)>0),IF(COUNTIF(B4034:B4043,B4043)=10,B4043+7,B4043),\"\")","v":""},"","","",null,null,null,0,0,0,0,{"$f":"IFERROR(VLOOKUP(G4044,DropDowns!$D$2:$E$151,2,FALSE),\"\")","v":""},{"$f":"IFERROR(VLOOKUP(H4044,DropDowns!$F$2:$G$7,2,FALSE),\"Residual categories\")","v":"Residual categories"},null,null,null,0,0,0]
[0,{"$f":"IF(OR(COUNTA(O4015:O4044)>0,COUNTA(O4044:$O$5195)>0),IF(COUNTIF(B4035:B4044,B4044)=10,B4044+7,B4044),\"\")","v":""},"","","",null,null,null,0,0,0,0,{"$f":"IFERROR(VLOOKUP(G4045,DropDowns!$D$2:$E$151,2,FALSE),\"\")","v":""},{"$f":"IFERROR(VLOOKUP(H4045,DropDowns!$F$2:$G$7,2,FALSE),\"Residual categories\")","v":"Residual categories"},null,null,null,0,0,0]
[0,{"$f":"IF(OR(COUNTA(O4016:O4045)>0,COUNTA(O4045:$O$5195)>0),IF(COUNTIF(B4036:B4045,B4045)=10,B4045+7,B4045),\"\")","v":""},"","","",null,null,null,0,0,0,0,{"$f":"IFERROR(VLOOKUP(G4046,DropDowns!$D$2:$E$151,2,FALSE),\"\")","v":""},{"$f":"IFERROR(VLOOKUP(H4046,DropDowns!$F$2:$G$7,2,FALSE),\"Residual categories\")","v":"Residual categories"},null,null,null,0,0,0]
[0,{"$f":"IF(OR(COUNTA(O4017:O4046)>0,COUNTA(O4046:$O$5195)>0),IF(COUNTIF(B4037:B4046,B4046)=10,B4046+7,B4046),\"\")","v":""},"","","",null,null,null,0,0,0,0,{"$f":"IFERROR(VLOOKUP(G4047,DropDowns!$D$2:$E$151,2,FALSE),\"\")","v":""},{"$f":"IFERROR(VLOOKUP(H4047,DropDowns!$F$2:$G$7,2,FALSE),\"Residual categories\")","v":"Residual categories"},null,null,null,0,0,0]
[0,{"$f":"IF(OR(COUNTA(O4019:O4048)>0,COUNTA(O4048:$O$5195)>0),IF(COUNTIF(B4039:B4048,B4048)=10,B4048+7,B4048),\"\")","v":""},"","",{"$f":"IF(B4049=\"\",\"\",COUNTIF(B4040:B4049,B4049))","v":""},null,null,null,0,0,0,0,{"$f":"IFERROR(VLOOKUP(G4049,DropDowns!$D$2:$E$151,2,FALSE),\"\")","v":""},{"$f":"IFERROR(VLOOKUP(H4049,DropDowns!$F$2:$G$7,2,FALSE),\"Residual categories\")","v":"Residual categories"},null,null,null,0,0,0]
[0,{"$f":"IF(OR(COUNTA(O4020:O4049)>0,COUNTA(O4049:$O$5195)>0),IF(COUNTIF(B4040:B4049,B4049)=10,B4049+7,B4049),\"\")","v":""},"","","",null,null,null,0,0,0,0,{"$f":"IFERROR(VLOOKUP(G4050,DropDowns!$D$2:$E$151,2,FALSE),\"\")","v":""},{"$f":"IFERROR(VLOOKUP(H4050,DropDowns!$F$2:$G$7,2,FALSE),\"Residual categories\")","v":"Residual categories"},null,null,null,0,0,0]
[{"$f":"$E$2","v":0},{"$f":"IF(OR(COUNTA(O4022:O4051)>0,COUNTA(O4051:$O$5195)>0),IF(COUNTIF(B4042:B4051,B4051)=10,B4051+7,B4051),\"\")","v":""},"","","",null,null,null,0,0,0,0,{"$f":"IFERROR(VLOOKUP(G4052,DropDowns!$D$2:$E$151,2,FALSE),\"\")","v":""},{"$f":"IFERROR(VLOOKUP(H4052,DropDowns!$F$2:$G$7,2,FALSE),\"Residual categories\")","v":"Residual categories"},null,null,null,0,0,0]
[0,{"$f":"IF(OR(COUNTA(O4023:O4052)>0,COUNTA(O4052:$O$5195)>0),IF(COUNTIF(B4043:B4052,B4052)=10,B4052+7,B4052),\"\")","v":""},"","","",null,null,null,0,0,0,0,{"$f":"IFERROR(VLOOKUP(G4053,DropDowns!$D$2:$E$151,2,FALSE),\"\")","v":""},{"$f":"IFERROR(VLOOKUP(H4053,DropDowns!$F$2:$G$7,2,FALSE),\"Residual categories\")","v":"Residual categories"},null,null,null,0,0,0]
[0,{"$f":"IF(OR(COUNTA(O4024:O4053)>0,COUNTA(O4053:$O$5195)>0),IF(COUNTIF(B4044:B4053,B4053)=10,B4053+7,B4053),\"\")","v":""},"","","",null,null,null,0,0,0,0,{"$f":"IFERROR(VLOOKUP(G4054,DropDowns!$D$2:$E$151,2,FALSE),\"\")","v":""},{"$f":"IFERROR(VLOOKUP(H4054,DropDowns!$F$2:$G$7,2,FALSE),\"Residual categories\")","v":"Residual categories"},null,null,null,0,0,0]
[0,{"$f":"IF(OR(COUNTA(O4025:O4054)>0,COUNTA(O4054:$O$5195)>0),IF(COUNTIF(B4045:B4054,B4054)=10,B4054+7,B4054),\"\")","v":""},"","","",null,null,null,0,0,0,0,{"$f":"IFERROR(VLOOKUP(G4055,DropDowns!$D$2:$E$151,2,FALSE),\"\")","v":""},{"$f":"IFERROR(VLOOKUP(H4055,DropDowns!$F$2:$G$7,2,FALSE),\"Residual categories\")","v":"Residual categories"},null,null,null,0,0,0]
[0,{"$f":"IF(OR(COUNTA(O4027:O4056)>0,COUNTA(O4056:$O$5195)>0),IF(COUNTIF(B4047:B4056,B4056)=10,B4056+7,B4056),\"\")","v":""},"","","",null,null,null,0,0,0,0,{"$f":"IFERROR(VLOOKUP(G4057,DropDowns!$D$2:$E$151,2,FALSE),\"\")","v":""},{"$f":"IFERROR(VLOOKUP(H4057,DropDowns!$F$2:$G$7,2,FALSE),\"Residual categories\")","v":"Residual categories"},null,null,null,0,0,0]
[0,{"$f":"IF(OR(COUNTA(O4028:O4057)>0,COUNTA(O4057:$O$5195)>0),IF(COUNTIF(B4048:B4057,B4057)=10,B4057+7,B4057),\"\")","v":""},"","","",null,null,null,0,0,0,0,{"$f":"IFERROR(VLOOKUP(G4058,DropDowns!$D$2:$E$151,2,FALSE),\"\")","v":""},{"$f":"IFERROR(VLOOKUP(H4058,DropDowns!$F$2:$G$7,2,FALSE),\"Residual categories\")","v":"Residual categories"},null,null,null,0,0,0]
[0,{"$f":"IF(OR(COUNTA(O4030:O4059)>0,COUNTA(O4059:$O$5195)>0),IF(COUNTIF(B4050:B4059,B4059)=10,B4059+7,B4059),\"\")","v":""},"","","",null,null,null,0,0,0,0,{"$f":"IFERROR(VLOOKUP(G4060,DropDowns!$D$2:$E$151,2,FALSE),\"\")","v":""},{"$f":"IFERROR(VLOOKUP(H4060,DropDowns!$F$2:$G$7,2,FALSE),\"Residual categories\")","v":"Residual categories"},null,null,null,0,0,0]
[0,{"$f":"IF(OR(COUNTA(O4031:O4060)>0,COUNTA(O4060:$O$5195)>0),IF(COUNTIF(B4051:B4060,B4060)=10,B4060+7,B4060),\"\")","v":""},"","","",null,null,null,0,0,0,0,{"$f":"IFERROR(VLOOKUP(G4061,DropDowns!$D$2:$E$151,2,FALSE),\"\")","v":""},{"$f":"IFERROR(VLOOKUP(H4061,DropDowns!$F$2:$G$7,2,FALSE),\"Residual categories\")","v":"Residual categories"},null,null,null,0,0,0]
[0,{"$f":"IF(OR(COUNTA(O4033:O4062)>0,COUNTA(O4062:$O$5195)>0),IF(COUNTIF(B4053:B4062,B4062)=10,B4062+7,B4062),\"\")","v":""},"","","",null,null,null,0,0,0,0,{"$f":"IFERROR(VLOOKUP(G4063,DropDowns!$D$2:$E$151,2,FALSE),\"\")","v":""},{"$f":"IFERROR(VLOOKUP(H4063,DropDowns!$F$2:$G$7,2,FALSE),\"Residual categories\")","v":"Residual categories"},null,null,null,0,0,0]
[0,{"$f":"IF(OR(COUNTA(O4034:O4063)>0,COUNTA(O4063:$O$5195)>0),IF(COUNTIF(B4054:B4063,B4063)=10,B4063+7,B4063),\"\")","v":""},"","","",null,null,null,0,0,0,0,{"$f":"IFERROR(VLOOKUP(G4064,DropDowns!$D$2:$E$151,2,FALSE),\"\")","v":""},{"$f":"IFERROR(VLOOKUP(H4064,DropDowns!$F$2:$G$7,2,FALSE),\"Residual categories\")","v":"Residual categories"},null,null,null,0,0,0]
[0,{"$f":"IF(OR(COUNTA(O4035:O4064)>0,COUNTA(O4064:$O$5195)>0),IF(COUNTIF(B4055:B4064,B4064)=10,B4064+7,B4064),\"\")","v":""},"","","",null,null,null,0,0,0,0,{"$f":"IFERROR(VLOOKUP(G4065,DropDowns!$D$2:$E$151,2,FALSE),\"\")","v":""},{"$f":"IFERROR(VLOOKUP(H4065,DropDowns!$F$2:$G$7,2,FALSE),\"Residual categories\")","v":"Residual categories"},null,null,null,0,0,0]
[0,{"$f":"IF(OR(COUNTA(O4036:O4065)>0,COUNTA(O4065:$O$5195)>0),IF(COUNTIF(B4056:B4065,B4065)=10,B4065+7,B4065),\"\")","v":""},"","","",null,null,null,0,0,0,0,{"$f":"IFERROR(VLOOKUP(G4066,DropDowns!$D$2:$E$151,2,FALSE),\"\")","v":""},{"$f":"IFERROR(VLOOKUP(H4066,DropDowns!$F$2:$G$7,2,FALSE),\"Residual categories\")","v":"Residual categories"},null,null,null,0,0,0]
[0,{"$f":"IF(OR(COUNTA(O4038:O4067)>0,COUNTA(O4067:$O$5195)>0),IF(COUNTIF(B4058:B4067,B4067)=10,B4067+7,B4067),\"\")","v":""},"","","",null,null,null,0,0,0,0,{"$f":"IFERROR(VLOOKUP(G4068,DropDowns!$D$2:$E$151,2,FALSE),\"\")","v":""},{"$f":"IFERROR(VLOOKUP(H4068,DropDowns!$F$2:$G$7,2,FALSE),\"Residual categories\")","v":"Residual categories"},null,null,null,0,0,0]
[0,{"$f":"IF(OR(COUNTA(O4039:O4068)>0,COUNTA(O4068:$O$5195)>0),IF(COUNTIF(B4059:B4068,B4068)=10,B4068+7,B4068),\"\")","v":""},"","","",null,null,null,0,0,0,0,{"$f":"IFERROR(VLOOKUP(G4069,DropDowns!$D$2:$E$151,2,FALSE),\"\")","v":""},{"$f":"IFERROR(VLOOKUP(H4069,DropDowns!$F$2:$G$7,2,FALSE),\"Residual categories\")","v":"Residual categories"},null,null,null,0,0,0]
[0,{"$f":"IF(OR(COUNTA(O4041:O4070)>0,COUNTA(O4070:$O$5195)>0),IF(COUNTIF(B4061:B4070,B4070)=10,B4070+7,B4070),\"\")","v":""},"","","",null,null,null,0,0,0,0,{"$f":"IFERROR(VLOOKUP(G4071,DropDowns!$D$2:$E$151,2,FALSE),\"\")","v":""},{"$f":"IFERROR(VLOOKUP(H4071,DropDowns!$F$2:$G$7,2,FALSE),\"Residual categories\")","v":"Residual categories"},null,null,null,0,0,0]
[0,{"$f":"IF(OR(COUNTA(O4042:O4071)>0,COUNTA(O4071:$O$5195)>0),IF(COUNTIF(B4062:B4071,B4071)=10,B4071+7,B4071),\"\")","v":""},"","","",null,null,null,0,0,0,0,{"$f":"IFERROR(VLOOKUP(G4072,DropDowns!$D$2:$E$151,2,FALSE),\"\")","v":""},{"$f":"IFERROR(VLOOKUP(H4072,DropDowns!$F$2:$G$7,2,FALSE),\"Residual categories\")","v":"Residual categories"},null,null,null,0,0,0]
[0,{"$f":"IF(OR(COUNTA(O4043:O4072)>0,COUNTA(O4072:$O$5195)>0),IF(COUNTIF(B4063:B4072,B4072)=10,B4072+7,B4072),\"\")","v":""},"","","",null,null,null,0,0,0,0,{"$f":"IFERROR(VLOOKUP(G4073,DropDowns!$D$2:$E$151,2,FALSE),\"\")","v":""},{"$f":"IFERROR(VLOOKUP(H4073,DropDowns!$F$2:$G$7,2,FALSE),\"Residual categories\")","v":"Residual categories"},null,null,null,0,0,0]
[0,{"$f":"IF(OR(COUNTA(O4044:O4073)>0,COUNTA(O4073:$O$5195)>0),IF(COUNTIF(B4064:B4073,B4073)=10,B4073+7,B4073),\"\")","v":""},"","","",null,null,null,0,0,0,0,{"$f":"IFERROR(VLOOKUP(G4074,DropDowns!$D$2:$E$151,2,FALSE),\"\")","v":""},{"$f":"IFERROR(VLOOKUP(H4074,DropDowns!$F$2:$G$7,2,FALSE),\"Residual categories\")","v":"Residual categories"},null,null,null,0,0,0]
[0,{"$f":"IF(OR(COUNTA(O4046:O4075)>0,COUNTA(O4075:$O$5195)>0),IF(COUNTIF(B4066:B4075,B4075)=10,B4075+7,B4075),\"\")","v":""},"","","",null,null,null,0,0,0,0,{"$f":"IFERROR(VLOOKUP(G4076,DropDowns!$D$2:$E$151,2,FALSE),\"\")","v":""},{"$f":"IFERROR(VLOOKUP(H4076,DropDowns!$F$2:$G$7,2,FALSE),\"Residual categories\")","v":"Residual categories"},null,null,null,0,0,0]
[0,{"$f":"IF(OR(COUNTA(O4047:O4076)>0,COUNTA(O4076:$O$5195)>0),IF(COUNTIF(B4067:B4076,B4076)=10,B4076+7,B4076),\"\")","v":""},"","","",null,null,null,0,0,0,0,{"$f":"IFERROR(VLOOKUP(G4077,DropDowns!$D$2:$E$151,2,FALSE),\"\")","v":""},{"$f":"IFERROR(VLOOKUP(H4077,DropDowns!$F$2:$G$7,2,FALSE),\"Residual categories\")","v":"Residual categories"},null,null,null,0,0,0]
[0,{"$f":"IF(OR(COUNTA(O4049:O4078)>0,COUNTA(O4078:$O$5195)>0),IF(COUNTIF(B4069:B4078,B4078)=10,B4078+7,B4078),\"\")","v":""},"","","",null,null,null,0,0,0,0,{"$f":"IFERROR(VLOOKUP(G4079,DropDowns!$D$2:$E$151,2,FALSE),\"\")","v":""},{"$f":"IFERROR(VLOOKUP(H4079,DropDowns!$F$2:$G$7,2,FALSE),\"Residual categories\")","v":"Residual categories"},null,null,null,0,0,0]
[0,{"$f":"IF(OR(COUNTA(O4050:O4079)>0,COUNTA(O4079:$O$5195)>0),IF(COUNTIF(B4070:B4079,B4079)=10,B4079+7,B4079),\"\")","v":""},"","","",null,null,null,0,0,0,0,{"$f":"IFERROR(VLOOKUP(G4080,DropDowns!$D$2:$E$151,2,FALSE),\"\")","v":""},{"$f":"IFERROR(VLOOKUP(H4080,DropDowns!$F$2:$G$7,2,FALSE),\"Residual categories\")","v":"Residual categories"},null,null,null,0,0,0]
[0,{"$f":"IF(OR(COUNTA(O4051:O4080)>0,COUNTA(O4080:$O$5195)>0),IF(COUNTIF(B4071:B4080,B4080)=10,B4080+7,B4080),\"\")","v":""},"","","",null,null,null,0,0,0,0,{"$f":"IFERROR(VLOOKUP(G4081,DropDowns!$D$2:$E$151,2,FALSE),\"\")","v":""},{"$f":"IFERROR(VLOOKUP(H4081,DropDowns!$F$2:$G$7,2,FALSE),\"Residual categories\")","v":"Residual categories"},null,null,null,0,0,0]
[0,{"$f":"IF(OR(COUNTA(O4052:O4081)>0,COUNTA(O4081:$O$5195)>0),IF(COUNTIF(B4072:B4081,B4081)=10,B4081+7,B4081),\"\")","v":""},"","","",null,null,null,0,0,0,0,{"$f":"IFERROR(VLOOKUP(G4082,DropDowns!$D$2:$E$151,2,FALSE),\"\")","v":""},{"$f":"IFERROR(VLOOKUP(H4082,DropDowns!$F$2:$G$7,2,FALSE),\"Residual categories\")","v":"Residual categories"},null,null,null,0,0,0]
[0,{"$f":"IF(OR(COUNTA(O4054:O4083)>0,COUNTA(O4083:$O$5195)>0),IF(COUNTIF(B4074:B4083,B4083)=10,B4083+7,B4083),\"\")","v":""},"","","",null,null,null,0,0,0,0,{"$f":"IFERROR(VLOOKUP(G4084,DropDowns!$D$2:$E$151,2,FALSE),\"\")","v":""},{"$f":"IFERROR(VLOOKUP(H4084,DropDowns!$F$2:$G$7,2,FALSE),\"Residual categories\")","v":"Residual categories"},null,null,null,0,0,0]
[0,{"$f":"IF(OR(COUNTA(O4055:O4084)>0,COUNTA(O4084:$O$5195)>0),IF(COUNTIF(B4075:B4084,B4084)=10,B4084+7,B4084),\"\")","v":""},"","","",null,null,null,0,0,0,0,{"$f":"IFERROR(VLOOKUP(G4085,DropDowns!$D$2:$E$151,2,FALSE),\"\")","v":""},{"$f":"IFERROR(VLOOKUP(H4085,DropDowns!$F$2:$G$7,2,FALSE),\"Residual categories\")","v":"Residual categories"},null,null,null,0,0,0]
[0,{"$f":"IF(OR(COUNTA(O4057:O4086)>0,COUNTA(O4086:$O$5195)>0),IF(COUNTIF(B4077:B4086,B4086)=10,B4086+7,B4086),\"\")","v":""},"","","",null,null,null,0,0,0,0,{"$f":"IFERROR(VLOOKUP(G4087,DropDowns!$D$2:$E$151,2,FALSE),\"\")","v":""},{"$f":"IFERROR(VLOOKUP(H4087,DropDowns!$F$2:$G$7,2,FALSE),\"Residual categories\")","v":"Residual categories"},null,null,null,0,0,0]
[0,{"$f":"IF(OR(COUNTA(O4058:O4087)>0,COUNTA(O4087:$O$5195)>0),IF(COUNTIF(B4078:B4087,B4087)=10,B4087+7,B4087),\"\")","v":""},"","","",null,null,null,0,0,0,0,{"$f":"IFERROR(VLOOKUP(G4088,DropDowns!$D$2:$E$151,2,FALSE),\"\")","v":""},{"$f":"IFERROR(VLOOKUP(H4088,DropDowns!$F$2:$G$7,2,FALSE),\"Residual categories\")","v":"Residual categories"},null,null,null,0,0,0]
[0,{"$f":"IF(OR(COUNTA(O4059:O4088)>0,COUNTA(O4088:$O$5195)>0),IF(COUNTIF(B4079:B4088,B4088)=10,B4088+7,B4088),\"\")","v":""},"","","",null,null,null,0,0,0,0,{"$f":"IFERROR(VLOOKUP(G4089,DropDowns!$D$2:$E$151,2,FALSE),\"\")","v":""},{"$f":"IFERROR(VLOOKUP(H4089,DropDowns!$F$2:$G$7,2,FALSE),\"Residual categories\")","v":"Residual categories"},null,null,null,0,0,0]
[0,{"$f":"IF(OR(COUNTA(O4060:O4089)>0,COUNTA(O4089:$O$5195)>0),IF(COUNTIF(B4080:B4089,B4089)=10,B4089+7,B4089),\"\")","v":""},"","","",null,null,null,0,0,0,0,{"$f":"IFERROR(VLOOKUP(G4090,DropDowns!$D$2:$E$151,2,FALSE),\"\")","v":""},{"$f":"IFERROR(VLOOKUP(H4090,DropDowns!$F$2:$G$7,2,FALSE),\"Residual categories\")","v":"Residual categories"},null,null,null,0,0,0]
[0,{"$f":"IF(OR(COUNTA(O4062:O4091)>0,COUNTA(O4091:$O$5195)>0),IF(COUNTIF(B4082:B4091,B4091)=10,B4091+7,B4091),\"\")","v":""},"","","",null,null,null,0,0,0,0,{"$f":"IFERROR(VLOOKUP(G4092,DropDowns!$D$2:$E$151,2,FALSE),\"\")","v":""},{"$f":"IFERROR(VLOOKUP(H4092,DropDowns!$F$2:$G$7,2,FALSE),\"Residual categories\")","v":"Residual categories"},null,null,null,0,0,0]
[0,{"$f":"IF(OR(COUNTA(O4063:O4092)>0,COUNTA(O4092:$O$5195)>0),IF(COUNTIF(B4083:B4092,B4092)=10,B4092+7,B4092),\"\")","v":""},"","","",null,null,null,0,0,0,0,{"$f":"IFERROR(VLOOKUP(G4093,DropDowns!$D$2:$E$151,2,FALSE),\"\")","v":""},{"$f":"IFERROR(VLOOKUP(H4093,DropDowns!$F$2:$G$7,2,FALSE),\"Residual categories\")","v":"Residual categories"},null,null,null,0,0,0]
[0,{"$f":"IF(OR(COUNTA(O4065:O4094)>0,COUNTA(O4094:$O$5195)>0),IF(COUNTIF(B4085:B4094,B4094)=10,B4094+7,B4094),\"\")","v":""},"","","",null,null,null,0,0,0,0,{"$f":"IFERROR(VLOOKUP(G4095,DropDowns!$D$2:$E$151,2,FALSE),\"\")","v":""},{"$f":"IFERROR(VLOOKUP(H4095,DropDowns!$F$2:$G$7,2,FALSE),\"Residual categories\")","v":"Residual categories"},null,null,null,0,0,0]
[0,{"$f":"IF(OR(COUNTA(O4066:O4095)>0,COUNTA(O4095:$O$5195)>0),IF(COUNTIF(B4086:B4095,B4095)=10,B4095+7,B4095),\"\")","v":""},"","","",null,null,null,0,0,0,0,{"$f":"IFERROR(VLOOKUP(G4096,DropDowns!$D$2:$E$151,2,FALSE),\"\")","v":""},{"$f":"IFERROR(VLOOKUP(H4096,DropDowns!$F$2:$G$7,2,FALSE),\"Residual categories\")","v":"Residual categories"},null,null,null,0,0,0]
[0,{"$f":"IF(OR(COUNTA(O4068:O4097)>0,COUNTA(O4097:$O$5195)>0),IF(COUNTIF(B4088:B4097,B4097)=10,B4097+7,B4097),\"\")","v":""},"","","",null,null,null,0,0,0,0,{"$f":"IFERROR(VLOOKUP(G4098,DropDowns!$D$2:$E$151,2,FALSE),\"\")","v":""},{"$f":"IFERROR(VLOOKUP(H4098,DropDowns!$F$2:$G$7,2,FALSE),\"Residual categories\")","v":"Residual categories"},null,null,null,0,0,0]
[0,{"$f":"IF(OR(COUNTA(O4069:O4098)>0,COUNTA(O4098:$O$5195)>0),IF(COUNTIF(B4089:B4098,B4098)=10,B4098+7,B4098),\"\")","v":""},"","","",null,null,null,0,0,0,0,{"$f":"IFERROR(VLOOKUP(G4099,DropDowns!$D$2:$E$151,2,FALSE),\"\")","v":""},{"$f":"IFERROR(VLOOKUP(H4099,DropDowns!$F$2:$G$7,2,FALSE),\"Residual categories\")","v":"Residual categories"},null,null,null,0,0,0]
[0,{"$f":"IF(OR(COUNTA(O4070:O4099)>0,COUNTA(O4099:$O$5195)>0),IF(COUNTIF(B4090:B4099,B4099)=10,B4099+7,B4099),\"\")","v":""},"","","",null,null,null,0,0,0,0,{"$f":"IFERROR(VLOOKUP(G4100,DropDowns!$D$2:$E$151,2,FALSE),\"\")","v":""},{"$f":"IFERROR(VLOOKUP(H4100,DropDowns!$F$2:$G$7,2,FALSE),\"Residual categories\")","v":"Residual categories"},null,null,null,0,0,0]
[0,{"$f":"IF(OR(COUNTA(O4071:O4100)>0,COUNTA(O4100:$O$5195)>0),IF(COUNTIF(B4091:B4100,B4100)=10,B4100+7,B4100),\"\")","v":""},"","","",null,null,null,0,0,0,0,{"$f":"IFERROR(VLOOKUP(G4101,DropDowns!$D$2:$E$151,2,FALSE),\"\")","v":""},{"$f":"IFERROR(VLOOKUP(H4101,DropDowns!$F$2:$G$7,2,FALSE),\"Residual categories\")","v":"Residual categories"},null,null,null,0,0,0]
[0,{"$f":"IF(OR(COUNTA(O4073:O4102)>0,COUNTA(O4102:$O$5195)>0),IF(COUNTIF(B4093:B4102,B4102)=10,B4102+7,B4102),\"\")","v":""},{"$f":"IF(D4103=1,A4103,\"\")","v":""},"","",null,null,null,{"$f":"IF(COUNTA(O4103:Q4103)>0,1,0)","v":0},{"$f":"IF(O4103=\"y\",1,0)","v":0},{"$f":"IF(P4103=\"y\",1,0)","v":0},{"$f":"IF(Q4103=\"y\",1,0)","v":0},{"$f":"IFERROR(VLOOKUP(G4103,DropDowns!$D$2:$E$151,2,FALSE),\"\")","v":""},{"$f":"IFERROR(VLOOKUP(H4103,DropDowns!$F$2:$G$7,2,FALSE),\"Residual categories\")","v":"Residual categories"},null,null,null,{"$f":"IF(O4103=\"yes\",1,0)","v":0},{"$f":"IF(P4103=\"yes\",1,0)","v":0},{"$f":"IF(Q4103=\"yes\",1,0)","v":0}]
[0,{"$f":"IF(OR(COUNTA(O4074:O4103)>0,COUNTA(O4103:$O$5195)>0),IF(COUNTIF(B4094:B4103,B4103)=10,B4103+7,B4103),\"\")","v":""},"","","",null,null,null,0,0,0,0,{"$f":"IFERROR(VLOOKUP(G4104,DropDowns!$D$2:$E$151,2,FALSE),\"\")","v":""},{"$f":"IFERROR(VLOOKUP(H4104,DropDowns!$F$2:$G$7,2,FALSE),\"Residual categories\")","v":"Residual categories"},null,null,null,0,0,0]
[0,{"$f":"IF(OR(COUNTA(O4076:O4105)>0,COUNTA(O4105:$O$5195)>0),IF(COUNTIF(B4096:B4105,B4105)=10,B4105+7,B4105),\"\")","v":""},"","","",null,null,null,0,0,0,0,{"$f":"IFERROR(VLOOKUP(G4106,DropDowns!$D$2:$E$151,2,FALSE),\"\")","v":""},{"$f":"IFERROR(VLOOKUP(H4106,DropDowns!$F$2:$G$7,2,FALSE),\"Residual categories\")","v":"Residual categories"},null,null,null,0,0,0]
[0,{"$f":"IF(OR(COUNTA(O4077:O4106)>0,COUNTA(O4106:$O$5195)>0),IF(COUNTIF(B4097:B4106,B4106)=10,B4106+7,B4106),\"\")","v":""},"","","",null,null,null,0,0,0,0,{"$f":"IFERROR(VLOOKUP(G4107,DropDowns!$D$2:$E$151,2,FALSE),\"\")","v":""},{"$f":"IFERROR(VLOOKUP(H4107,DropDowns!$F$2:$G$7,2,FALSE),\"Residual categories\")","v":"Residual categories"},null,null,null,0,0,0]
[0,{"$f":"IF(OR(COUNTA(O4078:O4107)>0,COUNTA(O4107:$O$5195)>0),IF(COUNTIF(B4098:B4107,B4107)=10,B4107+7,B4107),\"\")","v":""},"","","",null,null,null,0,0,0,0,{"$f":"IFERROR(VLOOKUP(G4108,DropDowns!$D$2:$E$151,2,FALSE),\"\")","v":""},{"$f":"IFERROR(VLOOKUP(H4108,DropDowns!$F$2:$G$7,2,FALSE),\"Residual categories\")","v":"Residual categories"},null,null,null,0,0,0]
[0,{"$f":"IF(OR(COUNTA(O4079:O4108)>0,COUNTA(O4108:$O$5195)>0),IF(COUNTIF(B4099:B4108,B4108)=10,B4108+7,B4108),\"\")","v":""},"","","",null,null,null,0,0,0,0,{"$f":"IFERROR(VLOOKUP(G4109,DropDowns!$D$2:$E$151,2,FALSE),\"\")","v":""},{"$f":"IFERROR(VLOOKUP(H4109,DropDowns!$F$2:$G$7,2,FALSE),\"Residual categories\")","v":"Residual categories"},null,null,null,0,0,0]
[0,{"$f":"IF(OR(COUNTA(O4081:O4110)>0,COUNTA(O4110:$O$5195)>0),IF(COUNTIF(B4101:B4110,B4110)=10,B4110+7,B4110),\"\")","v":""},"","","",null,null,null,0,0,0,0,{"$f":"IFERROR(VLOOKUP(G4111,DropDowns!$D$2:$E$151,2,FALSE),\"\")","v":""},{"$f":"IFERROR(VLOOKUP(H4111,DropDowns!$F$2:$G$7,2,FALSE),\"Residual categories\")","v":"Residual categories"},null,null,null,0,0,0]
[0,{"$f":"IF(OR(COUNTA(O4082:O4111)>0,COUNTA(O4111:$O$5195)>0),IF(COUNTIF(B4102:B4111,B4111)=10,B4111+7,B4111),\"\")","v":""},"","","",null,null,null,0,0,0,0,{"$f":"IFERROR(VLOOKUP(G4112,DropDowns!$D$2:$E$151,2,FALSE),\"\")","v":""},{"$f":"IFERROR(VLOOKUP(H4112,DropDowns!$F$2:$G$7,2,FALSE),\"Residual categories\")","v":"Residual categories"},null,null,null,0,0,0]
[0,{"$f":"IF(OR(COUNTA(O4084:O4113)>0,COUNTA(O4113:$O$5195)>0),IF(COUNTIF(B4104:B4113,B4113)=10,B4113+7,B4113),\"\")","v":""},"","","",null,null,null,0,0,0,0,{"$f":"IFERROR(VLOOKUP(G4114,DropDowns!$D$2:$E$151,2,FALSE),\"\")","v":""},{"$f":"IFERROR(VLOOKUP(H4114,DropDowns!$F$2:$G$7,2,FALSE),\"Residual categories\")","v":"Residual categories"},null,null,null,0,0,0]
[0,{"$f":"IF(OR(COUNTA(O4085:O4114)>0,COUNTA(O4114:$O$5195)>0),IF(COUNTIF(B4105:B4114,B4114)=10,B4114+7,B4114),\"\")","v":""},"","","",null,null,null,0,0,0,0,{"$f":"IFERROR(VLOOKUP(G4115,DropDowns!$D$2:$E$151,2,FALSE),\"\")","v":""},{"$f":"IFERROR(VLOOKUP(H4115,DropDowns!$F$2:$G$7,2,FALSE),\"Residual categories\")","v":"Residual categories"},null,null,null,0,0,0]
[{"$f":"$E$2","v":0},{"$f":"IF(OR(COUNTA(O4086:O4115)>0,COUNTA(O4115:$O$5195)>0),IF(COUNTIF(B4106:B4115,B4115)=10,B4115+7,B4115),\"\")","v":""},"","","",null,null,null,0,0,0,0,{"$f":"IFERROR(VLOOKUP(G4116,DropDowns!$D$2:$E$151,2,FALSE),\"\")","v":""},{"$f":"IFERROR(VLOOKUP(H4116,DropDowns!$F$2:$G$7,2,FALSE),\"Residual categories\")","v":"Residual categories"},null,null,null,0,0,0]
[0,{"$f":"IF(OR(COUNTA(O4087:O4116)>0,COUNTA(O4116:$O$5195)>0),IF(COUNTIF(B4107:B4116,B4116)=10,B4116+7,B4116),\"\")","v":""},"","","",null,null,null,0,0,0,0,{"$f":"IFERROR(VLOOKUP(G4117,DropDowns!$D$2:$E$151,2,FALSE),\"\")","v":""},{"$f":"IFERROR(VLOOKUP(H4117,DropDowns!$F$2:$G$7,2,FALSE),\"Residual categories\")","v":"Residual categories"},null,null,null,0,0,0]
[0,{"$f":"IF(OR(COUNTA(O4089:O4118)>0,COUNTA(O4118:$O$5195)>0),IF(COUNTIF(B4109:B4118,B4118)=10,B4118+7,B4118),\"\")","v":""},"","","",null,null,null,0,0,0,0,{"$f":"IFERROR(VLOOKUP(G4119,DropDowns!$D$2:$E$151,2,FALSE),\"\")","v":""},{"$f":"IFERROR(VLOOKUP(H4119,DropDowns!$F$2:$G$7,2,FALSE),\"Residual categories\")","v":"Residual categories"},null,null,null,0,0,0]
[0,{"$f":"IF(OR(COUNTA(O4090:O4119)>0,COUNTA(O4119:$O$5195)>0),IF(COUNTIF(B4110:B4119,B4119)=10,B4119+7,B4119),\"\")","v":""},"","","",null,null,null,0,0,0,0,{"$f":"IFERROR(VLOOKUP(G4120,DropDowns!$D$2:$E$151,2,FALSE),\"\")","v":""},{"$f":"IFERROR(VLOOKUP(H4120,DropDowns!$F$2:$G$7,2,FALSE),\"Residual categories\")","v":"Residual categories"},null,null,null,0,0,0]
[0,{"$f":"IF(OR(COUNTA(O4092:O4121)>0,COUNTA(O4121:$O$5195)>0),IF(COUNTIF(B4112:B4121,B4121)=10,B4121+7,B4121),\"\")","v":""},"","","",null,null,null,0,0,0,0,{"$f":"IFERROR(VLOOKUP(G4122,DropDowns!$D$2:$E$151,2,FALSE),\"\")","v":""},{"$f":"IFERROR(VLOOKUP(H4122,DropDowns!$F$2:$G$7,2,FALSE),\"Residual categories\")","v":"Residual categories"},null,null,null,0,0,0]
[0,{"$f":"IF(OR(COUNTA(O4093:O4122)>0,COUNTA(O4122:$O$5195)>0),IF(COUNTIF(B4113:B4122,B4122)=10,B4122+7,B4122),\"\")","v":""},"","","",null,null,null,0,0,0,0,{"$f":"IFERROR(VLOOKUP(G4123,DropDowns!$D$2:$E$151,2,FALSE),\"\")","v":""},{"$f":"IFERROR(VLOOKUP(H4123,DropDowns!$F$2:$G$7,2,FALSE),\"Residual categories\")","v":"Residual categories"},null,null,null,0,0,0]
[0,{"$f":"IF(OR(COUNTA(O4095:O4124)>0,COUNTA(O4124:$O$5195)>0),IF(COUNTIF(B4115:B4124,B4124)=10,B4124+7,B4124),\"\")","v":""},"","","",null,null,null,0,0,0,0,{"$f":"IFERROR(VLOOKUP(G4125,DropDowns!$D$2:$E$151,2,FALSE),\"\")","v":""},{"$f":"IFERROR(VLOOKUP(H4125,DropDowns!$F$2:$G$7,2,FALSE),\"Residual categories\")","v":"Residual categories"},null,null,null,0,0,0]
[0,{"$f":"IF(OR(COUNTA(O4096:O4125)>0,COUNTA(O4125:$O$5195)>0),IF(COUNTIF(B4116:B4125,B4125)=10,B4125+7,B4125),\"\")","v":""},"","","",null,null,null,0,0,0,0,{"$f":"IFERROR(VLOOKUP(G4126,DropDowns!$D$2:$E$151,2,FALSE),\"\")","v":""},{"$f":"IFERROR(VLOOKUP(H4126,DropDowns!$F$2:$G$7,2,FALSE),\"Residual categories\")","v":"Residual categories"},null,null,null,0,0,0]
[0,{"$f":"IF(OR(COUNTA(O4097:O4126)>0,COUNTA(O4126:$O$5195)>0),IF(COUNTIF(B4117:B4126,B4126)=10,B4126+7,B4126),\"\")","v":""},"","","",null,null,null,0,0,0,0,{"$f":"IFERROR(VLOOKUP(G4127,DropDowns!$D$2:$E$151,2,FALSE),\"\")","v":""},{"$f":"IFERROR(VLOOKUP(H4127,DropDowns!$F$2:$G$7,2,FALSE),\"Residual categories\")","v":"Residual categories"},null,null,null,0,0,0]
[0,{"$f":"IF(OR(COUNTA(O4098:O4127)>0,COUNTA(O4127:$O$5195)>0),IF(COUNTIF(B4118:B4127,B4127)=10,B4127+7,B4127),\"\")","v":""},"","","",null,null,null,0,0,0,0,{"$f":"IFERROR(VLOOKUP(G4128,DropDowns!$D$2:$E$151,2,FALSE),\"\")","v":""},{"$f":"IFERROR(VLOOKUP(H4128,DropDowns!$F$2:$G$7,2,FALSE),\"Residual categories\")","v":"Residual categories"},null,null,null,0,0,0]
[0,{"$f":"IF(OR(COUNTA(O4100:O4129)>0,COUNTA(O4129:$O$5195)>0),IF(COUNTIF(B4120:B4129,B4129)=10,B4129+7,B4129),\"\")","v":""},"","","",null,null,null,0,0,0,0,{"$f":"IFERROR(VLOOKUP(G4130,DropDowns!$D$2:$E$151,2,FALSE),\"\")","v":""},{"$f":"IFERROR(VLOOKUP(H4130,DropDowns!$F$2:$G$7,2,FALSE),\"Residual categories\")","v":"Residual categories"},null,null,null,0,0,0]
[0,{"$f":"IF(OR(COUNTA(O4101:O4130)>0,COUNTA(O4130:$O$5195)>0),IF(COUNTIF(B4121:B4130,B4130)=10,B4130+7,B4130),\"\")","v":""},"","","",null,null,null,0,0,0,0,{"$f":"IFERROR(VLOOKUP(G4131,DropDowns!$D$2:$E$151,2,FALSE),\"\")","v":""},{"$f":"IFERROR(VLOOKUP(H4131,DropDowns!$F$2:$G$7,2,FALSE),\"Residual categories\")","v":"Residual categories"},null,null,null,0,0,0]
[0,{"$f":"IF(OR(COUNTA(O4103:O4132)>0,COUNTA(O4132:$O$5195)>0),IF(COUNTIF(B4123:B4132,B4132)=10,B4132+7,B4132),\"\")","v":""},"","","",null,null,null,0,0,0,0,{"$f":"IFERROR(VLOOKUP(G4133,DropDowns!$D$2:$E$151,2,FALSE),\"\")","v":""},{"$f":"IFERROR(VLOOKUP(H4133,DropDowns!$F$2:$G$7,2,FALSE),\"Residual categories\")","v":"Residual categories"},null,null,null,0,0,0]
[0,{"$f":"IF(OR(COUNTA(O4104:O4133)>0,COUNTA(O4133:$O$5195)>0),IF(COUNTIF(B4124:B4133,B4133)=10,B4133+7,B4133),\"\")","v":""},"","","",null,null,null,0,0,0,0,{"$f":"IFERROR(VLOOKUP(G4134,DropDowns!$D$2:$E$151,2,FALSE),\"\")","v":""},{"$f":"IFERROR(VLOOKUP(H4134,DropDowns!$F$2:$G$7,2,FALSE),\"Residual categories\")","v":"Residual categories"},null,null,null,0,0,0]
[0,{"$f":"IF(OR(COUNTA(O4105:O4134)>0,COUNTA(O4134:$O$5195)>0),IF(COUNTIF(B4125:B4134,B4134)=10,B4134+7,B4134),\"\")","v":""},"","","",null,null,null,0,0,0,0,{"$f":"IFERROR(VLOOKUP(G4135,DropDowns!$D$2:$E$151,2,FALSE),\"\")","v":""},{"$f":"IFERROR(VLOOKUP(H4135,DropDowns!$F$2:$G$7,2,FALSE),\"Residual categories\")","v":"Residual categories"},null,null,null,0,0,0]
[0,{"$f":"IF(OR(COUNTA(O4106:O4135)>0,COUNTA(O4135:$O$5195)>0),IF(COUNTIF(B4126:B4135,B4135)=10,B4135+7,B4135),\"\")","v":""},"","","",null,null,null,0,0,0,0,{"$f":"IFERROR(VLOOKUP(G4136,DropDowns!$D$2:$E$151,2,FALSE),\"\")","v":""},{"$f":"IFERROR(VLOOKUP(H4136,DropDowns!$F$2:$G$7,2,FALSE),\"Residual categories\")","v":"Residual categories"},null,null,null,0,0,0]
[0,{"$f":"IF(OR(COUNTA(O4108:O4137)>0,COUNTA(O4137:$O$5195)>0),IF(COUNTIF(B4128:B4137,B4137)=10,B4137+7,B4137),\"\")","v":""},"","","",null,null,null,0,0,0,0,{"$f":"IFERROR(VLOOKUP(G4138,DropDowns!$D$2:$E$151,2,FALSE),\"\")","v":""},{"$f":"IFERROR(VLOOKUP(H4138,DropDowns!$F$2:$G$7,2,FALSE),\"Residual categories\")","v":"Residual categories"},null,null,null,0,0,0]
[0,{"$f":"IF(OR(COUNTA(O4109:O4138)>0,COUNTA(O4138:$O$5195)>0),IF(COUNTIF(B4129:B4138,B4138)=10,B4138+7,B4138),\"\")","v":""},"","","",null,null,null,0,0,0,0,{"$f":"IFERROR(VLOOKUP(G4139,DropDowns!$D$2:$E$151,2,FALSE),\"\")","v":""},{"$f":"IFERROR(VLOOKUP(H4139,DropDowns!$F$2:$G$7,2,FALSE),\"Residual categories\")","v":"Residual categories"},null,null,null,0,0,0]
[0,{"$f":"IF(OR(COUNTA(O4111:O4140)>0,COUNTA(O4140:$O$5195)>0),IF(COUNTIF(B4131:B4140,B4140)=10,B4140+7,B4140),\"\")","v":""},"","","",null,null,null,0,0,0,0,{"$f":"IFERROR(VLOOKUP(G4141,DropDowns!$D$2:$E$151,2,FALSE),\"\")","v":""},{"$f":"IFERROR(VLOOKUP(H4141,DropDowns!$F$2:$G$7,2,FALSE),\"Residual categories\")","v":"Residual categories"},null,null,null,0,0,0]
[0,{"$f":"IF(OR(COUNTA(O4112:O4141)>0,COUNTA(O4141:$O$5195)>0),IF(COUNTIF(B4132:B4141,B4141)=10,B4141+7,B4141),\"\")","v":""},"","","",null,null,null,0,0,0,0,{"$f":"IFERROR(VLOOKUP(G4142,DropDowns!$D$2:$E$151,2,FALSE),\"\")","v":""},{"$f":"IFERROR(VLOOKUP(H4142,DropDowns!$F$2:$G$7,2,FALSE),\"Residual categories\")","v":"Residual categories"},null,null,null,0,0,0]
[0,{"$f":"IF(OR(COUNTA(O4113:O4142)>0,COUNTA(O4142:$O$5195)>0),IF(COUNTIF(B4133:B4142,B4142)=10,B4142+7,B4142),\"\")","v":""},"","","",null,null,null,0,0,0,0,{"$f":"IFERROR(VLOOKUP(G4143,DropDowns!$D$2:$E$151,2,FALSE),\"\")","v":""},{"$f":"IFERROR(VLOOKUP(H4143,DropDowns!$F$2:$G$7,2,FALSE),\"Residual categories\")","v":"Residual categories"},null,null,null,0,0,0]
[0,{"$f":"IF(OR(COUNTA(O4114:O4143)>0,COUNTA(O4143:$O$5195)>0),IF(COUNTIF(B4134:B4143,B4143)=10,B4143+7,B4143),\"\")","v":""},"","","",null,null,null,0,0,0,0,{"$f":"IFERROR(VLOOKUP(G4144,DropDowns!$D$2:$E$151,2,FALSE),\"\")","v":""},{"$f":"IFERROR(VLOOKUP(H4144,DropDowns!$F$2:$G$7,2,FALSE),\"Residual categories\")","v":"Residual categories"},null,null,null,0,0,0]
[0,{"$f":"IF(OR(COUNTA(O4116:O4145)>0,COUNTA(O4145:$O$5195)>0),IF(COUNTIF(B4136:B4145,B4145)=10,B4145+7,B4145),\"\")","v":""},"","","",null,null,null,0,0,0,0,{"$f":"IFERROR(VLOOKUP(G4146,DropDowns!$D$2:$E$151,2,FALSE),\"\")","v":""},{"$f":"IFERROR(VLOOKUP(H4146,DropDowns!$F$2:$G$7,2,FALSE),\"Residual categories\")","v":"Residual categories"},null,null,null,0,0,0]
[0,{"$f":"IF(OR(COUNTA(O4117:O4146)>0,COUNTA(O4146:$O$5195)>0),IF(COUNTIF(B4137:B4146,B4146)=10,B4146+7,B4146),\"\")","v":""},"","","",null,null,null,0,0,0,0,{"$f":"IFERROR(VLOOKUP(G4147,DropDowns!$D$2:$E$151,2,FALSE),\"\")","v":""},{"$f":"IFERROR(VLOOKUP(H4147,DropDowns!$F$2:$G$7,2,FALSE),\"Residual categories\")","v":"Residual categories"},null,null,null,0,0,0]
[0,{"$f":"IF(OR(COUNTA(O4119:O4148)>0,COUNTA(O4148:$O$5195)>0),IF(COUNTIF(B4139:B4148,B4148)=10,B4148+7,B4148),\"\")","v":""},"","","",null,null,null,0,0,0,0,{"$f":"IFERROR(VLOOKUP(G4149,DropDowns!$D$2:$E$151,2,FALSE),\"\")","v":""},{"$f":"IFERROR(VLOOKUP(H4149,DropDowns!$F$2:$G$7,2,FALSE),\"Residual categories\")","v":"Residual categories"},null,null,null,0,0,0]
[0,{"$f":"IF(OR(COUNTA(O4120:O4149)>0,COUNTA(O4149:$O$5195)>0),IF(COUNTIF(B4140:B4149,B4149)=10,B4149+7,B4149),\"\")","v":""},"","","",null,null,null,0,0,0,0,{"$f":"IFERROR(VLOOKUP(G4150,DropDowns!$D$2:$E$151,2,FALSE),\"\")","v":""},{"$f":"IFERROR(VLOOKUP(H4150,DropDowns!$F$2:$G$7,2,FALSE),\"Residual categories\")","v":"Residual categories"},null,null,null,0,0,0]
[0,{"$f":"IF(OR(COUNTA(O4121:O4150)>0,COUNTA(O4150:$O$5195)>0),IF(COUNTIF(B4141:B4150,B4150)=10,B4150+7,B4150),\"\")","v":""},"","","",null,null,null,0,0,0,0,{"$f":"IFERROR(VLOOKUP(G4151,DropDowns!$D$2:$E$151,2,FALSE),\"\")","v":""},{"$f":"IFERROR(VLOOKUP(H4151,DropDowns!$F$2:$G$7,2,FALSE),\"Residual categories\")","v":"Residual categories"},null,null,null,0,0,0]
[0,{"$f":"IF(OR(COUNTA(O4122:O4151)>0,COUNTA(O4151:$O$5195)>0),IF(COUNTIF(B4142:B4151,B4151)=10,B4151+7,B4151),\"\")","v":""},"","","",null,null,null,0,0,0,0,{"$f":"IFERROR(VLOOKUP(G4152,DropDowns!$D$2:$E$151,2,FALSE),\"\")","v":""},{"$f":"IFERROR(VLOOKUP(H4152,DropDowns!$F$2:$G$7,2,FALSE),\"Residual categories\")","v":"Residual categories"},null,null,null,0,0,0]
[0,{"$f":"IF(OR(COUNTA(O4124:O4153)>0,COUNTA(O4153:$O$5195)>0),IF(COUNTIF(B4144:B4153,B4153)=10,B4153+7,B4153),\"\")","v":""},"","","",null,null,null,0,0,0,0,{"$f":"IFERROR(VLOOKUP(G4154,DropDowns!$D$2:$E$151,2,FALSE),\"\")","v":""},{"$f":"IFERROR(VLOOKUP(H4154,DropDowns!$F$2:$G$7,2,FALSE),\"Residual categories\")","v":"Residual categories"},null,null,null,0,0,0]
[0,{"$f":"IF(OR(COUNTA(O4125:O4154)>0,COUNTA(O4154:$O$5195)>0),IF(COUNTIF(B4145:B4154,B4154)=10,B4154+7,B4154),\"\")","v":""},"","","",null,null,null,0,0,0,0,{"$f":"IFERROR(VLOOKUP(G4155,DropDowns!$D$2:$E$151,2,FALSE),\"\")","v":""},{"$f":"IFERROR(VLOOKUP(H4155,DropDowns!$F$2:$G$7,2,FALSE),\"Residual categories\")","v":"Residual categories"},null,null,null,0,0,0]
[0,{"$f":"IF(OR(COUNTA(O4127:O4156)>0,COUNTA(O4156:$O$5195)>0),IF(COUNTIF(B4147:B4156,B4156)=10,B4156+7,B4156),\"\")","v":""},"","","",null,null,null,0,0,0,0,{"$f":"IFERROR(VLOOKUP(G4157,DropDowns!$D$2:$E$151,2,FALSE),\"\")","v":""},{"$f":"IFERROR(VLOOKUP(H4157,DropDowns!$F$2:$G$7,2,FALSE),\"Residual categories\")","v":"Residual categories"},null,null,null,0,0,0]
[0,{"$f":"IF(OR(COUNTA(O4128:O4157)>0,COUNTA(O4157:$O$5195)>0),IF(COUNTIF(B4148:B4157,B4157)=10,B4157+7,B4157),\"\")","v":""},"","","",null,null,null,0,0,0,0,{"$f":"IFERROR(VLOOKUP(G4158,DropDowns!$D$2:$E$151,2,FALSE),\"\")","v":""},{"$f":"IFERROR(VLOOKUP(H4158,DropDowns!$F$2:$G$7,2,FALSE),\"Residual categories\")","v":"Residual categories"},null,null,null,0,0,0]
[0,{"$f":"IF(OR(COUNTA(O4130:O4159)>0,COUNTA(O4159:$O$5195)>0),IF(COUNTIF(B4150:B4159,B4159)=10,B4159+7,B4159),\"\")","v":""},"","","",null,null,null,0,0,0,0,{"$f":"IFERROR(VLOOKUP(G4160,DropDowns!$D$2:$E$151,2,FALSE),\"\")","v":""},{"$f":"IFERROR(VLOOKUP(H4160,DropDowns!$F$2:$G$7,2,FALSE),\"Residual categories\")","v":"Residual categories"},null,null,null,0,0,0]
[0,{"$f":"IF(OR(COUNTA(O4131:O4160)>0,COUNTA(O4160:$O$5195)>0),IF(COUNTIF(B4151:B4160,B4160)=10,B4160+7,B4160),\"\")","v":""},"","","",null,null,null,0,0,0,0,{"$f":"IFERROR(VLOOKUP(G4161,DropDowns!$D$2:$E$151,2,FALSE),\"\")","v":""},{"$f":"IFERROR(VLOOKUP(H4161,DropDowns!$F$2:$G$7,2,FALSE),\"Residual categories\")","v":"Residual categories"},null,null,null,0,0,0]
[0,{"$f":"IF(OR(COUNTA(O4132:O4161)>0,COUNTA(O4161:$O$5195)>0),IF(COUNTIF(B4152:B4161,B4161)=10,B4161+7,B4161),\"\")","v":""},"","","",null,null,null,0,0,0,0,{"$f":"IFERROR(VLOOKUP(G4162,DropDowns!$D$2:$E$151,2,FALSE),\"\")","v":""},{"$f":"IFERROR(VLOOKUP(H4162,DropDowns!$F$2:$G$7,2,FALSE),\"Residual categories\")","v":"Residual categories"},null,null,null,0,0,0]
[0,{"$f":"IF(OR(COUNTA(O4133:O4162)>0,COUNTA(O4162:$O$5195)>0),IF(COUNTIF(B4153:B4162,B4162)=10,B4162+7,B4162),\"\")","v":""},"","","",null,null,null,0,0,0,0,{"$f":"IFERROR(VLOOKUP(G4163,DropDowns!$D$2:$E$151,2,FALSE),\"\")","v":""},{"$f":"IFERROR(VLOOKUP(H4163,DropDowns!$F$2:$G$7,2,FALSE),\"Residual categories\")","v":"Residual categories"},null,null,null,0,0,0]
[0,{"$f":"IF(OR(COUNTA(O4135:O4164)>0,COUNTA(O4164:$O$5195)>0),IF(COUNTIF(B4155:B4164,B4164)=10,B4164+7,B4164),\"\")","v":""},"","","",null,null,null,0,0,0,0,{"$f":"IFERROR(VLOOKUP(G4165,DropDowns!$D$2:$E$151,2,FALSE),\"\")","v":""},{"$f":"IFERROR(VLOOKUP(H4165,DropDowns!$F$2:$G$7,2,FALSE),\"Residual categories\")","v":"Residual categories"},null,null,null,0,0,0]
[0,{"$f":"IF(OR(COUNTA(O4136:O4165)>0,COUNTA(O4165:$O$5195)>0),IF(COUNTIF(B4156:B4165,B4165)=10,B4165+7,B4165),\"\")","v":""},"","","",null,null,null,0,0,0,0,{"$f":"IFERROR(VLOOKUP(G4166,DropDowns!$D$2:$E$151,2,FALSE),\"\")","v":""},{"$f":"IFERROR(VLOOKUP(H4166,DropDowns!$F$2:$G$7,2,FALSE),\"Residual categories\")","v":"Residual categories"},null,null,null,0,0,0]
[0,{"$f":"IF(OR(COUNTA(O4138:O4167)>0,COUNTA(O4167:$O$5195)>0),IF(COUNTIF(B4158:B4167,B4167)=10,B4167+7,B4167),\"\")","v":""},"","","",null,null,null,0,0,0,0,{"$f":"IFERROR(VLOOKUP(G4168,DropDowns!$D$2:$E$151,2,FALSE),\"\")","v":""},{"$f":"IFERROR(VLOOKUP(H4168,DropDowns!$F$2:$G$7,2,FALSE),\"Residual categories\")","v":"Residual categories"},null,null,null,0,0,0]
[0,{"$f":"IF(OR(COUNTA(O4139:O4168)>0,COUNTA(O4168:$O$5195)>0),IF(COUNTIF(B4159:B4168,B4168)=10,B4168+7,B4168),\"\")","v":""},"","","",null,null,null,0,0,0,0,{"$f":"IFERROR(VLOOKUP(G4169,DropDowns!$D$2:$E$151,2,FALSE),\"\")","v":""},{"$f":"IFERROR(VLOOKUP(H4169,DropDowns!$F$2:$G$7,2,FALSE),\"Residual categories\")","v":"Residual categories"},null,null,null,0,0,0]
[0,{"$f":"IF(OR(COUNTA(O4140:O4169)>0,COUNTA(O4169:$O$5195)>0),IF(COUNTIF(B4160:B4169,B4169)=10,B4169+7,B4169),\"\")","v":""},"","","",null,null,null,0,0,0,0,{"$f":"IFERROR(VLOOKUP(G4170,DropDowns!$D$2:$E$151,2,FALSE),\"\")","v":""},{"$f":"IFERROR(VLOOKUP(H4170,DropDowns!$F$2:$G$7,2,FALSE),\"Residual categories\")","v":"Residual categories"},null,null,null,0,0,0]
[0,{"$f":"IF(OR(COUNTA(O4141:O4170)>0,COUNTA(O4170:$O$5195)>0),IF(COUNTIF(B4161:B4170,B4170)=10,B4170+7,B4170),\"\")","v":""},"","","",null,null,null,0,0,0,0,{"$f":"IFERROR(VLOOKUP(G4171,DropDowns!$D$2:$E$151,2,FALSE),\"\")","v":""},{"$f":"IFERROR(VLOOKUP(H4171,DropDowns!$F$2:$G$7,2,FALSE),\"Residual categories\")","v":"Residual categories"},null,null,null,0,0,0]
[0,{"$f":"IF(OR(COUNTA(O4143:O4172)>0,COUNTA(O4172:$O$5195)>0),IF(COUNTIF(B4163:B4172,B4172)=10,B4172+7,B4172),\"\")","v":""},"","","",null,null,null,0,0,0,0,{"$f":"IFERROR(VLOOKUP(G4173,DropDowns!$D$2:$E$151,2,FALSE),\"\")","v":""},{"$f":"IFERROR(VLOOKUP(H4173,DropDowns!$F$2:$G$7,2,FALSE),\"Residual categories\")","v":"Residual categories"},null,null,null,0,0,0]
[0,{"$f":"IF(OR(COUNTA(O4144:O4173)>0,COUNTA(O4173:$O$5195)>0),IF(COUNTIF(B4164:B4173,B4173)=10,B4173+7,B4173),\"\")","v":""},"","","",null,null,null,0,0,0,0,{"$f":"IFERROR(VLOOKUP(G4174,DropDowns!$D$2:$E$151,2,FALSE),\"\")","v":""},{"$f":"IFERROR(VLOOKUP(H4174,DropDowns!$F$2:$G$7,2,FALSE),\"Residual categories\")","v":"Residual categories"},null,null,null,0,0,0]
[0,{"$f":"IF(OR(COUNTA(O4146:O4175)>0,COUNTA(O4175:$O$5195)>0),IF(COUNTIF(B4166:B4175,B4175)=10,B4175+7,B4175),\"\")","v":""},"","","",null,null,null,0,0,0,0,{"$f":"IFERROR(VLOOKUP(G4176,DropDowns!$D$2:$E$151,2,FALSE),\"\")","v":""},{"$f":"IFERROR(VLOOKUP(H4176,DropDowns!$F$2:$G$7,2,FALSE),\"Residual categories\")","v":"Residual categories"},null,null,null,0,0,0]
[0,{"$f":"IF(OR(COUNTA(O4147:O4176)>0,COUNTA(O4176:$O$5195)>0),IF(COUNTIF(B4167:B4176,B4176)=10,B4176+7,B4176),\"\")","v":""},"","",{"$f":"IF(B4177=\"\",\"\",COUNTIF(B4168:B4177,B4177))","v":""},null,null,null,0,0,0,0,{"$f":"IFERROR(VLOOKUP(G4177,DropDowns!$D$2:$E$151,2,FALSE),\"\")","v":""},{"$f":"IFERROR(VLOOKUP(H4177,DropDowns!$F$2:$G$7,2,FALSE),\"Residual categories\")","v":"Residual categories"},null,null,null,0,0,0]
[0,{"$f":"IF(OR(COUNTA(O4148:O4177)>0,COUNTA(O4177:$O$5195)>0),IF(COUNTIF(B4168:B4177,B4177)=10,B4177+7,B4177),\"\")","v":""},"","","",null,null,null,0,0,0,0,{"$f":"IFERROR(VLOOKUP(G4178,DropDowns!$D$2:$E$151,2,FALSE),\"\")","v":""},{"$f":"IFERROR(VLOOKUP(H4178,DropDowns!$F$2:$G$7,2,FALSE),\"Residual categories\")","v":"Residual categories"},null,null,null,0,0,0]
[0,{"$f":"IF(OR(COUNTA(O4149:O4178)>0,COUNTA(O4178:$O$5195)>0),IF(COUNTIF(B4169:B4178,B4178)=10,B4178+7,B4178),\"\")","v":""},"","","",null,null,null,0,0,0,0,{"$f":"IFERROR(VLOOKUP(G4179,DropDowns!$D$2:$E$151,2,FALSE),\"\")","v":""},{"$f":"IFERROR(VLOOKUP(H4179,DropDowns!$F$2:$G$7,2,FALSE),\"Residual categories\")","v":"Residual categories"},null,null,null,0,0,0]
[0,{"$f":"IF(OR(COUNTA(O4151:O4180)>0,COUNTA(O4180:$O$5195)>0),IF(COUNTIF(B4171:B4180,B4180)=10,B4180+7,B4180),\"\")","v":""},"","","",null,null,null,0,0,0,0,{"$f":"IFERROR(VLOOKUP(G4181,DropDowns!$D$2:$E$151,2,FALSE),\"\")","v":""},{"$f":"IFERROR(VLOOKUP(H4181,DropDowns!$F$2:$G$7,2,FALSE),\"Residual categories\")","v":"Residual categories"},null,null,null,0,0,0]
[0,{"$f":"IF(OR(COUNTA(O4152:O4181)>0,COUNTA(O4181:$O$5195)>0),IF(COUNTIF(B4172:B4181,B4181)=10,B4181+7,B4181),\"\")","v":""},"","","",null,null,null,0,0,0,0,{"$f":"IFERROR(VLOOKUP(G4182,DropDowns!$D$2:$E$151,2,FALSE),\"\")","v":""},{"$f":"IFERROR(VLOOKUP(H4182,DropDowns!$F$2:$G$7,2,FALSE),\"Residual categories\")","v":"Residual categories"},null,null,null,0,0,0]
[0,{"$f":"IF(OR(COUNTA(O4154:O4183)>0,COUNTA(O4183:$O$5195)>0),IF(COUNTIF(B4174:B4183,B4183)=10,B4183+7,B4183),\"\")","v":""},"","","",null,null,null,0,0,0,0,{"$f":"IFERROR(VLOOKUP(G4184,DropDowns!$D$2:$E$151,2,FALSE),\"\")","v":""},{"$f":"IFERROR(VLOOKUP(H4184,DropDowns!$F$2:$G$7,2,FALSE),\"Residual categories\")","v":"Residual categories"},null,null,null,0,0,0]
[0,{"$f":"IF(OR(COUNTA(O4155:O4184)>0,COUNTA(O4184:$O$5195)>0),IF(COUNTIF(B4175:B4184,B4184)=10,B4184+7,B4184),\"\")","v":""},"","","",null,null,null,0,0,0,0,{"$f":"IFERROR(VLOOKUP(G4185,DropDowns!$D$2:$E$151,2,FALSE),\"\")","v":""},{"$f":"IFERROR(VLOOKUP(H4185,DropDowns!$F$2:$G$7,2,FALSE),\"Residual categories\")","v":"Residual categories"},null,null,null,0,0,0]
[0,{"$f":"IF(OR(COUNTA(O4156:O4185)>0,COUNTA(O4185:$O$5195)>0),IF(COUNTIF(B4176:B4185,B4185)=10,B4185+7,B4185),\"\")","v":""},"","","",null,null,null,0,0,0,0,{"$f":"IFERROR(VLOOKUP(G4186,DropDowns!$D$2:$E$151,2,FALSE),\"\")","v":""},{"$f":"IFERROR(VLOOKUP(H4186,DropDowns!$F$2:$G$7,2,FALSE),\"Residual categories\")","v":"Residual categories"},null,null,null,0,0,0]
[0,{"$f":"IF(OR(COUNTA(O4157:O4186)>0,COUNTA(O4186:$O$5195)>0),IF(COUNTIF(B4177:B4186,B4186)=10,B4186+7,B4186),\"\")","v":""},"","","",null,null,null,0,0,0,0,{"$f":"IFERROR(VLOOKUP(G4187,DropDowns!$D$2:$E$151,2,FALSE),\"\")","v":""},{"$f":"IFERROR(VLOOKUP(H4187,DropDowns!$F$2:$G$7,2,FALSE),\"Residual categories\")","v":"Residual categories"},null,null,null,0,0,0]
[0,{"$f":"IF(OR(COUNTA(O4159:O4188)>0,COUNTA(O4188:$O$5195)>0),IF(COUNTIF(B4179:B4188,B4188)=10,B4188+7,B4188),\"\")","v":""},"","","",null,null,null,0,0,0,0,{"$f":"IFERROR(VLOOKUP(G4189,DropDowns!$D$2:$E$151,2,FALSE),\"\")","v":""},{"$f":"IFERROR(VLOOKUP(H4189,DropDowns!$F$2:$G$7,2,FALSE),\"Residual categories\")","v":"Residual categories"},null,null,null,0,0,0]
[0,{"$f":"IF(OR(COUNTA(O4160:O4189)>0,COUNTA(O4189:$O$5195)>0),IF(COUNTIF(B4180:B4189,B4189)=10,B4189+7,B4189),\"\")","v":""},"","","",null,null,null,0,0,0,0,{"$f":"IFERROR(VLOOKUP(G4190,DropDowns!$D$2:$E$151,2,FALSE),\"\")","v":""},{"$f":"IFERROR(VLOOKUP(H4190,DropDowns!$F$2:$G$7,2,FALSE),\"Residual categories\")","v":"Residual categories"},null,null,null,0,0,0]
[0,{"$f":"IF(OR(COUNTA(O4162:O4191)>0,COUNTA(O4191:$O$5195)>0),IF(COUNTIF(B4182:B4191,B4191)=10,B4191+7,B4191),\"\")","v":""},"","","",null,null,null,0,0,0,0,{"$f":"IFERROR(VLOOKUP(G4192,DropDowns!$D$2:$E$151,2,FALSE),\"\")","v":""},{"$f":"IFERROR(VLOOKUP(H4192,DropDowns!$F$2:$G$7,2,FALSE),\"Residual categories\")","v":"Residual categories"},null,null,null,0,0,0]
[0,{"$f":"IF(OR(COUNTA(O4163:O4192)>0,COUNTA(O4192:$O$5195)>0),IF(COUNTIF(B4183:B4192,B4192)=10,B4192+7,B4192),\"\")","v":""},"","","",null,null,null,0,0,0,0,{"$f":"IFERROR(VLOOKUP(G4193,DropDowns!$D$2:$E$151,2,FALSE),\"\")","v":""},{"$f":"IFERROR(VLOOKUP(H4193,DropDowns!$F$2:$G$7,2,FALSE),\"Residual categories\")","v":"Residual categories"},null,null,null,0,0,0]
[0,{"$f":"IF(OR(COUNTA(O4165:O4194)>0,COUNTA(O4194:$O$5195)>0),IF(COUNTIF(B4185:B4194,B4194)=10,B4194+7,B4194),\"\")","v":""},"","","",null,null,null,0,0,0,0,{"$f":"IFERROR(VLOOKUP(G4195,DropDowns!$D$2:$E$151,2,FALSE),\"\")","v":""},{"$f":"IFERROR(VLOOKUP(H4195,DropDowns!$F$2:$G$7,2,FALSE),\"Residual categories\")","v":"Residual categories"},null,null,null,0,0,0]
[0,{"$f":"IF(OR(COUNTA(O4166:O4195)>0,COUNTA(O4195:$O$5195)>0),IF(COUNTIF(B4186:B4195,B4195)=10,B4195+7,B4195),\"\")","v":""},"","","",null,null,null,0,0,0,0,{"$f":"IFERROR(VLOOKUP(G4196,DropDowns!$D$2:$E$151,2,FALSE),\"\")","v":""},{"$f":"IFERROR(VLOOKUP(H4196,DropDowns!$F$2:$G$7,2,FALSE),\"Residual categories\")","v":"Residual categories"},null,null,null,0,0,0]
[0,{"$f":"IF(OR(COUNTA(O4167:O4196)>0,COUNTA(O4196:$O$5195)>0),IF(COUNTIF(B4187:B4196,B4196)=10,B4196+7,B4196),\"\")","v":""},"","","",null,null,null,0,0,0,0,{"$f":"IFERROR(VLOOKUP(G4197,DropDowns!$D$2:$E$151,2,FALSE),\"\")","v":""},{"$f":"IFERROR(VLOOKUP(H4197,DropDowns!$F$2:$G$7,2,FALSE),\"Residual categories\")","v":"Residual categories"},null,null,null,0,0,0]
[0,{"$f":"IF(OR(COUNTA(O4168:O4197)>0,COUNTA(O4197:$O$5195)>0),IF(COUNTIF(B4188:B4197,B4197)=10,B4197+7,B4197),\"\")","v":""},"","","",null,null,null,0,0,0,0,{"$f":"IFERROR(VLOOKUP(G4198,DropDowns!$D$2:$E$151,2,FALSE),\"\")","v":""},{"$f":"IFERROR(VLOOKUP(H4198,DropDowns!$F$2:$G$7,2,FALSE),\"Residual categories\")","v":"Residual categories"},null,null,null,0,0,0]
[0,{"$f":"IF(OR(COUNTA(O4170:O4199)>0,COUNTA(O4199:$O$5195)>0),IF(COUNTIF(B4190:B4199,B4199)=10,B4199+7,B4199),\"\")","v":""},"","","",null,null,null,0,0,0,0,{"$f":"IFERROR(VLOOKUP(G4200,DropDowns!$D$2:$E$151,2,FALSE),\"\")","v":""},{"$f":"IFERROR(VLOOKUP(H4200,DropDowns!$F$2:$G$7,2,FALSE),\"Residual categories\")","v":"Residual categories"},null,null,null,0,0,0]
[0,{"$f":"IF(OR(COUNTA(O4171:O4200)>0,COUNTA(O4200:$O$5195)>0),IF(COUNTIF(B4191:B4200,B4200)=10,B4200+7,B4200),\"\")","v":""},"","","",null,null,null,0,0,0,0,{"$f":"IFERROR(VLOOKUP(G4201,DropDowns!$D$2:$E$151,2,FALSE),\"\")","v":""},{"$f":"IFERROR(VLOOKUP(H4201,DropDowns!$F$2:$G$7,2,FALSE),\"Residual categories\")","v":"Residual categories"},null,null,null,0,0,0]
[0,{"$f":"IF(OR(COUNTA(O4173:O4202)>0,COUNTA(O4202:$O$5195)>0),IF(COUNTIF(B4193:B4202,B4202)=10,B4202+7,B4202),\"\")","v":""},"","","",null,null,null,0,0,0,0,{"$f":"IFERROR(VLOOKUP(G4203,DropDowns!$D$2:$E$151,2,FALSE),\"\")","v":""},{"$f":"IFERROR(VLOOKUP(H4203,DropDowns!$F$2:$G$7,2,FALSE),\"Residual categories\")","v":"Residual categories"},null,null,null,0,0,0]
[0,{"$f":"IF(OR(COUNTA(O4174:O4203)>0,COUNTA(O4203:$O$5195)>0),IF(COUNTIF(B4194:B4203,B4203)=10,B4203+7,B4203),\"\")","v":""},"","","",null,null,null,0,0,0,0,{"$f":"IFERROR(VLOOKUP(G4204,DropDowns!$D$2:$E$151,2,FALSE),\"\")","v":""},{"$f":"IFERROR(VLOOKUP(H4204,DropDowns!$F$2:$G$7,2,FALSE),\"Residual categories\")","v":"Residual categories"},null,null,null,0,0,0]
[0,{"$f":"IF(OR(COUNTA(O4175:O4204)>0,COUNTA(O4204:$O$5195)>0),IF(COUNTIF(B4195:B4204,B4204)=10,B4204+7,B4204),\"\")","v":""},"","","",null,null,null,0,0,0,0,{"$f":"IFERROR(VLOOKUP(G4205,DropDowns!$D$2:$E$151,2,FALSE),\"\")","v":""},{"$f":"IFERROR(VLOOKUP(H4205,DropDowns!$F$2:$G$7,2,FALSE),\"Residual categories\")","v":"Residual categories"},null,null,null,0,0,0]
[0,{"$f":"IF(OR(COUNTA(O4176:O4205)>0,COUNTA(O4205:$O$5195)>0),IF(COUNTIF(B4196:B4205,B4205)=10,B4205+7,B4205),\"\")","v":""},"","","",null,null,null,0,0,0,0,{"$f":"IFERROR(VLOOKUP(G4206,DropDowns!$D$2:$E$151,2,FALSE),\"\")","v":""},{"$f":"IFERROR(VLOOKUP(H4206,DropDowns!$F$2:$G$7,2,FALSE),\"Residual categories\")","v":"Residual categories"},null,null,null,0,0,0]
[0,{"$f":"IF(OR(COUNTA(O4178:O4207)>0,COUNTA(O4207:$O$5195)>0),IF(COUNTIF(B4198:B4207,B4207)=10,B4207+7,B4207),\"\")","v":""},"","","",null,null,null,0,0,0,0,{"$f":"IFERROR(VLOOKUP(G4208,DropDowns!$D$2:$E$151,2,FALSE),\"\")","v":""},{"$f":"IFERROR(VLOOKUP(H4208,DropDowns!$F$2:$G$7,2,FALSE),\"Residual categories\")","v":"Residual categories"},null,null,null,0,0,0]
[0,{"$f":"IF(OR(COUNTA(O4179:O4208)>0,COUNTA(O4208:$O$5195)>0),IF(COUNTIF(B4199:B4208,B4208)=10,B4208+7,B4208),\"\")","v":""},"","","",null,null,null,0,0,0,0,{"$f":"IFERROR(VLOOKUP(G4209,DropDowns!$D$2:$E$151,2,FALSE),\"\")","v":""},{"$f":"IFERROR(VLOOKUP(H4209,DropDowns!$F$2:$G$7,2,FALSE),\"Residual categories\")","v":"Residual categories"},null,null,null,0,0,0]
[0,{"$f":"IF(OR(COUNTA(O4181:O4210)>0,COUNTA(O4210:$O$5195)>0),IF(COUNTIF(B4201:B4210,B4210)=10,B4210+7,B4210),\"\")","v":""},"","","",null,null,null,0,0,0,0,{"$f":"IFERROR(VLOOKUP(G4211,DropDowns!$D$2:$E$151,2,FALSE),\"\")","v":""},{"$f":"IFERROR(VLOOKUP(H4211,DropDowns!$F$2:$G$7,2,FALSE),\"Residual categories\")","v":"Residual categories"},null,null,null,0,0,0]
[0,{"$f":"IF(OR(COUNTA(O4182:O4211)>0,COUNTA(O4211:$O$5195)>0),IF(COUNTIF(B4202:B4211,B4211)=10,B4211+7,B4211),\"\")","v":""},"","","",null,null,null,0,0,0,0,{"$f":"IFERROR(VLOOKUP(G4212,DropDowns!$D$2:$E$151,2,FALSE),\"\")","v":""},{"$f":"IFERROR(VLOOKUP(H4212,DropDowns!$F$2:$G$7,2,FALSE),\"Residual categories\")","v":"Residual categories"},null,null,null,0,0,0]
[0,{"$f":"IF(OR(COUNTA(O4183:O4212)>0,COUNTA(O4212:$O$5195)>0),IF(COUNTIF(B4203:B4212,B4212)=10,B4212+7,B4212),\"\")","v":""},"","","",null,null,null,0,0,0,0,{"$f":"IFERROR(VLOOKUP(G4213,DropDowns!$D$2:$E$151,2,FALSE),\"\")","v":""},{"$f":"IFERROR(VLOOKUP(H4213,DropDowns!$F$2:$G$7,2,FALSE),\"Residual categories\")","v":"Residual categories"},null,null,null,0,0,0]
[0,{"$f":"IF(OR(COUNTA(O4184:O4213)>0,COUNTA(O4213:$O$5195)>0),IF(COUNTIF(B4204:B4213,B4213)=10,B4213+7,B4213),\"\")","v":""},"","","",null,null,null,0,0,0,0,{"$f":"IFERROR(VLOOKUP(G4214,DropDowns!$D$2:$E$151,2,FALSE),\"\")","v":""},{"$f":"IFERROR(VLOOKUP(H4214,DropDowns!$F$2:$G$7,2,FALSE),\"Residual categories\")","v":"Residual categories"},null,null,null,0,0,0]
[0,{"$f":"IF(OR(COUNTA(O4186:O4215)>0,COUNTA(O4215:$O$5195)>0),IF(COUNTIF(B4206:B4215,B4215)=10,B4215+7,B4215),\"\")","v":""},"","","",null,null,null,0,0,0,0,{"$f":"IFERROR(VLOOKUP(G4216,DropDowns!$D$2:$E$151,2,FALSE),\"\")","v":""},{"$f":"IFERROR(VLOOKUP(H4216,DropDowns!$F$2:$G$7,2,FALSE),\"Residual categories\")","v":"Residual categories"},null,null,null,0,0,0]
[0,{"$f":"IF(OR(COUNTA(O4187:O4216)>0,COUNTA(O4216:$O$5195)>0),IF(COUNTIF(B4207:B4216,B4216)=10,B4216+7,B4216),\"\")","v":""},"","","",null,null,null,0,0,0,0,{"$f":"IFERROR(VLOOKUP(G4217,DropDowns!$D$2:$E$151,2,FALSE),\"\")","v":""},{"$f":"IFERROR(VLOOKUP(H4217,DropDowns!$F$2:$G$7,2,FALSE),\"Residual categories\")","v":"Residual categories"},null,null,null,0,0,0]
[0,{"$f":"IF(OR(COUNTA(O4189:O4218)>0,COUNTA(O4218:$O$5195)>0),IF(COUNTIF(B4209:B4218,B4218)=10,B4218+7,B4218),\"\")","v":""},"","","",null,null,null,0,0,0,0,{"$f":"IFERROR(VLOOKUP(G4219,DropDowns!$D$2:$E$151,2,FALSE),\"\")","v":""},{"$f":"IFERROR(VLOOKUP(H4219,DropDowns!$F$2:$G$7,2,FALSE),\"Residual categories\")","v":"Residual categories"},null,null,null,0,0,0]
[0,{"$f":"IF(OR(COUNTA(O4190:O4219)>0,COUNTA(O4219:$O$5195)>0),IF(COUNTIF(B4210:B4219,B4219)=10,B4219+7,B4219),\"\")","v":""},"","","",null,null,null,0,0,0,0,{"$f":"IFERROR(VLOOKUP(G4220,DropDowns!$D$2:$E$151,2,FALSE),\"\")","v":""},{"$f":"IFERROR(VLOOKUP(H4220,DropDowns!$F$2:$G$7,2,FALSE),\"Residual categories\")","v":"Residual categories"},null,null,null,0,0,0]
[0,{"$f":"IF(OR(COUNTA(O4192:O4221)>0,COUNTA(O4221:$O$5195)>0),IF(COUNTIF(B4212:B4221,B4221)=10,B4221+7,B4221),\"\")","v":""},"","","",null,null,null,0,0,0,0,{"$f":"IFERROR(VLOOKUP(G4222,DropDowns!$D$2:$E$151,2,FALSE),\"\")","v":""},{"$f":"IFERROR(VLOOKUP(H4222,DropDowns!$F$2:$G$7,2,FALSE),\"Residual categories\")","v":"Residual categories"},null,null,null,0,0,0]
[0,{"$f":"IF(OR(COUNTA(O4193:O4222)>0,COUNTA(O4222:$O$5195)>0),IF(COUNTIF(B4213:B4222,B4222)=10,B4222+7,B4222),\"\")","v":""},"","","",null,null,null,0,0,0,0,{"$f":"IFERROR(VLOOKUP(G4223,DropDowns!$D$2:$E$151,2,FALSE),\"\")","v":""},{"$f":"IFERROR(VLOOKUP(H4223,DropDowns!$F$2:$G$7,2,FALSE),\"Residual categories\")","v":"Residual categories"},null,null,null,0,0,0]
[0,{"$f":"IF(OR(COUNTA(O4194:O4223)>0,COUNTA(O4223:$O$5195)>0),IF(COUNTIF(B4214:B4223,B4223)=10,B4223+7,B4223),\"\")","v":""},"","","",null,null,null,0,0,0,0,{"$f":"IFERROR(VLOOKUP(G4224,DropDowns!$D$2:$E$151,2,FALSE),\"\")","v":""},{"$f":"IFERROR(VLOOKUP(H4224,DropDowns!$F$2:$G$7,2,FALSE),\"Residual categories\")","v":"Residual categories"},null,null,null,0,0,0]
[0,{"$f":"IF(OR(COUNTA(O4195:O4224)>0,COUNTA(O4224:$O$5195)>0),IF(COUNTIF(B4215:B4224,B4224)=10,B4224+7,B4224),\"\")","v":""},"","","",null,null,null,0,0,0,0,{"$f":"IFERROR(VLOOKUP(G4225,DropDowns!$D$2:$E$151,2,FALSE),\"\")","v":""},{"$f":"IFERROR(VLOOKUP(H4225,DropDowns!$F$2:$G$7,2,FALSE),\"Residual categories\")","v":"Residual categories"},null,null,null,0,0,0]
[0,{"$f":"IF(OR(COUNTA(O4197:O4226)>0,COUNTA(O4226:$O$5195)>0),IF(COUNTIF(B4217:B4226,B4226)=10,B4226+7,B4226),\"\")","v":""},"","","",null,null,null,0,0,0,0,{"$f":"IFERROR(VLOOKUP(G4227,DropDowns!$D$2:$E$151,2,FALSE),\"\")","v":""},{"$f":"IFERROR(VLOOKUP(H4227,DropDowns!$F$2:$G$7,2,FALSE),\"Residual categories\")","v":"Residual categories"},null,null,null,0,0,0]
[0,{"$f":"IF(OR(COUNTA(O4198:O4227)>0,COUNTA(O4227:$O$5195)>0),IF(COUNTIF(B4218:B4227,B4227)=10,B4227+7,B4227),\"\")","v":""},"","","",null,null,null,0,0,0,0,{"$f":"IFERROR(VLOOKUP(G4228,DropDowns!$D$2:$E$151,2,FALSE),\"\")","v":""},{"$f":"IFERROR(VLOOKUP(H4228,DropDowns!$F$2:$G$7,2,FALSE),\"Residual categories\")","v":"Residual categories"},null,null,null,0,0,0]
[0,{"$f":"IF(OR(COUNTA(O4200:O4229)>0,COUNTA(O4229:$O$5195)>0),IF(COUNTIF(B4220:B4229,B4229)=10,B4229+7,B4229),\"\")","v":""},"","","",null,null,null,0,0,0,0,{"$f":"IFERROR(VLOOKUP(G4230,DropDowns!$D$2:$E$151,2,FALSE),\"\")","v":""},{"$f":"IFERROR(VLOOKUP(H4230,DropDowns!$F$2:$G$7,2,FALSE),\"Residual categories\")","v":"Residual categories"},null,null,null,0,0,0]
[0,{"$f":"IF(OR(COUNTA(O4201:O4230)>0,COUNTA(O4230:$O$5195)>0),IF(COUNTIF(B4221:B4230,B4230)=10,B4230+7,B4230),\"\")","v":""},{"$f":"IF(D4231=1,A4231,\"\")","v":""},"","",null,null,null,{"$f":"IF(COUNTA(O4231:Q4231)>0,1,0)","v":0},{"$f":"IF(O4231=\"y\",1,0)","v":0},{"$f":"IF(P4231=\"y\",1,0)","v":0},{"$f":"IF(Q4231=\"y\",1,0)","v":0},{"$f":"IFERROR(VLOOKUP(G4231,DropDowns!$D$2:$E$151,2,FALSE),\"\")","v":""},{"$f":"IFERROR(VLOOKUP(H4231,DropDowns!$F$2:$G$7,2,FALSE),\"Residual categories\")","v":"Residual categories"},null,null,null,{"$f":"IF(O4231=\"yes\",1,0)","v":0},{"$f":"IF(P4231=\"yes\",1,0)","v":0},{"$f":"IF(Q4231=\"yes\",1,0)","v":0}]
[0,{"$f":"IF(OR(COUNTA(O4202:O4231)>0,COUNTA(O4231:$O$5195)>0),IF(COUNTIF(B4222:B4231,B4231)=10,B4231+7,B4231),\"\")","v":""},"","","",null,null,null,0,0,0,0,{"$f":"IFERROR(VLOOKUP(G4232,DropDowns!$D$2:$E$151,2,FALSE),\"\")","v":""},{"$f":"IFERROR(VLOOKUP(H4232,DropDowns!$F$2:$G$7,2,FALSE),\"Residual categories\")","v":"Residual categories"},null,null,null,0,0,0]
[0,{"$f":"IF(OR(COUNTA(O4203:O4232)>0,COUNTA(O4232:$O$5195)>0),IF(COUNTIF(B4223:B4232,B4232)=10,B4232+7,B4232),\"\")","v":""},"","","",null,null,null,0,0,0,0,{"$f":"IFERROR(VLOOKUP(G4233,DropDowns!$D$2:$E$151,2,FALSE),\"\")","v":""},{"$f":"IFERROR(VLOOKUP(H4233,DropDowns!$F$2:$G$7,2,FALSE),\"Residual categories\")","v":"Residual categories"},null,null,null,0,0,0]
[0,{"$f":"IF(OR(COUNTA(O4205:O4234)>0,COUNTA(O4234:$O$5195)>0),IF(COUNTIF(B4225:B4234,B4234)=10,B4234+7,B4234),\"\")","v":""},"","","",null,null,null,0,0,0,0,{"$f":"IFERROR(VLOOKUP(G4235,DropDowns!$D$2:$E$151,2,FALSE),\"\")","v":""},{"$f":"IFERROR(VLOOKUP(H4235,DropDowns!$F$2:$G$7,2,FALSE),\"Residual categories\")","v":"Residual categories"},null,null,null,0,0,0]
[0,{"$f":"IF(OR(COUNTA(O4206:O4235)>0,COUNTA(O4235:$O$5195)>0),IF(COUNTIF(B4226:B4235,B4235)=10,B4235+7,B4235),\"\")","v":""},"","","",null,null,null,0,0,0,0,{"$f":"IFERROR(VLOOKUP(G4236,DropDowns!$D$2:$E$151,2,FALSE),\"\")","v":""},{"$f":"IFERROR(VLOOKUP(H4236,DropDowns!$F$2:$G$7,2,FALSE),\"Residual categories\")","v":"Residual categories"},null,null,null,0,0,0]
[0,{"$f":"IF(OR(COUNTA(O4208:O4237)>0,COUNTA(O4237:$O$5195)>0),IF(COUNTIF(B4228:B4237,B4237)=10,B4237+7,B4237),\"\")","v":""},"","","",null,null,null,0,0,0,0,{"$f":"IFERROR(VLOOKUP(G4238,DropDowns!$D$2:$E$151,2,FALSE),\"\")","v":""},{"$f":"IFERROR(VLOOKUP(H4238,DropDowns!$F$2:$G$7,2,FALSE),\"Residual categories\")","v":"Residual categories"},null,null,null,0,0,0]
[0,{"$f":"IF(OR(COUNTA(O4209:O4238)>0,COUNTA(O4238:$O$5195)>0),IF(COUNTIF(B4229:B4238,B4238)=10,B4238+7,B4238),\"\")","v":""},"","","",null,null,null,0,0,0,0,{"$f":"IFERROR(VLOOKUP(G4239,DropDowns!$D$2:$E$151,2,FALSE),\"\")","v":""},{"$f":"IFERROR(VLOOKUP(H4239,DropDowns!$F$2:$G$7,2,FALSE),\"Residual categories\")","v":"Residual categories"},null,null,null,0,0,0]
[0,{"$f":"IF(OR(COUNTA(O4210:O4239)>0,COUNTA(O4239:$O$5195)>0),IF(COUNTIF(B4230:B4239,B4239)=10,B4239+7,B4239),\"\")","v":""},"","","",null,null,null,0,0,0,0,{"$f":"IFERROR(VLOOKUP(G4240,DropDowns!$D$2:$E$151,2,FALSE),\"\")","v":""},{"$f":"IFERROR(VLOOKUP(H4240,DropDowns!$F$2:$G$7,2,FALSE),\"Residual categories\")","v":"Residual categories"},null,null,null,0,0,0]
[0,{"$f":"IF(OR(COUNTA(O4211:O4240)>0,COUNTA(O4240:$O$5195)>0),IF(COUNTIF(B4231:B4240,B4240)=10,B4240+7,B4240),\"\")","v":""},"","",{"$f":"IF(B4241=\"\",\"\",COUNTIF(B4232:B4241,B4241))","v":""},null,null,null,0,0,0,0,{"$f":"IFERROR(VLOOKUP(G4241,DropDowns!$D$2:$E$151,2,FALSE),\"\")","v":""},{"$f":"IFERROR(VLOOKUP(H4241,DropDowns!$F$2:$G$7,2,FALSE),\"Residual categories\")","v":"Residual categories"},null,null,null,0,0,0]
[0,{"$f":"IF(OR(COUNTA(O4213:O4242)>0,COUNTA(O4242:$O$5195)>0),IF(COUNTIF(B4233:B4242,B4242)=10,B4242+7,B4242),\"\")","v":""},"","","",null,null,null,0,0,0,0,{"$f":"IFERROR(VLOOKUP(G4243,DropDowns!$D$2:$E$151,2,FALSE),\"\")","v":""},{"$f":"IFERROR(VLOOKUP(H4243,DropDowns!$F$2:$G$7,2,FALSE),\"Residual categories\")","v":"Residual categories"},null,null,null,0,0,0]
[{"$f":"$E$2","v":0},{"$f":"IF(OR(COUNTA(O4214:O4243)>0,COUNTA(O4243:$O$5195)>0),IF(COUNTIF(B4234:B4243,B4243)=10,B4243+7,B4243),\"\")","v":""},"","","",null,null,null,0,0,0,0,{"$f":"IFERROR(VLOOKUP(G4244,DropDowns!$D$2:$E$151,2,FALSE),\"\")","v":""},{"$f":"IFERROR(VLOOKUP(H4244,DropDowns!$F$2:$G$7,2,FALSE),\"Residual categories\")","v":"Residual categories"},null,null,null,0,0,0]
[0,{"$f":"IF(OR(COUNTA(O4216:O4245)>0,COUNTA(O4245:$O$5195)>0),IF(COUNTIF(B4236:B4245,B4245)=10,B4245+7,B4245),\"\")","v":""},"","","",null,null,null,0,0,0,0,{"$f":"IFERROR(VLOOKUP(G4246,DropDowns!$D$2:$E$151,2,FALSE),\"\")","v":""},{"$f":"IFERROR(VLOOKUP(H4246,DropDowns!$F$2:$G$7,2,FALSE),\"Residual categories\")","v":"Residual categories"},null,null,null,0,0,0]
[0,{"$f":"IF(OR(COUNTA(O4217:O4246)>0,COUNTA(O4246:$O$5195)>0),IF(COUNTIF(B4237:B4246,B4246)=10,B4246+7,B4246),\"\")","v":""},"","","",null,null,null,0,0,0,0,{"$f":"IFERROR(VLOOKUP(G4247,DropDowns!$D$2:$E$151,2,FALSE),\"\")","v":""},{"$f":"IFERROR(VLOOKUP(H4247,DropDowns!$F$2:$G$7,2,FALSE),\"Residual categories\")","v":"Residual categories"},null,null,null,0,0,0]
[0,{"$f":"IF(OR(COUNTA(O4218:O4247)>0,COUNTA(O4247:$O$5195)>0),IF(COUNTIF(B4238:B4247,B4247)=10,B4247+7,B4247),\"\")","v":""},"","","",null,null,null,0,0,0,0,{"$f":"IFERROR(VLOOKUP(G4248,DropDowns!$D$2:$E$151,2,FALSE),\"\")","v":""},{"$f":"IFERROR(VLOOKUP(H4248,DropDowns!$F$2:$G$7,2,FALSE),\"Residual categories\")","v":"Residual categories"},null,null,null,0,0,0]
[0,{"$f":"IF(OR(COUNTA(O4219:O4248)>0,COUNTA(O4248:$O$5195)>0),IF(COUNTIF(B4239:B4248,B4248)=10,B4248+7,B4248),\"\")","v":""},"","","",null,null,null,0,0,0,0,{"$f":"IFERROR(VLOOKUP(G4249,DropDowns!$D$2:$E$151,2,FALSE),\"\")","v":""},{"$f":"IFERROR(VLOOKUP(H4249,DropDowns!$F$2:$G$7,2,FALSE),\"Residual categories\")","v":"Residual categories"},null,null,null,0,0,0]
[0,{"$f":"IF(OR(COUNTA(O4221:O4250)>0,COUNTA(O4250:$O$5195)>0),IF(COUNTIF(B4241:B4250,B4250)=10,B4250+7,B4250),\"\")","v":""},"","","",null,null,null,0,0,0,0,{"$f":"IFERROR(VLOOKUP(G4251,DropDowns!$D$2:$E$151,2,FALSE),\"\")","v":""},{"$f":"IFERROR(VLOOKUP(H4251,DropDowns!$F$2:$G$7,2,FALSE),\"Residual categories\")","v":"Residual categories"},null,null,null,0,0,0]
[0,{"$f":"IF(OR(COUNTA(O4222:O4251)>0,COUNTA(O4251:$O$5195)>0),IF(COUNTIF(B4242:B4251,B4251)=10,B4251+7,B4251),\"\")","v":""},"","","",null,null,null,0,0,0,0,{"$f":"IFERROR(VLOOKUP(G4252,DropDowns!$D$2:$E$151,2,FALSE),\"\")","v":""},{"$f":"IFERROR(VLOOKUP(H4252,DropDowns!$F$2:$G$7,2,FALSE),\"Residual categories\")","v":"Residual categories"},null,null,null,0,0,0]
[0,{"$f":"IF(OR(COUNTA(O4224:O4253)>0,COUNTA(O4253:$O$5195)>0),IF(COUNTIF(B4244:B4253,B4253)=10,B4253+7,B4253),\"\")","v":""},"","","",null,null,null,0,0,0,0,{"$f":"IFERROR(VLOOKUP(G4254,DropDowns!$D$2:$E$151,2,FALSE),\"\")","v":""},{"$f":"IFERROR(VLOOKUP(H4254,DropDowns!$F$2:$G$7,2,FALSE),\"Residual categories\")","v":"Residual categories"},null,null,null,0,0,0]
[0,{"$f":"IF(OR(COUNTA(O4225:O4254)>0,COUNTA(O4254:$O$5195)>0),IF(COUNTIF(B4245:B4254,B4254)=10,B4254+7,B4254),\"\")","v":""},"","","",null,null,null,0,0,0,0,{"$f":"IFERROR(VLOOKUP(G4255,DropDowns!$D$2:$E$151,2,FALSE),\"\")","v":""},{"$f":"IFERROR(VLOOKUP(H4255,DropDowns!$F$2:$G$7,2,FALSE),\"Residual categories\")","v":"Residual categories"},null,null,null,0,0,0]
[0,{"$f":"IF(OR(COUNTA(O4227:O4256)>0,COUNTA(O4256:$O$5195)>0),IF(COUNTIF(B4247:B4256,B4256)=10,B4256+7,B4256),\"\")","v":""},"","","",null,null,null,0,0,0,0,{"$f":"IFERROR(VLOOKUP(G4257,DropDowns!$D$2:$E$151,2,FALSE),\"\")","v":""},{"$f":"IFERROR(VLOOKUP(H4257,DropDowns!$F$2:$G$7,2,FALSE),\"Residual categories\")","v":"Residual categories"},null,null,null,0,0,0]
[0,{"$f":"IF(OR(COUNTA(O4228:O4257)>0,COUNTA(O4257:$O$5195)>0),IF(COUNTIF(B4248:B4257,B4257)=10,B4257+7,B4257),\"\")","v":""},"","","",null,null,null,0,0,0,0,{"$f":"IFERROR(VLOOKUP(G4258,DropDowns!$D$2:$E$151,2,FALSE),\"\")","v":""},{"$f":"IFERROR(VLOOKUP(H4258,DropDowns!$F$2:$G$7,2,FALSE),\"Residual categories\")","v":"Residual categories"},null,null,null,0,0,0]
[0,{"$f":"IF(OR(COUNTA(O4229:O4258)>0,COUNTA(O4258:$O$5195)>0),IF(COUNTIF(B4249:B4258,B4258)=10,B4258+7,B4258),\"\")","v":""},"","","",null,null,null,0,0,0,0,{"$f":"IFERROR(VLOOKUP(G4259,DropDowns!$D$2:$E$151,2,FALSE),\"\")","v":""},{"$f":"IFERROR(VLOOKUP(H4259,DropDowns!$F$2:$G$7,2,FALSE),\"Residual categories\")","v":"Residual categories"},null,null,null,0,0,0]
[0,{"$f":"IF(OR(COUNTA(O4230:O4259)>0,COUNTA(O4259:$O$5195)>0),IF(COUNTIF(B4250:B4259,B4259)=10,B4259+7,B4259),\"\")","v":""},"","","",null,null,null,0,0,0,0,{"$f":"IFERROR(VLOOKUP(G4260,DropDowns!$D$2:$E$151,2,FALSE),\"\")","v":""},{"$f":"IFERROR(VLOOKUP(H4260,DropDowns!$F$2:$G$7,2,FALSE),\"Residual categories\")","v":"Residual categories"},null,null,null,0,0,0]
[0,{"$f":"IF(OR(COUNTA(O4232:O4261)>0,COUNTA(O4261:$O$5195)>0),IF(COUNTIF(B4252:B4261,B4261)=10,B4261+7,B4261),\"\")","v":""},"","","",null,null,null,0,0,0,0,{"$f":"IFERROR(VLOOKUP(G4262,DropDowns!$D$2:$E$151,2,FALSE),\"\")","v":""},{"$f":"IFERROR(VLOOKUP(H4262,DropDowns!$F$2:$G$7,2,FALSE),\"Residual categories\")","v":"Residual categories"},null,null,null,0,0,0]
[0,{"$f":"IF(OR(COUNTA(O4233:O4262)>0,COUNTA(O4262:$O$5195)>0),IF(COUNTIF(B4253:B4262,B4262)=10,B4262+7,B4262),\"\")","v":""},"","","",null,null,null,0,0,0,0,{"$f":"IFERROR(VLOOKUP(G4263,DropDowns!$D$2:$E$151,2,FALSE),\"\")","v":""},{"$f":"IFERROR(VLOOKUP(H4263,DropDowns!$F$2:$G$7,2,FALSE),\"Residual categories\")","v":"Residual categories"},null,null,null,0,0,0]
[0,{"$f":"IF(OR(COUNTA(O4235:O4264)>0,COUNTA(O4264:$O$5195)>0),IF(COUNTIF(B4255:B4264,B4264)=10,B4264+7,B4264),\"\")","v":""},"","","",null,null,null,0,0,0,0,{"$f":"IFERROR(VLOOKUP(G4265,DropDowns!$D$2:$E$151,2,FALSE),\"\")","v":""},{"$f":"IFERROR(VLOOKUP(H4265,DropDowns!$F$2:$G$7,2,FALSE),\"Residual categories\")","v":"Residual categories"},null,null,null,0,0,0]
[0,{"$f":"IF(OR(COUNTA(O4236:O4265)>0,COUNTA(O4265:$O$5195)>0),IF(COUNTIF(B4256:B4265,B4265)=10,B4265+7,B4265),\"\")","v":""},"","","",null,null,null,0,0,0,0,{"$f":"IFERROR(VLOOKUP(G4266,DropDowns!$D$2:$E$151,2,FALSE),\"\")","v":""},{"$f":"IFERROR(VLOOKUP(H4266,DropDowns!$F$2:$G$7,2,FALSE),\"Residual categories\")","v":"Residual categories"},null,null,null,0,0,0]
[0,{"$f":"IF(OR(COUNTA(O4237:O4266)>0,COUNTA(O4266:$O$5195)>0),IF(COUNTIF(B4257:B4266,B4266)=10,B4266+7,B4266),\"\")","v":""},"","","",null,null,null,0,0,0,0,{"$f":"IFERROR(VLOOKUP(G4267,DropDowns!$D$2:$E$151,2,FALSE),\"\")","v":""},{"$f":"IFERROR(VLOOKUP(H4267,DropDowns!$F$2:$G$7,2,FALSE),\"Residual categories\")","v":"Residual categories"},null,null,null,0,0,0]
[0,{"$f":"IF(OR(COUNTA(O4238:O4267)>0,COUNTA(O4267:$O$5195)>0),IF(COUNTIF(B4258:B4267,B4267)=10,B4267+7,B4267),\"\")","v":""},"","","",null,null,null,0,0,0,0,{"$f":"IFERROR(VLOOKUP(G4268,DropDowns!$D$2:$E$151,2,FALSE),\"\")","v":""},{"$f":"IFERROR(VLOOKUP(H4268,DropDowns!$F$2:$G$7,2,FALSE),\"Residual categories\")","v":"Residual categories"},null,null,null,0,0,0]
[0,{"$f":"IF(OR(COUNTA(O4240:O4269)>0,COUNTA(O4269:$O$5195)>0),IF(COUNTIF(B4260:B4269,B4269)=10,B4269+7,B4269),\"\")","v":""},"","","",null,null,null,0,0,0,0,{"$f":"IFERROR(VLOOKUP(G4270,DropDowns!$D$2:$E$151,2,FALSE),\"\")","v":""},{"$f":"IFERROR(VLOOKUP(H4270,DropDowns!$F$2:$G$7,2,FALSE),\"Residual categories\")","v":"Residual categories"},null,null,null,0,0,0]
[0,{"$f":"IF(OR(COUNTA(O4241:O4270)>0,COUNTA(O4270:$O$5195)>0),IF(COUNTIF(B4261:B4270,B4270)=10,B4270+7,B4270),\"\")","v":""},"","","",null,null,null,0,0,0,0,{"$f":"IFERROR(VLOOKUP(G4271,DropDowns!$D$2:$E$151,2,FALSE),\"\")","v":""},{"$f":"IFERROR(VLOOKUP(H4271,DropDowns!$F$2:$G$7,2,FALSE),\"Residual categories\")","v":"Residual categories"},null,null,null,0,0,0]
[0,{"$f":"IF(OR(COUNTA(O4243:O4272)>0,COUNTA(O4272:$O$5195)>0),IF(COUNTIF(B4263:B4272,B4272)=10,B4272+7,B4272),\"\")","v":""},"","","",null,null,null,0,0,0,0,{"$f":"IFERROR(VLOOKUP(G4273,DropDowns!$D$2:$E$151,2,FALSE),\"\")","v":""},{"$f":"IFERROR(VLOOKUP(H4273,DropDowns!$F$2:$G$7,2,FALSE),\"Residual categories\")","v":"Residual categories"},null,null,null,0,0,0]
[0,{"$f":"IF(OR(COUNTA(O4244:O4273)>0,COUNTA(O4273:$O$5195)>0),IF(COUNTIF(B4264:B4273,B4273)=10,B4273+7,B4273),\"\")","v":""},"","","",null,null,null,0,0,0,0,{"$f":"IFERROR(VLOOKUP(G4274,DropDowns!$D$2:$E$151,2,FALSE),\"\")","v":""},{"$f":"IFERROR(VLOOKUP(H4274,DropDowns!$F$2:$G$7,2,FALSE),\"Residual categories\")","v":"Residual categories"},null,null,null,0,0,0]
[0,{"$f":"IF(OR(COUNTA(O4245:O4274)>0,COUNTA(O4274:$O$5195)>0),IF(COUNTIF(B4265:B4274,B4274)=10,B4274+7,B4274),\"\")","v":""},"","","",null,null,null,0,0,0,0,{"$f":"IFERROR(VLOOKUP(G4275,DropDowns!$D$2:$E$151,2,FALSE),\"\")","v":""},{"$f":"IFERROR(VLOOKUP(H4275,DropDowns!$F$2:$G$7,2,FALSE),\"Residual categories\")","v":"Residual categories"},null,null,null,0,0,0]
[0,{"$f":"IF(OR(COUNTA(O4246:O4275)>0,COUNTA(O4275:$O$5195)>0),IF(COUNTIF(B4266:B4275,B4275)=10,B4275+7,B4275),\"\")","v":""},"","","",null,null,null,0,0,0,0,{"$f":"IFERROR(VLOOKUP(G4276,DropDowns!$D$2:$E$151,2,FALSE),\"\")","v":""},{"$f":"IFERROR(VLOOKUP(H4276,DropDowns!$F$2:$G$7,2,FALSE),\"Residual categories\")","v":"Residual categories"},null,null,null,0,0,0]
[0,{"$f":"IF(OR(COUNTA(O4248:O4277)>0,COUNTA(O4277:$O$5195)>0),IF(COUNTIF(B4268:B4277,B4277)=10,B4277+7,B4277),\"\")","v":""},"","","",null,null,null,0,0,0,0,{"$f":"IFERROR(VLOOKUP(G4278,DropDowns!$D$2:$E$151,2,FALSE),\"\")","v":""},{"$f":"IFERROR(VLOOKUP(H4278,DropDowns!$F$2:$G$7,2,FALSE),\"Residual categories\")","v":"Residual categories"},null,null,null,0,0,0]
[0,{"$f":"IF(OR(COUNTA(O4249:O4278)>0,COUNTA(O4278:$O$5195)>0),IF(COUNTIF(B4269:B4278,B4278)=10,B4278+7,B4278),\"\")","v":""},"","","",null,null,null,0,0,0,0,{"$f":"IFERROR(VLOOKUP(G4279,DropDowns!$D$2:$E$151,2,FALSE),\"\")","v":""},{"$f":"IFERROR(VLOOKUP(H4279,DropDowns!$F$2:$G$7,2,FALSE),\"Residual categories\")","v":"Residual categories"},null,null,null,0,0,0]
[0,{"$f":"IF(OR(COUNTA(O4251:O4280)>0,COUNTA(O4280:$O$5195)>0),IF(COUNTIF(B4271:B4280,B4280)=10,B4280+7,B4280),\"\")","v":""},"","","",null,null,null,0,0,0,0,{"$f":"IFERROR(VLOOKUP(G4281,DropDowns!$D$2:$E$151,2,FALSE),\"\")","v":""},{"$f":"IFERROR(VLOOKUP(H4281,DropDowns!$F$2:$G$7,2,FALSE),\"Residual categories\")","v":"Residual categories"},null,null,null,0,0,0]
[0,{"$f":"IF(OR(COUNTA(O4252:O4281)>0,COUNTA(O4281:$O$5195)>0),IF(COUNTIF(B4272:B4281,B4281)=10,B4281+7,B4281),\"\")","v":""},"","","",null,null,null,0,0,0,0,{"$f":"IFERROR(VLOOKUP(G4282,DropDowns!$D$2:$E$151,2,FALSE),\"\")","v":""},{"$f":"IFERROR(VLOOKUP(H4282,DropDowns!$F$2:$G$7,2,FALSE),\"Residual categories\")","v":"Residual categories"},null,null,null,0,0,0]
[0,{"$f":"IF(OR(COUNTA(O4254:O4283)>0,COUNTA(O4283:$O$5195)>0),IF(COUNTIF(B4274:B4283,B4283)=10,B4283+7,B4283),\"\")","v":""},"","","",null,null,null,0,0,0,0,{"$f":"IFERROR(VLOOKUP(G4284,DropDowns!$D$2:$E$151,2,FALSE),\"\")","v":""},{"$f":"IFERROR(VLOOKUP(H4284,DropDowns!$F$2:$G$7,2,FALSE),\"Residual categories\")","v":"Residual categories"},null,null,null,0,0,0]
[0,{"$f":"IF(OR(COUNTA(O4255:O4284)>0,COUNTA(O4284:$O$5195)>0),IF(COUNTIF(B4275:B4284,B4284)=10,B4284+7,B4284),\"\")","v":""},"","","",null,null,null,0,0,0,0,{"$f":"IFERROR(VLOOKUP(G4285,DropDowns!$D$2:$E$151,2,FALSE),\"\")","v":""},{"$f":"IFERROR(VLOOKUP(H4285,DropDowns!$F$2:$G$7,2,FALSE),\"Residual categories\")","v":"Residual categories"},null,null,null,0,0,0]
[0,{"$f":"IF(OR(COUNTA(O4256:O4285)>0,COUNTA(O4285:$O$5195)>0),IF(COUNTIF(B4276:B4285,B4285)=10,B4285+7,B4285),\"\")","v":""},"","","",null,null,null,0,0,0,0,{"$f":"IFERROR(VLOOKUP(G4286,DropDowns!$D$2:$E$151,2,FALSE),\"\")","v":""},{"$f":"IFERROR(VLOOKUP(H4286,DropDowns!$F$2:$G$7,2,FALSE),\"Residual categories\")","v":"Residual categories"},null,null,null,0,0,0]
[0,{"$f":"IF(OR(COUNTA(O4257:O4286)>0,COUNTA(O4286:$O$5195)>0),IF(COUNTIF(B4277:B4286,B4286)=10,B4286+7,B4286),\"\")","v":""},"","","",null,null,null,0,0,0,0,{"$f":"IFERROR(VLOOKUP(G4287,DropDowns!$D$2:$E$151,2,FALSE),\"\")","v":""},{"$f":"IFERROR(VLOOKUP(H4287,DropDowns!$F$2:$G$7,2,FALSE),\"Residual categories\")","v":"Residual categories"},null,null,null,0,0,0]
[0,{"$f":"IF(OR(COUNTA(O4259:O4288)>0,COUNTA(O4288:$O$5195)>0),IF(COUNTIF(B4279:B4288,B4288)=10,B4288+7,B4288),\"\")","v":""},"","","",null,null,null,0,0,0,0,{"$f":"IFERROR(VLOOKUP(G4289,DropDowns!$D$2:$E$151,2,FALSE),\"\")","v":""},{"$f":"IFERROR(VLOOKUP(H4289,DropDowns!$F$2:$G$7,2,FALSE),\"Residual categories\")","v":"Residual categories"},null,null,null,0,0,0]
[0,{"$f":"IF(OR(COUNTA(O4260:O4289)>0,COUNTA(O4289:$O$5195)>0),IF(COUNTIF(B4280:B4289,B4289)=10,B4289+7,B4289),\"\")","v":""},"","","",null,null,null,0,0,0,0,{"$f":"IFERROR(VLOOKUP(G4290,DropDowns!$D$2:$E$151,2,FALSE),\"\")","v":""},{"$f":"IFERROR(VLOOKUP(H4290,DropDowns!$F$2:$G$7,2,FALSE),\"Residual categories\")","v":"Residual categories"},null,null,null,0,0,0]
[0,{"$f":"IF(OR(COUNTA(O4262:O4291)>0,COUNTA(O4291:$O$5195)>0),IF(COUNTIF(B4282:B4291,B4291)=10,B4291+7,B4291),\"\")","v":""},"","","",null,null,null,0,0,0,0,{"$f":"IFERROR(VLOOKUP(G4292,DropDowns!$D$2:$E$151,2,FALSE),\"\")","v":""},{"$f":"IFERROR(VLOOKUP(H4292,DropDowns!$F$2:$G$7,2,FALSE),\"Residual categories\")","v":"Residual categories"},null,null,null,0,0,0]
[0,{"$f":"IF(OR(COUNTA(O4263:O4292)>0,COUNTA(O4292:$O$5195)>0),IF(COUNTIF(B4283:B4292,B4292)=10,B4292+7,B4292),\"\")","v":""},"","","",null,null,null,0,0,0,0,{"$f":"IFERROR(VLOOKUP(G4293,DropDowns!$D$2:$E$151,2,FALSE),\"\")","v":""},{"$f":"IFERROR(VLOOKUP(H4293,DropDowns!$F$2:$G$7,2,FALSE),\"Residual categories\")","v":"Residual categories"},null,null,null,0,0,0]
[0,{"$f":"IF(OR(COUNTA(O4264:O4293)>0,COUNTA(O4293:$O$5195)>0),IF(COUNTIF(B4284:B4293,B4293)=10,B4293+7,B4293),\"\")","v":""},"","","",null,null,null,0,0,0,0,{"$f":"IFERROR(VLOOKUP(G4294,DropDowns!$D$2:$E$151,2,FALSE),\"\")","v":""},{"$f":"IFERROR(VLOOKUP(H4294,DropDowns!$F$2:$G$7,2,FALSE),\"Residual categories\")","v":"Residual categories"},null,null,null,0,0,0]
[0,{"$f":"IF(OR(COUNTA(O4265:O4294)>0,COUNTA(O4294:$O$5195)>0),IF(COUNTIF(B4285:B4294,B4294)=10,B4294+7,B4294),\"\")","v":""},{"$f":"IF(D4295=1,A4295,\"\")","v":""},"","",null,null,null,{"$f":"IF(COUNTA(O4295:Q4295)>0,1,0)","v":0},{"$f":"IF(O4295=\"y\",1,0)","v":0},{"$f":"IF(P4295=\"y\",1,0)","v":0},{"$f":"IF(Q4295=\"y\",1,0)","v":0},{"$f":"IFERROR(VLOOKUP(G4295,DropDowns!$D$2:$E$151,2,FALSE),\"\")","v":""},{"$f":"IFERROR(VLOOKUP(H4295,DropDowns!$F$2:$G$7,2,FALSE),\"Residual categories\")","v":"Residual categories"},null,null,null,{"$f":"IF(O4295=\"yes\",1,0)","v":0},{"$f":"IF(P4295=\"yes\",1,0)","v":0},{"$f":"IF(Q4295=\"yes\",1,0)","v":0}]
[0,{"$f":"IF(OR(COUNTA(O4267:O4296)>0,COUNTA(O4296:$O$5195)>0),IF(COUNTIF(B4287:B4296,B4296)=10,B4296+7,B4296),\"\")","v":""},"","","",null,null,null,0,0,0,0,{"$f":"IFERROR(VLOOKUP(G4297,DropDowns!$D$2:$E$151,2,FALSE),\"\")","v":""},{"$f":"IFERROR(VLOOKUP(H4297,DropDowns!$F$2:$G$7,2,FALSE),\"Residual categories\")","v":"Residual categories"},null,null,null,0,0,0]
[0,{"$f":"IF(OR(COUNTA(O4268:O4297)>0,COUNTA(O4297:$O$5195)>0),IF(COUNTIF(B4288:B4297,B4297)=10,B4297+7,B4297),\"\")","v":""},"","","",null,null,null,0,0,0,0,{"$f":"IFERROR(VLOOKUP(G4298,DropDowns!$D$2:$E$151,2,FALSE),\"\")","v":""},{"$f":"IFERROR(VLOOKUP(H4298,DropDowns!$F$2:$G$7,2,FALSE),\"Residual categories\")","v":"Residual categories"},null,null,null,0,0,0]
[0,{"$f":"IF(OR(COUNTA(O4270:O4299)>0,COUNTA(O4299:$O$5195)>0),IF(COUNTIF(B4290:B4299,B4299)=10,B4299+7,B4299),\"\")","v":""},"","","",null,null,null,0,0,0,0,{"$f":"IFERROR(VLOOKUP(G4300,DropDowns!$D$2:$E$151,2,FALSE),\"\")","v":""},{"$f":"IFERROR(VLOOKUP(H4300,DropDowns!$F$2:$G$7,2,FALSE),\"Residual categories\")","v":"Residual categories"},null,null,null,0,0,0]
[0,{"$f":"IF(OR(COUNTA(O4271:O4300)>0,COUNTA(O4300:$O$5195)>0),IF(COUNTIF(B4291:B4300,B4300)=10,B4300+7,B4300),\"\")","v":""},"","","",null,null,null,0,0,0,0,{"$f":"IFERROR(VLOOKUP(G4301,DropDowns!$D$2:$E$151,2,FALSE),\"\")","v":""},{"$f":"IFERROR(VLOOKUP(H4301,DropDowns!$F$2:$G$7,2,FALSE),\"Residual categories\")","v":"Residual categories"},null,null,null,0,0,0]
[0,{"$f":"IF(OR(COUNTA(O4272:O4301)>0,COUNTA(O4301:$O$5195)>0),IF(COUNTIF(B4292:B4301,B4301)=10,B4301+7,B4301),\"\")","v":""},"","","",null,null,null,0,0,0,0,{"$f":"IFERROR(VLOOKUP(G4302,DropDowns!$D$2:$E$151,2,FALSE),\"\")","v":""},{"$f":"IFERROR(VLOOKUP(H4302,DropDowns!$F$2:$G$7,2,FALSE),\"Residual categories\")","v":"Residual categories"},null,null,null,0,0,0]
[0,{"$f":"IF(OR(COUNTA(O4273:O4302)>0,COUNTA(O4302:$O$5195)>0),IF(COUNTIF(B4293:B4302,B4302)=10,B4302+7,B4302),\"\")","v":""},"","","",null,null,null,0,0,0,0,{"$f":"IFERROR(VLOOKUP(G4303,DropDowns!$D$2:$E$151,2,FALSE),\"\")","v":""},{"$f":"IFERROR(VLOOKUP(H4303,DropDowns!$F$2:$G$7,2,FALSE),\"Residual categories\")","v":"Residual categories"},null,null,null,0,0,0]
[0,{"$f":"IF(OR(COUNTA(O4275:O4304)>0,COUNTA(O4304:$O$5195)>0),IF(COUNTIF(B4295:B4304,B4304)=10,B4304+7,B4304),\"\")","v":""},"","",{"$f":"IF(B4305=\"\",\"\",COUNTIF(B4296:B4305,B4305))","v":""},null,null,null,0,0,0,0,{"$f":"IFERROR(VLOOKUP(G4305,DropDowns!$D$2:$E$151,2,FALSE),\"\")","v":""},{"$f":"IFERROR(VLOOKUP(H4305,DropDowns!$F$2:$G$7,2,FALSE),\"Residual categories\")","v":"Residual categories"},null,null,null,0,0,0]
[0,{"$f":"IF(OR(COUNTA(O4276:O4305)>0,COUNTA(O4305:$O$5195)>0),IF(COUNTIF(B4296:B4305,B4305)=10,B4305+7,B4305),\"\")","v":""},"","","",null,null,null,0,0,0,0,{"$f":"IFERROR(VLOOKUP(G4306,DropDowns!$D$2:$E$151,2,FALSE),\"\")","v":""},{"$f":"IFERROR(VLOOKUP(H4306,DropDowns!$F$2:$G$7,2,FALSE),\"Residual categories\")","v":"Residual categories"},null,null,null,0,0,0]
[{"$f":"$E$2","v":0},{"$f":"IF(OR(COUNTA(O4278:O4307)>0,COUNTA(O4307:$O$5195)>0),IF(COUNTIF(B4298:B4307,B4307)=10,B4307+7,B4307),\"\")","v":""},"","","",null,null,null,0,0,0,0,{"$f":"IFERROR(VLOOKUP(G4308,DropDowns!$D$2:$E$151,2,FALSE),\"\")","v":""},{"$f":"IFERROR(VLOOKUP(H4308,DropDowns!$F$2:$G$7,2,FALSE),\"Residual categories\")","v":"Residual categories"},null,null,null,0,0,0]
[0,{"$f":"IF(OR(COUNTA(O4279:O4308)>0,COUNTA(O4308:$O$5195)>0),IF(COUNTIF(B4299:B4308,B4308)=10,B4308+7,B4308),\"\")","v":""},"","","",null,null,null,0,0,0,0,{"$f":"IFERROR(VLOOKUP(G4309,DropDowns!$D$2:$E$151,2,FALSE),\"\")","v":""},{"$f":"IFERROR(VLOOKUP(H4309,DropDowns!$F$2:$G$7,2,FALSE),\"Residual categories\")","v":"Residual categories"},null,null,null,0,0,0]
[0,{"$f":"IF(OR(COUNTA(O4280:O4309)>0,COUNTA(O4309:$O$5195)>0),IF(COUNTIF(B4300:B4309,B4309)=10,B4309+7,B4309),\"\")","v":""},"","","",null,null,null,0,0,0,0,{"$f":"IFERROR(VLOOKUP(G4310,DropDowns!$D$2:$E$151,2,FALSE),\"\")","v":""},{"$f":"IFERROR(VLOOKUP(H4310,DropDowns!$F$2:$G$7,2,FALSE),\"Residual categories\")","v":"Residual categories"},null,null,null,0,0,0]
[0,{"$f":"IF(OR(COUNTA(O4281:O4310)>0,COUNTA(O4310:$O$5195)>0),IF(COUNTIF(B4301:B4310,B4310)=10,B4310+7,B4310),\"\")","v":""},"","","",null,null,null,0,0,0,0,{"$f":"IFERROR(VLOOKUP(G4311,DropDowns!$D$2:$E$151,2,FALSE),\"\")","v":""},{"$f":"IFERROR(VLOOKUP(H4311,DropDowns!$F$2:$G$7,2,FALSE),\"Residual categories\")","v":"Residual categories"},null,null,null,0,0,0]
[0,{"$f":"IF(OR(COUNTA(O4283:O4312)>0,COUNTA(O4312:$O$5195)>0),IF(COUNTIF(B4303:B4312,B4312)=10,B4312+7,B4312),\"\")","v":""},"","","",null,null,null,0,0,0,0,{"$f":"IFERROR(VLOOKUP(G4313,DropDowns!$D$2:$E$151,2,FALSE),\"\")","v":""},{"$f":"IFERROR(VLOOKUP(H4313,DropDowns!$F$2:$G$7,2,FALSE),\"Residual categories\")","v":"Residual categories"},null,null,null,0,0,0]
[0,{"$f":"IF(OR(COUNTA(O4284:O4313)>0,COUNTA(O4313:$O$5195)>0),IF(COUNTIF(B4304:B4313,B4313)=10,B4313+7,B4313),\"\")","v":""},"","","",null,null,null,0,0,0,0,{"$f":"IFERROR(VLOOKUP(G4314,DropDowns!$D$2:$E$151,2,FALSE),\"\")","v":""},{"$f":"IFERROR(VLOOKUP(H4314,DropDowns!$F$2:$G$7,2,FALSE),\"Residual categories\")","v":"Residual categories"},null,null,null,0,0,0]
[0,{"$f":"IF(OR(COUNTA(O4286:O4315)>0,COUNTA(O4315:$O$5195)>0),IF(COUNTIF(B4306:B4315,B4315)=10,B4315+7,B4315),\"\")","v":""},"","","",null,null,null,0,0,0,0,{"$f":"IFERROR(VLOOKUP(G4316,DropDowns!$D$2:$E$151,2,FALSE),\"\")","v":""},{"$f":"IFERROR(VLOOKUP(H4316,DropDowns!$F$2:$G$7,2,FALSE),\"Residual categories\")","v":"Residual categories"},null,null,null,0,0,0]
[0,{"$f":"IF(OR(COUNTA(O4287:O4316)>0,COUNTA(O4316:$O$5195)>0),IF(COUNTIF(B4307:B4316,B4316)=10,B4316+7,B4316),\"\")","v":""},"","","",null,null,null,0,0,0,0,{"$f":"IFERROR(VLOOKUP(G4317,DropDowns!$D$2:$E$151,2,FALSE),\"\")","v":""},{"$f":"IFERROR(VLOOKUP(H4317,DropDowns!$F$2:$G$7,2,FALSE),\"Residual categories\")","v":"Residual categories"},null,null,null,0,0,0]
[0,{"$f":"IF(OR(COUNTA(O4289:O4318)>0,COUNTA(O4318:$O$5195)>0),IF(COUNTIF(B4309:B4318,B4318)=10,B4318+7,B4318),\"\")","v":""},"","","",null,null,null,0,0,0,0,{"$f":"IFERROR(VLOOKUP(G4319,DropDowns!$D$2:$E$151,2,FALSE),\"\")","v":""},{"$f":"IFERROR(VLOOKUP(H4319,DropDowns!$F$2:$G$7,2,FALSE),\"Residual categories\")","v":"Residual categories"},null,null,null,0,0,0]
[0,{"$f":"IF(OR(COUNTA(O4290:O4319)>0,COUNTA(O4319:$O$5195)>0),IF(COUNTIF(B4310:B4319,B4319)=10,B4319+7,B4319),\"\")","v":""},"","","",null,null,null,0,0,0,0,{"$f":"IFERROR(VLOOKUP(G4320,DropDowns!$D$2:$E$151,2,FALSE),\"\")","v":""},{"$f":"IFERROR(VLOOKUP(H4320,DropDowns!$F$2:$G$7,2,FALSE),\"Residual categories\")","v":"Residual categories"},null,null,null,0,0,0]
[0,{"$f":"IF(OR(COUNTA(O4291:O4320)>0,COUNTA(O4320:$O$5195)>0),IF(COUNTIF(B4311:B4320,B4320)=10,B4320+7,B4320),\"\")","v":""},"","","",null,null,null,0,0,0,0,{"$f":"IFERROR(VLOOKUP(G4321,DropDowns!$D$2:$E$151,2,FALSE),\"\")","v":""},{"$f":"IFERROR(VLOOKUP(H4321,DropDowns!$F$2:$G$7,2,FALSE),\"Residual categories\")","v":"Residual categories"},null,null,null,0,0,0]
[0,{"$f":"IF(OR(COUNTA(O4292:O4321)>0,COUNTA(O4321:$O$5195)>0),IF(COUNTIF(B4312:B4321,B4321)=10,B4321+7,B4321),\"\")","v":""},"","","",null,null,null,0,0,0,0,{"$f":"IFERROR(VLOOKUP(G4322,DropDowns!$D$2:$E$151,2,FALSE),\"\")","v":""},{"$f":"IFERROR(VLOOKUP(H4322,DropDowns!$F$2:$G$7,2,FALSE),\"Residual categories\")","v":"Residual categories"},null,null,null,0,0,0]
[0,{"$f":"IF(OR(COUNTA(O4294:O4323)>0,COUNTA(O4323:$O$5195)>0),IF(COUNTIF(B4314:B4323,B4323)=10,B4323+7,B4323),\"\")","v":""},"","","",null,null,null,0,0,0,0,{"$f":"IFERROR(VLOOKUP(G4324,DropDowns!$D$2:$E$151,2,FALSE),\"\")","v":""},{"$f":"IFERROR(VLOOKUP(H4324,DropDowns!$F$2:$G$7,2,FALSE),\"Residual categories\")","v":"Residual categories"},null,null,null,0,0,0]
[0,{"$f":"IF(OR(COUNTA(O4295:O4324)>0,COUNTA(O4324:$O$5195)>0),IF(COUNTIF(B4315:B4324,B4324)=10,B4324+7,B4324),\"\")","v":""},"","","",null,null,null,0,0,0,0,{"$f":"IFERROR(VLOOKUP(G4325,DropDowns!$D$2:$E$151,2,FALSE),\"\")","v":""},{"$f":"IFERROR(VLOOKUP(H4325,DropDowns!$F$2:$G$7,2,FALSE),\"Residual categories\")","v":"Residual categories"},null,null,null,0,0,0]
[0,{"$f":"IF(OR(COUNTA(O4297:O4326)>0,COUNTA(O4326:$O$5195)>0),IF(COUNTIF(B4317:B4326,B4326)=10,B4326+7,B4326),\"\")","v":""},"","","",null,null,null,0,0,0,0,{"$f":"IFERROR(VLOOKUP(G4327,DropDowns!$D$2:$E$151,2,FALSE),\"\")","v":""},{"$f":"IFERROR(VLOOKUP(H4327,DropDowns!$F$2:$G$7,2,FALSE),\"Residual categories\")","v":"Residual categories"},null,null,null,0,0,0]
[0,{"$f":"IF(OR(COUNTA(O4298:O4327)>0,COUNTA(O4327:$O$5195)>0),IF(COUNTIF(B4318:B4327,B4327)=10,B4327+7,B4327),\"\")","v":""},"","","",null,null,null,0,0,0,0,{"$f":"IFERROR(VLOOKUP(G4328,DropDowns!$D$2:$E$151,2,FALSE),\"\")","v":""},{"$f":"IFERROR(VLOOKUP(H4328,DropDowns!$F$2:$G$7,2,FALSE),\"Residual categories\")","v":"Residual categories"},null,null,null,0,0,0]
[0,{"$f":"IF(OR(COUNTA(O4299:O4328)>0,COUNTA(O4328:$O$5195)>0),IF(COUNTIF(B4319:B4328,B4328)=10,B4328+7,B4328),\"\")","v":""},"","","",null,null,null,0,0,0,0,{"$f":"IFERROR(VLOOKUP(G4329,DropDowns!$D$2:$E$151,2,FALSE),\"\")","v":""},{"$f":"IFERROR(VLOOKUP(H4329,DropDowns!$F$2:$G$7,2,FALSE),\"Residual categories\")","v":"Residual categories"},null,null,null,0,0,0]
[0,{"$f":"IF(OR(COUNTA(O4300:O4329)>0,COUNTA(O4329:$O$5195)>0),IF(COUNTIF(B4320:B4329,B4329)=10,B4329+7,B4329),\"\")","v":""},"","","",null,null,null,0,0,0,0,{"$f":"IFERROR(VLOOKUP(G4330,DropDowns!$D$2:$E$151,2,FALSE),\"\")","v":""},{"$f":"IFERROR(VLOOKUP(H4330,DropDowns!$F$2:$G$7,2,FALSE),\"Residual categories\")","v":"Residual categories"},null,null,null,0,0,0]
[0,{"$f":"IF(OR(COUNTA(O4302:O4331)>0,COUNTA(O4331:$O$5195)>0),IF(COUNTIF(B4322:B4331,B4331)=10,B4331+7,B4331),\"\")","v":""},"","","",null,null,null,0,0,0,0,{"$f":"IFERROR(VLOOKUP(G4332,DropDowns!$D$2:$E$151,2,FALSE),\"\")","v":""},{"$f":"IFERROR(VLOOKUP(H4332,DropDowns!$F$2:$G$7,2,FALSE),\"Residual categories\")","v":"Residual categories"},null,null,null,0,0,0]
[0,{"$f":"IF(OR(COUNTA(O4303:O4332)>0,COUNTA(O4332:$O$5195)>0),IF(COUNTIF(B4323:B4332,B4332)=10,B4332+7,B4332),\"\")","v":""},"","","",null,null,null,0,0,0,0,{"$f":"IFERROR(VLOOKUP(G4333,DropDowns!$D$2:$E$151,2,FALSE),\"\")","v":""},{"$f":"IFERROR(VLOOKUP(H4333,DropDowns!$F$2:$G$7,2,FALSE),\"Residual categories\")","v":"Residual categories"},null,null,null,0,0,0]
[0,{"$f":"IF(OR(COUNTA(O4305:O4334)>0,COUNTA(O4334:$O$5195)>0),IF(COUNTIF(B4325:B4334,B4334)=10,B4334+7,B4334),\"\")","v":""},"","","",null,null,null,0,0,0,0,{"$f":"IFERROR(VLOOKUP(G4335,DropDowns!$D$2:$E$151,2,FALSE),\"\")","v":""},{"$f":"IFERROR(VLOOKUP(H4335,DropDowns!$F$2:$G$7,2,FALSE),\"Residual categories\")","v":"Residual categories"},null,null,null,0,0,0]
[0,{"$f":"IF(OR(COUNTA(O4306:O4335)>0,COUNTA(O4335:$O$5195)>0),IF(COUNTIF(B4326:B4335,B4335)=10,B4335+7,B4335),\"\")","v":""},"","","",null,null,null,0,0,0,0,{"$f":"IFERROR(VLOOKUP(G4336,DropDowns!$D$2:$E$151,2,FALSE),\"\")","v":""},{"$f":"IFERROR(VLOOKUP(H4336,DropDowns!$F$2:$G$7,2,FALSE),\"Residual categories\")","v":"Residual categories"},null,null,null,0,0,0]
[0,{"$f":"IF(OR(COUNTA(O4307:O4336)>0,COUNTA(O4336:$O$5195)>0),IF(COUNTIF(B4327:B4336,B4336)=10,B4336+7,B4336),\"\")","v":""},"","","",null,null,null,0,0,0,0,{"$f":"IFERROR(VLOOKUP(G4337,DropDowns!$D$2:$E$151,2,FALSE),\"\")","v":""},{"$f":"IFERROR(VLOOKUP(H4337,DropDowns!$F$2:$G$7,2,FALSE),\"Residual categories\")","v":"Residual categories"},null,null,null,0,0,0]
[0,{"$f":"IF(OR(COUNTA(O4308:O4337)>0,COUNTA(O4337:$O$5195)>0),IF(COUNTIF(B4328:B4337,B4337)=10,B4337+7,B4337),\"\")","v":""},"","","",null,null,null,0,0,0,0,{"$f":"IFERROR(VLOOKUP(G4338,DropDowns!$D$2:$E$151,2,FALSE),\"\")","v":""},{"$f":"IFERROR(VLOOKUP(H4338,DropDowns!$F$2:$G$7,2,FALSE),\"Residual categories\")","v":"Residual categories"},null,null,null,0,0,0]
[0,{"$f":"IF(OR(COUNTA(O4310:O4339)>0,COUNTA(O4339:$O$5195)>0),IF(COUNTIF(B4330:B4339,B4339)=10,B4339+7,B4339),\"\")","v":""},"","","",null,null,null,0,0,0,0,{"$f":"IFERROR(VLOOKUP(G4340,DropDowns!$D$2:$E$151,2,FALSE),\"\")","v":""},{"$f":"IFERROR(VLOOKUP(H4340,DropDowns!$F$2:$G$7,2,FALSE),\"Residual categories\")","v":"Residual categories"},null,null,null,0,0,0]
[0,{"$f":"IF(OR(COUNTA(O4311:O4340)>0,COUNTA(O4340:$O$5195)>0),IF(COUNTIF(B4331:B4340,B4340)=10,B4340+7,B4340),\"\")","v":""},"","","",null,null,null,0,0,0,0,{"$f":"IFERROR(VLOOKUP(G4341,DropDowns!$D$2:$E$151,2,FALSE),\"\")","v":""},{"$f":"IFERROR(VLOOKUP(H4341,DropDowns!$F$2:$G$7,2,FALSE),\"Residual categories\")","v":"Residual categories"},null,null,null,0,0,0]
[0,{"$f":"IF(OR(COUNTA(O4313:O4342)>0,COUNTA(O4342:$O$5195)>0),IF(COUNTIF(B4333:B4342,B4342)=10,B4342+7,B4342),\"\")","v":""},"","","",null,null,null,0,0,0,0,{"$f":"IFERROR(VLOOKUP(G4343,DropDowns!$D$2:$E$151,2,FALSE),\"\")","v":""},{"$f":"IFERROR(VLOOKUP(H4343,DropDowns!$F$2:$G$7,2,FALSE),\"Residual categories\")","v":"Residual categories"},null,null,null,0,0,0]
[0,{"$f":"IF(OR(COUNTA(O4314:O4343)>0,COUNTA(O4343:$O$5195)>0),IF(COUNTIF(B4334:B4343,B4343)=10,B4343+7,B4343),\"\")","v":""},"","","",null,null,null,0,0,0,0,{"$f":"IFERROR(VLOOKUP(G4344,DropDowns!$D$2:$E$151,2,FALSE),\"\")","v":""},{"$f":"IFERROR(VLOOKUP(H4344,DropDowns!$F$2:$G$7,2,FALSE),\"Residual categories\")","v":"Residual categories"},null,null,null,0,0,0]
[0,{"$f":"IF(OR(COUNTA(O4315:O4344)>0,COUNTA(O4344:$O$5195)>0),IF(COUNTIF(B4335:B4344,B4344)=10,B4344+7,B4344),\"\")","v":""},"","","",null,null,null,0,0,0,0,{"$f":"IFERROR(VLOOKUP(G4345,DropDowns!$D$2:$E$151,2,FALSE),\"\")","v":""},{"$f":"IFERROR(VLOOKUP(H4345,DropDowns!$F$2:$G$7,2,FALSE),\"Residual categories\")","v":"Residual categories"},null,null,null,0,0,0]
[0,{"$f":"IF(OR(COUNTA(O4316:O4345)>0,COUNTA(O4345:$O$5195)>0),IF(COUNTIF(B4336:B4345,B4345)=10,B4345+7,B4345),\"\")","v":""},"","","",null,null,null,0,0,0,0,{"$f":"IFERROR(VLOOKUP(G4346,DropDowns!$D$2:$E$151,2,FALSE),\"\")","v":""},{"$f":"IFERROR(VLOOKUP(H4346,DropDowns!$F$2:$G$7,2,FALSE),\"Residual categories\")","v":"Residual categories"},null,null,null,0,0,0]
[0,{"$f":"IF(OR(COUNTA(O4318:O4347)>0,COUNTA(O4347:$O$5195)>0),IF(COUNTIF(B4338:B4347,B4347)=10,B4347+7,B4347),\"\")","v":""},"","","",null,null,null,0,0,0,0,{"$f":"IFERROR(VLOOKUP(G4348,DropDowns!$D$2:$E$151,2,FALSE),\"\")","v":""},{"$f":"IFERROR(VLOOKUP(H4348,DropDowns!$F$2:$G$7,2,FALSE),\"Residual categories\")","v":"Residual categories"},null,null,null,0,0,0]
[0,{"$f":"IF(OR(COUNTA(O4319:O4348)>0,COUNTA(O4348:$O$5195)>0),IF(COUNTIF(B4339:B4348,B4348)=10,B4348+7,B4348),\"\")","v":""},"","","",null,null,null,0,0,0,0,{"$f":"IFERROR(VLOOKUP(G4349,DropDowns!$D$2:$E$151,2,FALSE),\"\")","v":""},{"$f":"IFERROR(VLOOKUP(H4349,DropDowns!$F$2:$G$7,2,FALSE),\"Residual categories\")","v":"Residual categories"},null,null,null,0,0,0]
[0,{"$f":"IF(OR(COUNTA(O4321:O4350)>0,COUNTA(O4350:$O$5195)>0),IF(COUNTIF(B4341:B4350,B4350)=10,B4350+7,B4350),\"\")","v":""},"","","",null,null,null,0,0,0,0,{"$f":"IFERROR(VLOOKUP(G4351,DropDowns!$D$2:$E$151,2,FALSE),\"\")","v":""},{"$f":"IFERROR(VLOOKUP(H4351,DropDowns!$F$2:$G$7,2,FALSE),\"Residual categories\")","v":"Residual categories"},null,null,null,0,0,0]
[0,{"$f":"IF(OR(COUNTA(O4322:O4351)>0,COUNTA(O4351:$O$5195)>0),IF(COUNTIF(B4342:B4351,B4351)=10,B4351+7,B4351),\"\")","v":""},"","","",null,null,null,0,0,0,0,{"$f":"IFERROR(VLOOKUP(G4352,DropDowns!$D$2:$E$151,2,FALSE),\"\")","v":""},{"$f":"IFERROR(VLOOKUP(H4352,DropDowns!$F$2:$G$7,2,FALSE),\"Residual categories\")","v":"Residual categories"},null,null,null,0,0,0]
[0,{"$f":"IF(OR(COUNTA(O4324:O4353)>0,COUNTA(O4353:$O$5195)>0),IF(COUNTIF(B4344:B4353,B4353)=10,B4353+7,B4353),\"\")","v":""},"","","",null,null,null,0,0,0,0,{"$f":"IFERROR(VLOOKUP(G4354,DropDowns!$D$2:$E$151,2,FALSE),\"\")","v":""},{"$f":"IFERROR(VLOOKUP(H4354,DropDowns!$F$2:$G$7,2,FALSE),\"Residual categories\")","v":"Residual categories"},null,null,null,0,0,0]
[0,{"$f":"IF(OR(COUNTA(O4325:O4354)>0,COUNTA(O4354:$O$5195)>0),IF(COUNTIF(B4345:B4354,B4354)=10,B4354+7,B4354),\"\")","v":""},"","","",null,null,null,0,0,0,0,{"$f":"IFERROR(VLOOKUP(G4355,DropDowns!$D$2:$E$151,2,FALSE),\"\")","v":""},{"$f":"IFERROR(VLOOKUP(H4355,DropDowns!$F$2:$G$7,2,FALSE),\"Residual categories\")","v":"Residual categories"},null,null,null,0,0,0]
[0,{"$f":"IF(OR(COUNTA(O4326:O4355)>0,COUNTA(O4355:$O$5195)>0),IF(COUNTIF(B4346:B4355,B4355)=10,B4355+7,B4355),\"\")","v":""},"","","",null,null,null,0,0,0,0,{"$f":"IFERROR(VLOOKUP(G4356,DropDowns!$D$2:$E$151,2,FALSE),\"\")","v":""},{"$f":"IFERROR(VLOOKUP(H4356,DropDowns!$F$2:$G$7,2,FALSE),\"Residual categories\")","v":"Residual categories"},null,null,null,0,0,0]
[0,{"$f":"IF(OR(COUNTA(O4327:O4356)>0,COUNTA(O4356:$O$5195)>0),IF(COUNTIF(B4347:B4356,B4356)=10,B4356+7,B4356),\"\")","v":""},"","","",null,null,null,0,0,0,0,{"$f":"IFERROR(VLOOKUP(G4357,DropDowns!$D$2:$E$151,2,FALSE),\"\")","v":""},{"$f":"IFERROR(VLOOKUP(H4357,DropDowns!$F$2:$G$7,2,FALSE),\"Residual categories\")","v":"Residual categories"},null,null,null,0,0,0]
[0,{"$f":"IF(OR(COUNTA(O4329:O4358)>0,COUNTA(O4358:$O$5195)>0),IF(COUNTIF(B4349:B4358,B4358)=10,B4358+7,B4358),\"\")","v":""},{"$f":"IF(D4359=1,A4359,\"\")","v":""},"","",null,null,null,{"$f":"IF(COUNTA(O4359:Q4359)>0,1,0)","v":0},{"$f":"IF(O4359=\"y\",1,0)","v":0},{"$f":"IF(P4359=\"y\",1,0)","v":0},{"$f":"IF(Q4359=\"y\",1,0)","v":0},{"$f":"IFERROR(VLOOKUP(G4359,DropDowns!$D$2:$E$151,2,FALSE),\"\")","v":""},{"$f":"IFERROR(VLOOKUP(H4359,DropDowns!$F$2:$G$7,2,FALSE),\"Residual categories\")","v":"Residual categories"},null,null,null,{"$f":"IF(O4359=\"yes\",1,0)","v":0},{"$f":"IF(P4359=\"yes\",1,0)","v":0},{"$f":"IF(Q4359=\"yes\",1,0)","v":0}]
[0,{"$f":"IF(OR(COUNTA(O4330:O4359)>0,COUNTA(O4359:$O$5195)>0),IF(COUNTIF(B4350:B4359,B4359)=10,B4359+7,B4359),\"\")","v":""},"","","",null,null,null,0,0,0,0,{"$f":"IFERROR(VLOOKUP(G4360,DropDowns!$D$2:$E$151,2,FALSE),\"\")","v":""},{"$f":"IFERROR(VLOOKUP(H4360,DropDowns!$F$2:$G$7,2,FALSE),\"Residual categories\")","v":"Residual categories"},null,null,null,0,0,0]
[0,{"$f":"IF(OR(COUNTA(O4332:O4361)>0,COUNTA(O4361:$O$5195)>0),IF(COUNTIF(B4352:B4361,B4361)=10,B4361+7,B4361),\"\")","v":""},"","","",null,null,null,0,0,0,0,{"$f":"IFERROR(VLOOKUP(G4362,DropDowns!$D$2:$E$151,2,FALSE),\"\")","v":""},{"$f":"IFERROR(VLOOKUP(H4362,DropDowns!$F$2:$G$7,2,FALSE),\"Residual categories\")","v":"Residual categories"},null,null,null,0,0,0]
[0,{"$f":"IF(OR(COUNTA(O4333:O4362)>0,COUNTA(O4362:$O$5195)>0),IF(COUNTIF(B4353:B4362,B4362)=10,B4362+7,B4362),\"\")","v":""},"","","",null,null,null,0,0,0,0,{"$f":"IFERROR(VLOOKUP(G4363,DropDowns!$D$2:$E$151,2,FALSE),\"\")","v":""},{"$f":"IFERROR(VLOOKUP(H4363,DropDowns!$F$2:$G$7,2,FALSE),\"Residual categories\")","v":"Residual categories"},null,null,null,0,0,0]
[0,{"$f":"IF(OR(COUNTA(O4334:O4363)>0,COUNTA(O4363:$O$5195)>0),IF(COUNTIF(B4354:B4363,B4363)=10,B4363+7,B4363),\"\")","v":""},"","","",null,null,null,0,0,0,0,{"$f":"IFERROR(VLOOKUP(G4364,DropDowns!$D$2:$E$151,2,FALSE),\"\")","v":""},{"$f":"IFERROR(VLOOKUP(H4364,DropDowns!$F$2:$G$7,2,FALSE),\"Residual categories\")","v":"Residual categories"},null,null,null,0,0,0]
[0,{"$f":"IF(OR(COUNTA(O4335:O4364)>0,COUNTA(O4364:$O$5195)>0),IF(COUNTIF(B4355:B4364,B4364)=10,B4364+7,B4364),\"\")","v":""},"","","",null,null,null,0,0,0,0,{"$f":"IFERROR(VLOOKUP(G4365,DropDowns!$D$2:$E$151,2,FALSE),\"\")","v":""},{"$f":"IFERROR(VLOOKUP(H4365,DropDowns!$F$2:$G$7,2,FALSE),\"Residual categories\")","v":"Residual categories"},null,null,null,0,0,0]
[0,{"$f":"IF(OR(COUNTA(O4337:O4366)>0,COUNTA(O4366:$O$5195)>0),IF(COUNTIF(B4357:B4366,B4366)=10,B4366+7,B4366),\"\")","v":""},"","","",null,null,null,0,0,0,0,{"$f":"IFERROR(VLOOKUP(G4367,DropDowns!$D$2:$E$151,2,FALSE),\"\")","v":""},{"$f":"IFERROR(VLOOKUP(H4367,DropDowns!$F$2:$G$7,2,FALSE),\"Residual categories\")","v":"Residual categories"},null,null,null,0,0,0]
[0,{"$f":"IF(OR(COUNTA(O4338:O4367)>0,COUNTA(O4367:$O$5195)>0),IF(COUNTIF(B4358:B4367,B4367)=10,B4367+7,B4367),\"\")","v":""},"","","",null,null,null,0,0,0,0,{"$f":"IFERROR(VLOOKUP(G4368,DropDowns!$D$2:$E$151,2,FALSE),\"\")","v":""},{"$f":"IFERROR(VLOOKUP(H4368,DropDowns!$F$2:$G$7,2,FALSE),\"Residual categories\")","v":"Residual categories"},null,null,null,0,0,0]
[0,{"$f":"IF(OR(COUNTA(O4340:O4369)>0,COUNTA(O4369:$O$5195)>0),IF(COUNTIF(B4360:B4369,B4369)=10,B4369+7,B4369),\"\")","v":""},"","","",null,null,null,0,0,0,0,{"$f":"IFERROR(VLOOKUP(G4370,DropDowns!$D$2:$E$151,2,FALSE),\"\")","v":""},{"$f":"IFERROR(VLOOKUP(H4370,DropDowns!$F$2:$G$7,2,FALSE),\"Residual categories\")","v":"Residual categories"},null,null,null,0,0,0]
[0,{"$f":"IF(OR(COUNTA(O4341:O4370)>0,COUNTA(O4370:$O$5195)>0),IF(COUNTIF(B4361:B4370,B4370)=10,B4370+7,B4370),\"\")","v":""},"","","",null,null,null,0,0,0,0,{"$f":"IFERROR(VLOOKUP(G4371,DropDowns!$D$2:$E$151,2,FALSE),\"\")","v":""},{"$f":"IFERROR(VLOOKUP(H4371,DropDowns!$F$2:$G$7,2,FALSE),\"Residual categories\")","v":"Residual categories"},null,null,null,0,0,0]
[{"$f":"$E$2","v":0},{"$f":"IF(OR(COUNTA(O4342:O4371)>0,COUNTA(O4371:$O$5195)>0),IF(COUNTIF(B4362:B4371,B4371)=10,B4371+7,B4371),\"\")","v":""},"","","",null,null,null,0,0,0,0,{"$f":"IFERROR(VLOOKUP(G4372,DropDowns!$D$2:$E$151,2,FALSE),\"\")","v":""},{"$f":"IFERROR(VLOOKUP(H4372,DropDowns!$F$2:$G$7,2,FALSE),\"Residual categories\")","v":"Residual categories"},null,null,null,0,0,0]
[0,{"$f":"IF(OR(COUNTA(O4343:O4372)>0,COUNTA(O4372:$O$5195)>0),IF(COUNTIF(B4363:B4372,B4372)=10,B4372+7,B4372),\"\")","v":""},"","","",null,null,null,0,0,0,0,{"$f":"IFERROR(VLOOKUP(G4373,DropDowns!$D$2:$E$151,2,FALSE),\"\")","v":""},{"$f":"IFERROR(VLOOKUP(H4373,DropDowns!$F$2:$G$7,2,FALSE),\"Residual categories\")","v":"Residual categories"},null,null,null,0,0,0]
[0,{"$f":"IF(OR(COUNTA(O4345:O4374)>0,COUNTA(O4374:$O$5195)>0),IF(COUNTIF(B4365:B4374,B4374)=10,B4374+7,B4374),\"\")","v":""},"","","",null,null,null,0,0,0,0,{"$f":"IFERROR(VLOOKUP(G4375,DropDowns!$D$2:$E$151,2,FALSE),\"\")","v":""},{"$f":"IFERROR(VLOOKUP(H4375,DropDowns!$F$2:$G$7,2,FALSE),\"Residual categories\")","v":"Residual categories"},null,null,null,0,0,0]
[0,{"$f":"IF(OR(COUNTA(O4346:O4375)>0,COUNTA(O4375:$O$5195)>0),IF(COUNTIF(B4366:B4375,B4375)=10,B4375+7,B4375),\"\")","v":""},"","","",null,null,null,0,0,0,0,{"$f":"IFERROR(VLOOKUP(G4376,DropDowns!$D$2:$E$151,2,FALSE),\"\")","v":""},{"$f":"IFERROR(VLOOKUP(H4376,DropDowns!$F$2:$G$7,2,FALSE),\"Residual categories\")","v":"Residual categories"},null,null,null,0,0,0]
[0,{"$f":"IF(OR(COUNTA(O4348:O4377)>0,COUNTA(O4377:$O$5195)>0),IF(COUNTIF(B4368:B4377,B4377)=10,B4377+7,B4377),\"\")","v":""},"","","",null,null,null,0,0,0,0,{"$f":"IFERROR(VLOOKUP(G4378,DropDowns!$D$2:$E$151,2,FALSE),\"\")","v":""},{"$f":"IFERROR(VLOOKUP(H4378,DropDowns!$F$2:$G$7,2,FALSE),\"Residual categories\")","v":"Residual categories"},null,null,null,0,0,0]
[0,{"$f":"IF(OR(COUNTA(O4349:O4378)>0,COUNTA(O4378:$O$5195)>0),IF(COUNTIF(B4369:B4378,B4378)=10,B4378+7,B4378),\"\")","v":""},"","","",null,null,null,0,0,0,0,{"$f":"IFERROR(VLOOKUP(G4379,DropDowns!$D$2:$E$151,2,FALSE),\"\")","v":""},{"$f":"IFERROR(VLOOKUP(H4379,DropDowns!$F$2:$G$7,2,FALSE),\"Residual categories\")","v":"Residual categories"},null,null,null,0,0,0]
[0,{"$f":"IF(OR(COUNTA(O4351:O4380)>0,COUNTA(O4380:$O$5195)>0),IF(COUNTIF(B4371:B4380,B4380)=10,B4380+7,B4380),\"\")","v":""},"","","",null,null,null,0,0,0,0,{"$f":"IFERROR(VLOOKUP(G4381,DropDowns!$D$2:$E$151,2,FALSE),\"\")","v":""},{"$f":"IFERROR(VLOOKUP(H4381,DropDowns!$F$2:$G$7,2,FALSE),\"Residual categories\")","v":"Residual categories"},null,null,null,0,0,0]
[0,{"$f":"IF(OR(COUNTA(O4352:O4381)>0,COUNTA(O4381:$O$5195)>0),IF(COUNTIF(B4372:B4381,B4381)=10,B4381+7,B4381),\"\")","v":""},"","","",null,null,null,0,0,0,0,{"$f":"IFERROR(VLOOKUP(G4382,DropDowns!$D$2:$E$151,2,FALSE),\"\")","v":""},{"$f":"IFERROR(VLOOKUP(H4382,DropDowns!$F$2:$G$7,2,FALSE),\"Residual categories\")","v":"Residual categories"},null,null,null,0,0,0]
[0,{"$f":"IF(OR(COUNTA(O4353:O4382)>0,COUNTA(O4382:$O$5195)>0),IF(COUNTIF(B4373:B4382,B4382)=10,B4382+7,B4382),\"\")","v":""},"","","",null,null,null,0,0,0,0,{"$f":"IFERROR(VLOOKUP(G4383,DropDowns!$D$2:$E$151,2,FALSE),\"\")","v":""},{"$f":"IFERROR(VLOOKUP(H4383,DropDowns!$F$2:$G$7,2,FALSE),\"Residual categories\")","v":"Residual categories"},null,null,null,0,0,0]
[0,{"$f":"IF(OR(COUNTA(O4354:O4383)>0,COUNTA(O4383:$O$5195)>0),IF(COUNTIF(B4374:B4383,B4383)=10,B4383+7,B4383),\"\")","v":""},"","","",null,null,null,0,0,0,0,{"$f":"IFERROR(VLOOKUP(G4384,DropDowns!$D$2:$E$151,2,FALSE),\"\")","v":""},{"$f":"IFERROR(VLOOKUP(H4384,DropDowns!$F$2:$G$7,2,FALSE),\"Residual categories\")","v":"Residual categories"},null,null,null,0,0,0]
[0,{"$f":"IF(OR(COUNTA(O4356:O4385)>0,COUNTA(O4385:$O$5195)>0),IF(COUNTIF(B4376:B4385,B4385)=10,B4385+7,B4385),\"\")","v":""},"","","",null,null,null,0,0,0,0,{"$f":"IFERROR(VLOOKUP(G4386,DropDowns!$D$2:$E$151,2,FALSE),\"\")","v":""},{"$f":"IFERROR(VLOOKUP(H4386,DropDowns!$F$2:$G$7,2,FALSE),\"Residual categories\")","v":"Residual categories"},null,null,null,0,0,0]
[0,{"$f":"IF(OR(COUNTA(O4357:O4386)>0,COUNTA(O4386:$O$5195)>0),IF(COUNTIF(B4377:B4386,B4386)=10,B4386+7,B4386),\"\")","v":""},"","","",null,null,null,0,0,0,0,{"$f":"IFERROR(VLOOKUP(G4387,DropDowns!$D$2:$E$151,2,FALSE),\"\")","v":""},{"$f":"IFERROR(VLOOKUP(H4387,DropDowns!$F$2:$G$7,2,FALSE),\"Residual categories\")","v":"Residual categories"},null,null,null,0,0,0]
[0,{"$f":"IF(OR(COUNTA(O4359:O4388)>0,COUNTA(O4388:$O$5195)>0),IF(COUNTIF(B4379:B4388,B4388)=10,B4388+7,B4388),\"\")","v":""},"","","",null,null,null,0,0,0,0,{"$f":"IFERROR(VLOOKUP(G4389,DropDowns!$D$2:$E$151,2,FALSE),\"\")","v":""},{"$f":"IFERROR(VLOOKUP(H4389,DropDowns!$F$2:$G$7,2,FALSE),\"Residual categories\")","v":"Residual categories"},null,null,null,0,0,0]
[0,{"$f":"IF(OR(COUNTA(O4360:O4389)>0,COUNTA(O4389:$O$5195)>0),IF(COUNTIF(B4380:B4389,B4389)=10,B4389+7,B4389),\"\")","v":""},"","","",null,null,null,0,0,0,0,{"$f":"IFERROR(VLOOKUP(G4390,DropDowns!$D$2:$E$151,2,FALSE),\"\")","v":""},{"$f":"IFERROR(VLOOKUP(H4390,DropDowns!$F$2:$G$7,2,FALSE),\"Residual categories\")","v":"Residual categories"},null,null,null,0,0,0]
[0,{"$f":"IF(OR(COUNTA(O4361:O4390)>0,COUNTA(O4390:$O$5195)>0),IF(COUNTIF(B4381:B4390,B4390)=10,B4390+7,B4390),\"\")","v":""},"","","",null,null,null,0,0,0,0,{"$f":"IFERROR(VLOOKUP(G4391,DropDowns!$D$2:$E$151,2,FALSE),\"\")","v":""},{"$f":"IFERROR(VLOOKUP(H4391,DropDowns!$F$2:$G$7,2,FALSE),\"Residual categories\")","v":"Residual categories"},null,null,null,0,0,0]
[0,{"$f":"IF(OR(COUNTA(O4362:O4391)>0,COUNTA(O4391:$O$5195)>0),IF(COUNTIF(B4382:B4391,B4391)=10,B4391+7,B4391),\"\")","v":""},"","","",null,null,null,0,0,0,0,{"$f":"IFERROR(VLOOKUP(G4392,DropDowns!$D$2:$E$151,2,FALSE),\"\")","v":""},{"$f":"IFERROR(VLOOKUP(H4392,DropDowns!$F$2:$G$7,2,FALSE),\"Residual categories\")","v":"Residual categories"},null,null,null,0,0,0]
[0,{"$f":"IF(OR(COUNTA(O4364:O4393)>0,COUNTA(O4393:$O$5195)>0),IF(COUNTIF(B4384:B4393,B4393)=10,B4393+7,B4393),\"\")","v":""},"","","",null,null,null,0,0,0,0,{"$f":"IFERROR(VLOOKUP(G4394,DropDowns!$D$2:$E$151,2,FALSE),\"\")","v":""},{"$f":"IFERROR(VLOOKUP(H4394,DropDowns!$F$2:$G$7,2,FALSE),\"Residual categories\")","v":"Residual categories"},null,null,null,0,0,0]
[0,{"$f":"IF(OR(COUNTA(O4365:O4394)>0,COUNTA(O4394:$O$5195)>0),IF(COUNTIF(B4385:B4394,B4394)=10,B4394+7,B4394),\"\")","v":""},"","","",null,null,null,0,0,0,0,{"$f":"IFERROR(VLOOKUP(G4395,DropDowns!$D$2:$E$151,2,FALSE),\"\")","v":""},{"$f":"IFERROR(VLOOKUP(H4395,DropDowns!$F$2:$G$7,2,FALSE),\"Residual categories\")","v":"Residual categories"},null,null,null,0,0,0]
[0,{"$f":"IF(OR(COUNTA(O4367:O4396)>0,COUNTA(O4396:$O$5195)>0),IF(COUNTIF(B4387:B4396,B4396)=10,B4396+7,B4396),\"\")","v":""},"","","",null,null,null,0,0,0,0,{"$f":"IFERROR(VLOOKUP(G4397,DropDowns!$D$2:$E$151,2,FALSE),\"\")","v":""},{"$f":"IFERROR(VLOOKUP(H4397,DropDowns!$F$2:$G$7,2,FALSE),\"Residual categories\")","v":"Residual categories"},null,null,null,0,0,0]
[0,{"$f":"IF(OR(COUNTA(O4368:O4397)>0,COUNTA(O4397:$O$5195)>0),IF(COUNTIF(B4388:B4397,B4397)=10,B4397+7,B4397),\"\")","v":""},"","","",null,null,null,0,0,0,0,{"$f":"IFERROR(VLOOKUP(G4398,DropDowns!$D$2:$E$151,2,FALSE),\"\")","v":""},{"$f":"IFERROR(VLOOKUP(H4398,DropDowns!$F$2:$G$7,2,FALSE),\"Residual categories\")","v":"Residual categories"},null,null,null,0,0,0]
[0,{"$f":"IF(OR(COUNTA(O4369:O4398)>0,COUNTA(O4398:$O$5195)>0),IF(COUNTIF(B4389:B4398,B4398)=10,B4398+7,B4398),\"\")","v":""},"","","",null,null,null,0,0,0,0,{"$f":"IFERROR(VLOOKUP(G4399,DropDowns!$D$2:$E$151,2,FALSE),\"\")","v":""},{"$f":"IFERROR(VLOOKUP(H4399,DropDowns!$F$2:$G$7,2,FALSE),\"Residual categories\")","v":"Residual categories"},null,null,null,0,0,0]
[0,{"$f":"IF(OR(COUNTA(O4370:O4399)>0,COUNTA(O4399:$O$5195)>0),IF(COUNTIF(B4390:B4399,B4399)=10,B4399+7,B4399),\"\")","v":""},"","","",null,null,null,0,0,0,0,{"$f":"IFERROR(VLOOKUP(G4400,DropDowns!$D$2:$E$151,2,FALSE),\"\")","v":""},{"$f":"IFERROR(VLOOKUP(H4400,DropDowns!$F$2:$G$7,2,FALSE),\"Residual categories\")","v":"Residual categories"},null,null,null,0,0,0]
[0,{"$f":"IF(OR(COUNTA(O4372:O4401)>0,COUNTA(O4401:$O$5195)>0),IF(COUNTIF(B4392:B4401,B4401)=10,B4401+7,B4401),\"\")","v":""},"","","",null,null,null,0,0,0,0,{"$f":"IFERROR(VLOOKUP(G4402,DropDowns!$D$2:$E$151,2,FALSE),\"\")","v":""},{"$f":"IFERROR(VLOOKUP(H4402,DropDowns!$F$2:$G$7,2,FALSE),\"Residual categories\")","v":"Residual categories"},null,null,null,0,0,0]
[0,{"$f":"IF(OR(COUNTA(O4373:O4402)>0,COUNTA(O4402:$O$5195)>0),IF(COUNTIF(B4393:B4402,B4402)=10,B4402+7,B4402),\"\")","v":""},"","","",null,null,null,0,0,0,0,{"$f":"IFERROR(VLOOKUP(G4403,DropDowns!$D$2:$E$151,2,FALSE),\"\")","v":""},{"$f":"IFERROR(VLOOKUP(H4403,DropDowns!$F$2:$G$7,2,FALSE),\"Residual categories\")","v":"Residual categories"},null,null,null,0,0,0]
[0,{"$f":"IF(OR(COUNTA(O4375:O4404)>0,COUNTA(O4404:$O$5195)>0),IF(COUNTIF(B4395:B4404,B4404)=10,B4404+7,B4404),\"\")","v":""},"","","",null,null,null,0,0,0,0,{"$f":"IFERROR(VLOOKUP(G4405,DropDowns!$D$2:$E$151,2,FALSE),\"\")","v":""},{"$f":"IFERROR(VLOOKUP(H4405,DropDowns!$F$2:$G$7,2,FALSE),\"Residual categories\")","v":"Residual categories"},null,null,null,0,0,0]
[0,{"$f":"IF(OR(COUNTA(O4376:O4405)>0,COUNTA(O4405:$O$5195)>0),IF(COUNTIF(B4396:B4405,B4405)=10,B4405+7,B4405),\"\")","v":""},"","","",null,null,null,0,0,0,0,{"$f":"IFERROR(VLOOKUP(G4406,DropDowns!$D$2:$E$151,2,FALSE),\"\")","v":""},{"$f":"IFERROR(VLOOKUP(H4406,DropDowns!$F$2:$G$7,2,FALSE),\"Residual categories\")","v":"Residual categories"},null,null,null,0,0,0]
[0,{"$f":"IF(OR(COUNTA(O4377:O4406)>0,COUNTA(O4406:$O$5195)>0),IF(COUNTIF(B4397:B4406,B4406)=10,B4406+7,B4406),\"\")","v":""},"","","",null,null,null,0,0,0,0,{"$f":"IFERROR(VLOOKUP(G4407,DropDowns!$D$2:$E$151,2,FALSE),\"\")","v":""},{"$f":"IFERROR(VLOOKUP(H4407,DropDowns!$F$2:$G$7,2,FALSE),\"Residual categories\")","v":"Residual categories"},null,null,null,0,0,0]
[0,{"$f":"IF(OR(COUNTA(O4378:O4407)>0,COUNTA(O4407:$O$5195)>0),IF(COUNTIF(B4398:B4407,B4407)=10,B4407+7,B4407),\"\")","v":""},"","","",null,null,null,0,0,0,0,{"$f":"IFERROR(VLOOKUP(G4408,DropDowns!$D$2:$E$151,2,FALSE),\"\")","v":""},{"$f":"IFERROR(VLOOKUP(H4408,DropDowns!$F$2:$G$7,2,FALSE),\"Residual categories\")","v":"Residual categories"},null,null,null,0,0,0]
[0,{"$f":"IF(OR(COUNTA(O4380:O4409)>0,COUNTA(O4409:$O$5195)>0),IF(COUNTIF(B4400:B4409,B4409)=10,B4409+7,B4409),\"\")","v":""},"","","",null,null,null,0,0,0,0,{"$f":"IFERROR(VLOOKUP(G4410,DropDowns!$D$2:$E$151,2,FALSE),\"\")","v":""},{"$f":"IFERROR(VLOOKUP(H4410,DropDowns!$F$2:$G$7,2,FALSE),\"Residual categories\")","v":"Residual categories"},null,null,null,0,0,0]
[0,{"$f":"IF(OR(COUNTA(O4381:O4410)>0,COUNTA(O4410:$O$5195)>0),IF(COUNTIF(B4401:B4410,B4410)=10,B4410+7,B4410),\"\")","v":""},"","","",null,null,null,0,0,0,0,{"$f":"IFERROR(VLOOKUP(G4411,DropDowns!$D$2:$E$151,2,FALSE),\"\")","v":""},{"$f":"IFERROR(VLOOKUP(H4411,DropDowns!$F$2:$G$7,2,FALSE),\"Residual categories\")","v":"Residual categories"},null,null,null,0,0,0]
[0,{"$f":"IF(OR(COUNTA(O4383:O4412)>0,COUNTA(O4412:$O$5195)>0),IF(COUNTIF(B4403:B4412,B4412)=10,B4412+7,B4412),\"\")","v":""},"","","",null,null,null,0,0,0,0,{"$f":"IFERROR(VLOOKUP(G4413,DropDowns!$D$2:$E$151,2,FALSE),\"\")","v":""},{"$f":"IFERROR(VLOOKUP(H4413,DropDowns!$F$2:$G$7,2,FALSE),\"Residual categories\")","v":"Residual categories"},null,null,null,0,0,0]
[0,{"$f":"IF(OR(COUNTA(O4384:O4413)>0,COUNTA(O4413:$O$5195)>0),IF(COUNTIF(B4404:B4413,B4413)=10,B4413+7,B4413),\"\")","v":""},"","","",null,null,null,0,0,0,0,{"$f":"IFERROR(VLOOKUP(G4414,DropDowns!$D$2:$E$151,2,FALSE),\"\")","v":""},{"$f":"IFERROR(VLOOKUP(H4414,DropDowns!$F$2:$G$7,2,FALSE),\"Residual categories\")","v":"Residual categories"},null,null,null,0,0,0]
[0,{"$f":"IF(OR(COUNTA(O4386:O4415)>0,COUNTA(O4415:$O$5195)>0),IF(COUNTIF(B4406:B4415,B4415)=10,B4415+7,B4415),\"\")","v":""},"","","",null,null,null,0,0,0,0,{"$f":"IFERROR(VLOOKUP(G4416,DropDowns!$D$2:$E$151,2,FALSE),\"\")","v":""},{"$f":"IFERROR(VLOOKUP(H4416,DropDowns!$F$2:$G$7,2,FALSE),\"Residual categories\")","v":"Residual categories"},null,null,null,0,0,0]
[0,{"$f":"IF(OR(COUNTA(O4387:O4416)>0,COUNTA(O4416:$O$5195)>0),IF(COUNTIF(B4407:B4416,B4416)=10,B4416+7,B4416),\"\")","v":""},"","","",null,null,null,0,0,0,0,{"$f":"IFERROR(VLOOKUP(G4417,DropDowns!$D$2:$E$151,2,FALSE),\"\")","v":""},{"$f":"IFERROR(VLOOKUP(H4417,DropDowns!$F$2:$G$7,2,FALSE),\"Residual categories\")","v":"Residual categories"},null,null,null,0,0,0]
[0,{"$f":"IF(OR(COUNTA(O4388:O4417)>0,COUNTA(O4417:$O$5195)>0),IF(COUNTIF(B4408:B4417,B4417)=10,B4417+7,B4417),\"\")","v":""},"","","",null,null,null,0,0,0,0,{"$f":"IFERROR(VLOOKUP(G4418,DropDowns!$D$2:$E$151,2,FALSE),\"\")","v":""},{"$f":"IFERROR(VLOOKUP(H4418,DropDowns!$F$2:$G$7,2,FALSE),\"Residual categories\")","v":"Residual categories"},null,null,null,0,0,0]
[0,{"$f":"IF(OR(COUNTA(O4389:O4418)>0,COUNTA(O4418:$O$5195)>0),IF(COUNTIF(B4409:B4418,B4418)=10,B4418+7,B4418),\"\")","v":""},"","","",null,null,null,0,0,0,0,{"$f":"IFERROR(VLOOKUP(G4419,DropDowns!$D$2:$E$151,2,FALSE),\"\")","v":""},{"$f":"IFERROR(VLOOKUP(H4419,DropDowns!$F$2:$G$7,2,FALSE),\"Residual categories\")","v":"Residual categories"},null,null,null,0,0,0]
[0,{"$f":"IF(OR(COUNTA(O4391:O4420)>0,COUNTA(O4420:$O$5195)>0),IF(COUNTIF(B4411:B4420,B4420)=10,B4420+7,B4420),\"\")","v":""},"","","",null,null,null,0,0,0,0,{"$f":"IFERROR(VLOOKUP(G4421,DropDowns!$D$2:$E$151,2,FALSE),\"\")","v":""},{"$f":"IFERROR(VLOOKUP(H4421,DropDowns!$F$2:$G$7,2,FALSE),\"Residual categories\")","v":"Residual categories"},null,null,null,0,0,0]
[0,{"$f":"IF(OR(COUNTA(O4392:O4421)>0,COUNTA(O4421:$O$5195)>0),IF(COUNTIF(B4412:B4421,B4421)=10,B4421+7,B4421),\"\")","v":""},"","","",null,null,null,0,0,0,0,{"$f":"IFERROR(VLOOKUP(G4422,DropDowns!$D$2:$E$151,2,FALSE),\"\")","v":""},{"$f":"IFERROR(VLOOKUP(H4422,DropDowns!$F$2:$G$7,2,FALSE),\"Residual categories\")","v":"Residual categories"},null,null,null,0,0,0]
[0,{"$f":"IF(OR(COUNTA(O4394:O4423)>0,COUNTA(O4423:$O$5195)>0),IF(COUNTIF(B4414:B4423,B4423)=10,B4423+7,B4423),\"\")","v":""},"","","",null,null,null,0,0,0,0,{"$f":"IFERROR(VLOOKUP(G4424,DropDowns!$D$2:$E$151,2,FALSE),\"\")","v":""},{"$f":"IFERROR(VLOOKUP(H4424,DropDowns!$F$2:$G$7,2,FALSE),\"Residual categories\")","v":"Residual categories"},null,null,null,0,0,0]
[0,{"$f":"IF(OR(COUNTA(O4395:O4424)>0,COUNTA(O4424:$O$5195)>0),IF(COUNTIF(B4415:B4424,B4424)=10,B4424+7,B4424),\"\")","v":""},"","","",null,null,null,0,0,0,0,{"$f":"IFERROR(VLOOKUP(G4425,DropDowns!$D$2:$E$151,2,FALSE),\"\")","v":""},{"$f":"IFERROR(VLOOKUP(H4425,DropDowns!$F$2:$G$7,2,FALSE),\"Residual categories\")","v":"Residual categories"},null,null,null,0,0,0]
[0,{"$f":"IF(OR(COUNTA(O4396:O4425)>0,COUNTA(O4425:$O$5195)>0),IF(COUNTIF(B4416:B4425,B4425)=10,B4425+7,B4425),\"\")","v":""},"","","",null,null,null,0,0,0,0,{"$f":"IFERROR(VLOOKUP(G4426,DropDowns!$D$2:$E$151,2,FALSE),\"\")","v":""},{"$f":"IFERROR(VLOOKUP(H4426,DropDowns!$F$2:$G$7,2,FALSE),\"Residual categories\")","v":"Residual categories"},null,null,null,0,0,0]
[0,{"$f":"IF(OR(COUNTA(O4397:O4426)>0,COUNTA(O4426:$O$5195)>0),IF(COUNTIF(B4417:B4426,B4426)=10,B4426+7,B4426),\"\")","v":""},"","","",null,null,null,0,0,0,0,{"$f":"IFERROR(VLOOKUP(G4427,DropDowns!$D$2:$E$151,2,FALSE),\"\")","v":""},{"$f":"IFERROR(VLOOKUP(H4427,DropDowns!$F$2:$G$7,2,FALSE),\"Residual categories\")","v":"Residual categories"},null,null,null,0,0,0]
[0,{"$f":"IF(OR(COUNTA(O4399:O4428)>0,COUNTA(O4428:$O$5195)>0),IF(COUNTIF(B4419:B4428,B4428)=10,B4428+7,B4428),\"\")","v":""},"","","",null,null,null,0,0,0,0,{"$f":"IFERROR(VLOOKUP(G4429,DropDowns!$D$2:$E$151,2,FALSE),\"\")","v":""},{"$f":"IFERROR(VLOOKUP(H4429,DropDowns!$F$2:$G$7,2,FALSE),\"Residual categories\")","v":"Residual categories"},null,null,null,0,0,0]
[0,{"$f":"IF(OR(COUNTA(O4400:O4429)>0,COUNTA(O4429:$O$5195)>0),IF(COUNTIF(B4420:B4429,B4429)=10,B4429+7,B4429),\"\")","v":""},"","","",null,null,null,0,0,0,0,{"$f":"IFERROR(VLOOKUP(G4430,DropDowns!$D$2:$E$151,2,FALSE),\"\")","v":""},{"$f":"IFERROR(VLOOKUP(H4430,DropDowns!$F$2:$G$7,2,FALSE),\"Residual categories\")","v":"Residual categories"},null,null,null,0,0,0]
[0,{"$f":"IF(OR(COUNTA(O4402:O4431)>0,COUNTA(O4431:$O$5195)>0),IF(COUNTIF(B4422:B4431,B4431)=10,B4431+7,B4431),\"\")","v":""},"","","",null,null,null,0,0,0,0,{"$f":"IFERROR(VLOOKUP(G4432,DropDowns!$D$2:$E$151,2,FALSE),\"\")","v":""},{"$f":"IFERROR(VLOOKUP(H4432,DropDowns!$F$2:$G$7,2,FALSE),\"Residual categories\")","v":"Residual categories"},null,null,null,0,0,0]
[0,{"$f":"IF(OR(COUNTA(O4403:O4432)>0,COUNTA(O4432:$O$5195)>0),IF(COUNTIF(B4423:B4432,B4432)=10,B4432+7,B4432),\"\")","v":""},"","",{"$f":"IF(B4433=\"\",\"\",COUNTIF(B4424:B4433,B4433))","v":""},null,null,null,0,0,0,0,{"$f":"IFERROR(VLOOKUP(G4433,DropDowns!$D$2:$E$151,2,FALSE),\"\")","v":""},{"$f":"IFERROR(VLOOKUP(H4433,DropDowns!$F$2:$G$7,2,FALSE),\"Residual categories\")","v":"Residual categories"},null,null,null,0,0,0]
[0,{"$f":"IF(OR(COUNTA(O4404:O4433)>0,COUNTA(O4433:$O$5195)>0),IF(COUNTIF(B4424:B4433,B4433)=10,B4433+7,B4433),\"\")","v":""},"","","",null,null,null,0,0,0,0,{"$f":"IFERROR(VLOOKUP(G4434,DropDowns!$D$2:$E$151,2,FALSE),\"\")","v":""},{"$f":"IFERROR(VLOOKUP(H4434,DropDowns!$F$2:$G$7,2,FALSE),\"Residual categories\")","v":"Residual categories"},null,null,null,0,0,0]
[0,{"$f":"IF(OR(COUNTA(O4405:O4434)>0,COUNTA(O4434:$O$5195)>0),IF(COUNTIF(B4425:B4434,B4434)=10,B4434+7,B4434),\"\")","v":""},"","","",null,null,null,0,0,0,0,{"$f":"IFERROR(VLOOKUP(G4435,DropDowns!$D$2:$E$151,2,FALSE),\"\")","v":""},{"$f":"IFERROR(VLOOKUP(H4435,DropDowns!$F$2:$G$7,2,FALSE),\"Residual categories\")","v":"Residual categories"},null,null,null,0,0,0]
[0,{"$f":"IF(OR(COUNTA(O4407:O4436)>0,COUNTA(O4436:$O$5195)>0),IF(COUNTIF(B4427:B4436,B4436)=10,B4436+7,B4436),\"\")","v":""},"","","",null,null,null,0,0,0,0,{"$f":"IFERROR(VLOOKUP(G4437,DropDowns!$D$2:$E$151,2,FALSE),\"\")","v":""},{"$f":"IFERROR(VLOOKUP(H4437,DropDowns!$F$2:$G$7,2,FALSE),\"Residual categories\")","v":"Residual categories"},null,null,null,0,0,0]
[0,{"$f":"IF(OR(COUNTA(O4408:O4437)>0,COUNTA(O4437:$O$5195)>0),IF(COUNTIF(B4428:B4437,B4437)=10,B4437+7,B4437),\"\")","v":""},"","","",null,null,null,0,0,0,0,{"$f":"IFERROR(VLOOKUP(G4438,DropDowns!$D$2:$E$151,2,FALSE),\"\")","v":""},{"$f":"IFERROR(VLOOKUP(H4438,DropDowns!$F$2:$G$7,2,FALSE),\"Residual categories\")","v":"Residual categories"},null,null,null,0,0,0]
[0,{"$f":"IF(OR(COUNTA(O4410:O4439)>0,COUNTA(O4439:$O$5195)>0),IF(COUNTIF(B4430:B4439,B4439)=10,B4439+7,B4439),\"\")","v":""},"","","",null,null,null,0,0,0,0,{"$f":"IFERROR(VLOOKUP(G4440,DropDowns!$D$2:$E$151,2,FALSE),\"\")","v":""},{"$f":"IFERROR(VLOOKUP(H4440,DropDowns!$F$2:$G$7,2,FALSE),\"Residual categories\")","v":"Residual categories"},null,null,null,0,0,0]
[0,{"$f":"IF(OR(COUNTA(O4411:O4440)>0,COUNTA(O4440:$O$5195)>0),IF(COUNTIF(B4431:B4440,B4440)=10,B4440+7,B4440),\"\")","v":""},"","","",null,null,null,0,0,0,0,{"$f":"IFERROR(VLOOKUP(G4441,DropDowns!$D$2:$E$151,2,FALSE),\"\")","v":""},{"$f":"IFERROR(VLOOKUP(H4441,DropDowns!$F$2:$G$7,2,FALSE),\"Residual categories\")","v":"Residual categories"},null,null,null,0,0,0]
[0,{"$f":"IF(OR(COUNTA(O4413:O4442)>0,COUNTA(O4442:$O$5195)>0),IF(COUNTIF(B4433:B4442,B4442)=10,B4442+7,B4442),\"\")","v":""},"","","",null,null,null,0,0,0,0,{"$f":"IFERROR(VLOOKUP(G4443,DropDowns!$D$2:$E$151,2,FALSE),\"\")","v":""},{"$f":"IFERROR(VLOOKUP(H4443,DropDowns!$F$2:$G$7,2,FALSE),\"Residual categories\")","v":"Residual categories"},null,null,null,0,0,0]
[0,{"$f":"IF(OR(COUNTA(O4414:O4443)>0,COUNTA(O4443:$O$5195)>0),IF(COUNTIF(B4434:B4443,B4443)=10,B4443+7,B4443),\"\")","v":""},"","","",null,null,null,0,0,0,0,{"$f":"IFERROR(VLOOKUP(G4444,DropDowns!$D$2:$E$151,2,FALSE),\"\")","v":""},{"$f":"IFERROR(VLOOKUP(H4444,DropDowns!$F$2:$G$7,2,FALSE),\"Residual categories\")","v":"Residual categories"},null,null,null,0,0,0]
[0,{"$f":"IF(OR(COUNTA(O4415:O4444)>0,COUNTA(O4444:$O$5195)>0),IF(COUNTIF(B4435:B4444,B4444)=10,B4444+7,B4444),\"\")","v":""},"","","",null,null,null,0,0,0,0,{"$f":"IFERROR(VLOOKUP(G4445,DropDowns!$D$2:$E$151,2,FALSE),\"\")","v":""},{"$f":"IFERROR(VLOOKUP(H4445,DropDowns!$F$2:$G$7,2,FALSE),\"Residual categories\")","v":"Residual categories"},null,null,null,0,0,0]
[0,{"$f":"IF(OR(COUNTA(O4416:O4445)>0,COUNTA(O4445:$O$5195)>0),IF(COUNTIF(B4436:B4445,B4445)=10,B4445+7,B4445),\"\")","v":""},"","","",null,null,null,0,0,0,0,{"$f":"IFERROR(VLOOKUP(G4446,DropDowns!$D$2:$E$151,2,FALSE),\"\")","v":""},{"$f":"IFERROR(VLOOKUP(H4446,DropDowns!$F$2:$G$7,2,FALSE),\"Residual categories\")","v":"Residual categories"},null,null,null,0,0,0]
[0,{"$f":"IF(OR(COUNTA(O4418:O4447)>0,COUNTA(O4447:$O$5195)>0),IF(COUNTIF(B4438:B4447,B4447)=10,B4447+7,B4447),\"\")","v":""},"","","",null,null,null,0,0,0,0,{"$f":"IFERROR(VLOOKUP(G4448,DropDowns!$D$2:$E$151,2,FALSE),\"\")","v":""},{"$f":"IFERROR(VLOOKUP(H4448,DropDowns!$F$2:$G$7,2,FALSE),\"Residual categories\")","v":"Residual categories"},null,null,null,0,0,0]
[0,{"$f":"IF(OR(COUNTA(O4419:O4448)>0,COUNTA(O4448:$O$5195)>0),IF(COUNTIF(B4439:B4448,B4448)=10,B4448+7,B4448),\"\")","v":""},"","","",null,null,null,0,0,0,0,{"$f":"IFERROR(VLOOKUP(G4449,DropDowns!$D$2:$E$151,2,FALSE),\"\")","v":""},{"$f":"IFERROR(VLOOKUP(H4449,DropDowns!$F$2:$G$7,2,FALSE),\"Residual categories\")","v":"Residual categories"},null,null,null,0,0,0]
[0,{"$f":"IF(OR(COUNTA(O4421:O4450)>0,COUNTA(O4450:$O$5195)>0),IF(COUNTIF(B4441:B4450,B4450)=10,B4450+7,B4450),\"\")","v":""},"","","",null,null,null,0,0,0,0,{"$f":"IFERROR(VLOOKUP(G4451,DropDowns!$D$2:$E$151,2,FALSE),\"\")","v":""},{"$f":"IFERROR(VLOOKUP(H4451,DropDowns!$F$2:$G$7,2,FALSE),\"Residual categories\")","v":"Residual categories"},null,null,null,0,0,0]
[0,{"$f":"IF(OR(COUNTA(O4422:O4451)>0,COUNTA(O4451:$O$5195)>0),IF(COUNTIF(B4442:B4451,B4451)=10,B4451+7,B4451),\"\")","v":""},"","","",null,null,null,0,0,0,0,{"$f":"IFERROR(VLOOKUP(G4452,DropDowns!$D$2:$E$151,2,FALSE),\"\")","v":""},{"$f":"IFERROR(VLOOKUP(H4452,DropDowns!$F$2:$G$7,2,FALSE),\"Residual categories\")","v":"Residual categories"},null,null,null,0,0,0]
[0,{"$f":"IF(OR(COUNTA(O4423:O4452)>0,COUNTA(O4452:$O$5195)>0),IF(COUNTIF(B4443:B4452,B4452)=10,B4452+7,B4452),\"\")","v":""},"","","",null,null,null,0,0,0,0,{"$f":"IFERROR(VLOOKUP(G4453,DropDowns!$D$2:$E$151,2,FALSE),\"\")","v":""},{"$f":"IFERROR(VLOOKUP(H4453,DropDowns!$F$2:$G$7,2,FALSE),\"Residual categories\")","v":"Residual categories"},null,null,null,0,0,0]
[0,{"$f":"IF(OR(COUNTA(O4424:O4453)>0,COUNTA(O4453:$O$5195)>0),IF(COUNTIF(B4444:B4453,B4453)=10,B4453+7,B4453),\"\")","v":""},"","","",null,null,null,0,0,0,0,{"$f":"IFERROR(VLOOKUP(G4454,DropDowns!$D$2:$E$151,2,FALSE),\"\")","v":""},{"$f":"IFERROR(VLOOKUP(H4454,DropDowns!$F$2:$G$7,2,FALSE),\"Residual categories\")","v":"Residual categories"},null,null,null,0,0,0]
[0,{"$f":"IF(OR(COUNTA(O4426:O4455)>0,COUNTA(O4455:$O$5195)>0),IF(COUNTIF(B4446:B4455,B4455)=10,B4455+7,B4455),\"\")","v":""},"","","",null,null,null,0,0,0,0,{"$f":"IFERROR(VLOOKUP(G4456,DropDowns!$D$2:$E$151,2,FALSE),\"\")","v":""},{"$f":"IFERROR(VLOOKUP(H4456,DropDowns!$F$2:$G$7,2,FALSE),\"Residual categories\")","v":"Residual categories"},null,null,null,0,0,0]
[0,{"$f":"IF(OR(COUNTA(O4427:O4456)>0,COUNTA(O4456:$O$5195)>0),IF(COUNTIF(B4447:B4456,B4456)=10,B4456+7,B4456),\"\")","v":""},"","","",null,null,null,0,0,0,0,{"$f":"IFERROR(VLOOKUP(G4457,DropDowns!$D$2:$E$151,2,FALSE),\"\")","v":""},{"$f":"IFERROR(VLOOKUP(H4457,DropDowns!$F$2:$G$7,2,FALSE),\"Residual categories\")","v":"Residual categories"},null,null,null,0,0,0]
[0,{"$f":"IF(OR(COUNTA(O4429:O4458)>0,COUNTA(O4458:$O$5195)>0),IF(COUNTIF(B4449:B4458,B4458)=10,B4458+7,B4458),\"\")","v":""},"","","",null,null,null,0,0,0,0,{"$f":"IFERROR(VLOOKUP(G4459,DropDowns!$D$2:$E$151,2,FALSE),\"\")","v":""},{"$f":"IFERROR(VLOOKUP(H4459,DropDowns!$F$2:$G$7,2,FALSE),\"Residual categories\")","v":"Residual categories"},null,null,null,0,0,0]
[0,{"$f":"IF(OR(COUNTA(O4430:O4459)>0,COUNTA(O4459:$O$5195)>0),IF(COUNTIF(B4450:B4459,B4459)=10,B4459+7,B4459),\"\")","v":""},"","","",null,null,null,0,0,0,0,{"$f":"IFERROR(VLOOKUP(G4460,DropDowns!$D$2:$E$151,2,FALSE),\"\")","v":""},{"$f":"IFERROR(VLOOKUP(H4460,DropDowns!$F$2:$G$7,2,FALSE),\"Residual categories\")","v":"Residual categories"},null,null,null,0,0,0]
[0,{"$f":"IF(OR(COUNTA(O4431:O4460)>0,COUNTA(O4460:$O$5195)>0),IF(COUNTIF(B4451:B4460,B4460)=10,B4460+7,B4460),\"\")","v":""},"","","",null,null,null,0,0,0,0,{"$f":"IFERROR(VLOOKUP(G4461,DropDowns!$D$2:$E$151,2,FALSE),\"\")","v":""},{"$f":"IFERROR(VLOOKUP(H4461,DropDowns!$F$2:$G$7,2,FALSE),\"Residual categories\")","v":"Residual categories"},null,null,null,0,0,0]
[0,{"$f":"IF(OR(COUNTA(O4432:O4461)>0,COUNTA(O4461:$O$5195)>0),IF(COUNTIF(B4452:B4461,B4461)=10,B4461+7,B4461),\"\")","v":""},"","","",null,null,null,0,0,0,0,{"$f":"IFERROR(VLOOKUP(G4462,DropDowns!$D$2:$E$151,2,FALSE),\"\")","v":""},{"$f":"IFERROR(VLOOKUP(H4462,DropDowns!$F$2:$G$7,2,FALSE),\"Residual categories\")","v":"Residual categories"},null,null,null,0,0,0]
[0,{"$f":"IF(OR(COUNTA(O4434:O4463)>0,COUNTA(O4463:$O$5195)>0),IF(COUNTIF(B4454:B4463,B4463)=10,B4463+7,B4463),\"\")","v":""},"","","",null,null,null,0,0,0,0,{"$f":"IFERROR(VLOOKUP(G4464,DropDowns!$D$2:$E$151,2,FALSE),\"\")","v":""},{"$f":"IFERROR(VLOOKUP(H4464,DropDowns!$F$2:$G$7,2,FALSE),\"Residual categories\")","v":"Residual categories"},null,null,null,0,0,0]
[0,{"$f":"IF(OR(COUNTA(O4435:O4464)>0,COUNTA(O4464:$O$5195)>0),IF(COUNTIF(B4455:B4464,B4464)=10,B4464+7,B4464),\"\")","v":""},"","","",null,null,null,0,0,0,0,{"$f":"IFERROR(VLOOKUP(G4465,DropDowns!$D$2:$E$151,2,FALSE),\"\")","v":""},{"$f":"IFERROR(VLOOKUP(H4465,DropDowns!$F$2:$G$7,2,FALSE),\"Residual categories\")","v":"Residual categories"},null,null,null,0,0,0]
[0,{"$f":"IF(OR(COUNTA(O4437:O4466)>0,COUNTA(O4466:$O$5195)>0),IF(COUNTIF(B4457:B4466,B4466)=10,B4466+7,B4466),\"\")","v":""},"","","",null,null,null,0,0,0,0,{"$f":"IFERROR(VLOOKUP(G4467,DropDowns!$D$2:$E$151,2,FALSE),\"\")","v":""},{"$f":"IFERROR(VLOOKUP(H4467,DropDowns!$F$2:$G$7,2,FALSE),\"Residual categories\")","v":"Residual categories"},null,null,null,0,0,0]
[0,{"$f":"IF(OR(COUNTA(O4438:O4467)>0,COUNTA(O4467:$O$5195)>0),IF(COUNTIF(B4458:B4467,B4467)=10,B4467+7,B4467),\"\")","v":""},"","","",null,null,null,0,0,0,0,{"$f":"IFERROR(VLOOKUP(G4468,DropDowns!$D$2:$E$151,2,FALSE),\"\")","v":""},{"$f":"IFERROR(VLOOKUP(H4468,DropDowns!$F$2:$G$7,2,FALSE),\"Residual categories\")","v":"Residual categories"},null,null,null,0,0,0]
[0,{"$f":"IF(OR(COUNTA(O4439:O4468)>0,COUNTA(O4468:$O$5195)>0),IF(COUNTIF(B4459:B4468,B4468)=10,B4468+7,B4468),\"\")","v":""},"","","",null,null,null,0,0,0,0,{"$f":"IFERROR(VLOOKUP(G4469,DropDowns!$D$2:$E$151,2,FALSE),\"\")","v":""},{"$f":"IFERROR(VLOOKUP(H4469,DropDowns!$F$2:$G$7,2,FALSE),\"Residual categories\")","v":"Residual categories"},null,null,null,0,0,0]
[0,{"$f":"IF(OR(COUNTA(O4440:O4469)>0,COUNTA(O4469:$O$5195)>0),IF(COUNTIF(B4460:B4469,B4469)=10,B4469+7,B4469),\"\")","v":""},"","","",null,null,null,0,0,0,0,{"$f":"IFERROR(VLOOKUP(G4470,DropDowns!$D$2:$E$151,2,FALSE),\"\")","v":""},{"$f":"IFERROR(VLOOKUP(H4470,DropDowns!$F$2:$G$7,2,FALSE),\"Residual categories\")","v":"Residual categories"},null,null,null,0,0,0]
[0,{"$f":"IF(OR(COUNTA(O4442:O4471)>0,COUNTA(O4471:$O$5195)>0),IF(COUNTIF(B4462:B4471,B4471)=10,B4471+7,B4471),\"\")","v":""},"","","",null,null,null,0,0,0,0,{"$f":"IFERROR(VLOOKUP(G4472,DropDowns!$D$2:$E$151,2,FALSE),\"\")","v":""},{"$f":"IFERROR(VLOOKUP(H4472,DropDowns!$F$2:$G$7,2,FALSE),\"Residual categories\")","v":"Residual categories"},null,null,null,0,0,0]
[0,{"$f":"IF(OR(COUNTA(O4443:O4472)>0,COUNTA(O4472:$O$5195)>0),IF(COUNTIF(B4463:B4472,B4472)=10,B4472+7,B4472),\"\")","v":""},"","","",null,null,null,0,0,0,0,{"$f":"IFERROR(VLOOKUP(G4473,DropDowns!$D$2:$E$151,2,FALSE),\"\")","v":""},{"$f":"IFERROR(VLOOKUP(H4473,DropDowns!$F$2:$G$7,2,FALSE),\"Residual categories\")","v":"Residual categories"},null,null,null,0,0,0]
[0,{"$f":"IF(OR(COUNTA(O4445:O4474)>0,COUNTA(O4474:$O$5195)>0),IF(COUNTIF(B4465:B4474,B4474)=10,B4474+7,B4474),\"\")","v":""},"","","",null,null,null,0,0,0,0,{"$f":"IFERROR(VLOOKUP(G4475,DropDowns!$D$2:$E$151,2,FALSE),\"\")","v":""},{"$f":"IFERROR(VLOOKUP(H4475,DropDowns!$F$2:$G$7,2,FALSE),\"Residual categories\")","v":"Residual categories"},null,null,null,0,0,0]
[0,{"$f":"IF(OR(COUNTA(O4446:O4475)>0,COUNTA(O4475:$O$5195)>0),IF(COUNTIF(B4466:B4475,B4475)=10,B4475+7,B4475),\"\")","v":""},"","","",null,null,null,0,0,0,0,{"$f":"IFERROR(VLOOKUP(G4476,DropDowns!$D$2:$E$151,2,FALSE),\"\")","v":""},{"$f":"IFERROR(VLOOKUP(H4476,DropDowns!$F$2:$G$7,2,FALSE),\"Residual categories\")","v":"Residual categories"},null,null,null,0,0,0]
[0,{"$f":"IF(OR(COUNTA(O4448:O4477)>0,COUNTA(O4477:$O$5195)>0),IF(COUNTIF(B4468:B4477,B4477)=10,B4477+7,B4477),\"\")","v":""},"","","",null,null,null,0,0,0,0,{"$f":"IFERROR(VLOOKUP(G4478,DropDowns!$D$2:$E$151,2,FALSE),\"\")","v":""},{"$f":"IFERROR(VLOOKUP(H4478,DropDowns!$F$2:$G$7,2,FALSE),\"Residual categories\")","v":"Residual categories"},null,null,null,0,0,0]
[0,{"$f":"IF(OR(COUNTA(O4449:O4478)>0,COUNTA(O4478:$O$5195)>0),IF(COUNTIF(B4469:B4478,B4478)=10,B4478+7,B4478),\"\")","v":""},"","","",null,null,null,0,0,0,0,{"$f":"IFERROR(VLOOKUP(G4479,DropDowns!$D$2:$E$151,2,FALSE),\"\")","v":""},{"$f":"IFERROR(VLOOKUP(H4479,DropDowns!$F$2:$G$7,2,FALSE),\"Residual categories\")","v":"Residual categories"},null,null,null,0,0,0]
[0,{"$f":"IF(OR(COUNTA(O4450:O4479)>0,COUNTA(O4479:$O$5195)>0),IF(COUNTIF(B4470:B4479,B4479)=10,B4479+7,B4479),\"\")","v":""},"","","",null,null,null,0,0,0,0,{"$f":"IFERROR(VLOOKUP(G4480,DropDowns!$D$2:$E$151,2,FALSE),\"\")","v":""},{"$f":"IFERROR(VLOOKUP(H4480,DropDowns!$F$2:$G$7,2,FALSE),\"Residual categories\")","v":"Residual categories"},null,null,null,0,0,0]
[0,{"$f":"IF(OR(COUNTA(O4451:O4480)>0,COUNTA(O4480:$O$5195)>0),IF(COUNTIF(B4471:B4480,B4480)=10,B4480+7,B4480),\"\")","v":""},"","","",null,null,null,0,0,0,0,{"$f":"IFERROR(VLOOKUP(G4481,DropDowns!$D$2:$E$151,2,FALSE),\"\")","v":""},{"$f":"IFERROR(VLOOKUP(H4481,DropDowns!$F$2:$G$7,2,FALSE),\"Residual categories\")","v":"Residual categories"},null,null,null,0,0,0]
[0,{"$f":"IF(OR(COUNTA(O4453:O4482)>0,COUNTA(O4482:$O$5195)>0),IF(COUNTIF(B4473:B4482,B4482)=10,B4482+7,B4482),\"\")","v":""},"","","",null,null,null,0,0,0,0,{"$f":"IFERROR(VLOOKUP(G4483,DropDowns!$D$2:$E$151,2,FALSE),\"\")","v":""},{"$f":"IFERROR(VLOOKUP(H4483,DropDowns!$F$2:$G$7,2,FALSE),\"Residual categories\")","v":"Residual categories"},null,null,null,0,0,0]
[0,{"$f":"IF(OR(COUNTA(O4454:O4483)>0,COUNTA(O4483:$O$5195)>0),IF(COUNTIF(B4474:B4483,B4483)=10,B4483+7,B4483),\"\")","v":""},"","","",null,null,null,0,0,0,0,{"$f":"IFERROR(VLOOKUP(G4484,DropDowns!$D$2:$E$151,2,FALSE),\"\")","v":""},{"$f":"IFERROR(VLOOKUP(H4484,DropDowns!$F$2:$G$7,2,FALSE),\"Residual categories\")","v":"Residual categories"},null,null,null,0,0,0]
[0,{"$f":"IF(OR(COUNTA(O4456:O4485)>0,COUNTA(O4485:$O$5195)>0),IF(COUNTIF(B4476:B4485,B4485)=10,B4485+7,B4485),\"\")","v":""},"","","",null,null,null,0,0,0,0,{"$f":"IFERROR(VLOOKUP(G4486,DropDowns!$D$2:$E$151,2,FALSE),\"\")","v":""},{"$f":"IFERROR(VLOOKUP(H4486,DropDowns!$F$2:$G$7,2,FALSE),\"Residual categories\")","v":"Residual categories"},null,null,null,0,0,0]
[0,{"$f":"IF(OR(COUNTA(O4457:O4486)>0,COUNTA(O4486:$O$5195)>0),IF(COUNTIF(B4477:B4486,B4486)=10,B4486+7,B4486),\"\")","v":""},{"$f":"IF(D4487=1,A4487,\"\")","v":""},"","",null,null,null,{"$f":"IF(COUNTA(O4487:Q4487)>0,1,0)","v":0},{"$f":"IF(O4487=\"y\",1,0)","v":0},{"$f":"IF(P4487=\"y\",1,0)","v":0},{"$f":"IF(Q4487=\"y\",1,0)","v":0},{"$f":"IFERROR(VLOOKUP(G4487,DropDowns!$D$2:$E$151,2,FALSE),\"\")","v":""},{"$f":"IFERROR(VLOOKUP(H4487,DropDowns!$F$2:$G$7,2,FALSE),\"Residual categories\")","v":"Residual categories"},null,null,null,{"$f":"IF(O4487=\"yes\",1,0)","v":0},{"$f":"IF(P4487=\"yes\",1,0)","v":0},{"$f":"IF(Q4487=\"yes\",1,0)","v":0}]
[0,{"$f":"IF(OR(COUNTA(O4458:O4487)>0,COUNTA(O4487:$O$5195)>0),IF(COUNTIF(B4478:B4487,B4487)=10,B4487+7,B4487),\"\")","v":""},"","","",null,null,null,0,0,0,0,{"$f":"IFERROR(VLOOKUP(G4488,DropDowns!$D$2:$E$151,2,FALSE),\"\")","v":""},{"$f":"IFERROR(VLOOKUP(H4488,DropDowns!$F$2:$G$7,2,FALSE),\"Residual categories\")","v":"Residual categories"},null,null,null,0,0,0]
[0,{"$f":"IF(OR(COUNTA(O4459:O4488)>0,COUNTA(O4488:$O$5195)>0),IF(COUNTIF(B4479:B4488,B4488)=10,B4488+7,B4488),\"\")","v":""},"","","",null,null,null,0,0,0,0,{"$f":"IFERROR(VLOOKUP(G4489,DropDowns!$D$2:$E$151,2,FALSE),\"\")","v":""},{"$f":"IFERROR(VLOOKUP(H4489,DropDowns!$F$2:$G$7,2,FALSE),\"Residual categories\")","v":"Residual categories"},null,null,null,0,0,0]
[0,{"$f":"IF(OR(COUNTA(O4461:O4490)>0,COUNTA(O4490:$O$5195)>0),IF(COUNTIF(B4481:B4490,B4490)=10,B4490+7,B4490),\"\")","v":""},"","","",null,null,null,0,0,0,0,{"$f":"IFERROR(VLOOKUP(G4491,DropDowns!$D$2:$E$151,2,FALSE),\"\")","v":""},{"$f":"IFERROR(VLOOKUP(H4491,DropDowns!$F$2:$G$7,2,FALSE),\"Residual categories\")","v":"Residual categories"},null,null,null,0,0,0]
[0,{"$f":"IF(OR(COUNTA(O4462:O4491)>0,COUNTA(O4491:$O$5195)>0),IF(COUNTIF(B4482:B4491,B4491)=10,B4491+7,B4491),\"\")","v":""},"","","",null,null,null,0,0,0,0,{"$f":"IFERROR(VLOOKUP(G4492,DropDowns!$D$2:$E$151,2,FALSE),\"\")","v":""},{"$f":"IFERROR(VLOOKUP(H4492,DropDowns!$F$2:$G$7,2,FALSE),\"Residual categories\")","v":"Residual categories"},null,null,null,0,0,0]
[0,{"$f":"IF(OR(COUNTA(O4464:O4493)>0,COUNTA(O4493:$O$5195)>0),IF(COUNTIF(B4484:B4493,B4493)=10,B4493+7,B4493),\"\")","v":""},"","","",null,null,null,0,0,0,0,{"$f":"IFERROR(VLOOKUP(G4494,DropDowns!$D$2:$E$151,2,FALSE),\"\")","v":""},{"$f":"IFERROR(VLOOKUP(H4494,DropDowns!$F$2:$G$7,2,FALSE),\"Residual categories\")","v":"Residual categories"},null,null,null,0,0,0]
[0,{"$f":"IF(OR(COUNTA(O4465:O4494)>0,COUNTA(O4494:$O$5195)>0),IF(COUNTIF(B4485:B4494,B4494)=10,B4494+7,B4494),\"\")","v":""},"","","",null,null,null,0,0,0,0,{"$f":"IFERROR(VLOOKUP(G4495,DropDowns!$D$2:$E$151,2,FALSE),\"\")","v":""},{"$f":"IFERROR(VLOOKUP(H4495,DropDowns!$F$2:$G$7,2,FALSE),\"Residual categories\")","v":"Residual categories"},null,null,null,0,0,0]
[0,{"$f":"IF(OR(COUNTA(O4466:O4495)>0,COUNTA(O4495:$O$5195)>0),IF(COUNTIF(B4486:B4495,B4495)=10,B4495+7,B4495),\"\")","v":""},"","","",null,null,null,0,0,0,0,{"$f":"IFERROR(VLOOKUP(G4496,DropDowns!$D$2:$E$151,2,FALSE),\"\")","v":""},{"$f":"IFERROR(VLOOKUP(H4496,DropDowns!$F$2:$G$7,2,FALSE),\"Residual categories\")","v":"Residual categories"},null,null,null,0,0,0]
[0,{"$f":"IF(OR(COUNTA(O4467:O4496)>0,COUNTA(O4496:$O$5195)>0),IF(COUNTIF(B4487:B4496,B4496)=10,B4496+7,B4496),\"\")","v":""},"","",{"$f":"IF(B4497=\"\",\"\",COUNTIF(B4488:B4497,B4497))","v":""},null,null,null,0,0,0,0,{"$f":"IFERROR(VLOOKUP(G4497,DropDowns!$D$2:$E$151,2,FALSE),\"\")","v":""},{"$f":"IFERROR(VLOOKUP(H4497,DropDowns!$F$2:$G$7,2,FALSE),\"Residual categories\")","v":"Residual categories"},null,null,null,0,0,0]
[0,{"$f":"IF(OR(COUNTA(O4469:O4498)>0,COUNTA(O4498:$O$5195)>0),IF(COUNTIF(B4489:B4498,B4498)=10,B4498+7,B4498),\"\")","v":""},"","","",null,null,null,0,0,0,0,{"$f":"IFERROR(VLOOKUP(G4499,DropDowns!$D$2:$E$151,2,FALSE),\"\")","v":""},{"$f":"IFERROR(VLOOKUP(H4499,DropDowns!$F$2:$G$7,2,FALSE),\"Residual categories\")","v":"Residual categories"},null,null,null,0,0,0]
[{"$f":"$E$2","v":0},{"$f":"IF(OR(COUNTA(O4470:O4499)>0,COUNTA(O4499:$O$5195)>0),IF(COUNTIF(B4490:B4499,B4499)=10,B4499+7,B4499),\"\")","v":""},"","","",null,null,null,0,0,0,0,{"$f":"IFERROR(VLOOKUP(G4500,DropDowns!$D$2:$E$151,2,FALSE),\"\")","v":""},{"$f":"IFERROR(VLOOKUP(H4500,DropDowns!$F$2:$G$7,2,FALSE),\"Residual categories\")","v":"Residual categories"},null,null,null,0,0,0]
[0,{"$f":"IF(OR(COUNTA(O4472:O4501)>0,COUNTA(O4501:$O$5195)>0),IF(COUNTIF(B4492:B4501,B4501)=10,B4501+7,B4501),\"\")","v":""},"","","",null,null,null,0,0,0,0,{"$f":"IFERROR(VLOOKUP(G4502,DropDowns!$D$2:$E$151,2,FALSE),\"\")","v":""},{"$f":"IFERROR(VLOOKUP(H4502,DropDowns!$F$2:$G$7,2,FALSE),\"Residual categories\")","v":"Residual categories"},null,null,null,0,0,0]
[0,{"$f":"IF(OR(COUNTA(O4473:O4502)>0,COUNTA(O4502:$O$5195)>0),IF(COUNTIF(B4493:B4502,B4502)=10,B4502+7,B4502),\"\")","v":""},"","","",null,null,null,0,0,0,0,{"$f":"IFERROR(VLOOKUP(G4503,DropDowns!$D$2:$E$151,2,FALSE),\"\")","v":""},{"$f":"IFERROR(VLOOKUP(H4503,DropDowns!$F$2:$G$7,2,FALSE),\"Residual categories\")","v":"Residual categories"},null,null,null,0,0,0]
[0,{"$f":"IF(OR(COUNTA(O4475:O4504)>0,COUNTA(O4504:$O$5195)>0),IF(COUNTIF(B4495:B4504,B4504)=10,B4504+7,B4504),\"\")","v":""},"","","",null,null,null,0,0,0,0,{"$f":"IFERROR(VLOOKUP(G4505,DropDowns!$D$2:$E$151,2,FALSE),\"\")","v":""},{"$f":"IFERROR(VLOOKUP(H4505,DropDowns!$F$2:$G$7,2,FALSE),\"Residual categories\")","v":"Residual categories"},null,null,null,0,0,0]
[0,{"$f":"IF(OR(COUNTA(O4476:O4505)>0,COUNTA(O4505:$O$5195)>0),IF(COUNTIF(B4496:B4505,B4505)=10,B4505+7,B4505),\"\")","v":""},"","","",null,null,null,0,0,0,0,{"$f":"IFERROR(VLOOKUP(G4506,DropDowns!$D$2:$E$151,2,FALSE),\"\")","v":""},{"$f":"IFERROR(VLOOKUP(H4506,DropDowns!$F$2:$G$7,2,FALSE),\"Residual categories\")","v":"Residual categories"},null,null,null,0,0,0]
[0,{"$f":"IF(OR(COUNTA(O4477:O4506)>0,COUNTA(O4506:$O$5195)>0),IF(COUNTIF(B4497:B4506,B4506)=10,B4506+7,B4506),\"\")","v":""},"","","",null,null,null,0,0,0,0,{"$f":"IFERROR(VLOOKUP(G4507,DropDowns!$D$2:$E$151,2,FALSE),\"\")","v":""},{"$f":"IFERROR(VLOOKUP(H4507,DropDowns!$F$2:$G$7,2,FALSE),\"Residual categories\")","v":"Residual categories"},null,null,null,0,0,0]
[0,{"$f":"IF(OR(COUNTA(O4478:O4507)>0,COUNTA(O4507:$O$5195)>0),IF(COUNTIF(B4498:B4507,B4507)=10,B4507+7,B4507),\"\")","v":""},"","","",null,null,null,0,0,0,0,{"$f":"IFERROR(VLOOKUP(G4508,DropDowns!$D$2:$E$151,2,FALSE),\"\")","v":""},{"$f":"IFERROR(VLOOKUP(H4508,DropDowns!$F$2:$G$7,2,FALSE),\"Residual categories\")","v":"Residual categories"},null,null,null,0,0,0]
[0,{"$f":"IF(OR(COUNTA(O4480:O4509)>0,COUNTA(O4509:$O$5195)>0),IF(COUNTIF(B4500:B4509,B4509)=10,B4509+7,B4509),\"\")","v":""},"","","",null,null,null,0,0,0,0,{"$f":"IFERROR(VLOOKUP(G4510,DropDowns!$D$2:$E$151,2,FALSE),\"\")","v":""},{"$f":"IFERROR(VLOOKUP(H4510,DropDowns!$F$2:$G$7,2,FALSE),\"Residual categories\")","v":"Residual categories"},null,null,null,0,0,0]
[0,{"$f":"IF(OR(COUNTA(O4481:O4510)>0,COUNTA(O4510:$O$5195)>0),IF(COUNTIF(B4501:B4510,B4510)=10,B4510+7,B4510),\"\")","v":""},"","","",null,null,null,0,0,0,0,{"$f":"IFERROR(VLOOKUP(G4511,DropDowns!$D$2:$E$151,2,FALSE),\"\")","v":""},{"$f":"IFERROR(VLOOKUP(H4511,DropDowns!$F$2:$G$7,2,FALSE),\"Residual categories\")","v":"Residual categories"},null,null,null,0,0,0]
[0,{"$f":"IF(OR(COUNTA(O4483:O4512)>0,COUNTA(O4512:$O$5195)>0),IF(COUNTIF(B4503:B4512,B4512)=10,B4512+7,B4512),\"\")","v":""},"","","",null,null,null,0,0,0,0,{"$f":"IFERROR(VLOOKUP(G4513,DropDowns!$D$2:$E$151,2,FALSE),\"\")","v":""},{"$f":"IFERROR(VLOOKUP(H4513,DropDowns!$F$2:$G$7,2,FALSE),\"Residual categories\")","v":"Residual categories"},null,null,null,0,0,0]
[0,{"$f":"IF(OR(COUNTA(O4484:O4513)>0,COUNTA(O4513:$O$5195)>0),IF(COUNTIF(B4504:B4513,B4513)=10,B4513+7,B4513),\"\")","v":""},"","","",null,null,null,0,0,0,0,{"$f":"IFERROR(VLOOKUP(G4514,DropDowns!$D$2:$E$151,2,FALSE),\"\")","v":""},{"$f":"IFERROR(VLOOKUP(H4514,DropDowns!$F$2:$G$7,2,FALSE),\"Residual categories\")","v":"Residual categories"},null,null,null,0,0,0]
[0,{"$f":"IF(OR(COUNTA(O4485:O4514)>0,COUNTA(O4514:$O$5195)>0),IF(COUNTIF(B4505:B4514,B4514)=10,B4514+7,B4514),\"\")","v":""},"","","",null,null,null,0,0,0,0,{"$f":"IFERROR(VLOOKUP(G4515,DropDowns!$D$2:$E$151,2,FALSE),\"\")","v":""},{"$f":"IFERROR(VLOOKUP(H4515,DropDowns!$F$2:$G$7,2,FALSE),\"Residual categories\")","v":"Residual categories"},null,null,null,0,0,0]
[0,{"$f":"IF(OR(COUNTA(O4486:O4515)>0,COUNTA(O4515:$O$5195)>0),IF(COUNTIF(B4506:B4515,B4515)=10,B4515+7,B4515),\"\")","v":""},"","","",null,null,null,0,0,0,0,{"$f":"IFERROR(VLOOKUP(G4516,DropDowns!$D$2:$E$151,2,FALSE),\"\")","v":""},{"$f":"IFERROR(VLOOKUP(H4516,DropDowns!$F$2:$G$7,2,FALSE),\"Residual categories\")","v":"Residual categories"},null,null,null,0,0,0]
[0,{"$f":"IF(OR(COUNTA(O4488:O4517)>0,COUNTA(O4517:$O$5195)>0),IF(COUNTIF(B4508:B4517,B4517)=10,B4517+7,B4517),\"\")","v":""},"","","",null,null,null,0,0,0,0,{"$f":"IFERROR(VLOOKUP(G4518,DropDowns!$D$2:$E$151,2,FALSE),\"\")","v":""},{"$f":"IFERROR(VLOOKUP(H4518,DropDowns!$F$2:$G$7,2,FALSE),\"Residual categories\")","v":"Residual categories"},null,null,null,0,0,0]
[0,{"$f":"IF(OR(COUNTA(O4489:O4518)>0,COUNTA(O4518:$O$5195)>0),IF(COUNTIF(B4509:B4518,B4518)=10,B4518+7,B4518),\"\")","v":""},"","","",null,null,null,0,0,0,0,{"$f":"IFERROR(VLOOKUP(G4519,DropDowns!$D$2:$E$151,2,FALSE),\"\")","v":""},{"$f":"IFERROR(VLOOKUP(H4519,DropDowns!$F$2:$G$7,2,FALSE),\"Residual categories\")","v":"Residual categories"},null,null,null,0,0,0]
[0,{"$f":"IF(OR(COUNTA(O4491:O4520)>0,COUNTA(O4520:$O$5195)>0),IF(COUNTIF(B4511:B4520,B4520)=10,B4520+7,B4520),\"\")","v":""},"","","",null,null,null,0,0,0,0,{"$f":"IFERROR(VLOOKUP(G4521,DropDowns!$D$2:$E$151,2,FALSE),\"\")","v":""},{"$f":"IFERROR(VLOOKUP(H4521,DropDowns!$F$2:$G$7,2,FALSE),\"Residual categories\")","v":"Residual categories"},null,null,null,0,0,0]
[0,{"$f":"IF(OR(COUNTA(O4492:O4521)>0,COUNTA(O4521:$O$5195)>0),IF(COUNTIF(B4512:B4521,B4521)=10,B4521+7,B4521),\"\")","v":""},"","","",null,null,null,0,0,0,0,{"$f":"IFERROR(VLOOKUP(G4522,DropDowns!$D$2:$E$151,2,FALSE),\"\")","v":""},{"$f":"IFERROR(VLOOKUP(H4522,DropDowns!$F$2:$G$7,2,FALSE),\"Residual categories\")","v":"Residual categories"},null,null,null,0,0,0]
[0,{"$f":"IF(OR(COUNTA(O4493:O4522)>0,COUNTA(O4522:$O$5195)>0),IF(COUNTIF(B4513:B4522,B4522)=10,B4522+7,B4522),\"\")","v":""},"","","",null,null,null,0,0,0,0,{"$f":"IFERROR(VLOOKUP(G4523,DropDowns!$D$2:$E$151,2,FALSE),\"\")","v":""},{"$f":"IFERROR(VLOOKUP(H4523,DropDowns!$F$2:$G$7,2,FALSE),\"Residual categories\")","v":"Residual categories"},null,null,null,0,0,0]
[0,{"$f":"IF(OR(COUNTA(O4494:O4523)>0,COUNTA(O4523:$O$5195)>0),IF(COUNTIF(B4514:B4523,B4523)=10,B4523+7,B4523),\"\")","v":""},"","","",null,null,null,0,0,0,0,{"$f":"IFERROR(VLOOKUP(G4524,DropDowns!$D$2:$E$151,2,FALSE),\"\")","v":""},{"$f":"IFERROR(VLOOKUP(H4524,DropDowns!$F$2:$G$7,2,FALSE),\"Residual categories\")","v":"Residual categories"},null,null,null,0,0,0]
[0,{"$f":"IF(OR(COUNTA(O4496:O4525)>0,COUNTA(O4525:$O$5195)>0),IF(COUNTIF(B4516:B4525,B4525)=10,B4525+7,B4525),\"\")","v":""},"","","",null,null,null,0,0,0,0,{"$f":"IFERROR(VLOOKUP(G4526,DropDowns!$D$2:$E$151,2,FALSE),\"\")","v":""},{"$f":"IFERROR(VLOOKUP(H4526,DropDowns!$F$2:$G$7,2,FALSE),\"Residual categories\")","v":"Residual categories"},null,null,null,0,0,0]
[0,{"$f":"IF(OR(COUNTA(O4497:O4526)>0,COUNTA(O4526:$O$5195)>0),IF(COUNTIF(B4517:B4526,B4526)=10,B4526+7,B4526),\"\")","v":""},"","","",null,null,null,0,0,0,0,{"$f":"IFERROR(VLOOKUP(G4527,DropDowns!$D$2:$E$151,2,FALSE),\"\")","v":""},{"$f":"IFERROR(VLOOKUP(H4527,DropDowns!$F$2:$G$7,2,FALSE),\"Residual categories\")","v":"Residual categories"},null,null,null,0,0,0]
[0,{"$f":"IF(OR(COUNTA(O4499:O4528)>0,COUNTA(O4528:$O$5195)>0),IF(COUNTIF(B4519:B4528,B4528)=10,B4528+7,B4528),\"\")","v":""},"","","",null,null,null,0,0,0,0,{"$f":"IFERROR(VLOOKUP(G4529,DropDowns!$D$2:$E$151,2,FALSE),\"\")","v":""},{"$f":"IFERROR(VLOOKUP(H4529,DropDowns!$F$2:$G$7,2,FALSE),\"Residual categories\")","v":"Residual categories"},null,null,null,0,0,0]
[0,{"$f":"IF(OR(COUNTA(O4500:O4529)>0,COUNTA(O4529:$O$5195)>0),IF(COUNTIF(B4520:B4529,B4529)=10,B4529+7,B4529),\"\")","v":""},"","","",null,null,null,0,0,0,0,{"$f":"IFERROR(VLOOKUP(G4530,DropDowns!$D$2:$E$151,2,FALSE),\"\")","v":""},{"$f":"IFERROR(VLOOKUP(H4530,DropDowns!$F$2:$G$7,2,FALSE),\"Residual categories\")","v":"Residual categories"},null,null,null,0,0,0]
[0,{"$f":"IF(OR(COUNTA(O4501:O4530)>0,COUNTA(O4530:$O$5195)>0),IF(COUNTIF(B4521:B4530,B4530)=10,B4530+7,B4530),\"\")","v":""},"","","",null,null,null,0,0,0,0,{"$f":"IFERROR(VLOOKUP(G4531,DropDowns!$D$2:$E$151,2,FALSE),\"\")","v":""},{"$f":"IFERROR(VLOOKUP(H4531,DropDowns!$F$2:$G$7,2,FALSE),\"Residual categories\")","v":"Residual categories"},null,null,null,0,0,0]
[0,{"$f":"IF(OR(COUNTA(O4502:O4531)>0,COUNTA(O4531:$O$5195)>0),IF(COUNTIF(B4522:B4531,B4531)=10,B4531+7,B4531),\"\")","v":""},"","","",null,null,null,0,0,0,0,{"$f":"IFERROR(VLOOKUP(G4532,DropDowns!$D$2:$E$151,2,FALSE),\"\")","v":""},{"$f":"IFERROR(VLOOKUP(H4532,DropDowns!$F$2:$G$7,2,FALSE),\"Residual categories\")","v":"Residual categories"},null,null,null,0,0,0]
[0,{"$f":"IF(OR(COUNTA(O4504:O4533)>0,COUNTA(O4533:$O$5195)>0),IF(COUNTIF(B4524:B4533,B4533)=10,B4533+7,B4533),\"\")","v":""},"","","",null,null,null,0,0,0,0,{"$f":"IFERROR(VLOOKUP(G4534,DropDowns!$D$2:$E$151,2,FALSE),\"\")","v":""},{"$f":"IFERROR(VLOOKUP(H4534,DropDowns!$F$2:$G$7,2,FALSE),\"Residual categories\")","v":"Residual categories"},null,null,null,0,0,0]
[0,{"$f":"IF(OR(COUNTA(O4505:O4534)>0,COUNTA(O4534:$O$5195)>0),IF(COUNTIF(B4525:B4534,B4534)=10,B4534+7,B4534),\"\")","v":""},"","","",null,null,null,0,0,0,0,{"$f":"IFERROR(VLOOKUP(G4535,DropDowns!$D$2:$E$151,2,FALSE),\"\")","v":""},{"$f":"IFERROR(VLOOKUP(H4535,DropDowns!$F$2:$G$7,2,FALSE),\"Residual categories\")","v":"Residual categories"},null,null,null,0,0,0]
[0,{"$f":"IF(OR(COUNTA(O4507:O4536)>0,COUNTA(O4536:$O$5195)>0),IF(COUNTIF(B4527:B4536,B4536)=10,B4536+7,B4536),\"\")","v":""},"","","",null,null,null,0,0,0,0,{"$f":"IFERROR(VLOOKUP(G4537,DropDowns!$D$2:$E$151,2,FALSE),\"\")","v":""},{"$f":"IFERROR(VLOOKUP(H4537,DropDowns!$F$2:$G$7,2,FALSE),\"Residual categories\")","v":"Residual categories"},null,null,null,0,0,0]
[0,{"$f":"IF(OR(COUNTA(O4508:O4537)>0,COUNTA(O4537:$O$5195)>0),IF(COUNTIF(B4528:B4537,B4537)=10,B4537+7,B4537),\"\")","v":""},"","","",null,null,null,0,0,0,0,{"$f":"IFERROR(VLOOKUP(G4538,DropDowns!$D$2:$E$151,2,FALSE),\"\")","v":""},{"$f":"IFERROR(VLOOKUP(H4538,DropDowns!$F$2:$G$7,2,FALSE),\"Residual categories\")","v":"Residual categories"},null,null,null,0,0,0]
[0,{"$f":"IF(OR(COUNTA(O4510:O4539)>0,COUNTA(O4539:$O$5195)>0),IF(COUNTIF(B4530:B4539,B4539)=10,B4539+7,B4539),\"\")","v":""},"","","",null,null,null,0,0,0,0,{"$f":"IFERROR(VLOOKUP(G4540,DropDowns!$D$2:$E$151,2,FALSE),\"\")","v":""},{"$f":"IFERROR(VLOOKUP(H4540,DropDowns!$F$2:$G$7,2,FALSE),\"Residual categories\")","v":"Residual categories"},null,null,null,0,0,0]
[0,{"$f":"IF(OR(COUNTA(O4511:O4540)>0,COUNTA(O4540:$O$5195)>0),IF(COUNTIF(B4531:B4540,B4540)=10,B4540+7,B4540),\"\")","v":""},"","","",null,null,null,0,0,0,0,{"$f":"IFERROR(VLOOKUP(G4541,DropDowns!$D$2:$E$151,2,FALSE),\"\")","v":""},{"$f":"IFERROR(VLOOKUP(H4541,DropDowns!$F$2:$G$7,2,FALSE),\"Residual categories\")","v":"Residual categories"},null,null,null,0,0,0]
[0,{"$f":"IF(OR(COUNTA(O4512:O4541)>0,COUNTA(O4541:$O$5195)>0),IF(COUNTIF(B4532:B4541,B4541)=10,B4541+7,B4541),\"\")","v":""},"","","",null,null,null,0,0,0,0,{"$f":"IFERROR(VLOOKUP(G4542,DropDowns!$D$2:$E$151,2,FALSE),\"\")","v":""},{"$f":"IFERROR(VLOOKUP(H4542,DropDowns!$F$2:$G$7,2,FALSE),\"Residual categories\")","v":"Residual categories"},null,null,null,0,0,0]
[0,{"$f":"IF(OR(COUNTA(O4513:O4542)>0,COUNTA(O4542:$O$5195)>0),IF(COUNTIF(B4533:B4542,B4542)=10,B4542+7,B4542),\"\")","v":""},"","","",null,null,null,0,0,0,0,{"$f":"IFERROR(VLOOKUP(G4543,DropDowns!$D$2:$E$151,2,FALSE),\"\")","v":""},{"$f":"IFERROR(VLOOKUP(H4543,DropDowns!$F$2:$G$7,2,FALSE),\"Residual categories\")","v":"Residual categories"},null,null,null,0,0,0]
[0,{"$f":"IF(OR(COUNTA(O4515:O4544)>0,COUNTA(O4544:$O$5195)>0),IF(COUNTIF(B4535:B4544,B4544)=10,B4544+7,B4544),\"\")","v":""},"","","",null,null,null,0,0,0,0,{"$f":"IFERROR(VLOOKUP(G4545,DropDowns!$D$2:$E$151,2,FALSE),\"\")","v":""},{"$f":"IFERROR(VLOOKUP(H4545,DropDowns!$F$2:$G$7,2,FALSE),\"Residual categories\")","v":"Residual categories"},null,null,null,0,0,0]
[0,{"$f":"IF(OR(COUNTA(O4516:O4545)>0,COUNTA(O4545:$O$5195)>0),IF(COUNTIF(B4536:B4545,B4545)=10,B4545+7,B4545),\"\")","v":""},"","","",null,null,null,0,0,0,0,{"$f":"IFERROR(VLOOKUP(G4546,DropDowns!$D$2:$E$151,2,FALSE),\"\")","v":""},{"$f":"IFERROR(VLOOKUP(H4546,DropDowns!$F$2:$G$7,2,FALSE),\"Residual categories\")","v":"Residual categories"},null,null,null,0,0,0]
[0,{"$f":"IF(OR(COUNTA(O4518:O4547)>0,COUNTA(O4547:$O$5195)>0),IF(COUNTIF(B4538:B4547,B4547)=10,B4547+7,B4547),\"\")","v":""},"","","",null,null,null,0,0,0,0,{"$f":"IFERROR(VLOOKUP(G4548,DropDowns!$D$2:$E$151,2,FALSE),\"\")","v":""},{"$f":"IFERROR(VLOOKUP(H4548,DropDowns!$F$2:$G$7,2,FALSE),\"Residual categories\")","v":"Residual categories"},null,null,null,0,0,0]
[0,{"$f":"IF(OR(COUNTA(O4519:O4548)>0,COUNTA(O4548:$O$5195)>0),IF(COUNTIF(B4539:B4548,B4548)=10,B4548+7,B4548),\"\")","v":""},"","","",null,null,null,0,0,0,0,{"$f":"IFERROR(VLOOKUP(G4549,DropDowns!$D$2:$E$151,2,FALSE),\"\")","v":""},{"$f":"IFERROR(VLOOKUP(H4549,DropDowns!$F$2:$G$7,2,FALSE),\"Residual categories\")","v":"Residual categories"},null,null,null,0,0,0]
[0,{"$f":"IF(OR(COUNTA(O4520:O4549)>0,COUNTA(O4549:$O$5195)>0),IF(COUNTIF(B4540:B4549,B4549)=10,B4549+7,B4549),\"\")","v":""},"","","",null,null,null,0,0,0,0,{"$f":"IFERROR(VLOOKUP(G4550,DropDowns!$D$2:$E$151,2,FALSE),\"\")","v":""},{"$f":"IFERROR(VLOOKUP(H4550,DropDowns!$F$2:$G$7,2,FALSE),\"Residual categories\")","v":"Residual categories"},null,null,null,0,0,0]
[0,{"$f":"IF(OR(COUNTA(O4521:O4550)>0,COUNTA(O4550:$O$5195)>0),IF(COUNTIF(B4541:B4550,B4550)=10,B4550+7,B4550),\"\")","v":""},{"$f":"IF(D4551=1,A4551,\"\")","v":""},"","",null,null,null,{"$f":"IF(COUNTA(O4551:Q4551)>0,1,0)","v":0},{"$f":"IF(O4551=\"y\",1,0)","v":0},{"$f":"IF(P4551=\"y\",1,0)","v":0},{"$f":"IF(Q4551=\"y\",1,0)","v":0},{"$f":"IFERROR(VLOOKUP(G4551,DropDowns!$D$2:$E$151,2,FALSE),\"\")","v":""},{"$f":"IFERROR(VLOOKUP(H4551,DropDowns!$F$2:$G$7,2,FALSE),\"Residual categories\")","v":"Residual categories"},null,null,null,{"$f":"IF(O4551=\"yes\",1,0)","v":0},{"$f":"IF(P4551=\"yes\",1,0)","v":0},{"$f":"IF(Q4551=\"yes\",1,0)","v":0}]
[0,{"$f":"IF(OR(COUNTA(O4523:O4552)>0,COUNTA(O4552:$O$5195)>0),IF(COUNTIF(B4543:B4552,B4552)=10,B4552+7,B4552),\"\")","v":""},"","","",null,null,null,0,0,0,0,{"$f":"IFERROR(VLOOKUP(G4553,DropDowns!$D$2:$E$151,2,FALSE),\"\")","v":""},{"$f":"IFERROR(VLOOKUP(H4553,DropDowns!$F$2:$G$7,2,FALSE),\"Residual categories\")","v":"Residual categories"},null,null,null,0,0,0]
[0,{"$f":"IF(OR(COUNTA(O4524:O4553)>0,COUNTA(O4553:$O$5195)>0),IF(COUNTIF(B4544:B4553,B4553)=10,B4553+7,B4553),\"\")","v":""},"","","",null,null,null,0,0,0,0,{"$f":"IFERROR(VLOOKUP(G4554,DropDowns!$D$2:$E$151,2,FALSE),\"\")","v":""},{"$f":"IFERROR(VLOOKUP(H4554,DropDowns!$F$2:$G$7,2,FALSE),\"Residual categories\")","v":"Residual categories"},null,null,null,0,0,0]
[0,{"$f":"IF(OR(COUNTA(O4526:O4555)>0,COUNTA(O4555:$O$5195)>0),IF(COUNTIF(B4546:B4555,B4555)=10,B4555+7,B4555),\"\")","v":""},"","","",null,null,null,0,0,0,0,{"$f":"IFERROR(VLOOKUP(G4556,DropDowns!$D$2:$E$151,2,FALSE),\"\")","v":""},{"$f":"IFERROR(VLOOKUP(H4556,DropDowns!$F$2:$G$7,2,FALSE),\"Residual categories\")","v":"Residual categories"},null,null,null,0,0,0]
[0,{"$f":"IF(OR(COUNTA(O4527:O4556)>0,COUNTA(O4556:$O$5195)>0),IF(COUNTIF(B4547:B4556,B4556)=10,B4556+7,B4556),\"\")","v":""},"","","",null,null,null,0,0,0,0,{"$f":"IFERROR(VLOOKUP(G4557,DropDowns!$D$2:$E$151,2,FALSE),\"\")","v":""},{"$f":"IFERROR(VLOOKUP(H4557,DropDowns!$F$2:$G$7,2,FALSE),\"Residual categories\")","v":"Residual categories"},null,null,null,0,0,0]
[0,{"$f":"IF(OR(COUNTA(O4528:O4557)>0,COUNTA(O4557:$O$5195)>0),IF(COUNTIF(B4548:B4557,B4557)=10,B4557+7,B4557),\"\")","v":""},"","","",null,null,null,0,0,0,0,{"$f":"IFERROR(VLOOKUP(G4558,DropDowns!$D$2:$E$151,2,FALSE),\"\")","v":""},{"$f":"IFERROR(VLOOKUP(H4558,DropDowns!$F$2:$G$7,2,FALSE),\"Residual categories\")","v":"Residual categories"},null,null,null,0,0,0]
[0,{"$f":"IF(OR(COUNTA(O4529:O4558)>0,COUNTA(O4558:$O$5195)>0),IF(COUNTIF(B4549:B4558,B4558)=10,B4558+7,B4558),\"\")","v":""},"","","",null,null,null,0,0,0,0,{"$f":"IFERROR(VLOOKUP(G4559,DropDowns!$D$2:$E$151,2,FALSE),\"\")","v":""},{"$f":"IFERROR(VLOOKUP(H4559,DropDowns!$F$2:$G$7,2,FALSE),\"Residual categories\")","v":"Residual categories"},null,null,null,0,0,0]
[0,{"$f":"IF(OR(COUNTA(O4531:O4560)>0,COUNTA(O4560:$O$5195)>0),IF(COUNTIF(B4551:B4560,B4560)=10,B4560+7,B4560),\"\")","v":""},"","",{"$f":"IF(B4561=\"\",\"\",COUNTIF(B4552:B4561,B4561))","v":""},null,null,null,0,0,0,0,{"$f":"IFERROR(VLOOKUP(G4561,DropDowns!$D$2:$E$151,2,FALSE),\"\")","v":""},{"$f":"IFERROR(VLOOKUP(H4561,DropDowns!$F$2:$G$7,2,FALSE),\"Residual categories\")","v":"Residual categories"},null,null,null,0,0,0]
[0,{"$f":"IF(OR(COUNTA(O4532:O4561)>0,COUNTA(O4561:$O$5195)>0),IF(COUNTIF(B4552:B4561,B4561)=10,B4561+7,B4561),\"\")","v":""},"","","",null,null,null,0,0,0,0,{"$f":"IFERROR(VLOOKUP(G4562,DropDowns!$D$2:$E$151,2,FALSE),\"\")","v":""},{"$f":"IFERROR(VLOOKUP(H4562,DropDowns!$F$2:$G$7,2,FALSE),\"Residual categories\")","v":"Residual categories"},null,null,null,0,0,0]
[{"$f":"$E$2","v":0},{"$f":"IF(OR(COUNTA(O4534:O4563)>0,COUNTA(O4563:$O$5195)>0),IF(COUNTIF(B4554:B4563,B4563)=10,B4563+7,B4563),\"\")","v":""},"","","",null,null,null,0,0,0,0,{"$f":"IFERROR(VLOOKUP(G4564,DropDowns!$D$2:$E$151,2,FALSE),\"\")","v":""},{"$f":"IFERROR(VLOOKUP(H4564,DropDowns!$F$2:$G$7,2,FALSE),\"Residual categories\")","v":"Residual categories"},null,null,null,0,0,0]
[0,{"$f":"IF(OR(COUNTA(O4535:O4564)>0,COUNTA(O4564:$O$5195)>0),IF(COUNTIF(B4555:B4564,B4564)=10,B4564+7,B4564),\"\")","v":""},"","","",null,null,null,0,0,0,0,{"$f":"IFERROR(VLOOKUP(G4565,DropDowns!$D$2:$E$151,2,FALSE),\"\")","v":""},{"$f":"IFERROR(VLOOKUP(H4565,DropDowns!$F$2:$G$7,2,FALSE),\"Residual categories\")","v":"Residual categories"},null,null,null,0,0,0]
[0,{"$f":"IF(OR(COUNTA(O4536:O4565)>0,COUNTA(O4565:$O$5195)>0),IF(COUNTIF(B4556:B4565,B4565)=10,B4565+7,B4565),\"\")","v":""},"","","",null,null,null,0,0,0,0,{"$f":"IFERROR(VLOOKUP(G4566,DropDowns!$D$2:$E$151,2,FALSE),\"\")","v":""},{"$f":"IFERROR(VLOOKUP(H4566,DropDowns!$F$2:$G$7,2,FALSE),\"Residual categories\")","v":"Residual categories"},null,null,null,0,0,0]
[0,{"$f":"IF(OR(COUNTA(O4537:O4566)>0,COUNTA(O4566:$O$5195)>0),IF(COUNTIF(B4557:B4566,B4566)=10,B4566+7,B4566),\"\")","v":""},"","","",null,null,null,0,0,0,0,{"$f":"IFERROR(VLOOKUP(G4567,DropDowns!$D$2:$E$151,2,FALSE),\"\")","v":""},{"$f":"IFERROR(VLOOKUP(H4567,DropDowns!$F$2:$G$7,2,FALSE),\"Residual categories\")","v":"Residual categories"},null,null,null,0,0,0]
[0,{"$f":"IF(OR(COUNTA(O4539:O4568)>0,COUNTA(O4568:$O$5195)>0),IF(COUNTIF(B4559:B4568,B4568)=10,B4568+7,B4568),\"\")","v":""},"","","",null,null,null,0,0,0,0,{"$f":"IFERROR(VLOOKUP(G4569,DropDowns!$D$2:$E$151,2,FALSE),\"\")","v":""},{"$f":"IFERROR(VLOOKUP(H4569,DropDowns!$F$2:$G$7,2,FALSE),\"Residual categories\")","v":"Residual categories"},null,null,null,0,0,0]
[0,{"$f":"IF(OR(COUNTA(O4540:O4569)>0,COUNTA(O4569:$O$5195)>0),IF(COUNTIF(B4560:B4569,B4569)=10,B4569+7,B4569),\"\")","v":""},"","","",null,null,null,0,0,0,0,{"$f":"IFERROR(VLOOKUP(G4570,DropDowns!$D$2:$E$151,2,FALSE),\"\")","v":""},{"$f":"IFERROR(VLOOKUP(H4570,DropDowns!$F$2:$G$7,2,FALSE),\"Residual categories\")","v":"Residual categories"},null,null,null,0,0,0]
[0,{"$f":"IF(OR(COUNTA(O4542:O4571)>0,COUNTA(O4571:$O$5195)>0),IF(COUNTIF(B4562:B4571,B4571)=10,B4571+7,B4571),\"\")","v":""},"","","",null,null,null,0,0,0,0,{"$f":"IFERROR(VLOOKUP(G4572,DropDowns!$D$2:$E$151,2,FALSE),\"\")","v":""},{"$f":"IFERROR(VLOOKUP(H4572,DropDowns!$F$2:$G$7,2,FALSE),\"Residual categories\")","v":"Residual categories"},null,null,null,0,0,0]
[0,{"$f":"IF(OR(COUNTA(O4543:O4572)>0,COUNTA(O4572:$O$5195)>0),IF(COUNTIF(B4563:B4572,B4572)=10,B4572+7,B4572),\"\")","v":""},"","","",null,null,null,0,0,0,0,{"$f":"IFERROR(VLOOKUP(G4573,DropDowns!$D$2:$E$151,2,FALSE),\"\")","v":""},{"$f":"IFERROR(VLOOKUP(H4573,DropDowns!$F$2:$G$7,2,FALSE),\"Residual categories\")","v":"Residual categories"},null,null,null,0,0,0]
[0,{"$f":"IF(OR(COUNTA(O4545:O4574)>0,COUNTA(O4574:$O$5195)>0),IF(COUNTIF(B4565:B4574,B4574)=10,B4574+7,B4574),\"\")","v":""},"","","",null,null,null,0,0,0,0,{"$f":"IFERROR(VLOOKUP(G4575,DropDowns!$D$2:$E$151,2,FALSE),\"\")","v":""},{"$f":"IFERROR(VLOOKUP(H4575,DropDowns!$F$2:$G$7,2,FALSE),\"Residual categories\")","v":"Residual categories"},null,null,null,0,0,0]
[0,{"$f":"IF(OR(COUNTA(O4546:O4575)>0,COUNTA(O4575:$O$5195)>0),IF(COUNTIF(B4566:B4575,B4575)=10,B4575+7,B4575),\"\")","v":""},"","","",null,null,null,0,0,0,0,{"$f":"IFERROR(VLOOKUP(G4576,DropDowns!$D$2:$E$151,2,FALSE),\"\")","v":""},{"$f":"IFERROR(VLOOKUP(H4576,DropDowns!$F$2:$G$7,2,FALSE),\"Residual categories\")","v":"Residual categories"},null,null,null,0,0,0]
[0,{"$f":"IF(OR(COUNTA(O4547:O4576)>0,COUNTA(O4576:$O$5195)>0),IF(COUNTIF(B4567:B4576,B4576)=10,B4576+7,B4576),\"\")","v":""},"","","",null,null,null,0,0,0,0,{"$f":"IFERROR(VLOOKUP(G4577,DropDowns!$D$2:$E$151,2,FALSE),\"\")","v":""},{"$f":"IFERROR(VLOOKUP(H4577,DropDowns!$F$2:$G$7,2,FALSE),\"Residual categories\")","v":"Residual categories"},null,null,null,0,0,0]
[0,{"$f":"IF(OR(COUNTA(O4548:O4577)>0,COUNTA(O4577:$O$5195)>0),IF(COUNTIF(B4568:B4577,B4577)=10,B4577+7,B4577),\"\")","v":""},"","","",null,null,null,0,0,0,0,{"$f":"IFERROR(VLOOKUP(G4578,DropDowns!$D$2:$E$151,2,FALSE),\"\")","v":""},{"$f":"IFERROR(VLOOKUP(H4578,DropDowns!$F$2:$G$7,2,FALSE),\"Residual categories\")","v":"Residual categories"},null,null,null,0,0,0]
[0,{"$f":"IF(OR(COUNTA(O4550:O4579)>0,COUNTA(O4579:$O$5195)>0),IF(COUNTIF(B4570:B4579,B4579)=10,B4579+7,B4579),\"\")","v":""},"","","",null,null,null,0,0,0,0,{"$f":"IFERROR(VLOOKUP(G4580,DropDowns!$D$2:$E$151,2,FALSE),\"\")","v":""},{"$f":"IFERROR(VLOOKUP(H4580,DropDowns!$F$2:$G$7,2,FALSE),\"Residual categories\")","v":"Residual categories"},null,null,null,0,0,0]
[0,{"$f":"IF(OR(COUNTA(O4551:O4580)>0,COUNTA(O4580:$O$5195)>0),IF(COUNTIF(B4571:B4580,B4580)=10,B4580+7,B4580),\"\")","v":""},"","","",null,null,null,0,0,0,0,{"$f":"IFERROR(VLOOKUP(G4581,DropDowns!$D$2:$E$151,2,FALSE),\"\")","v":""},{"$f":"IFERROR(VLOOKUP(H4581,DropDowns!$F$2:$G$7,2,FALSE),\"Residual categories\")","v":"Residual categories"},null,null,null,0,0,0]
[0,{"$f":"IF(OR(COUNTA(O4553:O4582)>0,COUNTA(O4582:$O$5195)>0),IF(COUNTIF(B4573:B4582,B4582)=10,B4582+7,B4582),\"\")","v":""},"","","",null,null,null,0,0,0,0,{"$f":"IFERROR(VLOOKUP(G4583,DropDowns!$D$2:$E$151,2,FALSE),\"\")","v":""},{"$f":"IFERROR(VLOOKUP(H4583,DropDowns!$F$2:$G$7,2,FALSE),\"Residual categories\")","v":"Residual categories"},null,null,null,0,0,0]
[0,{"$f":"IF(OR(COUNTA(O4554:O4583)>0,COUNTA(O4583:$O$5195)>0),IF(COUNTIF(B4574:B4583,B4583)=10,B4583+7,B4583),\"\")","v":""},"","","",null,null,null,0,0,0,0,{"$f":"IFERROR(VLOOKUP(G4584,DropDowns!$D$2:$E$151,2,FALSE),\"\")","v":""},{"$f":"IFERROR(VLOOKUP(H4584,DropDowns!$F$2:$G$7,2,FALSE),\"Residual categories\")","v":"Residual categories"},null,null,null,0,0,0]
[0,{"$f":"IF(OR(COUNTA(O4555:O4584)>0,COUNTA(O4584:$O$5195)>0),IF(COUNTIF(B4575:B4584,B4584)=10,B4584+7,B4584),\"\")","v":""},"","","",null,null,null,0,0,0,0,{"$f":"IFERROR(VLOOKUP(G4585,DropDowns!$D$2:$E$151,2,FALSE),\"\")","v":""},{"$f":"IFERROR(VLOOKUP(H4585,DropDowns!$F$2:$G$7,2,FALSE),\"Residual categories\")","v":"Residual categories"},null,null,null,0,0,0]
[0,{"$f":"IF(OR(COUNTA(O4556:O4585)>0,COUNTA(O4585:$O$5195)>0),IF(COUNTIF(B4576:B4585,B4585)=10,B4585+7,B4585),\"\")","v":""},"","","",null,null,null,0,0,0,0,{"$f":"IFERROR(VLOOKUP(G4586,DropDowns!$D$2:$E$151,2,FALSE),\"\")","v":""},{"$f":"IFERROR(VLOOKUP(H4586,DropDowns!$F$2:$G$7,2,FALSE),\"Residual categories\")","v":"Residual categories"},null,null,null,0,0,0]
[0,{"$f":"IF(OR(COUNTA(O4558:O4587)>0,COUNTA(O4587:$O$5195)>0),IF(COUNTIF(B4578:B4587,B4587)=10,B4587+7,B4587),\"\")","v":""},"","","",null,null,null,0,0,0,0,{"$f":"IFERROR(VLOOKUP(G4588,DropDowns!$D$2:$E$151,2,FALSE),\"\")","v":""},{"$f":"IFERROR(VLOOKUP(H4588,DropDowns!$F$2:$G$7,2,FALSE),\"Residual categories\")","v":"Residual categories"},null,null,null,0,0,0]
[0,{"$f":"IF(OR(COUNTA(O4559:O4588)>0,COUNTA(O4588:$O$5195)>0),IF(COUNTIF(B4579:B4588,B4588)=10,B4588+7,B4588),\"\")","v":""},"","","",null,null,null,0,0,0,0,{"$f":"IFERROR(VLOOKUP(G4589,DropDowns!$D$2:$E$151,2,FALSE),\"\")","v":""},{"$f":"IFERROR(VLOOKUP(H4589,DropDowns!$F$2:$G$7,2,FALSE),\"Residual categories\")","v":"Residual categories"},null,null,null,0,0,0]
[0,{"$f":"IF(OR(COUNTA(O4561:O4590)>0,COUNTA(O4590:$O$5195)>0),IF(COUNTIF(B4581:B4590,B4590)=10,B4590+7,B4590),\"\")","v":""},"","","",null,null,null,0,0,0,0,{"$f":"IFERROR(VLOOKUP(G4591,DropDowns!$D$2:$E$151,2,FALSE),\"\")","v":""},{"$f":"IFERROR(VLOOKUP(H4591,DropDowns!$F$2:$G$7,2,FALSE),\"Residual categories\")","v":"Residual categories"},null,null,null,0,0,0]
[0,{"$f":"IF(OR(COUNTA(O4562:O4591)>0,COUNTA(O4591:$O$5195)>0),IF(COUNTIF(B4582:B4591,B4591)=10,B4591+7,B4591),\"\")","v":""},"","","",null,null,null,0,0,0,0,{"$f":"IFERROR(VLOOKUP(G4592,DropDowns!$D$2:$E$151,2,FALSE),\"\")","v":""},{"$f":"IFERROR(VLOOKUP(H4592,DropDowns!$F$2:$G$7,2,FALSE),\"Residual categories\")","v":"Residual categories"},null,null,null,0,0,0]
[0,{"$f":"IF(OR(COUNTA(O4563:O4592)>0,COUNTA(O4592:$O$5195)>0),IF(COUNTIF(B4583:B4592,B4592)=10,B4592+7,B4592),\"\")","v":""},"","","",null,null,null,0,0,0,0,{"$f":"IFERROR(VLOOKUP(G4593,DropDowns!$D$2:$E$151,2,FALSE),\"\")","v":""},{"$f":"IFERROR(VLOOKUP(H4593,DropDowns!$F$2:$G$7,2,FALSE),\"Residual categories\")","v":"Residual categories"},null,null,null,0,0,0]
[0,{"$f":"IF(OR(COUNTA(O4564:O4593)>0,COUNTA(O4593:$O$5195)>0),IF(COUNTIF(B4584:B4593,B4593)=10,B4593+7,B4593),\"\")","v":""},"","","",null,null,null,0,0,0,0,{"$f":"IFERROR(VLOOKUP(G4594,DropDowns!$D$2:$E$151,2,FALSE),\"\")","v":""},{"$f":"IFERROR(VLOOKUP(H4594,DropDowns!$F$2:$G$7,2,FALSE),\"Residual categories\")","v":"Residual categories"},null,null,null,0,0,0]
[0,{"$f":"IF(OR(COUNTA(O4566:O4595)>0,COUNTA(O4595:$O$5195)>0),IF(COUNTIF(B4586:B4595,B4595)=10,B4595+7,B4595),\"\")","v":""},"","","",null,null,null,0,0,0,0,{"$f":"IFERROR(VLOOKUP(G4596,DropDowns!$D$2:$E$151,2,FALSE),\"\")","v":""},{"$f":"IFERROR(VLOOKUP(H4596,DropDowns!$F$2:$G$7,2,FALSE),\"Residual categories\")","v":"Residual categories"},null,null,null,0,0,0]
[0,{"$f":"IF(OR(COUNTA(O4567:O4596)>0,COUNTA(O4596:$O$5195)>0),IF(COUNTIF(B4587:B4596,B4596)=10,B4596+7,B4596),\"\")","v":""},"","","",null,null,null,0,0,0,0,{"$f":"IFERROR(VLOOKUP(G4597,DropDowns!$D$2:$E$151,2,FALSE),\"\")","v":""},{"$f":"IFERROR(VLOOKUP(H4597,DropDowns!$F$2:$G$7,2,FALSE),\"Residual categories\")","v":"Residual categories"},null,null,null,0,0,0]
[0,{"$f":"IF(OR(COUNTA(O4569:O4598)>0,COUNTA(O4598:$O$5195)>0),IF(COUNTIF(B4589:B4598,B4598)=10,B4598+7,B4598),\"\")","v":""},"","","",null,null,null,0,0,0,0,{"$f":"IFERROR(VLOOKUP(G4599,DropDowns!$D$2:$E$151,2,FALSE),\"\")","v":""},{"$f":"IFERROR(VLOOKUP(H4599,DropDowns!$F$2:$G$7,2,FALSE),\"Residual categories\")","v":"Residual categories"},null,null,null,0,0,0]
[0,{"$f":"IF(OR(COUNTA(O4570:O4599)>0,COUNTA(O4599:$O$5195)>0),IF(COUNTIF(B4590:B4599,B4599)=10,B4599+7,B4599),\"\")","v":""},"","","",null,null,null,0,0,0,0,{"$f":"IFERROR(VLOOKUP(G4600,DropDowns!$D$2:$E$151,2,FALSE),\"\")","v":""},{"$f":"IFERROR(VLOOKUP(H4600,DropDowns!$F$2:$G$7,2,FALSE),\"Residual categories\")","v":"Residual categories"},null,null,null,0,0,0]
[0,{"$f":"IF(OR(COUNTA(O4572:O4601)>0,COUNTA(O4601:$O$5195)>0),IF(COUNTIF(B4592:B4601,B4601)=10,B4601+7,B4601),\"\")","v":""},"","","",null,null,null,0,0,0,0,{"$f":"IFERROR(VLOOKUP(G4602,DropDowns!$D$2:$E$151,2,FALSE),\"\")","v":""},{"$f":"IFERROR(VLOOKUP(H4602,DropDowns!$F$2:$G$7,2,FALSE),\"Residual categories\")","v":"Residual categories"},null,null,null,0,0,0]
[0,{"$f":"IF(OR(COUNTA(O4573:O4602)>0,COUNTA(O4602:$O$5195)>0),IF(COUNTIF(B4593:B4602,B4602)=10,B4602+7,B4602),\"\")","v":""},"","","",null,null,null,0,0,0,0,{"$f":"IFERROR(VLOOKUP(G4603,DropDowns!$D$2:$E$151,2,FALSE),\"\")","v":""},{"$f":"IFERROR(VLOOKUP(H4603,DropDowns!$F$2:$G$7,2,FALSE),\"Residual categories\")","v":"Residual categories"},null,null,null,0,0,0]
[0,{"$f":"IF(OR(COUNTA(O4574:O4603)>0,COUNTA(O4603:$O$5195)>0),IF(COUNTIF(B4594:B4603,B4603)=10,B4603+7,B4603),\"\")","v":""},"","","",null,null,null,0,0,0,0,{"$f":"IFERROR(VLOOKUP(G4604,DropDowns!$D$2:$E$151,2,FALSE),\"\")","v":""},{"$f":"IFERROR(VLOOKUP(H4604,DropDowns!$F$2:$G$7,2,FALSE),\"Residual categories\")","v":"Residual categories"},null,null,null,0,0,0]
[0,{"$f":"IF(OR(COUNTA(O4575:O4604)>0,COUNTA(O4604:$O$5195)>0),IF(COUNTIF(B4595:B4604,B4604)=10,B4604+7,B4604),\"\")","v":""},"","","",null,null,null,0,0,0,0,{"$f":"IFERROR(VLOOKUP(G4605,DropDowns!$D$2:$E$151,2,FALSE),\"\")","v":""},{"$f":"IFERROR(VLOOKUP(H4605,DropDowns!$F$2:$G$7,2,FALSE),\"Residual categories\")","v":"Residual categories"},null,null,null,0,0,0]
[0,{"$f":"IF(OR(COUNTA(O4577:O4606)>0,COUNTA(O4606:$O$5195)>0),IF(COUNTIF(B4597:B4606,B4606)=10,B4606+7,B4606),\"\")","v":""},"","","",null,null,null,0,0,0,0,{"$f":"IFERROR(VLOOKUP(G4607,DropDowns!$D$2:$E$151,2,FALSE),\"\")","v":""},{"$f":"IFERROR(VLOOKUP(H4607,DropDowns!$F$2:$G$7,2,FALSE),\"Residual categories\")","v":"Residual categories"},null,null,null,0,0,0]
[0,{"$f":"IF(OR(COUNTA(O4578:O4607)>0,COUNTA(O4607:$O$5195)>0),IF(COUNTIF(B4598:B4607,B4607)=10,B4607+7,B4607),\"\")","v":""},"","","",null,null,null,0,0,0,0,{"$f":"IFERROR(VLOOKUP(G4608,DropDowns!$D$2:$E$151,2,FALSE),\"\")","v":""},{"$f":"IFERROR(VLOOKUP(H4608,DropDowns!$F$2:$G$7,2,FALSE),\"Residual categories\")","v":"Residual categories"},null,null,null,0,0,0]
[0,{"$f":"IF(OR(COUNTA(O4580:O4609)>0,COUNTA(O4609:$O$5195)>0),IF(COUNTIF(B4600:B4609,B4609)=10,B4609+7,B4609),\"\")","v":""},"","","",null,null,null,0,0,0,0,{"$f":"IFERROR(VLOOKUP(G4610,DropDowns!$D$2:$E$151,2,FALSE),\"\")","v":""},{"$f":"IFERROR(VLOOKUP(H4610,DropDowns!$F$2:$G$7,2,FALSE),\"Residual categories\")","v":"Residual categories"},null,null,null,0,0,0]
[0,{"$f":"IF(OR(COUNTA(O4581:O4610)>0,COUNTA(O4610:$O$5195)>0),IF(COUNTIF(B4601:B4610,B4610)=10,B4610+7,B4610),\"\")","v":""},"","","",null,null,null,0,0,0,0,{"$f":"IFERROR(VLOOKUP(G4611,DropDowns!$D$2:$E$151,2,FALSE),\"\")","v":""},{"$f":"IFERROR(VLOOKUP(H4611,DropDowns!$F$2:$G$7,2,FALSE),\"Residual categories\")","v":"Residual categories"},null,null,null,0,0,0]
[0,{"$f":"IF(OR(COUNTA(O4582:O4611)>0,COUNTA(O4611:$O$5195)>0),IF(COUNTIF(B4602:B4611,B4611)=10,B4611+7,B4611),\"\")","v":""},"","","",null,null,null,0,0,0,0,{"$f":"IFERROR(VLOOKUP(G4612,DropDowns!$D$2:$E$151,2,FALSE),\"\")","v":""},{"$f":"IFERROR(VLOOKUP(H4612,DropDowns!$F$2:$G$7,2,FALSE),\"Residual categories\")","v":"Residual categories"},null,null,null,0,0,0]
[0,{"$f":"IF(OR(COUNTA(O4583:O4612)>0,COUNTA(O4612:$O$5195)>0),IF(COUNTIF(B4603:B4612,B4612)=10,B4612+7,B4612),\"\")","v":""},"","","",null,null,null,0,0,0,0,{"$f":"IFERROR(VLOOKUP(G4613,DropDowns!$D$2:$E$151,2,FALSE),\"\")","v":""},{"$f":"IFERROR(VLOOKUP(H4613,DropDowns!$F$2:$G$7,2,FALSE),\"Residual categories\")","v":"Residual categories"},null,null,null,0,0,0]
[0,{"$f":"IF(OR(COUNTA(O4585:O4614)>0,COUNTA(O4614:$O$5195)>0),IF(COUNTIF(B4605:B4614,B4614)=10,B4614+7,B4614),\"\")","v":""},{"$f":"IF(D4615=1,A4615,\"\")","v":""},"","",null,null,null,{"$f":"IF(COUNTA(O4615:Q4615)>0,1,0)","v":0},{"$f":"IF(O4615=\"y\",1,0)","v":0},{"$f":"IF(P4615=\"y\",1,0)","v":0},{"$f":"IF(Q4615=\"y\",1,0)","v":0},{"$f":"IFERROR(VLOOKUP(G4615,DropDowns!$D$2:$E$151,2,FALSE),\"\")","v":""},{"$f":"IFERROR(VLOOKUP(H4615,DropDowns!$F$2:$G$7,2,FALSE),\"Residual categories\")","v":"Residual categories"},null,null,null,{"$f":"IF(O4615=\"yes\",1,0)","v":0},{"$f":"IF(P4615=\"yes\",1,0)","v":0},{"$f":"IF(Q4615=\"yes\",1,0)","v":0}]
[0,{"$f":"IF(OR(COUNTA(O4586:O4615)>0,COUNTA(O4615:$O$5195)>0),IF(COUNTIF(B4606:B4615,B4615)=10,B4615+7,B4615),\"\")","v":""},"","","",null,null,null,0,0,0,0,{"$f":"IFERROR(VLOOKUP(G4616,DropDowns!$D$2:$E$151,2,FALSE),\"\")","v":""},{"$f":"IFERROR(VLOOKUP(H4616,DropDowns!$F$2:$G$7,2,FALSE),\"Residual categories\")","v":"Residual categories"},null,null,null,0,0,0]
[0,{"$f":"IF(OR(COUNTA(O4588:O4617)>0,COUNTA(O4617:$O$5195)>0),IF(COUNTIF(B4608:B4617,B4617)=10,B4617+7,B4617),\"\")","v":""},"","","",null,null,null,0,0,0,0,{"$f":"IFERROR(VLOOKUP(G4618,DropDowns!$D$2:$E$151,2,FALSE),\"\")","v":""},{"$f":"IFERROR(VLOOKUP(H4618,DropDowns!$F$2:$G$7,2,FALSE),\"Residual categories\")","v":"Residual categories"},null,null,null,0,0,0]
[0,{"$f":"IF(OR(COUNTA(O4589:O4618)>0,COUNTA(O4618:$O$5195)>0),IF(COUNTIF(B4609:B4618,B4618)=10,B4618+7,B4618),\"\")","v":""},"","","",null,null,null,0,0,0,0,{"$f":"IFERROR(VLOOKUP(G4619,DropDowns!$D$2:$E$151,2,FALSE),\"\")","v":""},{"$f":"IFERROR(VLOOKUP(H4619,DropDowns!$F$2:$G$7,2,FALSE),\"Residual categories\")","v":"Residual categories"},null,null,null,0,0,0]
[0,{"$f":"IF(OR(COUNTA(O4590:O4619)>0,COUNTA(O4619:$O$5195)>0),IF(COUNTIF(B4610:B4619,B4619)=10,B4619+7,B4619),\"\")","v":""},"","","",null,null,null,0,0,0,0,{"$f":"IFERROR(VLOOKUP(G4620,DropDowns!$D$2:$E$151,2,FALSE),\"\")","v":""},{"$f":"IFERROR(VLOOKUP(H4620,DropDowns!$F$2:$G$7,2,FALSE),\"Residual categories\")","v":"Residual categories"},null,null,null,0,0,0]
[0,{"$f":"IF(OR(COUNTA(O4591:O4620)>0,COUNTA(O4620:$O$5195)>0),IF(COUNTIF(B4611:B4620,B4620)=10,B4620+7,B4620),\"\")","v":""},"","","",null,null,null,0,0,0,0,{"$f":"IFERROR(VLOOKUP(G4621,DropDowns!$D$2:$E$151,2,FALSE),\"\")","v":""},{"$f":"IFERROR(VLOOKUP(H4621,DropDowns!$F$2:$G$7,2,FALSE),\"Residual categories\")","v":"Residual categories"},null,null,null,0,0,0]
[0,{"$f":"IF(OR(COUNTA(O4593:O4622)>0,COUNTA(O4622:$O$5195)>0),IF(COUNTIF(B4613:B4622,B4622)=10,B4622+7,B4622),\"\")","v":""},"","","",null,null,null,0,0,0,0,{"$f":"IFERROR(VLOOKUP(G4623,DropDowns!$D$2:$E$151,2,FALSE),\"\")","v":""},{"$f":"IFERROR(VLOOKUP(H4623,DropDowns!$F$2:$G$7,2,FALSE),\"Residual categories\")","v":"Residual categories"},null,null,null,0,0,0]
[0,{"$f":"IF(OR(COUNTA(O4594:O4623)>0,COUNTA(O4623:$O$5195)>0),IF(COUNTIF(B4614:B4623,B4623)=10,B4623+7,B4623),\"\")","v":""},"","","",null,null,null,0,0,0,0,{"$f":"IFERROR(VLOOKUP(G4624,DropDowns!$D$2:$E$151,2,FALSE),\"\")","v":""},{"$f":"IFERROR(VLOOKUP(H4624,DropDowns!$F$2:$G$7,2,FALSE),\"Residual categories\")","v":"Residual categories"},null,null,null,0,0,0]
[0,{"$f":"IF(OR(COUNTA(O4596:O4625)>0,COUNTA(O4625:$O$5195)>0),IF(COUNTIF(B4616:B4625,B4625)=10,B4625+7,B4625),\"\")","v":""},"","","",null,null,null,0,0,0,0,{"$f":"IFERROR(VLOOKUP(G4626,DropDowns!$D$2:$E$151,2,FALSE),\"\")","v":""},{"$f":"IFERROR(VLOOKUP(H4626,DropDowns!$F$2:$G$7,2,FALSE),\"Residual categories\")","v":"Residual categories"},null,null,null,0,0,0]
[0,{"$f":"IF(OR(COUNTA(O4597:O4626)>0,COUNTA(O4626:$O$5195)>0),IF(COUNTIF(B4617:B4626,B4626)=10,B4626+7,B4626),\"\")","v":""},"","","",null,null,null,0,0,0,0,{"$f":"IFERROR(VLOOKUP(G4627,DropDowns!$D$2:$E$151,2,FALSE),\"\")","v":""},{"$f":"IFERROR(VLOOKUP(H4627,DropDowns!$F$2:$G$7,2,FALSE),\"Residual categories\")","v":"Residual categories"},null,null,null,0,0,0]
[{"$f":"$E$2","v":0},{"$f":"IF(OR(COUNTA(O4598:O4627)>0,COUNTA(O4627:$O$5195)>0),IF(COUNTIF(B4618:B4627,B4627)=10,B4627+7,B4627),\"\")","v":""},"","","",null,null,null,0,0,0,0,{"$f":"IFERROR(VLOOKUP(G4628,DropDowns!$D$2:$E$151,2,FALSE),\"\")","v":""},{"$f":"IFERROR(VLOOKUP(H4628,DropDowns!$F$2:$G$7,2,FALSE),\"Residual categories\")","v":"Residual categories"},null,null,null,0,0,0]
[0,{"$f":"IF(OR(COUNTA(O4599:O4628)>0,COUNTA(O4628:$O$5195)>0),IF(COUNTIF(B4619:B4628,B4628)=10,B4628+7,B4628),\"\")","v":""},"","","",null,null,null,0,0,0,0,{"$f":"IFERROR(VLOOKUP(G4629,DropDowns!$D$2:$E$151,2,FALSE),\"\")","v":""},{"$f":"IFERROR(VLOOKUP(H4629,DropDowns!$F$2:$G$7,2,FALSE),\"Residual categories\")","v":"Residual categories"},null,null,null,0,0,0]
[0,{"$f":"IF(OR(COUNTA(O4601:O4630)>0,COUNTA(O4630:$O$5195)>0),IF(COUNTIF(B4621:B4630,B4630)=10,B4630+7,B4630),\"\")","v":""},"","","",null,null,null,0,0,0,0,{"$f":"IFERROR(VLOOKUP(G4631,DropDowns!$D$2:$E$151,2,FALSE),\"\")","v":""},{"$f":"IFERROR(VLOOKUP(H4631,DropDowns!$F$2:$G$7,2,FALSE),\"Residual categories\")","v":"Residual categories"},null,null,null,0,0,0]
[0,{"$f":"IF(OR(COUNTA(O4602:O4631)>0,COUNTA(O4631:$O$5195)>0),IF(COUNTIF(B4622:B4631,B4631)=10,B4631+7,B4631),\"\")","v":""},"","","",null,null,null,0,0,0,0,{"$f":"IFERROR(VLOOKUP(G4632,DropDowns!$D$2:$E$151,2,FALSE),\"\")","v":""},{"$f":"IFERROR(VLOOKUP(H4632,DropDowns!$F$2:$G$7,2,FALSE),\"Residual categories\")","v":"Residual categories"},null,null,null,0,0,0]
[0,{"$f":"IF(OR(COUNTA(O4604:O4633)>0,COUNTA(O4633:$O$5195)>0),IF(COUNTIF(B4624:B4633,B4633)=10,B4633+7,B4633),\"\")","v":""},"","","",null,null,null,0,0,0,0,{"$f":"IFERROR(VLOOKUP(G4634,DropDowns!$D$2:$E$151,2,FALSE),\"\")","v":""},{"$f":"IFERROR(VLOOKUP(H4634,DropDowns!$F$2:$G$7,2,FALSE),\"Residual categories\")","v":"Residual categories"},null,null,null,0,0,0]
[0,{"$f":"IF(OR(COUNTA(O4605:O4634)>0,COUNTA(O4634:$O$5195)>0),IF(COUNTIF(B4625:B4634,B4634)=10,B4634+7,B4634),\"\")","v":""},"","","",null,null,null,0,0,0,0,{"$f":"IFERROR(VLOOKUP(G4635,DropDowns!$D$2:$E$151,2,FALSE),\"\")","v":""},{"$f":"IFERROR(VLOOKUP(H4635,DropDowns!$F$2:$G$7,2,FALSE),\"Residual categories\")","v":"Residual categories"},null,null,null,0,0,0]
[0,{"$f":"IF(OR(COUNTA(O4607:O4636)>0,COUNTA(O4636:$O$5195)>0),IF(COUNTIF(B4627:B4636,B4636)=10,B4636+7,B4636),\"\")","v":""},"","","",null,null,null,0,0,0,0,{"$f":"IFERROR(VLOOKUP(G4637,DropDowns!$D$2:$E$151,2,FALSE),\"\")","v":""},{"$f":"IFERROR(VLOOKUP(H4637,DropDowns!$F$2:$G$7,2,FALSE),\"Residual categories\")","v":"Residual categories"},null,null,null,0,0,0]
[0,{"$f":"IF(OR(COUNTA(O4608:O4637)>0,COUNTA(O4637:$O$5195)>0),IF(COUNTIF(B4628:B4637,B4637)=10,B4637+7,B4637),\"\")","v":""},"","","",null,null,null,0,0,0,0,{"$f":"IFERROR(VLOOKUP(G4638,DropDowns!$D$2:$E$151,2,FALSE),\"\")","v":""},{"$f":"IFERROR(VLOOKUP(H4638,DropDowns!$F$2:$G$7,2,FALSE),\"Residual categories\")","v":"Residual categories"},null,null,null,0,0,0]
[0,{"$f":"IF(OR(COUNTA(O4609:O4638)>0,COUNTA(O4638:$O$5195)>0),IF(COUNTIF(B4629:B4638,B4638)=10,B4638+7,B4638),\"\")","v":""},"","","",null,null,null,0,0,0,0,{"$f":"IFERROR(VLOOKUP(G4639,DropDowns!$D$2:$E$151,2,FALSE),\"\")","v":""},{"$f":"IFERROR(VLOOKUP(H4639,DropDowns!$F$2:$G$7,2,FALSE),\"Residual categories\")","v":"Residual categories"},null,null,null,0,0,0]
[0,{"$f":"IF(OR(COUNTA(O4610:O4639)>0,COUNTA(O4639:$O$5195)>0),IF(COUNTIF(B4630:B4639,B4639)=10,B4639+7,B4639),\"\")","v":""},"","","",null,null,null,0,0,0,0,{"$f":"IFERROR(VLOOKUP(G4640,DropDowns!$D$2:$E$151,2,FALSE),\"\")","v":""},{"$f":"IFERROR(VLOOKUP(H4640,DropDowns!$F$2:$G$7,2,FALSE),\"Residual categories\")","v":"Residual categories"},null,null,null,0,0,0]
[0,{"$f":"IF(OR(COUNTA(O4612:O4641)>0,COUNTA(O4641:$O$5195)>0),IF(COUNTIF(B4632:B4641,B4641)=10,B4641+7,B4641),\"\")","v":""},"","","",null,null,null,0,0,0,0,{"$f":"IFERROR(VLOOKUP(G4642,DropDowns!$D$2:$E$151,2,FALSE),\"\")","v":""},{"$f":"IFERROR(VLOOKUP(H4642,DropDowns!$F$2:$G$7,2,FALSE),\"Residual categories\")","v":"Residual categories"},null,null,null,0,0,0]
[0,{"$f":"IF(OR(COUNTA(O4613:O4642)>0,COUNTA(O4642:$O$5195)>0),IF(COUNTIF(B4633:B4642,B4642)=10,B4642+7,B4642),\"\")","v":""},"","","",null,null,null,0,0,0,0,{"$f":"IFERROR(VLOOKUP(G4643,DropDowns!$D$2:$E$151,2,FALSE),\"\")","v":""},{"$f":"IFERROR(VLOOKUP(H4643,DropDowns!$F$2:$G$7,2,FALSE),\"Residual categories\")","v":"Residual categories"},null,null,null,0,0,0]
[0,{"$f":"IF(OR(COUNTA(O4615:O4644)>0,COUNTA(O4644:$O$5195)>0),IF(COUNTIF(B4635:B4644,B4644)=10,B4644+7,B4644),\"\")","v":""},"","","",null,null,null,0,0,0,0,{"$f":"IFERROR(VLOOKUP(G4645,DropDowns!$D$2:$E$151,2,FALSE),\"\")","v":""},{"$f":"IFERROR(VLOOKUP(H4645,DropDowns!$F$2:$G$7,2,FALSE),\"Residual categories\")","v":"Residual categories"},null,null,null,0,0,0]
[0,{"$f":"IF(OR(COUNTA(O4616:O4645)>0,COUNTA(O4645:$O$5195)>0),IF(COUNTIF(B4636:B4645,B4645)=10,B4645+7,B4645),\"\")","v":""},"","","",null,null,null,0,0,0,0,{"$f":"IFERROR(VLOOKUP(G4646,DropDowns!$D$2:$E$151,2,FALSE),\"\")","v":""},{"$f":"IFERROR(VLOOKUP(H4646,DropDowns!$F$2:$G$7,2,FALSE),\"Residual categories\")","v":"Residual categories"},null,null,null,0,0,0]
[0,{"$f":"IF(OR(COUNTA(O4617:O4646)>0,COUNTA(O4646:$O$5195)>0),IF(COUNTIF(B4637:B4646,B4646)=10,B4646+7,B4646),\"\")","v":""},"","","",null,null,null,0,0,0,0,{"$f":"IFERROR(VLOOKUP(G4647,DropDowns!$D$2:$E$151,2,FALSE),\"\")","v":""},{"$f":"IFERROR(VLOOKUP(H4647,DropDowns!$F$2:$G$7,2,FALSE),\"Residual categories\")","v":"Residual categories"},null,null,null,0,0,0]
[0,{"$f":"IF(OR(COUNTA(O4618:O4647)>0,COUNTA(O4647:$O$5195)>0),IF(COUNTIF(B4638:B4647,B4647)=10,B4647+7,B4647),\"\")","v":""},"","","",null,null,null,0,0,0,0,{"$f":"IFERROR(VLOOKUP(G4648,DropDowns!$D$2:$E$151,2,FALSE),\"\")","v":""},{"$f":"IFERROR(VLOOKUP(H4648,DropDowns!$F$2:$G$7,2,FALSE),\"Residual categories\")","v":"Residual categories"},null,null,null,0,0,0]
[0,{"$f":"IF(OR(COUNTA(O4620:O4649)>0,COUNTA(O4649:$O$5195)>0),IF(COUNTIF(B4640:B4649,B4649)=10,B4649+7,B4649),\"\")","v":""},"","","",null,null,null,0,0,0,0,{"$f":"IFERROR(VLOOKUP(G4650,DropDowns!$D$2:$E$151,2,FALSE),\"\")","v":""},{"$f":"IFERROR(VLOOKUP(H4650,DropDowns!$F$2:$G$7,2,FALSE),\"Residual categories\")","v":"Residual categories"},null,null,null,0,0,0]
[0,{"$f":"IF(OR(COUNTA(O4621:O4650)>0,COUNTA(O4650:$O$5195)>0),IF(COUNTIF(B4641:B4650,B4650)=10,B4650+7,B4650),\"\")","v":""},"","","",null,null,null,0,0,0,0,{"$f":"IFERROR(VLOOKUP(G4651,DropDowns!$D$2:$E$151,2,FALSE),\"\")","v":""},{"$f":"IFERROR(VLOOKUP(H4651,DropDowns!$F$2:$G$7,2,FALSE),\"Residual categories\")","v":"Residual categories"},null,null,null,0,0,0]
[0,{"$f":"IF(OR(COUNTA(O4623:O4652)>0,COUNTA(O4652:$O$5195)>0),IF(COUNTIF(B4643:B4652,B4652)=10,B4652+7,B4652),\"\")","v":""},"","","",null,null,null,0,0,0,0,{"$f":"IFERROR(VLOOKUP(G4653,DropDowns!$D$2:$E$151,2,FALSE),\"\")","v":""},{"$f":"IFERROR(VLOOKUP(H4653,DropDowns!$F$2:$G$7,2,FALSE),\"Residual categories\")","v":"Residual categories"},null,null,null,0,0,0]
[0,{"$f":"IF(OR(COUNTA(O4624:O4653)>0,COUNTA(O4653:$O$5195)>0),IF(COUNTIF(B4644:B4653,B4653)=10,B4653+7,B4653),\"\")","v":""},"","","",null,null,null,0,0,0,0,{"$f":"IFERROR(VLOOKUP(G4654,DropDowns!$D$2:$E$151,2,FALSE),\"\")","v":""},{"$f":"IFERROR(VLOOKUP(H4654,DropDowns!$F$2:$G$7,2,FALSE),\"Residual categories\")","v":"Residual categories"},null,null,null,0,0,0]
[0,{"$f":"IF(OR(COUNTA(O4625:O4654)>0,COUNTA(O4654:$O$5195)>0),IF(COUNTIF(B4645:B4654,B4654)=10,B4654+7,B4654),\"\")","v":""},"","","",null,null,null,0,0,0,0,{"$f":"IFERROR(VLOOKUP(G4655,DropDowns!$D$2:$E$151,2,FALSE),\"\")","v":""},{"$f":"IFERROR(VLOOKUP(H4655,DropDowns!$F$2:$G$7,2,FALSE),\"Residual categories\")","v":"Residual categories"},null,null,null,0,0,0]
[0,{"$f":"IF(OR(COUNTA(O4626:O4655)>0,COUNTA(O4655:$O$5195)>0),IF(COUNTIF(B4646:B4655,B4655)=10,B4655+7,B4655),\"\")","v":""},"","","",null,null,null,0,0,0,0,{"$f":"IFERROR(VLOOKUP(G4656,DropDowns!$D$2:$E$151,2,FALSE),\"\")","v":""},{"$f":"IFERROR(VLOOKUP(H4656,DropDowns!$F$2:$G$7,2,FALSE),\"Residual categories\")","v":"Residual categories"},null,null,null,0,0,0]
[0,{"$f":"IF(OR(COUNTA(O4628:O4657)>0,COUNTA(O4657:$O$5195)>0),IF(COUNTIF(B4648:B4657,B4657)=10,B4657+7,B4657),\"\")","v":""},"","","",null,null,null,0,0,0,0,{"$f":"IFERROR(VLOOKUP(G4658,DropDowns!$D$2:$E$151,2,FALSE),\"\")","v":""},{"$f":"IFERROR(VLOOKUP(H4658,DropDowns!$F$2:$G$7,2,FALSE),\"Residual categories\")","v":"Residual categories"},null,null,null,0,0,0]
[0,{"$f":"IF(OR(COUNTA(O4629:O4658)>0,COUNTA(O4658:$O$5195)>0),IF(COUNTIF(B4649:B4658,B4658)=10,B4658+7,B4658),\"\")","v":""},"","","",null,null,null,0,0,0,0,{"$f":"IFERROR(VLOOKUP(G4659,DropDowns!$D$2:$E$151,2,FALSE),\"\")","v":""},{"$f":"IFERROR(VLOOKUP(H4659,DropDowns!$F$2:$G$7,2,FALSE),\"Residual categories\")","v":"Residual categories"},null,null,null,0,0,0]
[0,{"$f":"IF(OR(COUNTA(O4631:O4660)>0,COUNTA(O4660:$O$5195)>0),IF(COUNTIF(B4651:B4660,B4660)=10,B4660+7,B4660),\"\")","v":""},"","","",null,null,null,0,0,0,0,{"$f":"IFERROR(VLOOKUP(G4661,DropDowns!$D$2:$E$151,2,FALSE),\"\")","v":""},{"$f":"IFERROR(VLOOKUP(H4661,DropDowns!$F$2:$G$7,2,FALSE),\"Residual categories\")","v":"Residual categories"},null,null,null,0,0,0]
[0,{"$f":"IF(OR(COUNTA(O4632:O4661)>0,COUNTA(O4661:$O$5195)>0),IF(COUNTIF(B4652:B4661,B4661)=10,B4661+7,B4661),\"\")","v":""},"","","",null,null,null,0,0,0,0,{"$f":"IFERROR(VLOOKUP(G4662,DropDowns!$D$2:$E$151,2,FALSE),\"\")","v":""},{"$f":"IFERROR(VLOOKUP(H4662,DropDowns!$F$2:$G$7,2,FALSE),\"Residual categories\")","v":"Residual categories"},null,null,null,0,0,0]
[0,{"$f":"IF(OR(COUNTA(O4634:O4663)>0,COUNTA(O4663:$O$5195)>0),IF(COUNTIF(B4654:B4663,B4663)=10,B4663+7,B4663),\"\")","v":""},"","","",null,null,null,0,0,0,0,{"$f":"IFERROR(VLOOKUP(G4664,DropDowns!$D$2:$E$151,2,FALSE),\"\")","v":""},{"$f":"IFERROR(VLOOKUP(H4664,DropDowns!$F$2:$G$7,2,FALSE),\"Residual categories\")","v":"Residual categories"},null,null,null,0,0,0]
[0,{"$f":"IF(OR(COUNTA(O4635:O4664)>0,COUNTA(O4664:$O$5195)>0),IF(COUNTIF(B4655:B4664,B4664)=10,B4664+7,B4664),\"\")","v":""},"","","",null,null,null,0,0,0,0,{"$f":"IFERROR(VLOOKUP(G4665,DropDowns!$D$2:$E$151,2,FALSE),\"\")","v":""},{"$f":"IFERROR(VLOOKUP(H4665,DropDowns!$F$2:$G$7,2,FALSE),\"Residual categories\")","v":"Residual categories"},null,null,null,0,0,0]
[0,{"$f":"IF(OR(COUNTA(O4636:O4665)>0,COUNTA(O4665:$O$5195)>0),IF(COUNTIF(B4656:B4665,B4665)=10,B4665+7,B4665),\"\")","v":""},"","","",null,null,null,0,0,0,0,{"$f":"IFERROR(VLOOKUP(G4666,DropDowns!$D$2:$E$151,2,FALSE),\"\")","v":""},{"$f":"IFERROR(VLOOKUP(H4666,DropDowns!$F$2:$G$7,2,FALSE),\"Residual categories\")","v":"Residual categories"},null,null,null,0,0,0]
[0,{"$f":"IF(OR(COUNTA(O4637:O4666)>0,COUNTA(O4666:$O$5195)>0),IF(COUNTIF(B4657:B4666,B4666)=10,B4666+7,B4666),\"\")","v":""},"","","",null,null,null,0,0,0,0,{"$f":"IFERROR(VLOOKUP(G4667,DropDowns!$D$2:$E$151,2,FALSE),\"\")","v":""},{"$f":"IFERROR(VLOOKUP(H4667,DropDowns!$F$2:$G$7,2,FALSE),\"Residual categories\")","v":"Residual categories"},null,null,null,0,0,0]
[0,{"$f":"IF(OR(COUNTA(O4639:O4668)>0,COUNTA(O4668:$O$5195)>0),IF(COUNTIF(B4659:B4668,B4668)=10,B4668+7,B4668),\"\")","v":""},"","","",null,null,null,0,0,0,0,{"$f":"IFERROR(VLOOKUP(G4669,DropDowns!$D$2:$E$151,2,FALSE),\"\")","v":""},{"$f":"IFERROR(VLOOKUP(H4669,DropDowns!$F$2:$G$7,2,FALSE),\"Residual categories\")","v":"Residual categories"},null,null,null,0,0,0]
[0,{"$f":"IF(OR(COUNTA(O4640:O4669)>0,COUNTA(O4669:$O$5195)>0),IF(COUNTIF(B4660:B4669,B4669)=10,B4669+7,B4669),\"\")","v":""},"","","",null,null,null,0,0,0,0,{"$f":"IFERROR(VLOOKUP(G4670,DropDowns!$D$2:$E$151,2,FALSE),\"\")","v":""},{"$f":"IFERROR(VLOOKUP(H4670,DropDowns!$F$2:$G$7,2,FALSE),\"Residual categories\")","v":"Residual categories"},null,null,null,0,0,0]
[0,{"$f":"IF(OR(COUNTA(O4642:O4671)>0,COUNTA(O4671:$O$5195)>0),IF(COUNTIF(B4662:B4671,B4671)=10,B4671+7,B4671),\"\")","v":""},"","","",null,null,null,0,0,0,0,{"$f":"IFERROR(VLOOKUP(G4672,DropDowns!$D$2:$E$151,2,FALSE),\"\")","v":""},{"$f":"IFERROR(VLOOKUP(H4672,DropDowns!$F$2:$G$7,2,FALSE),\"Residual categories\")","v":"Residual categories"},null,null,null,0,0,0]
[0,{"$f":"IF(OR(COUNTA(O4643:O4672)>0,COUNTA(O4672:$O$5195)>0),IF(COUNTIF(B4663:B4672,B4672)=10,B4672+7,B4672),\"\")","v":""},"","","",null,null,null,0,0,0,0,{"$f":"IFERROR(VLOOKUP(G4673,DropDowns!$D$2:$E$151,2,FALSE),\"\")","v":""},{"$f":"IFERROR(VLOOKUP(H4673,DropDowns!$F$2:$G$7,2,FALSE),\"Residual categories\")","v":"Residual categories"},null,null,null,0,0,0]
[0,{"$f":"IF(OR(COUNTA(O4644:O4673)>0,COUNTA(O4673:$O$5195)>0),IF(COUNTIF(B4664:B4673,B4673)=10,B4673+7,B4673),\"\")","v":""},"","","",null,null,null,0,0,0,0,{"$f":"IFERROR(VLOOKUP(G4674,DropDowns!$D$2:$E$151,2,FALSE),\"\")","v":""},{"$f":"IFERROR(VLOOKUP(H4674,DropDowns!$F$2:$G$7,2,FALSE),\"Residual categories\")","v":"Residual categories"},null,null,null,0,0,0]
[0,{"$f":"IF(OR(COUNTA(O4645:O4674)>0,COUNTA(O4674:$O$5195)>0),IF(COUNTIF(B4665:B4674,B4674)=10,B4674+7,B4674),\"\")","v":""},"","","",null,null,null,0,0,0,0,{"$f":"IFERROR(VLOOKUP(G4675,DropDowns!$D$2:$E$151,2,FALSE),\"\")","v":""},{"$f":"IFERROR(VLOOKUP(H4675,DropDowns!$F$2:$G$7,2,FALSE),\"Residual categories\")","v":"Residual categories"},null,null,null,0,0,0]
[0,{"$f":"IF(OR(COUNTA(O4647:O4676)>0,COUNTA(O4676:$O$5195)>0),IF(COUNTIF(B4667:B4676,B4676)=10,B4676+7,B4676),\"\")","v":""},"","","",null,null,null,0,0,0,0,{"$f":"IFERROR(VLOOKUP(G4677,DropDowns!$D$2:$E$151,2,FALSE),\"\")","v":""},{"$f":"IFERROR(VLOOKUP(H4677,DropDowns!$F$2:$G$7,2,FALSE),\"Residual categories\")","v":"Residual categories"},null,null,null,0,0,0]
[0,{"$f":"IF(OR(COUNTA(O4648:O4677)>0,COUNTA(O4677:$O$5195)>0),IF(COUNTIF(B4668:B4677,B4677)=10,B4677+7,B4677),\"\")","v":""},"","","",null,null,null,0,0,0,0,{"$f":"IFERROR(VLOOKUP(G4678,DropDowns!$D$2:$E$151,2,FALSE),\"\")","v":""},{"$f":"IFERROR(VLOOKUP(H4678,DropDowns!$F$2:$G$7,2,FALSE),\"Residual categories\")","v":"Residual categories"},null,null,null,0,0,0]
[0,{"$f":"IF(OR(COUNTA(O4650:O4679)>0,COUNTA(O4679:$O$5195)>0),IF(COUNTIF(B4670:B4679,B4679)=10,B4679+7,B4679),\"\")","v":""},"","","",null,null,null,0,0,0,0,{"$f":"IFERROR(VLOOKUP(G4680,DropDowns!$D$2:$E$151,2,FALSE),\"\")","v":""},{"$f":"IFERROR(VLOOKUP(H4680,DropDowns!$F$2:$G$7,2,FALSE),\"Residual categories\")","v":"Residual categories"},null,null,null,0,0,0]
[0,{"$f":"IF(OR(COUNTA(O4651:O4680)>0,COUNTA(O4680:$O$5195)>0),IF(COUNTIF(B4671:B4680,B4680)=10,B4680+7,B4680),\"\")","v":""},"","","",null,null,null,0,0,0,0,{"$f":"IFERROR(VLOOKUP(G4681,DropDowns!$D$2:$E$151,2,FALSE),\"\")","v":""},{"$f":"IFERROR(VLOOKUP(H4681,DropDowns!$F$2:$G$7,2,FALSE),\"Residual categories\")","v":"Residual categories"},null,null,null,0,0,0]
[0,{"$f":"IF(OR(COUNTA(O4652:O4681)>0,COUNTA(O4681:$O$5195)>0),IF(COUNTIF(B4672:B4681,B4681)=10,B4681+7,B4681),\"\")","v":""},"","","",null,null,null,0,0,0,0,{"$f":"IFERROR(VLOOKUP(G4682,DropDowns!$D$2:$E$151,2,FALSE),\"\")","v":""},{"$f":"IFERROR(VLOOKUP(H4682,DropDowns!$F$2:$G$7,2,FALSE),\"Residual categories\")","v":"Residual categories"},null,null,null,0,0,0]
[0,{"$f":"IF(OR(COUNTA(O4653:O4682)>0,COUNTA(O4682:$O$5195)>0),IF(COUNTIF(B4673:B4682,B4682)=10,B4682+7,B4682),\"\")","v":""},"","","",null,null,null,0,0,0,0,{"$f":"IFERROR(VLOOKUP(G4683,DropDowns!$D$2:$E$151,2,FALSE),\"\")","v":""},{"$f":"IFERROR(VLOOKUP(H4683,DropDowns!$F$2:$G$7,2,FALSE),\"Residual categories\")","v":"Residual categories"},null,null,null,0,0,0]
[0,{"$f":"IF(OR(COUNTA(O4655:O4684)>0,COUNTA(O4684:$O$5195)>0),IF(COUNTIF(B4675:B4684,B4684)=10,B4684+7,B4684),\"\")","v":""},"","","",null,null,null,0,0,0,0,{"$f":"IFERROR(VLOOKUP(G4685,DropDowns!$D$2:$E$151,2,FALSE),\"\")","v":""},{"$f":"IFERROR(VLOOKUP(H4685,DropDowns!$F$2:$G$7,2,FALSE),\"Residual categories\")","v":"Residual categories"},null,null,null,0,0,0]
[0,{"$f":"IF(OR(COUNTA(O4656:O4685)>0,COUNTA(O4685:$O$5195)>0),IF(COUNTIF(B4676:B4685,B4685)=10,B4685+7,B4685),\"\")","v":""},"","","",null,null,null,0,0,0,0,{"$f":"IFERROR(VLOOKUP(G4686,DropDowns!$D$2:$E$151,2,FALSE),\"\")","v":""},{"$f":"IFERROR(VLOOKUP(H4686,DropDowns!$F$2:$G$7,2,FALSE),\"Residual categories\")","v":"Residual categories"},null,null,null,0,0,0]
[0,{"$f":"IF(OR(COUNTA(O4658:O4687)>0,COUNTA(O4687:$O$5195)>0),IF(COUNTIF(B4678:B4687,B4687)=10,B4687+7,B4687),\"\")","v":""},"","","",null,null,null,0,0,0,0,{"$f":"IFERROR(VLOOKUP(G4688,DropDowns!$D$2:$E$151,2,FALSE),\"\")","v":""},{"$f":"IFERROR(VLOOKUP(H4688,DropDowns!$F$2:$G$7,2,FALSE),\"Residual categories\")","v":"Residual categories"},null,null,null,0,0,0]
[0,{"$f":"IF(OR(COUNTA(O4659:O4688)>0,COUNTA(O4688:$O$5195)>0),IF(COUNTIF(B4679:B4688,B4688)=10,B4688+7,B4688),\"\")","v":""},"","",{"$f":"IF(B4689=\"\",\"\",COUNTIF(B4680:B4689,B4689))","v":""},null,null,null,0,0,0,0,{"$f":"IFERROR(VLOOKUP(G4689,DropDowns!$D$2:$E$151,2,FALSE),\"\")","v":""},{"$f":"IFERROR(VLOOKUP(H4689,DropDowns!$F$2:$G$7,2,FALSE),\"Residual categories\")","v":"Residual categories"},null,null,null,0,0,0]
[0,{"$f":"IF(OR(COUNTA(O4660:O4689)>0,COUNTA(O4689:$O$5195)>0),IF(COUNTIF(B4680:B4689,B4689)=10,B4689+7,B4689),\"\")","v":""},"","","",null,null,null,0,0,0,0,{"$f":"IFERROR(VLOOKUP(G4690,DropDowns!$D$2:$E$151,2,FALSE),\"\")","v":""},{"$f":"IFERROR(VLOOKUP(H4690,DropDowns!$F$2:$G$7,2,FALSE),\"Residual categories\")","v":"Residual categories"},null,null,null,0,0,0]
[0,{"$f":"IF(OR(COUNTA(O4661:O4690)>0,COUNTA(O4690:$O$5195)>0),IF(COUNTIF(B4681:B4690,B4690)=10,B4690+7,B4690),\"\")","v":""},"","","",null,null,null,0,0,0,0,{"$f":"IFERROR(VLOOKUP(G4691,DropDowns!$D$2:$E$151,2,FALSE),\"\")","v":""},{"$f":"IFERROR(VLOOKUP(H4691,DropDowns!$F$2:$G$7,2,FALSE),\"Residual categories\")","v":"Residual categories"},null,null,null,0,0,0]
[0,{"$f":"IF(OR(COUNTA(O4663:O4692)>0,COUNTA(O4692:$O$5195)>0),IF(COUNTIF(B4683:B4692,B4692)=10,B4692+7,B4692),\"\")","v":""},"","","",null,null,null,0,0,0,0,{"$f":"IFERROR(VLOOKUP(G4693,DropDowns!$D$2:$E$151,2,FALSE),\"\")","v":""},{"$f":"IFERROR(VLOOKUP(H4693,DropDowns!$F$2:$G$7,2,FALSE),\"Residual categories\")","v":"Residual categories"},null,null,null,0,0,0]
[0,{"$f":"IF(OR(COUNTA(O4664:O4693)>0,COUNTA(O4693:$O$5195)>0),IF(COUNTIF(B4684:B4693,B4693)=10,B4693+7,B4693),\"\")","v":""},"","","",null,null,null,0,0,0,0,{"$f":"IFERROR(VLOOKUP(G4694,DropDowns!$D$2:$E$151,2,FALSE),\"\")","v":""},{"$f":"IFERROR(VLOOKUP(H4694,DropDowns!$F$2:$G$7,2,FALSE),\"Residual categories\")","v":"Residual categories"},null,null,null,0,0,0]
[0,{"$f":"IF(OR(COUNTA(O4666:O4695)>0,COUNTA(O4695:$O$5195)>0),IF(COUNTIF(B4686:B4695,B4695)=10,B4695+7,B4695),\"\")","v":""},"","","",null,null,null,0,0,0,0,{"$f":"IFERROR(VLOOKUP(G4696,DropDowns!$D$2:$E$151,2,FALSE),\"\")","v":""},{"$f":"IFERROR(VLOOKUP(H4696,DropDowns!$F$2:$G$7,2,FALSE),\"Residual categories\")","v":"Residual categories"},null,null,null,0,0,0]
[0,{"$f":"IF(OR(COUNTA(O4667:O4696)>0,COUNTA(O4696:$O$5195)>0),IF(COUNTIF(B4687:B4696,B4696)=10,B4696+7,B4696),\"\")","v":""},"","","",null,null,null,0,0,0,0,{"$f":"IFERROR(VLOOKUP(G4697,DropDowns!$D$2:$E$151,2,FALSE),\"\")","v":""},{"$f":"IFERROR(VLOOKUP(H4697,DropDowns!$F$2:$G$7,2,FALSE),\"Residual categories\")","v":"Residual categories"},null,null,null,0,0,0]
[0,{"$f":"IF(OR(COUNTA(O4668:O4697)>0,COUNTA(O4697:$O$5195)>0),IF(COUNTIF(B4688:B4697,B4697)=10,B4697+7,B4697),\"\")","v":""},"","","",null,null,null,0,0,0,0,{"$f":"IFERROR(VLOOKUP(G4698,DropDowns!$D$2:$E$151,2,FALSE),\"\")","v":""},{"$f":"IFERROR(VLOOKUP(H4698,DropDowns!$F$2:$G$7,2,FALSE),\"Residual categories\")","v":"Residual categories"},null,null,null,0,0,0]
[0,{"$f":"IF(OR(COUNTA(O4669:O4698)>0,COUNTA(O4698:$O$5195)>0),IF(COUNTIF(B4689:B4698,B4698)=10,B4698+7,B4698),\"\")","v":""},"","","",null,null,null,0,0,0,0,{"$f":"IFERROR(VLOOKUP(G4699,DropDowns!$D$2:$E$151,2,FALSE),\"\")","v":""},{"$f":"IFERROR(VLOOKUP(H4699,DropDowns!$F$2:$G$7,2,FALSE),\"Residual categories\")","v":"Residual categories"},null,null,null,0,0,0]
[0,{"$f":"IF(OR(COUNTA(O4670:O4699)>0,COUNTA(O4699:$O$5195)>0),IF(COUNTIF(B4690:B4699,B4699)=10,B4699+7,B4699),\"\")","v":""},"","","",null,null,null,0,0,0,0,{"$f":"IFERROR(VLOOKUP(G4700,DropDowns!$D$2:$E$151,2,FALSE),\"\")","v":""},{"$f":"IFERROR(VLOOKUP(H4700,DropDowns!$F$2:$G$7,2,FALSE),\"Residual categories\")","v":"Residual categories"},null,null,null,0,0,0]
[0,{"$f":"IF(OR(COUNTA(O4671:O4700)>0,COUNTA(O4700:$O$5195)>0),IF(COUNTIF(B4691:B4700,B4700)=10,B4700+7,B4700),\"\")","v":""},"","","",null,null,null,0,0,0,0,{"$f":"IFERROR(VLOOKUP(G4701,DropDowns!$D$2:$E$151,2,FALSE),\"\")","v":""},{"$f":"IFERROR(VLOOKUP(H4701,DropDowns!$F$2:$G$7,2,FALSE),\"Residual categories\")","v":"Residual categories"},null,null,null,0,0,0]
[0,{"$f":"IF(OR(COUNTA(O4672:O4701)>0,COUNTA(O4701:$O$5195)>0),IF(COUNTIF(B4692:B4701,B4701)=10,B4701+7,B4701),\"\")","v":""},"","","",null,null,null,0,0,0,0,{"$f":"IFERROR(VLOOKUP(G4702,DropDowns!$D$2:$E$151,2,FALSE),\"\")","v":""},{"$f":"IFERROR(VLOOKUP(H4702,DropDowns!$F$2:$G$7,2,FALSE),\"Residual categories\")","v":"Residual categories"},null,null,null,0,0,0]
[0,{"$f":"IF(OR(COUNTA(O4673:O4702)>0,COUNTA(O4702:$O$5195)>0),IF(COUNTIF(B4693:B4702,B4702)=10,B4702+7,B4702),\"\")","v":""},"","","",null,null,null,0,0,0,0,{"$f":"IFERROR(VLOOKUP(G4703,DropDowns!$D$2:$E$151,2,FALSE),\"\")","v":""},{"$f":"IFERROR(VLOOKUP(H4703,DropDowns!$F$2:$G$7,2,FALSE),\"Residual categories\")","v":"Residual categories"},null,null,null,0,0,0]
[0,{"$f":"IF(OR(COUNTA(O4674:O4703)>0,COUNTA(O4703:$O$5195)>0),IF(COUNTIF(B4694:B4703,B4703)=10,B4703+7,B4703),\"\")","v":""},"","","",null,null,null,0,0,0,0,{"$f":"IFERROR(VLOOKUP(G4704,DropDowns!$D$2:$E$151,2,FALSE),\"\")","v":""},{"$f":"IFERROR(VLOOKUP(H4704,DropDowns!$F$2:$G$7,2,FALSE),\"Residual categories\")","v":"Residual categories"},null,null,null,0,0,0]
[0,{"$f":"IF(OR(COUNTA(O4675:O4704)>0,COUNTA(O4704:$O$5195)>0),IF(COUNTIF(B4695:B4704,B4704)=10,B4704+7,B4704),\"\")","v":""},"","","",null,null,null,0,0,0,0,{"$f":"IFERROR(VLOOKUP(G4705,DropDowns!$D$2:$E$151,2,FALSE),\"\")","v":""},{"$f":"IFERROR(VLOOKUP(H4705,DropDowns!$F$2:$G$7,2,FALSE),\"Residual categories\")","v":"Residual categories"},null,null,null,0,0,0]
[0,{"$f":"IF(OR(COUNTA(O4676:O4705)>0,COUNTA(O4705:$O$5195)>0),IF(COUNTIF(B4696:B4705,B4705)=10,B4705+7,B4705),\"\")","v":""},"","","",null,null,null,0,0,0,0,{"$f":"IFERROR(VLOOKUP(G4706,DropDowns!$D$2:$E$151,2,FALSE),\"\")","v":""},{"$f":"IFERROR(VLOOKUP(H4706,DropDowns!$F$2:$G$7,2,FALSE),\"Residual categories\")","v":"Residual categories"},null,null,null,0,0,0]
[0,{"$f":"IF(OR(COUNTA(O4677:O4706)>0,COUNTA(O4706:$O$5195)>0),IF(COUNTIF(B4697:B4706,B4706)=10,B4706+7,B4706),\"\")","v":""},"","","",null,null,null,0,0,0,0,{"$f":"IFERROR(VLOOKUP(G4707,DropDowns!$D$2:$E$151,2,FALSE),\"\")","v":""},{"$f":"IFERROR(VLOOKUP(H4707,DropDowns!$F$2:$G$7,2,FALSE),\"Residual categories\")","v":"Residual categories"},null,null,null,0,0,0]
[0,{"$f":"IF(OR(COUNTA(O4678:O4707)>0,COUNTA(O4707:$O$5195)>0),IF(COUNTIF(B4698:B4707,B4707)=10,B4707+7,B4707),\"\")","v":""},"","","",null,null,null,0,0,0,0,{"$f":"IFERROR(VLOOKUP(G4708,DropDowns!$D$2:$E$151,2,FALSE),\"\")","v":""},{"$f":"IFERROR(VLOOKUP(H4708,DropDowns!$F$2:$G$7,2,FALSE),\"Residual categories\")","v":"Residual categories"},null,null,null,0,0,0]
[0,{"$f":"IF(OR(COUNTA(O4679:O4708)>0,COUNTA(O4708:$O$5195)>0),IF(COUNTIF(B4699:B4708,B4708)=10,B4708+7,B4708),\"\")","v":""},"","","",null,null,null,0,0,0,0,{"$f":"IFERROR(VLOOKUP(G4709,DropDowns!$D$2:$E$151,2,FALSE),\"\")","v":""},{"$f":"IFERROR(VLOOKUP(H4709,DropDowns!$F$2:$G$7,2,FALSE),\"Residual categories\")","v":"Residual categories"},null,null,null,0,0,0]
[0,{"$f":"IF(OR(COUNTA(O4680:O4709)>0,COUNTA(O4709:$O$5195)>0),IF(COUNTIF(B4700:B4709,B4709)=10,B4709+7,B4709),\"\")","v":""},"","","",null,null,null,0,0,0,0,{"$f":"IFERROR(VLOOKUP(G4710,DropDowns!$D$2:$E$151,2,FALSE),\"\")","v":""},{"$f":"IFERROR(VLOOKUP(H4710,DropDowns!$F$2:$G$7,2,FALSE),\"Residual categories\")","v":"Residual categories"},null,null,null,0,0,0]
[0,{"$f":"IF(OR(COUNTA(O4681:O4710)>0,COUNTA(O4710:$O$5195)>0),IF(COUNTIF(B4701:B4710,B4710)=10,B4710+7,B4710),\"\")","v":""},"","","",null,null,null,0,0,0,0,{"$f":"IFERROR(VLOOKUP(G4711,DropDowns!$D$2:$E$151,2,FALSE),\"\")","v":""},{"$f":"IFERROR(VLOOKUP(H4711,DropDowns!$F$2:$G$7,2,FALSE),\"Residual categories\")","v":"Residual categories"},null,null,null,0,0,0]
[0,{"$f":"IF(OR(COUNTA(O4682:O4711)>0,COUNTA(O4711:$O$5195)>0),IF(COUNTIF(B4702:B4711,B4711)=10,B4711+7,B4711),\"\")","v":""},"","","",null,null,null,0,0,0,0,{"$f":"IFERROR(VLOOKUP(G4712,DropDowns!$D$2:$E$151,2,FALSE),\"\")","v":""},{"$f":"IFERROR(VLOOKUP(H4712,DropDowns!$F$2:$G$7,2,FALSE),\"Residual categories\")","v":"Residual categories"},null,null,null,0,0,0]
[0,{"$f":"IF(OR(COUNTA(O4683:O4712)>0,COUNTA(O4712:$O$5195)>0),IF(COUNTIF(B4703:B4712,B4712)=10,B4712+7,B4712),\"\")","v":""},"","","",null,null,null,0,0,0,0,{"$f":"IFERROR(VLOOKUP(G4713,DropDowns!$D$2:$E$151,2,FALSE),\"\")","v":""},{"$f":"IFERROR(VLOOKUP(H4713,DropDowns!$F$2:$G$7,2,FALSE),\"Residual categories\")","v":"Residual categories"},null,null,null,0,0,0]
[0,{"$f":"IF(OR(COUNTA(O4684:O4713)>0,COUNTA(O4713:$O$5195)>0),IF(COUNTIF(B4704:B4713,B4713)=10,B4713+7,B4713),\"\")","v":""},"","","",null,null,null,0,0,0,0,{"$f":"IFERROR(VLOOKUP(G4714,DropDowns!$D$2:$E$151,2,FALSE),\"\")","v":""},{"$f":"IFERROR(VLOOKUP(H4714,DropDowns!$F$2:$G$7,2,FALSE),\"Residual categories\")","v":"Residual categories"},null,null,null,0,0,0]
[0,{"$f":"IF(OR(COUNTA(O4685:O4714)>0,COUNTA(O4714:$O$5195)>0),IF(COUNTIF(B4705:B4714,B4714)=10,B4714+7,B4714),\"\")","v":""},"","","",null,null,null,0,0,0,0,{"$f":"IFERROR(VLOOKUP(G4715,DropDowns!$D$2:$E$151,2,FALSE),\"\")","v":""},{"$f":"IFERROR(VLOOKUP(H4715,DropDowns!$F$2:$G$7,2,FALSE),\"Residual categories\")","v":"Residual categories"},null,null,null,0,0,0]
[0,{"$f":"IF(OR(COUNTA(O4686:O4715)>0,COUNTA(O4715:$O$5195)>0),IF(COUNTIF(B4706:B4715,B4715)=10,B4715+7,B4715),\"\")","v":""},"","","",null,null,null,0,0,0,0,{"$f":"IFERROR(VLOOKUP(G4716,DropDowns!$D$2:$E$151,2,FALSE),\"\")","v":""},{"$f":"IFERROR(VLOOKUP(H4716,DropDowns!$F$2:$G$7,2,FALSE),\"Residual categories\")","v":"Residual categories"},null,null,null,0,0,0]
[0,{"$f":"IF(OR(COUNTA(O4687:O4716)>0,COUNTA(O4716:$O$5195)>0),IF(COUNTIF(B4707:B4716,B4716)=10,B4716+7,B4716),\"\")","v":""},"","","",null,null,null,0,0,0,0,{"$f":"IFERROR(VLOOKUP(G4717,DropDowns!$D$2:$E$151,2,FALSE),\"\")","v":""},{"$f":"IFERROR(VLOOKUP(H4717,DropDowns!$F$2:$G$7,2,FALSE),\"Residual categories\")","v":"Residual categories"},null,null,null,0,0,0]
[0,{"$f":"IF(OR(COUNTA(O4688:O4717)>0,COUNTA(O4717:$O$5195)>0),IF(COUNTIF(B4708:B4717,B4717)=10,B4717+7,B4717),\"\")","v":""},"","","",null,null,null,0,0,0,0,{"$f":"IFERROR(VLOOKUP(G4718,DropDowns!$D$2:$E$151,2,FALSE),\"\")","v":""},{"$f":"IFERROR(VLOOKUP(H4718,DropDowns!$F$2:$G$7,2,FALSE),\"Residual categories\")","v":"Residual categories"},null,null,null,0,0,0]
[0,{"$f":"IF(OR(COUNTA(O4689:O4718)>0,COUNTA(O4718:$O$5195)>0),IF(COUNTIF(B4709:B4718,B4718)=10,B4718+7,B4718),\"\")","v":""},"","","",null,null,null,0,0,0,0,{"$f":"IFERROR(VLOOKUP(G4719,DropDowns!$D$2:$E$151,2,FALSE),\"\")","v":""},{"$f":"IFERROR(VLOOKUP(H4719,DropDowns!$F$2:$G$7,2,FALSE),\"Residual categories\")","v":"Residual categories"},null,null,null,0,0,0]
[0,{"$f":"IF(OR(COUNTA(O4690:O4719)>0,COUNTA(O4719:$O$5195)>0),IF(COUNTIF(B4710:B4719,B4719)=10,B4719+7,B4719),\"\")","v":""},"","","",null,null,null,0,0,0,0,{"$f":"IFERROR(VLOOKUP(G4720,DropDowns!$D$2:$E$151,2,FALSE),\"\")","v":""},{"$f":"IFERROR(VLOOKUP(H4720,DropDowns!$F$2:$G$7,2,FALSE),\"Residual categories\")","v":"Residual categories"},null,null,null,0,0,0]
[0,{"$f":"IF(OR(COUNTA(O4691:O4720)>0,COUNTA(O4720:$O$5195)>0),IF(COUNTIF(B4711:B4720,B4720)=10,B4720+7,B4720),\"\")","v":""},"","","",null,null,null,0,0,0,0,{"$f":"IFERROR(VLOOKUP(G4721,DropDowns!$D$2:$E$151,2,FALSE),\"\")","v":""},{"$f":"IFERROR(VLOOKUP(H4721,DropDowns!$F$2:$G$7,2,FALSE),\"Residual categories\")","v":"Residual categories"},null,null,null,0,0,0]
[0,{"$f":"IF(OR(COUNTA(O4692:O4721)>0,COUNTA(O4721:$O$5195)>0),IF(COUNTIF(B4712:B4721,B4721)=10,B4721+7,B4721),\"\")","v":""},"","","",null,null,null,0,0,0,0,{"$f":"IFERROR(VLOOKUP(G4722,DropDowns!$D$2:$E$151,2,FALSE),\"\")","v":""},{"$f":"IFERROR(VLOOKUP(H4722,DropDowns!$F$2:$G$7,2,FALSE),\"Residual categories\")","v":"Residual categories"},null,null,null,0,0,0]
[0,{"$f":"IF(OR(COUNTA(O4693:O4722)>0,COUNTA(O4722:$O$5195)>0),IF(COUNTIF(B4713:B4722,B4722)=10,B4722+7,B4722),\"\")","v":""},"","","",null,null,null,0,0,0,0,{"$f":"IFERROR(VLOOKUP(G4723,DropDowns!$D$2:$E$151,2,FALSE),\"\")","v":""},{"$f":"IFERROR(VLOOKUP(H4723,DropDowns!$F$2:$G$7,2,FALSE),\"Residual categories\")","v":"Residual categories"},null,null,null,0,0,0]
[0,{"$f":"IF(OR(COUNTA(O4694:O4723)>0,COUNTA(O4723:$O$5195)>0),IF(COUNTIF(B4714:B4723,B4723)=10,B4723+7,B4723),\"\")","v":""},"","","",null,null,null,0,0,0,0,{"$f":"IFERROR(VLOOKUP(G4724,DropDowns!$D$2:$E$151,2,FALSE),\"\")","v":""},{"$f":"IFERROR(VLOOKUP(H4724,DropDowns!$F$2:$G$7,2,FALSE),\"Residual categories\")","v":"Residual categories"},null,null,null,0,0,0]
[0,{"$f":"IF(OR(COUNTA(O4695:O4724)>0,COUNTA(O4724:$O$5195)>0),IF(COUNTIF(B4715:B4724,B4724)=10,B4724+7,B4724),\"\")","v":""},"","","",null,null,null,0,0,0,0,{"$f":"IFERROR(VLOOKUP(G4725,DropDowns!$D$2:$E$151,2,FALSE),\"\")","v":""},{"$f":"IFERROR(VLOOKUP(H4725,DropDowns!$F$2:$G$7,2,FALSE),\"Residual categories\")","v":"Residual categories"},null,null,null,0,0,0]
[0,{"$f":"IF(OR(COUNTA(O4696:O4725)>0,COUNTA(O4725:$O$5195)>0),IF(COUNTIF(B4716:B4725,B4725)=10,B4725+7,B4725),\"\")","v":""},"","","",null,null,null,0,0,0,0,{"$f":"IFERROR(VLOOKUP(G4726,DropDowns!$D$2:$E$151,2,FALSE),\"\")","v":""},{"$f":"IFERROR(VLOOKUP(H4726,DropDowns!$F$2:$G$7,2,FALSE),\"Residual categories\")","v":"Residual categories"},null,null,null,0,0,0]
[0,{"$f":"IF(OR(COUNTA(O4697:O4726)>0,COUNTA(O4726:$O$5195)>0),IF(COUNTIF(B4717:B4726,B4726)=10,B4726+7,B4726),\"\")","v":""},"","","",null,null,null,0,0,0,0,{"$f":"IFERROR(VLOOKUP(G4727,DropDowns!$D$2:$E$151,2,FALSE),\"\")","v":""},{"$f":"IFERROR(VLOOKUP(H4727,DropDowns!$F$2:$G$7,2,FALSE),\"Residual categories\")","v":"Residual categories"},null,null,null,0,0,0]
[0,{"$f":"IF(OR(COUNTA(O4698:O4727)>0,COUNTA(O4727:$O$5195)>0),IF(COUNTIF(B4718:B4727,B4727)=10,B4727+7,B4727),\"\")","v":""},"","","",null,null,null,0,0,0,0,{"$f":"IFERROR(VLOOKUP(G4728,DropDowns!$D$2:$E$151,2,FALSE),\"\")","v":""},{"$f":"IFERROR(VLOOKUP(H4728,DropDowns!$F$2:$G$7,2,FALSE),\"Residual categories\")","v":"Residual categories"},null,null,null,0,0,0]
[0,{"$f":"IF(OR(COUNTA(O4699:O4728)>0,COUNTA(O4728:$O$5195)>0),IF(COUNTIF(B4719:B4728,B4728)=10,B4728+7,B4728),\"\")","v":""},"","","",null,null,null,0,0,0,0,{"$f":"IFERROR(VLOOKUP(G4729,DropDowns!$D$2:$E$151,2,FALSE),\"\")","v":""},{"$f":"IFERROR(VLOOKUP(H4729,DropDowns!$F$2:$G$7,2,FALSE),\"Residual categories\")","v":"Residual categories"},null,null,null,0,0,0]
[0,{"$f":"IF(OR(COUNTA(O4700:O4729)>0,COUNTA(O4729:$O$5195)>0),IF(COUNTIF(B4720:B4729,B4729)=10,B4729+7,B4729),\"\")","v":""},"","","",null,null,null,0,0,0,0,{"$f":"IFERROR(VLOOKUP(G4730,DropDowns!$D$2:$E$151,2,FALSE),\"\")","v":""},{"$f":"IFERROR(VLOOKUP(H4730,DropDowns!$F$2:$G$7,2,FALSE),\"Residual categories\")","v":"Residual categories"},null,null,null,0,0,0]
[0,{"$f":"IF(OR(COUNTA(O4701:O4730)>0,COUNTA(O4730:$O$5195)>0),IF(COUNTIF(B4721:B4730,B4730)=10,B4730+7,B4730),\"\")","v":""},"","","",null,null,null,0,0,0,0,{"$f":"IFERROR(VLOOKUP(G4731,DropDowns!$D$2:$E$151,2,FALSE),\"\")","v":""},{"$f":"IFERROR(VLOOKUP(H4731,DropDowns!$F$2:$G$7,2,FALSE),\"Residual categories\")","v":"Residual categories"},null,null,null,0,0,0]
[0,{"$f":"IF(OR(COUNTA(O4702:O4731)>0,COUNTA(O4731:$O$5195)>0),IF(COUNTIF(B4722:B4731,B4731)=10,B4731+7,B4731),\"\")","v":""},"","","",null,null,null,0,0,0,0,{"$f":"IFERROR(VLOOKUP(G4732,DropDowns!$D$2:$E$151,2,FALSE),\"\")","v":""},{"$f":"IFERROR(VLOOKUP(H4732,DropDowns!$F$2:$G$7,2,FALSE),\"Residual categories\")","v":"Residual categories"},null,null,null,0,0,0]
[0,{"$f":"IF(OR(COUNTA(O4703:O4732)>0,COUNTA(O4732:$O$5195)>0),IF(COUNTIF(B4723:B4732,B4732)=10,B4732+7,B4732),\"\")","v":""},"","","",null,null,null,0,0,0,0,{"$f":"IFERROR(VLOOKUP(G4733,DropDowns!$D$2:$E$151,2,FALSE),\"\")","v":""},{"$f":"IFERROR(VLOOKUP(H4733,DropDowns!$F$2:$G$7,2,FALSE),\"Residual categories\")","v":"Residual categories"},null,null,null,0,0,0]
[0,{"$f":"IF(OR(COUNTA(O4704:O4733)>0,COUNTA(O4733:$O$5195)>0),IF(COUNTIF(B4724:B4733,B4733)=10,B4733+7,B4733),\"\")","v":""},"","","",null,null,null,0,0,0,0,{"$f":"IFERROR(VLOOKUP(G4734,DropDowns!$D$2:$E$151,2,FALSE),\"\")","v":""},{"$f":"IFERROR(VLOOKUP(H4734,DropDowns!$F$2:$G$7,2,FALSE),\"Residual categories\")","v":"Residual categories"},null,null,null,0,0,0]
[0,{"$f":"IF(OR(COUNTA(O4705:O4734)>0,COUNTA(O4734:$O$5195)>0),IF(COUNTIF(B4725:B4734,B4734)=10,B4734+7,B4734),\"\")","v":""},"","","",null,null,null,0,0,0,0,{"$f":"IFERROR(VLOOKUP(G4735,DropDowns!$D$2:$E$151,2,FALSE),\"\")","v":""},{"$f":"IFERROR(VLOOKUP(H4735,DropDowns!$F$2:$G$7,2,FALSE),\"Residual categories\")","v":"Residual categories"},null,null,null,0,0,0]
[0,{"$f":"IF(OR(COUNTA(O4706:O4735)>0,COUNTA(O4735:$O$5195)>0),IF(COUNTIF(B4726:B4735,B4735)=10,B4735+7,B4735),\"\")","v":""},"","","",null,null,null,0,0,0,0,{"$f":"IFERROR(VLOOKUP(G4736,DropDowns!$D$2:$E$151,2,FALSE),\"\")","v":""},{"$f":"IFERROR(VLOOKUP(H4736,DropDowns!$F$2:$G$7,2,FALSE),\"Residual categories\")","v":"Residual categories"},null,null,null,0,0,0]
[0,{"$f":"IF(OR(COUNTA(O4707:O4736)>0,COUNTA(O4736:$O$5195)>0),IF(COUNTIF(B4727:B4736,B4736)=10,B4736+7,B4736),\"\")","v":""},"","","",null,null,null,0,0,0,0,{"$f":"IFERROR(VLOOKUP(G4737,DropDowns!$D$2:$E$151,2,FALSE),\"\")","v":""},{"$f":"IFERROR(VLOOKUP(H4737,DropDowns!$F$2:$G$7,2,FALSE),\"Residual categories\")","v":"Residual categories"},null,null,null,0,0,0]
[0,{"$f":"IF(OR(COUNTA(O4708:O4737)>0,COUNTA(O4737:$O$5195)>0),IF(COUNTIF(B4728:B4737,B4737)=10,B4737+7,B4737),\"\")","v":""},"","","",null,null,null,0,0,0,0,{"$f":"IFERROR(VLOOKUP(G4738,DropDowns!$D$2:$E$151,2,FALSE),\"\")","v":""},{"$f":"IFERROR(VLOOKUP(H4738,DropDowns!$F$2:$G$7,2,FALSE),\"Residual categories\")","v":"Residual categories"},null,null,null,0,0,0]
[0,{"$f":"IF(OR(COUNTA(O4709:O4738)>0,COUNTA(O4738:$O$5195)>0),IF(COUNTIF(B4729:B4738,B4738)=10,B4738+7,B4738),\"\")","v":""},"","","",null,null,null,0,0,0,0,{"$f":"IFERROR(VLOOKUP(G4739,DropDowns!$D$2:$E$151,2,FALSE),\"\")","v":""},{"$f":"IFERROR(VLOOKUP(H4739,DropDowns!$F$2:$G$7,2,FALSE),\"Residual categories\")","v":"Residual categories"},null,null,null,0,0,0]
[0,{"$f":"IF(OR(COUNTA(O4710:O4739)>0,COUNTA(O4739:$O$5195)>0),IF(COUNTIF(B4730:B4739,B4739)=10,B4739+7,B4739),\"\")","v":""},"","","",null,null,null,0,0,0,0,{"$f":"IFERROR(VLOOKUP(G4740,DropDowns!$D$2:$E$151,2,FALSE),\"\")","v":""},{"$f":"IFERROR(VLOOKUP(H4740,DropDowns!$F$2:$G$7,2,FALSE),\"Residual categories\")","v":"Residual categories"},null,null,null,0,0,0]
[0,{"$f":"IF(OR(COUNTA(O4711:O4740)>0,COUNTA(O4740:$O$5195)>0),IF(COUNTIF(B4731:B4740,B4740)=10,B4740+7,B4740),\"\")","v":""},"","","",null,null,null,0,0,0,0,{"$f":"IFERROR(VLOOKUP(G4741,DropDowns!$D$2:$E$151,2,FALSE),\"\")","v":""},{"$f":"IFERROR(VLOOKUP(H4741,DropDowns!$F$2:$G$7,2,FALSE),\"Residual categories\")","v":"Residual categories"},null,null,null,0,0,0]
[0,{"$f":"IF(OR(COUNTA(O4712:O4741)>0,COUNTA(O4741:$O$5195)>0),IF(COUNTIF(B4732:B4741,B4741)=10,B4741+7,B4741),\"\")","v":""},"","","",null,null,null,0,0,0,0,{"$f":"IFERROR(VLOOKUP(G4742,DropDowns!$D$2:$E$151,2,FALSE),\"\")","v":""},{"$f":"IFERROR(VLOOKUP(H4742,DropDowns!$F$2:$G$7,2,FALSE),\"Residual categories\")","v":"Residual categories"},null,null,null,0,0,0]
[0,{"$f":"IF(OR(COUNTA(O4713:O4742)>0,COUNTA(O4742:$O$5195)>0),IF(COUNTIF(B4733:B4742,B4742)=10,B4742+7,B4742),\"\")","v":""},{"$f":"IF(D4743=1,A4743,\"\")","v":""},"","",null,null,null,{"$f":"IF(COUNTA(O4743:Q4743)>0,1,0)","v":0},{"$f":"IF(O4743=\"y\",1,0)","v":0},{"$f":"IF(P4743=\"y\",1,0)","v":0},{"$f":"IF(Q4743=\"y\",1,0)","v":0},{"$f":"IFERROR(VLOOKUP(G4743,DropDowns!$D$2:$E$151,2,FALSE),\"\")","v":""},{"$f":"IFERROR(VLOOKUP(H4743,DropDowns!$F$2:$G$7,2,FALSE),\"Residual categories\")","v":"Residual categories"},null,null,null,{"$f":"IF(O4743=\"yes\",1,0)","v":0},{"$f":"IF(P4743=\"yes\",1,0)","v":0},{"$f":"IF(Q4743=\"yes\",1,0)","v":0}]
[0,{"$f":"IF(OR(COUNTA(O4714:O4743)>0,COUNTA(O4743:$O$5195)>0),IF(COUNTIF(B4734:B4743,B4743)=10,B4743+7,B4743),\"\")","v":""},"","","",null,null,null,0,0,0,0,{"$f":"IFERROR(VLOOKUP(G4744,DropDowns!$D$2:$E$151,2,FALSE),\"\")","v":""},{"$f":"IFERROR(VLOOKUP(H4744,DropDowns!$F$2:$G$7,2,FALSE),\"Residual categories\")","v":"Residual categories"},null,null,null,0,0,0]
[0,{"$f":"IF(OR(COUNTA(O4715:O4744)>0,COUNTA(O4744:$O$5195)>0),IF(COUNTIF(B4735:B4744,B4744)=10,B4744+7,B4744),\"\")","v":""},"","","",null,null,null,0,0,0,0,{"$f":"IFERROR(VLOOKUP(G4745,DropDowns!$D$2:$E$151,2,FALSE),\"\")","v":""},{"$f":"IFERROR(VLOOKUP(H4745,DropDowns!$F$2:$G$7,2,FALSE),\"Residual categories\")","v":"Residual categories"},null,null,null,0,0,0]
[0,{"$f":"IF(OR(COUNTA(O4716:O4745)>0,COUNTA(O4745:$O$5195)>0),IF(COUNTIF(B4736:B4745,B4745)=10,B4745+7,B4745),\"\")","v":""},"","","",null,null,null,0,0,0,0,{"$f":"IFERROR(VLOOKUP(G4746,DropDowns!$D$2:$E$151,2,FALSE),\"\")","v":""},{"$f":"IFERROR(VLOOKUP(H4746,DropDowns!$F$2:$G$7,2,FALSE),\"Residual categories\")","v":"Residual categories"},null,null,null,0,0,0]
[0,{"$f":"IF(OR(COUNTA(O4717:O4746)>0,COUNTA(O4746:$O$5195)>0),IF(COUNTIF(B4737:B4746,B4746)=10,B4746+7,B4746),\"\")","v":""},"","","",null,null,null,0,0,0,0,{"$f":"IFERROR(VLOOKUP(G4747,DropDowns!$D$2:$E$151,2,FALSE),\"\")","v":""},{"$f":"IFERROR(VLOOKUP(H4747,DropDowns!$F$2:$G$7,2,FALSE),\"Residual categories\")","v":"Residual categories"},null,null,null,0,0,0]
[0,{"$f":"IF(OR(COUNTA(O4718:O4747)>0,COUNTA(O4747:$O$5195)>0),IF(COUNTIF(B4738:B4747,B4747)=10,B4747+7,B4747),\"\")","v":""},"","","",null,null,null,0,0,0,0,{"$f":"IFERROR(VLOOKUP(G4748,DropDowns!$D$2:$E$151,2,FALSE),\"\")","v":""},{"$f":"IFERROR(VLOOKUP(H4748,DropDowns!$F$2:$G$7,2,FALSE),\"Residual categories\")","v":"Residual categories"},null,null,null,0,0,0]
[0,{"$f":"IF(OR(COUNTA(O4719:O4748)>0,COUNTA(O4748:$O$5195)>0),IF(COUNTIF(B4739:B4748,B4748)=10,B4748+7,B4748),\"\")","v":""},"","","",null,null,null,0,0,0,0,{"$f":"IFERROR(VLOOKUP(G4749,DropDowns!$D$2:$E$151,2,FALSE),\"\")","v":""},{"$f":"IFERROR(VLOOKUP(H4749,DropDowns!$F$2:$G$7,2,FALSE),\"Residual categories\")","v":"Residual categories"},null,null,null,0,0,0]
[0,{"$f":"IF(OR(COUNTA(O4720:O4749)>0,COUNTA(O4749:$O$5195)>0),IF(COUNTIF(B4740:B4749,B4749)=10,B4749+7,B4749),\"\")","v":""},"","","",null,null,null,0,0,0,0,{"$f":"IFERROR(VLOOKUP(G4750,DropDowns!$D$2:$E$151,2,FALSE),\"\")","v":""},{"$f":"IFERROR(VLOOKUP(H4750,DropDowns!$F$2:$G$7,2,FALSE),\"Residual categories\")","v":"Residual categories"},null,null,null,0,0,0]
[0,{"$f":"IF(OR(COUNTA(O4721:O4750)>0,COUNTA(O4750:$O$5195)>0),IF(COUNTIF(B4741:B4750,B4750)=10,B4750+7,B4750),\"\")","v":""},"","","",null,null,null,0,0,0,0,{"$f":"IFERROR(VLOOKUP(G4751,DropDowns!$D$2:$E$151,2,FALSE),\"\")","v":""},{"$f":"IFERROR(VLOOKUP(H4751,DropDowns!$F$2:$G$7,2,FALSE),\"Residual categories\")","v":"Residual categories"},null,null,null,0,0,0]
[0,{"$f":"IF(OR(COUNTA(O4722:O4751)>0,COUNTA(O4751:$O$5195)>0),IF(COUNTIF(B4742:B4751,B4751)=10,B4751+7,B4751),\"\")","v":""},"","","",null,null,null,0,0,0,0,{"$f":"IFERROR(VLOOKUP(G4752,DropDowns!$D$2:$E$151,2,FALSE),\"\")","v":""},{"$f":"IFERROR(VLOOKUP(H4752,DropDowns!$F$2:$G$7,2,FALSE),\"Residual categories\")","v":"Residual categories"},null,null,null,0,0,0]
[0,{"$f":"IF(OR(COUNTA(O4723:O4752)>0,COUNTA(O4752:$O$5195)>0),IF(COUNTIF(B4743:B4752,B4752)=10,B4752+7,B4752),\"\")","v":""},"","",{"$f":"IF(B4753=\"\",\"\",COUNTIF(B4744:B4753,B4753))","v":""},null,null,null,0,0,0,0,{"$f":"IFERROR(VLOOKUP(G4753,DropDowns!$D$2:$E$151,2,FALSE),\"\")","v":""},{"$f":"IFERROR(VLOOKUP(H4753,DropDowns!$F$2:$G$7,2,FALSE),\"Residual categories\")","v":"Residual categories"},null,null,null,0,0,0]
[0,{"$f":"IF(OR(COUNTA(O4724:O4753)>0,COUNTA(O4753:$O$5195)>0),IF(COUNTIF(B4744:B4753,B4753)=10,B4753+7,B4753),\"\")","v":""},"","","",null,null,null,0,0,0,0,{"$f":"IFERROR(VLOOKUP(G4754,DropDowns!$D$2:$E$151,2,FALSE),\"\")","v":""},{"$f":"IFERROR(VLOOKUP(H4754,DropDowns!$F$2:$G$7,2,FALSE),\"Residual categories\")","v":"Residual categories"},null,null,null,0,0,0]
[0,{"$f":"IF(OR(COUNTA(O4725:O4754)>0,COUNTA(O4754:$O$5195)>0),IF(COUNTIF(B4745:B4754,B4754)=10,B4754+7,B4754),\"\")","v":""},"","","",null,null,null,0,0,0,0,{"$f":"IFERROR(VLOOKUP(G4755,DropDowns!$D$2:$E$151,2,FALSE),\"\")","v":""},{"$f":"IFERROR(VLOOKUP(H4755,DropDowns!$F$2:$G$7,2,FALSE),\"Residual categories\")","v":"Residual categories"},null,null,null,0,0,0]
[{"$f":"$E$2","v":0},{"$f":"IF(OR(COUNTA(O4726:O4755)>0,COUNTA(O4755:$O$5195)>0),IF(COUNTIF(B4746:B4755,B4755)=10,B4755+7,B4755),\"\")","v":""},"","","",null,null,null,0,0,0,0,{"$f":"IFERROR(VLOOKUP(G4756,DropDowns!$D$2:$E$151,2,FALSE),\"\")","v":""},{"$f":"IFERROR(VLOOKUP(H4756,DropDowns!$F$2:$G$7,2,FALSE),\"Residual categories\")","v":"Residual categories"},null,null,null,0,0,0]
[0,{"$f":"IF(OR(COUNTA(O4727:O4756)>0,COUNTA(O4756:$O$5195)>0),IF(COUNTIF(B4747:B4756,B4756)=10,B4756+7,B4756),\"\")","v":""},"","","",null,null,null,0,0,0,0,{"$f":"IFERROR(VLOOKUP(G4757,DropDowns!$D$2:$E$151,2,FALSE),\"\")","v":""},{"$f":"IFERROR(VLOOKUP(H4757,DropDowns!$F$2:$G$7,2,FALSE),\"Residual categories\")","v":"Residual categories"},null,null,null,0,0,0]
[0,{"$f":"IF(OR(COUNTA(O4728:O4757)>0,COUNTA(O4757:$O$5195)>0),IF(COUNTIF(B4748:B4757,B4757)=10,B4757+7,B4757),\"\")","v":""},"","","",null,null,null,0,0,0,0,{"$f":"IFERROR(VLOOKUP(G4758,DropDowns!$D$2:$E$151,2,FALSE),\"\")","v":""},{"$f":"IFERROR(VLOOKUP(H4758,DropDowns!$F$2:$G$7,2,FALSE),\"Residual categories\")","v":"Residual categories"},null,null,null,0,0,0]
[0,{"$f":"IF(OR(COUNTA(O4729:O4758)>0,COUNTA(O4758:$O$5195)>0),IF(COUNTIF(B4749:B4758,B4758)=10,B4758+7,B4758),\"\")","v":""},"","","",null,null,null,0,0,0,0,{"$f":"IFERROR(VLOOKUP(G4759,DropDowns!$D$2:$E$151,2,FALSE),\"\")","v":""},{"$f":"IFERROR(VLOOKUP(H4759,DropDowns!$F$2:$G$7,2,FALSE),\"Residual categories\")","v":"Residual categories"},null,null,null,0,0,0]
[0,{"$f":"IF(OR(COUNTA(O4730:O4759)>0,COUNTA(O4759:$O$5195)>0),IF(COUNTIF(B4750:B4759,B4759)=10,B4759+7,B4759),\"\")","v":""},"","","",null,null,null,0,0,0,0,{"$f":"IFERROR(VLOOKUP(G4760,DropDowns!$D$2:$E$151,2,FALSE),\"\")","v":""},{"$f":"IFERROR(VLOOKUP(H4760,DropDowns!$F$2:$G$7,2,FALSE),\"Residual categories\")","v":"Residual categories"},null,null,null,0,0,0]
[0,{"$f":"IF(OR(COUNTA(O4731:O4760)>0,COUNTA(O4760:$O$5195)>0),IF(COUNTIF(B4751:B4760,B4760)=10,B4760+7,B4760),\"\")","v":""},"","","",null,null,null,0,0,0,0,{"$f":"IFERROR(VLOOKUP(G4761,DropDowns!$D$2:$E$151,2,FALSE),\"\")","v":""},{"$f":"IFERROR(VLOOKUP(H4761,DropDowns!$F$2:$G$7,2,FALSE),\"Residual categories\")","v":"Residual categories"},null,null,null,0,0,0]
[0,{"$f":"IF(OR(COUNTA(O4732:O4761)>0,COUNTA(O4761:$O$5195)>0),IF(COUNTIF(B4752:B4761,B4761)=10,B4761+7,B4761),\"\")","v":""},"","","",null,null,null,0,0,0,0,{"$f":"IFERROR(VLOOKUP(G4762,DropDowns!$D$2:$E$151,2,FALSE),\"\")","v":""},{"$f":"IFERROR(VLOOKUP(H4762,DropDowns!$F$2:$G$7,2,FALSE),\"Residual categories\")","v":"Residual categories"},null,null,null,0,0,0]
[0,{"$f":"IF(OR(COUNTA(O4733:O4762)>0,COUNTA(O4762:$O$5195)>0),IF(COUNTIF(B4753:B4762,B4762)=10,B4762+7,B4762),\"\")","v":""},"","","",null,null,null,0,0,0,0,{"$f":"IFERROR(VLOOKUP(G4763,DropDowns!$D$2:$E$151,2,FALSE),\"\")","v":""},{"$f":"IFERROR(VLOOKUP(H4763,DropDowns!$F$2:$G$7,2,FALSE),\"Residual categories\")","v":"Residual categories"},null,null,null,0,0,0]
[0,{"$f":"IF(OR(COUNTA(O4734:O4763)>0,COUNTA(O4763:$O$5195)>0),IF(COUNTIF(B4754:B4763,B4763)=10,B4763+7,B4763),\"\")","v":""},"","","",null,null,null,0,0,0,0,{"$f":"IFERROR(VLOOKUP(G4764,DropDowns!$D$2:$E$151,2,FALSE),\"\")","v":""},{"$f":"IFERROR(VLOOKUP(H4764,DropDowns!$F$2:$G$7,2,FALSE),\"Residual categories\")","v":"Residual categories"},null,null,null,0,0,0]
[0,{"$f":"IF(OR(COUNTA(O4735:O4764)>0,COUNTA(O4764:$O$5195)>0),IF(COUNTIF(B4755:B4764,B4764)=10,B4764+7,B4764),\"\")","v":""},"","","",null,null,null,0,0,0,0,{"$f":"IFERROR(VLOOKUP(G4765,DropDowns!$D$2:$E$151,2,FALSE),\"\")","v":""},{"$f":"IFERROR(VLOOKUP(H4765,DropDowns!$F$2:$G$7,2,FALSE),\"Residual categories\")","v":"Residual categories"},null,null,null,0,0,0]
[0,{"$f":"IF(OR(COUNTA(O4736:O4765)>0,COUNTA(O4765:$O$5195)>0),IF(COUNTIF(B4756:B4765,B4765)=10,B4765+7,B4765),\"\")","v":""},"","","",null,null,null,0,0,0,0,{"$f":"IFERROR(VLOOKUP(G4766,DropDowns!$D$2:$E$151,2,FALSE),\"\")","v":""},{"$f":"IFERROR(VLOOKUP(H4766,DropDowns!$F$2:$G$7,2,FALSE),\"Residual categories\")","v":"Residual categories"},null,null,null,0,0,0]
[0,{"$f":"IF(OR(COUNTA(O4737:O4766)>0,COUNTA(O4766:$O$5195)>0),IF(COUNTIF(B4757:B4766,B4766)=10,B4766+7,B4766),\"\")","v":""},"","","",null,null,null,0,0,0,0,{"$f":"IFERROR(VLOOKUP(G4767,DropDowns!$D$2:$E$151,2,FALSE),\"\")","v":""},{"$f":"IFERROR(VLOOKUP(H4767,DropDowns!$F$2:$G$7,2,FALSE),\"Residual categories\")","v":"Residual categories"},null,null,null,0,0,0]
[0,{"$f":"IF(OR(COUNTA(O4738:O4767)>0,COUNTA(O4767:$O$5195)>0),IF(COUNTIF(B4758:B4767,B4767)=10,B4767+7,B4767),\"\")","v":""},"","","",null,null,null,0,0,0,0,{"$f":"IFERROR(VLOOKUP(G4768,DropDowns!$D$2:$E$151,2,FALSE),\"\")","v":""},{"$f":"IFERROR(VLOOKUP(H4768,DropDowns!$F$2:$G$7,2,FALSE),\"Residual categories\")","v":"Residual categories"},null,null,null,0,0,0]
[0,{"$f":"IF(OR(COUNTA(O4739:O4768)>0,COUNTA(O4768:$O$5195)>0),IF(COUNTIF(B4759:B4768,B4768)=10,B4768+7,B4768),\"\")","v":""},"","","",null,null,null,0,0,0,0,{"$f":"IFERROR(VLOOKUP(G4769,DropDowns!$D$2:$E$151,2,FALSE),\"\")","v":""},{"$f":"IFERROR(VLOOKUP(H4769,DropDowns!$F$2:$G$7,2,FALSE),\"Residual categories\")","v":"Residual categories"},null,null,null,0,0,0]
[0,{"$f":"IF(OR(COUNTA(O4740:O4769)>0,COUNTA(O4769:$O$5195)>0),IF(COUNTIF(B4760:B4769,B4769)=10,B4769+7,B4769),\"\")","v":""},"","","",null,null,null,0,0,0,0,{"$f":"IFERROR(VLOOKUP(G4770,DropDowns!$D$2:$E$151,2,FALSE),\"\")","v":""},{"$f":"IFERROR(VLOOKUP(H4770,DropDowns!$F$2:$G$7,2,FALSE),\"Residual categories\")","v":"Residual categories"},null,null,null,0,0,0]
[0,{"$f":"IF(OR(COUNTA(O4741:O4770)>0,COUNTA(O4770:$O$5195)>0),IF(COUNTIF(B4761:B4770,B4770)=10,B4770+7,B4770),\"\")","v":""},"","","",null,null,null,0,0,0,0,{"$f":"IFERROR(VLOOKUP(G4771,DropDowns!$D$2:$E$151,2,FALSE),\"\")","v":""},{"$f":"IFERROR(VLOOKUP(H4771,DropDowns!$F$2:$G$7,2,FALSE),\"Residual categories\")","v":"Residual categories"},null,null,null,0,0,0]
[0,{"$f":"IF(OR(COUNTA(O4742:O4771)>0,COUNTA(O4771:$O$5195)>0),IF(COUNTIF(B4762:B4771,B4771)=10,B4771+7,B4771),\"\")","v":""},"","","",null,null,null,0,0,0,0,{"$f":"IFERROR(VLOOKUP(G4772,DropDowns!$D$2:$E$151,2,FALSE),\"\")","v":""},{"$f":"IFERROR(VLOOKUP(H4772,DropDowns!$F$2:$G$7,2,FALSE),\"Residual categories\")","v":"Residual categories"},null,null,null,0,0,0]
[0,{"$f":"IF(OR(COUNTA(O4743:O4772)>0,COUNTA(O4772:$O$5195)>0),IF(COUNTIF(B4763:B4772,B4772)=10,B4772+7,B4772),\"\")","v":""},"","","",null,null,null,0,0,0,0,{"$f":"IFERROR(VLOOKUP(G4773,DropDowns!$D$2:$E$151,2,FALSE),\"\")","v":""},{"$f":"IFERROR(VLOOKUP(H4773,DropDowns!$F$2:$G$7,2,FALSE),\"Residual categories\")","v":"Residual categories"},null,null,null,0,0,0]
[0,{"$f":"IF(OR(COUNTA(O4744:O4773)>0,COUNTA(O4773:$O$5195)>0),IF(COUNTIF(B4764:B4773,B4773)=10,B4773+7,B4773),\"\")","v":""},"","","",null,null,null,0,0,0,0,{"$f":"IFERROR(VLOOKUP(G4774,DropDowns!$D$2:$E$151,2,FALSE),\"\")","v":""},{"$f":"IFERROR(VLOOKUP(H4774,DropDowns!$F$2:$G$7,2,FALSE),\"Residual categories\")","v":"Residual categories"},null,null,null,0,0,0]
[0,{"$f":"IF(OR(COUNTA(O4745:O4774)>0,COUNTA(O4774:$O$5195)>0),IF(COUNTIF(B4765:B4774,B4774)=10,B4774+7,B4774),\"\")","v":""},"","","",null,null,null,0,0,0,0,{"$f":"IFERROR(VLOOKUP(G4775,DropDowns!$D$2:$E$151,2,FALSE),\"\")","v":""},{"$f":"IFERROR(VLOOKUP(H4775,DropDowns!$F$2:$G$7,2,FALSE),\"Residual categories\")","v":"Residual categories"},null,null,null,0,0,0]
[0,{"$f":"IF(OR(COUNTA(O4746:O4775)>0,COUNTA(O4775:$O$5195)>0),IF(COUNTIF(B4766:B4775,B4775)=10,B4775+7,B4775),\"\")","v":""},"","","",null,null,null,0,0,0,0,{"$f":"IFERROR(VLOOKUP(G4776,DropDowns!$D$2:$E$151,2,FALSE),\"\")","v":""},{"$f":"IFERROR(VLOOKUP(H4776,DropDowns!$F$2:$G$7,2,FALSE),\"Residual categories\")","v":"Residual categories"},null,null,null,0,0,0]
[0,{"$f":"IF(OR(COUNTA(O4747:O4776)>0,COUNTA(O4776:$O$5195)>0),IF(COUNTIF(B4767:B4776,B4776)=10,B4776+7,B4776),\"\")","v":""},"","","",null,null,null,0,0,0,0,{"$f":"IFERROR(VLOOKUP(G4777,DropDowns!$D$2:$E$151,2,FALSE),\"\")","v":""},{"$f":"IFERROR(VLOOKUP(H4777,DropDowns!$F$2:$G$7,2,FALSE),\"Residual categories\")","v":"Residual categories"},null,null,null,0,0,0]
[0,{"$f":"IF(OR(COUNTA(O4748:O4777)>0,COUNTA(O4777:$O$5195)>0),IF(COUNTIF(B4768:B4777,B4777)=10,B4777+7,B4777),\"\")","v":""},"","","",null,null,null,0,0,0,0,{"$f":"IFERROR(VLOOKUP(G4778,DropDowns!$D$2:$E$151,2,FALSE),\"\")","v":""},{"$f":"IFERROR(VLOOKUP(H4778,DropDowns!$F$2:$G$7,2,FALSE),\"Residual categories\")","v":"Residual categories"},null,null,null,0,0,0]
[0,{"$f":"IF(OR(COUNTA(O4749:O4778)>0,COUNTA(O4778:$O$5195)>0),IF(COUNTIF(B4769:B4778,B4778)=10,B4778+7,B4778),\"\")","v":""},"","","",null,null,null,0,0,0,0,{"$f":"IFERROR(VLOOKUP(G4779,DropDowns!$D$2:$E$151,2,FALSE),\"\")","v":""},{"$f":"IFERROR(VLOOKUP(H4779,DropDowns!$F$2:$G$7,2,FALSE),\"Residual categories\")","v":"Residual categories"},null,null,null,0,0,0]
[0,{"$f":"IF(OR(COUNTA(O4750:O4779)>0,COUNTA(O4779:$O$5195)>0),IF(COUNTIF(B4770:B4779,B4779)=10,B4779+7,B4779),\"\")","v":""},"","","",null,null,null,0,0,0,0,{"$f":"IFERROR(VLOOKUP(G4780,DropDowns!$D$2:$E$151,2,FALSE),\"\")","v":""},{"$f":"IFERROR(VLOOKUP(H4780,DropDowns!$F$2:$G$7,2,FALSE),\"Residual categories\")","v":"Residual categories"},null,null,null,0,0,0]
[0,{"$f":"IF(OR(COUNTA(O4751:O4780)>0,COUNTA(O4780:$O$5195)>0),IF(COUNTIF(B4771:B4780,B4780)=10,B4780+7,B4780),\"\")","v":""},"","","",null,null,null,0,0,0,0,{"$f":"IFERROR(VLOOKUP(G4781,DropDowns!$D$2:$E$151,2,FALSE),\"\")","v":""},{"$f":"IFERROR(VLOOKUP(H4781,DropDowns!$F$2:$G$7,2,FALSE),\"Residual categories\")","v":"Residual categories"},null,null,null,0,0,0]
[0,{"$f":"IF(OR(COUNTA(O4752:O4781)>0,COUNTA(O4781:$O$5195)>0),IF(COUNTIF(B4772:B4781,B4781)=10,B4781+7,B4781),\"\")","v":""},"","","",null,null,null,0,0,0,0,{"$f":"IFERROR(VLOOKUP(G4782,DropDowns!$D$2:$E$151,2,FALSE),\"\")","v":""},{"$f":"IFERROR(VLOOKUP(H4782,DropDowns!$F$2:$G$7,2,FALSE),\"Residual categories\")","v":"Residual categories"},null,null,null,0,0,0]
[0,{"$f":"IF(OR(COUNTA(O4753:O4782)>0,COUNTA(O4782:$O$5195)>0),IF(COUNTIF(B4773:B4782,B4782)=10,B4782+7,B4782),\"\")","v":""},"","","",null,null,null,0,0,0,0,{"$f":"IFERROR(VLOOKUP(G4783,DropDowns!$D$2:$E$151,2,FALSE),\"\")","v":""},{"$f":"IFERROR(VLOOKUP(H4783,DropDowns!$F$2:$G$7,2,FALSE),\"Residual categories\")","v":"Residual categories"},null,null,null,0,0,0]
[0,{"$f":"IF(OR(COUNTA(O4754:O4783)>0,COUNTA(O4783:$O$5195)>0),IF(COUNTIF(B4774:B4783,B4783)=10,B4783+7,B4783),\"\")","v":""},"","","",null,null,null,0,0,0,0,{"$f":"IFERROR(VLOOKUP(G4784,DropDowns!$D$2:$E$151,2,FALSE),\"\")","v":""},{"$f":"IFERROR(VLOOKUP(H4784,DropDowns!$F$2:$G$7,2,FALSE),\"Residual categories\")","v":"Residual categories"},null,null,null,0,0,0]
[0,{"$f":"IF(OR(COUNTA(O4755:O4784)>0,COUNTA(O4784:$O$5195)>0),IF(COUNTIF(B4775:B4784,B4784)=10,B4784+7,B4784),\"\")","v":""},"","","",null,null,null,0,0,0,0,{"$f":"IFERROR(VLOOKUP(G4785,DropDowns!$D$2:$E$151,2,FALSE),\"\")","v":""},{"$f":"IFERROR(VLOOKUP(H4785,DropDowns!$F$2:$G$7,2,FALSE),\"Residual categories\")","v":"Residual categories"},null,null,null,0,0,0]
[0,{"$f":"IF(OR(COUNTA(O4756:O4785)>0,COUNTA(O4785:$O$5195)>0),IF(COUNTIF(B4776:B4785,B4785)=10,B4785+7,B4785),\"\")","v":""},"","","",null,null,null,0,0,0,0,{"$f":"IFERROR(VLOOKUP(G4786,DropDowns!$D$2:$E$151,2,FALSE),\"\")","v":""},{"$f":"IFERROR(VLOOKUP(H4786,DropDowns!$F$2:$G$7,2,FALSE),\"Residual categories\")","v":"Residual categories"},null,null,null,0,0,0]
[0,{"$f":"IF(OR(COUNTA(O4757:O4786)>0,COUNTA(O4786:$O$5195)>0),IF(COUNTIF(B4777:B4786,B4786)=10,B4786+7,B4786),\"\")","v":""},"","","",null,null,null,0,0,0,0,{"$f":"IFERROR(VLOOKUP(G4787,DropDowns!$D$2:$E$151,2,FALSE),\"\")","v":""},{"$f":"IFERROR(VLOOKUP(H4787,DropDowns!$F$2:$G$7,2,FALSE),\"Residual categories\")","v":"Residual categories"},null,null,null,0,0,0]
[0,{"$f":"IF(OR(COUNTA(O4758:O4787)>0,COUNTA(O4787:$O$5195)>0),IF(COUNTIF(B4778:B4787,B4787)=10,B4787+7,B4787),\"\")","v":""},"","","",null,null,null,0,0,0,0,{"$f":"IFERROR(VLOOKUP(G4788,DropDowns!$D$2:$E$151,2,FALSE),\"\")","v":""},{"$f":"IFERROR(VLOOKUP(H4788,DropDowns!$F$2:$G$7,2,FALSE),\"Residual categories\")","v":"Residual categories"},null,null,null,0,0,0]
[0,{"$f":"IF(OR(COUNTA(O4759:O4788)>0,COUNTA(O4788:$O$5195)>0),IF(COUNTIF(B4779:B4788,B4788)=10,B4788+7,B4788),\"\")","v":""},"","","",null,null,null,0,0,0,0,{"$f":"IFERROR(VLOOKUP(G4789,DropDowns!$D$2:$E$151,2,FALSE),\"\")","v":""},{"$f":"IFERROR(VLOOKUP(H4789,DropDowns!$F$2:$G$7,2,FALSE),\"Residual categories\")","v":"Residual categories"},null,null,null,0,0,0]
[0,{"$f":"IF(OR(COUNTA(O4760:O4789)>0,COUNTA(O4789:$O$5195)>0),IF(COUNTIF(B4780:B4789,B4789)=10,B4789+7,B4789),\"\")","v":""},"","","",null,null,null,0,0,0,0,{"$f":"IFERROR(VLOOKUP(G4790,DropDowns!$D$2:$E$151,2,FALSE),\"\")","v":""},{"$f":"IFERROR(VLOOKUP(H4790,DropDowns!$F$2:$G$7,2,FALSE),\"Residual categories\")","v":"Residual categories"},null,null,null,0,0,0]
[0,{"$f":"IF(OR(COUNTA(O4761:O4790)>0,COUNTA(O4790:$O$5195)>0),IF(COUNTIF(B4781:B4790,B4790)=10,B4790+7,B4790),\"\")","v":""},"","","",null,null,null,0,0,0,0,{"$f":"IFERROR(VLOOKUP(G4791,DropDowns!$D$2:$E$151,2,FALSE),\"\")","v":""},{"$f":"IFERROR(VLOOKUP(H4791,DropDowns!$F$2:$G$7,2,FALSE),\"Residual categories\")","v":"Residual categories"},null,null,null,0,0,0]
[0,{"$f":"IF(OR(COUNTA(O4762:O4791)>0,COUNTA(O4791:$O$5195)>0),IF(COUNTIF(B4782:B4791,B4791)=10,B4791+7,B4791),\"\")","v":""},"","","",null,null,null,0,0,0,0,{"$f":"IFERROR(VLOOKUP(G4792,DropDowns!$D$2:$E$151,2,FALSE),\"\")","v":""},{"$f":"IFERROR(VLOOKUP(H4792,DropDowns!$F$2:$G$7,2,FALSE),\"Residual categories\")","v":"Residual categories"},null,null,null,0,0,0]
[0,{"$f":"IF(OR(COUNTA(O4763:O4792)>0,COUNTA(O4792:$O$5195)>0),IF(COUNTIF(B4783:B4792,B4792)=10,B4792+7,B4792),\"\")","v":""},"","","",null,null,null,0,0,0,0,{"$f":"IFERROR(VLOOKUP(G4793,DropDowns!$D$2:$E$151,2,FALSE),\"\")","v":""},{"$f":"IFERROR(VLOOKUP(H4793,DropDowns!$F$2:$G$7,2,FALSE),\"Residual categories\")","v":"Residual categories"},null,null,null,0,0,0]
[0,{"$f":"IF(OR(COUNTA(O4764:O4793)>0,COUNTA(O4793:$O$5195)>0),IF(COUNTIF(B4784:B4793,B4793)=10,B4793+7,B4793),\"\")","v":""},"","","",null,null,null,0,0,0,0,{"$f":"IFERROR(VLOOKUP(G4794,DropDowns!$D$2:$E$151,2,FALSE),\"\")","v":""},{"$f":"IFERROR(VLOOKUP(H4794,DropDowns!$F$2:$G$7,2,FALSE),\"Residual categories\")","v":"Residual categories"},null,null,null,0,0,0]
[0,{"$f":"IF(OR(COUNTA(O4765:O4794)>0,COUNTA(O4794:$O$5195)>0),IF(COUNTIF(B4785:B4794,B4794)=10,B4794+7,B4794),\"\")","v":""},"","","",null,null,null,0,0,0,0,{"$f":"IFERROR(VLOOKUP(G4795,DropDowns!$D$2:$E$151,2,FALSE),\"\")","v":""},{"$f":"IFERROR(VLOOKUP(H4795,DropDowns!$F$2:$G$7,2,FALSE),\"Residual categories\")","v":"Residual categories"},null,null,null,0,0,0]
[0,{"$f":"IF(OR(COUNTA(O4766:O4795)>0,COUNTA(O4795:$O$5195)>0),IF(COUNTIF(B4786:B4795,B4795)=10,B4795+7,B4795),\"\")","v":""},"","","",null,null,null,0,0,0,0,{"$f":"IFERROR(VLOOKUP(G4796,DropDowns!$D$2:$E$151,2,FALSE),\"\")","v":""},{"$f":"IFERROR(VLOOKUP(H4796,DropDowns!$F$2:$G$7,2,FALSE),\"Residual categories\")","v":"Residual categories"},null,null,null,0,0,0]
[0,{"$f":"IF(OR(COUNTA(O4767:O4796)>0,COUNTA(O4796:$O$5195)>0),IF(COUNTIF(B4787:B4796,B4796)=10,B4796+7,B4796),\"\")","v":""},"","","",null,null,null,0,0,0,0,{"$f":"IFERROR(VLOOKUP(G4797,DropDowns!$D$2:$E$151,2,FALSE),\"\")","v":""},{"$f":"IFERROR(VLOOKUP(H4797,DropDowns!$F$2:$G$7,2,FALSE),\"Residual categories\")","v":"Residual categories"},null,null,null,0,0,0]
[0,{"$f":"IF(OR(COUNTA(O4768:O4797)>0,COUNTA(O4797:$O$5195)>0),IF(COUNTIF(B4788:B4797,B4797)=10,B4797+7,B4797),\"\")","v":""},"","","",null,null,null,0,0,0,0,{"$f":"IFERROR(VLOOKUP(G4798,DropDowns!$D$2:$E$151,2,FALSE),\"\")","v":""},{"$f":"IFERROR(VLOOKUP(H4798,DropDowns!$F$2:$G$7,2,FALSE),\"Residual categories\")","v":"Residual categories"},null,null,null,0,0,0]
[0,{"$f":"IF(OR(COUNTA(O4769:O4798)>0,COUNTA(O4798:$O$5195)>0),IF(COUNTIF(B4789:B4798,B4798)=10,B4798+7,B4798),\"\")","v":""},"","","",null,null,null,0,0,0,0,{"$f":"IFERROR(VLOOKUP(G4799,DropDowns!$D$2:$E$151,2,FALSE),\"\")","v":""},{"$f":"IFERROR(VLOOKUP(H4799,DropDowns!$F$2:$G$7,2,FALSE),\"Residual categories\")","v":"Residual categories"},null,null,null,0,0,0]
[0,{"$f":"IF(OR(COUNTA(O4770:O4799)>0,COUNTA(O4799:$O$5195)>0),IF(COUNTIF(B4790:B4799,B4799)=10,B4799+7,B4799),\"\")","v":""},"","","",null,null,null,0,0,0,0,{"$f":"IFERROR(VLOOKUP(G4800,DropDowns!$D$2:$E$151,2,FALSE),\"\")","v":""},{"$f":"IFERROR(VLOOKUP(H4800,DropDowns!$F$2:$G$7,2,FALSE),\"Residual categories\")","v":"Residual categories"},null,null,null,0,0,0]
[0,{"$f":"IF(OR(COUNTA(O4771:O4800)>0,COUNTA(O4800:$O$5195)>0),IF(COUNTIF(B4791:B4800,B4800)=10,B4800+7,B4800),\"\")","v":""},"","","",null,null,null,0,0,0,0,{"$f":"IFERROR(VLOOKUP(G4801,DropDowns!$D$2:$E$151,2,FALSE),\"\")","v":""},{"$f":"IFERROR(VLOOKUP(H4801,DropDowns!$F$2:$G$7,2,FALSE),\"Residual categories\")","v":"Residual categories"},null,null,null,0,0,0]
[0,{"$f":"IF(OR(COUNTA(O4772:O4801)>0,COUNTA(O4801:$O$5195)>0),IF(COUNTIF(B4792:B4801,B4801)=10,B4801+7,B4801),\"\")","v":""},"","","",null,null,null,0,0,0,0,{"$f":"IFERROR(VLOOKUP(G4802,DropDowns!$D$2:$E$151,2,FALSE),\"\")","v":""},{"$f":"IFERROR(VLOOKUP(H4802,DropDowns!$F$2:$G$7,2,FALSE),\"Residual categories\")","v":"Residual categories"},null,null,null,0,0,0]
[0,{"$f":"IF(OR(COUNTA(O4773:O4802)>0,COUNTA(O4802:$O$5195)>0),IF(COUNTIF(B4793:B4802,B4802)=10,B4802+7,B4802),\"\")","v":""},"","","",null,null,null,0,0,0,0,{"$f":"IFERROR(VLOOKUP(G4803,DropDowns!$D$2:$E$151,2,FALSE),\"\")","v":""},{"$f":"IFERROR(VLOOKUP(H4803,DropDowns!$F$2:$G$7,2,FALSE),\"Residual categories\")","v":"Residual categories"},null,null,null,0,0,0]
[0,{"$f":"IF(OR(COUNTA(O4774:O4803)>0,COUNTA(O4803:$O$5195)>0),IF(COUNTIF(B4794:B4803,B4803)=10,B4803+7,B4803),\"\")","v":""},"","","",null,null,null,0,0,0,0,{"$f":"IFERROR(VLOOKUP(G4804,DropDowns!$D$2:$E$151,2,FALSE),\"\")","v":""},{"$f":"IFERROR(VLOOKUP(H4804,DropDowns!$F$2:$G$7,2,FALSE),\"Residual categories\")","v":"Residual categories"},null,null,null,0,0,0]
[0,{"$f":"IF(OR(COUNTA(O4775:O4804)>0,COUNTA(O4804:$O$5195)>0),IF(COUNTIF(B4795:B4804,B4804)=10,B4804+7,B4804),\"\")","v":""},"","","",null,null,null,0,0,0,0,{"$f":"IFERROR(VLOOKUP(G4805,DropDowns!$D$2:$E$151,2,FALSE),\"\")","v":""},{"$f":"IFERROR(VLOOKUP(H4805,DropDowns!$F$2:$G$7,2,FALSE),\"Residual categories\")","v":"Residual categories"},null,null,null,0,0,0]
[0,{"$f":"IF(OR(COUNTA(O4776:O4805)>0,COUNTA(O4805:$O$5195)>0),IF(COUNTIF(B4796:B4805,B4805)=10,B4805+7,B4805),\"\")","v":""},"","","",null,null,null,0,0,0,0,{"$f":"IFERROR(VLOOKUP(G4806,DropDowns!$D$2:$E$151,2,FALSE),\"\")","v":""},{"$f":"IFERROR(VLOOKUP(H4806,DropDowns!$F$2:$G$7,2,FALSE),\"Residual categories\")","v":"Residual categories"},null,null,null,0,0,0]
[0,{"$f":"IF(OR(COUNTA(O4777:O4806)>0,COUNTA(O4806:$O$5195)>0),IF(COUNTIF(B4797:B4806,B4806)=10,B4806+7,B4806),\"\")","v":""},{"$f":"IF(D4807=1,A4807,\"\")","v":""},"","",null,null,null,{"$f":"IF(COUNTA(O4807:Q4807)>0,1,0)","v":0},{"$f":"IF(O4807=\"y\",1,0)","v":0},{"$f":"IF(P4807=\"y\",1,0)","v":0},{"$f":"IF(Q4807=\"y\",1,0)","v":0},{"$f":"IFERROR(VLOOKUP(G4807,DropDowns!$D$2:$E$151,2,FALSE),\"\")","v":""},{"$f":"IFERROR(VLOOKUP(H4807,DropDowns!$F$2:$G$7,2,FALSE),\"Residual categories\")","v":"Residual categories"},null,null,null,{"$f":"IF(O4807=\"yes\",1,0)","v":0},{"$f":"IF(P4807=\"yes\",1,0)","v":0},{"$f":"IF(Q4807=\"yes\",1,0)","v":0}]
[0,{"$f":"IF(OR(COUNTA(O4778:O4807)>0,COUNTA(O4807:$O$5195)>0),IF(COUNTIF(B4798:B4807,B4807)=10,B4807+7,B4807),\"\")","v":""},"","","",null,null,null,0,0,0,0,{"$f":"IFERROR(VLOOKUP(G4808,DropDowns!$D$2:$E$151,2,FALSE),\"\")","v":""},{"$f":"IFERROR(VLOOKUP(H4808,DropDowns!$F$2:$G$7,2,FALSE),\"Residual categories\")","v":"Residual categories"},null,null,null,0,0,0]
[0,{"$f":"IF(OR(COUNTA(O4779:O4808)>0,COUNTA(O4808:$O$5195)>0),IF(COUNTIF(B4799:B4808,B4808)=10,B4808+7,B4808),\"\")","v":""},"","","",null,null,null,0,0,0,0,{"$f":"IFERROR(VLOOKUP(G4809,DropDowns!$D$2:$E$151,2,FALSE),\"\")","v":""},{"$f":"IFERROR(VLOOKUP(H4809,DropDowns!$F$2:$G$7,2,FALSE),\"Residual categories\")","v":"Residual categories"},null,null,null,0,0,0]
[0,{"$f":"IF(OR(COUNTA(O4780:O4809)>0,COUNTA(O4809:$O$5195)>0),IF(COUNTIF(B4800:B4809,B4809)=10,B4809+7,B4809),\"\")","v":""},"","","",null,null,null,0,0,0,0,{"$f":"IFERROR(VLOOKUP(G4810,DropDowns!$D$2:$E$151,2,FALSE),\"\")","v":""},{"$f":"IFERROR(VLOOKUP(H4810,DropDowns!$F$2:$G$7,2,FALSE),\"Residual categories\")","v":"Residual categories"},null,null,null,0,0,0]
[0,{"$f":"IF(OR(COUNTA(O4781:O4810)>0,COUNTA(O4810:$O$5195)>0),IF(COUNTIF(B4801:B4810,B4810)=10,B4810+7,B4810),\"\")","v":""},"","","",null,null,null,0,0,0,0,{"$f":"IFERROR(VLOOKUP(G4811,DropDowns!$D$2:$E$151,2,FALSE),\"\")","v":""},{"$f":"IFERROR(VLOOKUP(H4811,DropDowns!$F$2:$G$7,2,FALSE),\"Residual categories\")","v":"Residual categories"},null,null,null,0,0,0]
[0,{"$f":"IF(OR(COUNTA(O4782:O4811)>0,COUNTA(O4811:$O$5195)>0),IF(COUNTIF(B4802:B4811,B4811)=10,B4811+7,B4811),\"\")","v":""},"","","",null,null,null,0,0,0,0,{"$f":"IFERROR(VLOOKUP(G4812,DropDowns!$D$2:$E$151,2,FALSE),\"\")","v":""},{"$f":"IFERROR(VLOOKUP(H4812,DropDowns!$F$2:$G$7,2,FALSE),\"Residual categories\")","v":"Residual categories"},null,null,null,0,0,0]
[0,{"$f":"IF(OR(COUNTA(O4783:O4812)>0,COUNTA(O4812:$O$5195)>0),IF(COUNTIF(B4803:B4812,B4812)=10,B4812+7,B4812),\"\")","v":""},"","","",null,null,null,0,0,0,0,{"$f":"IFERROR(VLOOKUP(G4813,DropDowns!$D$2:$E$151,2,FALSE),\"\")","v":""},{"$f":"IFERROR(VLOOKUP(H4813,DropDowns!$F$2:$G$7,2,FALSE),\"Residual categories\")","v":"Residual categories"},null,null,null,0,0,0]
[0,{"$f":"IF(OR(COUNTA(O4784:O4813)>0,COUNTA(O4813:$O$5195)>0),IF(COUNTIF(B4804:B4813,B4813)=10,B4813+7,B4813),\"\")","v":""},"","","",null,null,null,0,0,0,0,{"$f":"IFERROR(VLOOKUP(G4814,DropDowns!$D$2:$E$151,2,FALSE),\"\")","v":""},{"$f":"IFERROR(VLOOKUP(H4814,DropDowns!$F$2:$G$7,2,FALSE),\"Residual categories\")","v":"Residual categories"},null,null,null,0,0,0]
[0,{"$f":"IF(OR(COUNTA(O4785:O4814)>0,COUNTA(O4814:$O$5195)>0),IF(COUNTIF(B4805:B4814,B4814)=10,B4814+7,B4814),\"\")","v":""},"","","",null,null,null,0,0,0,0,{"$f":"IFERROR(VLOOKUP(G4815,DropDowns!$D$2:$E$151,2,FALSE),\"\")","v":""},{"$f":"IFERROR(VLOOKUP(H4815,DropDowns!$F$2:$G$7,2,FALSE),\"Residual categories\")","v":"Residual categories"},null,null,null,0,0,0]
[0,{"$f":"IF(OR(COUNTA(O4786:O4815)>0,COUNTA(O4815:$O$5195)>0),IF(COUNTIF(B4806:B4815,B4815)=10,B4815+7,B4815),\"\")","v":""},"","","",null,null,null,0,0,0,0,{"$f":"IFERROR(VLOOKUP(G4816,DropDowns!$D$2:$E$151,2,FALSE),\"\")","v":""},{"$f":"IFERROR(VLOOKUP(H4816,DropDowns!$F$2:$G$7,2,FALSE),\"Residual categories\")","v":"Residual categories"},null,null,null,0,0,0]
[0,{"$f":"IF(OR(COUNTA(O4787:O4816)>0,COUNTA(O4816:$O$5195)>0),IF(COUNTIF(B4807:B4816,B4816)=10,B4816+7,B4816),\"\")","v":""},"","",{"$f":"IF(B4817=\"\",\"\",COUNTIF(B4808:B4817,B4817))","v":""},null,null,null,0,0,0,0,{"$f":"IFERROR(VLOOKUP(G4817,DropDowns!$D$2:$E$151,2,FALSE),\"\")","v":""},{"$f":"IFERROR(VLOOKUP(H4817,DropDowns!$F$2:$G$7,2,FALSE),\"Residual categories\")","v":"Residual categories"},null,null,null,0,0,0]
[0,{"$f":"IF(OR(COUNTA(O4788:O4817)>0,COUNTA(O4817:$O$5195)>0),IF(COUNTIF(B4808:B4817,B4817)=10,B4817+7,B4817),\"\")","v":""},"","","",null,null,null,0,0,0,0,{"$f":"IFERROR(VLOOKUP(G4818,DropDowns!$D$2:$E$151,2,FALSE),\"\")","v":""},{"$f":"IFERROR(VLOOKUP(H4818,DropDowns!$F$2:$G$7,2,FALSE),\"Residual categories\")","v":"Residual categories"},null,null,null,0,0,0]
[0,{"$f":"IF(OR(COUNTA(O4789:O4818)>0,COUNTA(O4818:$O$5195)>0),IF(COUNTIF(B4809:B4818,B4818)=10,B4818+7,B4818),\"\")","v":""},"","","",null,null,null,0,0,0,0,{"$f":"IFERROR(VLOOKUP(G4819,DropDowns!$D$2:$E$151,2,FALSE),\"\")","v":""},{"$f":"IFERROR(VLOOKUP(H4819,DropDowns!$F$2:$G$7,2,FALSE),\"Residual categories\")","v":"Residual categories"},null,null,null,0,0,0]
[{"$f":"$E$2","v":0},{"$f":"IF(OR(COUNTA(O4790:O4819)>0,COUNTA(O4819:$O$5195)>0),IF(COUNTIF(B4810:B4819,B4819)=10,B4819+7,B4819),\"\")","v":""},"","","",null,null,null,0,0,0,0,{"$f":"IFERROR(VLOOKUP(G4820,DropDowns!$D$2:$E$151,2,FALSE),\"\")","v":""},{"$f":"IFERROR(VLOOKUP(H4820,DropDowns!$F$2:$G$7,2,FALSE),\"Residual categories\")","v":"Residual categories"},null,null,null,0,0,0]
[0,{"$f":"IF(OR(COUNTA(O4791:O4820)>0,COUNTA(O4820:$O$5195)>0),IF(COUNTIF(B4811:B4820,B4820)=10,B4820+7,B4820),\"\")","v":""},"","","",null,null,null,0,0,0,0,{"$f":"IFERROR(VLOOKUP(G4821,DropDowns!$D$2:$E$151,2,FALSE),\"\")","v":""},{"$f":"IFERROR(VLOOKUP(H4821,DropDowns!$F$2:$G$7,2,FALSE),\"Residual categories\")","v":"Residual categories"},null,null,null,0,0,0]
[0,{"$f":"IF(OR(COUNTA(O4792:O4821)>0,COUNTA(O4821:$O$5195)>0),IF(COUNTIF(B4812:B4821,B4821)=10,B4821+7,B4821),\"\")","v":""},"","","",null,null,null,0,0,0,0,{"$f":"IFERROR(VLOOKUP(G4822,DropDowns!$D$2:$E$151,2,FALSE),\"\")","v":""},{"$f":"IFERROR(VLOOKUP(H4822,DropDowns!$F$2:$G$7,2,FALSE),\"Residual categories\")","v":"Residual categories"},null,null,null,0,0,0]
[0,{"$f":"IF(OR(COUNTA(O4793:O4822)>0,COUNTA(O4822:$O$5195)>0),IF(COUNTIF(B4813:B4822,B4822)=10,B4822+7,B4822),\"\")","v":""},"","","",null,null,null,0,0,0,0,{"$f":"IFERROR(VLOOKUP(G4823,DropDowns!$D$2:$E$151,2,FALSE),\"\")","v":""},{"$f":"IFERROR(VLOOKUP(H4823,DropDowns!$F$2:$G$7,2,FALSE),\"Residual categories\")","v":"Residual categories"},null,null,null,0,0,0]
[0,{"$f":"IF(OR(COUNTA(O4794:O4823)>0,COUNTA(O4823:$O$5195)>0),IF(COUNTIF(B4814:B4823,B4823)=10,B4823+7,B4823),\"\")","v":""},"","","",null,null,null,0,0,0,0,{"$f":"IFERROR(VLOOKUP(G4824,DropDowns!$D$2:$E$151,2,FALSE),\"\")","v":""},{"$f":"IFERROR(VLOOKUP(H4824,DropDowns!$F$2:$G$7,2,FALSE),\"Residual categories\")","v":"Residual categories"},null,null,null,0,0,0]
[0,{"$f":"IF(OR(COUNTA(O4795:O4824)>0,COUNTA(O4824:$O$5195)>0),IF(COUNTIF(B4815:B4824,B4824)=10,B4824+7,B4824),\"\")","v":""},"","","",null,null,null,0,0,0,0,{"$f":"IFERROR(VLOOKUP(G4825,DropDowns!$D$2:$E$151,2,FALSE),\"\")","v":""},{"$f":"IFERROR(VLOOKUP(H4825,DropDowns!$F$2:$G$7,2,FALSE),\"Residual categories\")","v":"Residual categories"},null,null,null,0,0,0]
[0,{"$f":"IF(OR(COUNTA(O4796:O4825)>0,COUNTA(O4825:$O$5195)>0),IF(COUNTIF(B4816:B4825,B4825)=10,B4825+7,B4825),\"\")","v":""},"","","",null,null,null,0,0,0,0,{"$f":"IFERROR(VLOOKUP(G4826,DropDowns!$D$2:$E$151,2,FALSE),\"\")","v":""},{"$f":"IFERROR(VLOOKUP(H4826,DropDowns!$F$2:$G$7,2,FALSE),\"Residual categories\")","v":"Residual categories"},null,null,null,0,0,0]
[0,{"$f":"IF(OR(COUNTA(O4797:O4826)>0,COUNTA(O4826:$O$5195)>0),IF(COUNTIF(B4817:B4826,B4826)=10,B4826+7,B4826),\"\")","v":""},"","","",null,null,null,0,0,0,0,{"$f":"IFERROR(VLOOKUP(G4827,DropDowns!$D$2:$E$151,2,FALSE),\"\")","v":""},{"$f":"IFERROR(VLOOKUP(H4827,DropDowns!$F$2:$G$7,2,FALSE),\"Residual categories\")","v":"Residual categories"},null,null,null,0,0,0]
[0,{"$f":"IF(OR(COUNTA(O4798:O4827)>0,COUNTA(O4827:$O$5195)>0),IF(COUNTIF(B4818:B4827,B4827)=10,B4827+7,B4827),\"\")","v":""},"","","",null,null,null,0,0,0,0,{"$f":"IFERROR(VLOOKUP(G4828,DropDowns!$D$2:$E$151,2,FALSE),\"\")","v":""},{"$f":"IFERROR(VLOOKUP(H4828,DropDowns!$F$2:$G$7,2,FALSE),\"Residual categories\")","v":"Residual categories"},null,null,null,0,0,0]
[0,{"$f":"IF(OR(COUNTA(O4799:O4828)>0,COUNTA(O4828:$O$5195)>0),IF(COUNTIF(B4819:B4828,B4828)=10,B4828+7,B4828),\"\")","v":""},"","","",null,null,null,0,0,0,0,{"$f":"IFERROR(VLOOKUP(G4829,DropDowns!$D$2:$E$151,2,FALSE),\"\")","v":""},{"$f":"IFERROR(VLOOKUP(H4829,DropDowns!$F$2:$G$7,2,FALSE),\"Residual categories\")","v":"Residual categories"},null,null,null,0,0,0]
[0,{"$f":"IF(OR(COUNTA(O4800:O4829)>0,COUNTA(O4829:$O$5195)>0),IF(COUNTIF(B4820:B4829,B4829)=10,B4829+7,B4829),\"\")","v":""},"","","",null,null,null,0,0,0,0,{"$f":"IFERROR(VLOOKUP(G4830,DropDowns!$D$2:$E$151,2,FALSE),\"\")","v":""},{"$f":"IFERROR(VLOOKUP(H4830,DropDowns!$F$2:$G$7,2,FALSE),\"Residual categories\")","v":"Residual categories"},null,null,null,0,0,0]
[0,{"$f":"IF(OR(COUNTA(O4801:O4830)>0,COUNTA(O4830:$O$5195)>0),IF(COUNTIF(B4821:B4830,B4830)=10,B4830+7,B4830),\"\")","v":""},"","","",null,null,null,0,0,0,0,{"$f":"IFERROR(VLOOKUP(G4831,DropDowns!$D$2:$E$151,2,FALSE),\"\")","v":""},{"$f":"IFERROR(VLOOKUP(H4831,DropDowns!$F$2:$G$7,2,FALSE),\"Residual categories\")","v":"Residual categories"},null,null,null,0,0,0]
[0,{"$f":"IF(OR(COUNTA(O4802:O4831)>0,COUNTA(O4831:$O$5195)>0),IF(COUNTIF(B4822:B4831,B4831)=10,B4831+7,B4831),\"\")","v":""},"","","",null,null,null,0,0,0,0,{"$f":"IFERROR(VLOOKUP(G4832,DropDowns!$D$2:$E$151,2,FALSE),\"\")","v":""},{"$f":"IFERROR(VLOOKUP(H4832,DropDowns!$F$2:$G$7,2,FALSE),\"Residual categories\")","v":"Residual categories"},null,null,null,0,0,0]
[0,{"$f":"IF(OR(COUNTA(O4803:O4832)>0,COUNTA(O4832:$O$5195)>0),IF(COUNTIF(B4823:B4832,B4832)=10,B4832+7,B4832),\"\")","v":""},"","","",null,null,null,0,0,0,0,{"$f":"IFERROR(VLOOKUP(G4833,DropDowns!$D$2:$E$151,2,FALSE),\"\")","v":""},{"$f":"IFERROR(VLOOKUP(H4833,DropDowns!$F$2:$G$7,2,FALSE),\"Residual categories\")","v":"Residual categories"},null,null,null,0,0,0]
[0,{"$f":"IF(OR(COUNTA(O4804:O4833)>0,COUNTA(O4833:$O$5195)>0),IF(COUNTIF(B4824:B4833,B4833)=10,B4833+7,B4833),\"\")","v":""},"","","",null,null,null,0,0,0,0,{"$f":"IFERROR(VLOOKUP(G4834,DropDowns!$D$2:$E$151,2,FALSE),\"\")","v":""},{"$f":"IFERROR(VLOOKUP(H4834,DropDowns!$F$2:$G$7,2,FALSE),\"Residual categories\")","v":"Residual categories"},null,null,null,0,0,0]
[0,{"$f":"IF(OR(COUNTA(O4805:O4834)>0,COUNTA(O4834:$O$5195)>0),IF(COUNTIF(B4825:B4834,B4834)=10,B4834+7,B4834),\"\")","v":""},"","","",null,null,null,0,0,0,0,{"$f":"IFERROR(VLOOKUP(G4835,DropDowns!$D$2:$E$151,2,FALSE),\"\")","v":""},{"$f":"IFERROR(VLOOKUP(H4835,DropDowns!$F$2:$G$7,2,FALSE),\"Residual categories\")","v":"Residual categories"},null,null,null,0,0,0]
[0,{"$f":"IF(OR(COUNTA(O4806:O4835)>0,COUNTA(O4835:$O$5195)>0),IF(COUNTIF(B4826:B4835,B4835)=10,B4835+7,B4835),\"\")","v":""},"","","",null,null,null,0,0,0,0,{"$f":"IFERROR(VLOOKUP(G4836,DropDowns!$D$2:$E$151,2,FALSE),\"\")","v":""},{"$f":"IFERROR(VLOOKUP(H4836,DropDowns!$F$2:$G$7,2,FALSE),\"Residual categories\")","v":"Residual categories"},null,null,null,0,0,0]
[0,{"$f":"IF(OR(COUNTA(O4807:O4836)>0,COUNTA(O4836:$O$5195)>0),IF(COUNTIF(B4827:B4836,B4836)=10,B4836+7,B4836),\"\")","v":""},"","","",null,null,null,0,0,0,0,{"$f":"IFERROR(VLOOKUP(G4837,DropDowns!$D$2:$E$151,2,FALSE),\"\")","v":""},{"$f":"IFERROR(VLOOKUP(H4837,DropDowns!$F$2:$G$7,2,FALSE),\"Residual categories\")","v":"Residual categories"},null,null,null,0,0,0]
[0,{"$f":"IF(OR(COUNTA(O4808:O4837)>0,COUNTA(O4837:$O$5195)>0),IF(COUNTIF(B4828:B4837,B4837)=10,B4837+7,B4837),\"\")","v":""},"","","",null,null,null,0,0,0,0,{"$f":"IFERROR(VLOOKUP(G4838,DropDowns!$D$2:$E$151,2,FALSE),\"\")","v":""},{"$f":"IFERROR(VLOOKUP(H4838,DropDowns!$F$2:$G$7,2,FALSE),\"Residual categories\")","v":"Residual categories"},null,null,null,0,0,0]
[0,{"$f":"IF(OR(COUNTA(O4809:O4838)>0,COUNTA(O4838:$O$5195)>0),IF(COUNTIF(B4829:B4838,B4838)=10,B4838+7,B4838),\"\")","v":""},"","","",null,null,null,0,0,0,0,{"$f":"IFERROR(VLOOKUP(G4839,DropDowns!$D$2:$E$151,2,FALSE),\"\")","v":""},{"$f":"IFERROR(VLOOKUP(H4839,DropDowns!$F$2:$G$7,2,FALSE),\"Residual categories\")","v":"Residual categories"},null,null,null,0,0,0]
[0,{"$f":"IF(OR(COUNTA(O4810:O4839)>0,COUNTA(O4839:$O$5195)>0),IF(COUNTIF(B4830:B4839,B4839)=10,B4839+7,B4839),\"\")","v":""},"","","",null,null,null,0,0,0,0,{"$f":"IFERROR(VLOOKUP(G4840,DropDowns!$D$2:$E$151,2,FALSE),\"\")","v":""},{"$f":"IFERROR(VLOOKUP(H4840,DropDowns!$F$2:$G$7,2,FALSE),\"Residual categories\")","v":"Residual categories"},null,null,null,0,0,0]
[0,{"$f":"IF(OR(COUNTA(O4811:O4840)>0,COUNTA(O4840:$O$5195)>0),IF(COUNTIF(B4831:B4840,B4840)=10,B4840+7,B4840),\"\")","v":""},"","","",null,null,null,0,0,0,0,{"$f":"IFERROR(VLOOKUP(G4841,DropDowns!$D$2:$E$151,2,FALSE),\"\")","v":""},{"$f":"IFERROR(VLOOKUP(H4841,DropDowns!$F$2:$G$7,2,FALSE),\"Residual categories\")","v":"Residual categories"},null,null,null,0,0,0]
[0,{"$f":"IF(OR(COUNTA(O4812:O4841)>0,COUNTA(O4841:$O$5195)>0),IF(COUNTIF(B4832:B4841,B4841)=10,B4841+7,B4841),\"\")","v":""},"","","",null,null,null,0,0,0,0,{"$f":"IFERROR(VLOOKUP(G4842,DropDowns!$D$2:$E$151,2,FALSE),\"\")","v":""},{"$f":"IFERROR(VLOOKUP(H4842,DropDowns!$F$2:$G$7,2,FALSE),\"Residual categories\")","v":"Residual categories"},null,null,null,0,0,0]
[0,{"$f":"IF(OR(COUNTA(O4813:O4842)>0,COUNTA(O4842:$O$5195)>0),IF(COUNTIF(B4833:B4842,B4842)=10,B4842+7,B4842),\"\")","v":""},"","","",null,null,null,0,0,0,0,{"$f":"IFERROR(VLOOKUP(G4843,DropDowns!$D$2:$E$151,2,FALSE),\"\")","v":""},{"$f":"IFERROR(VLOOKUP(H4843,DropDowns!$F$2:$G$7,2,FALSE),\"Residual categories\")","v":"Residual categories"},null,null,null,0,0,0]
[0,{"$f":"IF(OR(COUNTA(O4814:O4843)>0,COUNTA(O4843:$O$5195)>0),IF(COUNTIF(B4834:B4843,B4843)=10,B4843+7,B4843),\"\")","v":""},"","","",null,null,null,0,0,0,0,{"$f":"IFERROR(VLOOKUP(G4844,DropDowns!$D$2:$E$151,2,FALSE),\"\")","v":""},{"$f":"IFERROR(VLOOKUP(H4844,DropDowns!$F$2:$G$7,2,FALSE),\"Residual categories\")","v":"Residual categories"},null,null,null,0,0,0]
[0,{"$f":"IF(OR(COUNTA(O4815:O4844)>0,COUNTA(O4844:$O$5195)>0),IF(COUNTIF(B4835:B4844,B4844)=10,B4844+7,B4844),\"\")","v":""},"","","",null,null,null,0,0,0,0,{"$f":"IFERROR(VLOOKUP(G4845,DropDowns!$D$2:$E$151,2,FALSE),\"\")","v":""},{"$f":"IFERROR(VLOOKUP(H4845,DropDowns!$F$2:$G$7,2,FALSE),\"Residual categories\")","v":"Residual categories"},null,null,null,0,0,0]
[0,{"$f":"IF(OR(COUNTA(O4816:O4845)>0,COUNTA(O4845:$O$5195)>0),IF(COUNTIF(B4836:B4845,B4845)=10,B4845+7,B4845),\"\")","v":""},"","","",null,null,null,0,0,0,0,{"$f":"IFERROR(VLOOKUP(G4846,DropDowns!$D$2:$E$151,2,FALSE),\"\")","v":""},{"$f":"IFERROR(VLOOKUP(H4846,DropDowns!$F$2:$G$7,2,FALSE),\"Residual categories\")","v":"Residual categories"},null,null,null,0,0,0]
[0,{"$f":"IF(OR(COUNTA(O4817:O4846)>0,COUNTA(O4846:$O$5195)>0),IF(COUNTIF(B4837:B4846,B4846)=10,B4846+7,B4846),\"\")","v":""},"","","",null,null,null,0,0,0,0,{"$f":"IFERROR(VLOOKUP(G4847,DropDowns!$D$2:$E$151,2,FALSE),\"\")","v":""},{"$f":"IFERROR(VLOOKUP(H4847,DropDowns!$F$2:$G$7,2,FALSE),\"Residual categories\")","v":"Residual categories"},null,null,null,0,0,0]
[0,{"$f":"IF(OR(COUNTA(O4818:O4847)>0,COUNTA(O4847:$O$5195)>0),IF(COUNTIF(B4838:B4847,B4847)=10,B4847+7,B4847),\"\")","v":""},"","","",null,null,null,0,0,0,0,{"$f":"IFERROR(VLOOKUP(G4848,DropDowns!$D$2:$E$151,2,FALSE),\"\")","v":""},{"$f":"IFERROR(VLOOKUP(H4848,DropDowns!$F$2:$G$7,2,FALSE),\"Residual categories\")","v":"Residual categories"},null,null,null,0,0,0]
[0,{"$f":"IF(OR(COUNTA(O4819:O4848)>0,COUNTA(O4848:$O$5195)>0),IF(COUNTIF(B4839:B4848,B4848)=10,B4848+7,B4848),\"\")","v":""},"","","",null,null,null,0,0,0,0,{"$f":"IFERROR(VLOOKUP(G4849,DropDowns!$D$2:$E$151,2,FALSE),\"\")","v":""},{"$f":"IFERROR(VLOOKUP(H4849,DropDowns!$F$2:$G$7,2,FALSE),\"Residual categories\")","v":"Residual categories"},null,null,null,0,0,0]
[0,{"$f":"IF(OR(COUNTA(O4820:O4849)>0,COUNTA(O4849:$O$5195)>0),IF(COUNTIF(B4840:B4849,B4849)=10,B4849+7,B4849),\"\")","v":""},"","","",null,null,null,0,0,0,0,{"$f":"IFERROR(VLOOKUP(G4850,DropDowns!$D$2:$E$151,2,FALSE),\"\")","v":""},{"$f":"IFERROR(VLOOKUP(H4850,DropDowns!$F$2:$G$7,2,FALSE),\"Residual categories\")","v":"Residual categories"},null,null,null,0,0,0]
[0,{"$f":"IF(OR(COUNTA(O4821:O4850)>0,COUNTA(O4850:$O$5195)>0),IF(COUNTIF(B4841:B4850,B4850)=10,B4850+7,B4850),\"\")","v":""},"","","",null,null,null,0,0,0,0,{"$f":"IFERROR(VLOOKUP(G4851,DropDowns!$D$2:$E$151,2,FALSE),\"\")","v":""},{"$f":"IFERROR(VLOOKUP(H4851,DropDowns!$F$2:$G$7,2,FALSE),\"Residual categories\")","v":"Residual categories"},null,null,null,0,0,0]
[0,{"$f":"IF(OR(COUNTA(O4822:O4851)>0,COUNTA(O4851:$O$5195)>0),IF(COUNTIF(B4842:B4851,B4851)=10,B4851+7,B4851),\"\")","v":""},"","","",null,null,null,0,0,0,0,{"$f":"IFERROR(VLOOKUP(G4852,DropDowns!$D$2:$E$151,2,FALSE),\"\")","v":""},{"$f":"IFERROR(VLOOKUP(H4852,DropDowns!$F$2:$G$7,2,FALSE),\"Residual categories\")","v":"Residual categories"},null,null,null,0,0,0]
[0,{"$f":"IF(OR(COUNTA(O4823:O4852)>0,COUNTA(O4852:$O$5195)>0),IF(COUNTIF(B4843:B4852,B4852)=10,B4852+7,B4852),\"\")","v":""},"","","",null,null,null,0,0,0,0,{"$f":"IFERROR(VLOOKUP(G4853,DropDowns!$D$2:$E$151,2,FALSE),\"\")","v":""},{"$f":"IFERROR(VLOOKUP(H4853,DropDowns!$F$2:$G$7,2,FALSE),\"Residual categories\")","v":"Residual categories"},null,null,null,0,0,0]
[0,{"$f":"IF(OR(COUNTA(O4824:O4853)>0,COUNTA(O4853:$O$5195)>0),IF(COUNTIF(B4844:B4853,B4853)=10,B4853+7,B4853),\"\")","v":""},"","","",null,null,null,0,0,0,0,{"$f":"IFERROR(VLOOKUP(G4854,DropDowns!$D$2:$E$151,2,FALSE),\"\")","v":""},{"$f":"IFERROR(VLOOKUP(H4854,DropDowns!$F$2:$G$7,2,FALSE),\"Residual categories\")","v":"Residual categories"},null,null,null,0,0,0]
[0,{"$f":"IF(OR(COUNTA(O4825:O4854)>0,COUNTA(O4854:$O$5195)>0),IF(COUNTIF(B4845:B4854,B4854)=10,B4854+7,B4854),\"\")","v":""},"","","",null,null,null,0,0,0,0,{"$f":"IFERROR(VLOOKUP(G4855,DropDowns!$D$2:$E$151,2,FALSE),\"\")","v":""},{"$f":"IFERROR(VLOOKUP(H4855,DropDowns!$F$2:$G$7,2,FALSE),\"Residual categories\")","v":"Residual categories"},null,null,null,0,0,0]
[0,{"$f":"IF(OR(COUNTA(O4826:O4855)>0,COUNTA(O4855:$O$5195)>0),IF(COUNTIF(B4846:B4855,B4855)=10,B4855+7,B4855),\"\")","v":""},"","","",null,null,null,0,0,0,0,{"$f":"IFERROR(VLOOKUP(G4856,DropDowns!$D$2:$E$151,2,FALSE),\"\")","v":""},{"$f":"IFERROR(VLOOKUP(H4856,DropDowns!$F$2:$G$7,2,FALSE),\"Residual categories\")","v":"Residual categories"},null,null,null,0,0,0]
[0,{"$f":"IF(OR(COUNTA(O4827:O4856)>0,COUNTA(O4856:$O$5195)>0),IF(COUNTIF(B4847:B4856,B4856)=10,B4856+7,B4856),\"\")","v":""},"","","",null,null,null,0,0,0,0,{"$f":"IFERROR(VLOOKUP(G4857,DropDowns!$D$2:$E$151,2,FALSE),\"\")","v":""},{"$f":"IFERROR(VLOOKUP(H4857,DropDowns!$F$2:$G$7,2,FALSE),\"Residual categories\")","v":"Residual categories"},null,null,null,0,0,0]
[0,{"$f":"IF(OR(COUNTA(O4828:O4857)>0,COUNTA(O4857:$O$5195)>0),IF(COUNTIF(B4848:B4857,B4857)=10,B4857+7,B4857),\"\")","v":""},"","","",null,null,null,0,0,0,0,{"$f":"IFERROR(VLOOKUP(G4858,DropDowns!$D$2:$E$151,2,FALSE),\"\")","v":""},{"$f":"IFERROR(VLOOKUP(H4858,DropDowns!$F$2:$G$7,2,FALSE),\"Residual categories\")","v":"Residual categories"},null,null,null,0,0,0]
[0,{"$f":"IF(OR(COUNTA(O4829:O4858)>0,COUNTA(O4858:$O$5195)>0),IF(COUNTIF(B4849:B4858,B4858)=10,B4858+7,B4858),\"\")","v":""},"","","",null,null,null,0,0,0,0,{"$f":"IFERROR(VLOOKUP(G4859,DropDowns!$D$2:$E$151,2,FALSE),\"\")","v":""},{"$f":"IFERROR(VLOOKUP(H4859,DropDowns!$F$2:$G$7,2,FALSE),\"Residual categories\")","v":"Residual categories"},null,null,null,0,0,0]
[0,{"$f":"IF(OR(COUNTA(O4830:O4859)>0,COUNTA(O4859:$O$5195)>0),IF(COUNTIF(B4850:B4859,B4859)=10,B4859+7,B4859),\"\")","v":""},"","","",null,null,null,0,0,0,0,{"$f":"IFERROR(VLOOKUP(G4860,DropDowns!$D$2:$E$151,2,FALSE),\"\")","v":""},{"$f":"IFERROR(VLOOKUP(H4860,DropDowns!$F$2:$G$7,2,FALSE),\"Residual categories\")","v":"Residual categories"},null,null,null,0,0,0]
[0,{"$f":"IF(OR(COUNTA(O4831:O4860)>0,COUNTA(O4860:$O$5195)>0),IF(COUNTIF(B4851:B4860,B4860)=10,B4860+7,B4860),\"\")","v":""},"","","",null,null,null,0,0,0,0,{"$f":"IFERROR(VLOOKUP(G4861,DropDowns!$D$2:$E$151,2,FALSE),\"\")","v":""},{"$f":"IFERROR(VLOOKUP(H4861,DropDowns!$F$2:$G$7,2,FALSE),\"Residual categories\")","v":"Residual categories"},null,null,null,0,0,0]
[0,{"$f":"IF(OR(COUNTA(O4832:O4861)>0,COUNTA(O4861:$O$5195)>0),IF(COUNTIF(B4852:B4861,B4861)=10,B4861+7,B4861),\"\")","v":""},"","","",null,null,null,0,0,0,0,{"$f":"IFERROR(VLOOKUP(G4862,DropDowns!$D$2:$E$151,2,FALSE),\"\")","v":""},{"$f":"IFERROR(VLOOKUP(H4862,DropDowns!$F$2:$G$7,2,FALSE),\"Residual categories\")","v":"Residual categories"},null,null,null,0,0,0]
[0,{"$f":"IF(OR(COUNTA(O4833:O4862)>0,COUNTA(O4862:$O$5195)>0),IF(COUNTIF(B4853:B4862,B4862)=10,B4862+7,B4862),\"\")","v":""},"","","",null,null,null,0,0,0,0,{"$f":"IFERROR(VLOOKUP(G4863,DropDowns!$D$2:$E$151,2,FALSE),\"\")","v":""},{"$f":"IFERROR(VLOOKUP(H4863,DropDowns!$F$2:$G$7,2,FALSE),\"Residual categories\")","v":"Residual categories"},null,null,null,0,0,0]
[0,{"$f":"IF(OR(COUNTA(O4834:O4863)>0,COUNTA(O4863:$O$5195)>0),IF(COUNTIF(B4854:B4863,B4863)=10,B4863+7,B4863),\"\")","v":""},"","","",null,null,null,0,0,0,0,{"$f":"IFERROR(VLOOKUP(G4864,DropDowns!$D$2:$E$151,2,FALSE),\"\")","v":""},{"$f":"IFERROR(VLOOKUP(H4864,DropDowns!$F$2:$G$7,2,FALSE),\"Residual categories\")","v":"Residual categories"},null,null,null,0,0,0]
[0,{"$f":"IF(OR(COUNTA(O4835:O4864)>0,COUNTA(O4864:$O$5195)>0),IF(COUNTIF(B4855:B4864,B4864)=10,B4864+7,B4864),\"\")","v":""},"","","",null,null,null,0,0,0,0,{"$f":"IFERROR(VLOOKUP(G4865,DropDowns!$D$2:$E$151,2,FALSE),\"\")","v":""},{"$f":"IFERROR(VLOOKUP(H4865,DropDowns!$F$2:$G$7,2,FALSE),\"Residual categories\")","v":"Residual categories"},null,null,null,0,0,0]
[0,{"$f":"IF(OR(COUNTA(O4836:O4865)>0,COUNTA(O4865:$O$5195)>0),IF(COUNTIF(B4856:B4865,B4865)=10,B4865+7,B4865),\"\")","v":""},"","","",null,null,null,0,0,0,0,{"$f":"IFERROR(VLOOKUP(G4866,DropDowns!$D$2:$E$151,2,FALSE),\"\")","v":""},{"$f":"IFERROR(VLOOKUP(H4866,DropDowns!$F$2:$G$7,2,FALSE),\"Residual categories\")","v":"Residual categories"},null,null,null,0,0,0]
[0,{"$f":"IF(OR(COUNTA(O4837:O4866)>0,COUNTA(O4866:$O$5195)>0),IF(COUNTIF(B4857:B4866,B4866)=10,B4866+7,B4866),\"\")","v":""},"","","",null,null,null,0,0,0,0,{"$f":"IFERROR(VLOOKUP(G4867,DropDowns!$D$2:$E$151,2,FALSE),\"\")","v":""},{"$f":"IFERROR(VLOOKUP(H4867,DropDowns!$F$2:$G$7,2,FALSE),\"Residual categories\")","v":"Residual categories"},null,null,null,0,0,0]
[0,{"$f":"IF(OR(COUNTA(O4838:O4867)>0,COUNTA(O4867:$O$5195)>0),IF(COUNTIF(B4858:B4867,B4867)=10,B4867+7,B4867),\"\")","v":""},"","","",null,null,null,0,0,0,0,{"$f":"IFERROR(VLOOKUP(G4868,DropDowns!$D$2:$E$151,2,FALSE),\"\")","v":""},{"$f":"IFERROR(VLOOKUP(H4868,DropDowns!$F$2:$G$7,2,FALSE),\"Residual categories\")","v":"Residual categories"},null,null,null,0,0,0]
[0,{"$f":"IF(OR(COUNTA(O4839:O4868)>0,COUNTA(O4868:$O$5195)>0),IF(COUNTIF(B4859:B4868,B4868)=10,B4868+7,B4868),\"\")","v":""},"","","",null,null,null,0,0,0,0,{"$f":"IFERROR(VLOOKUP(G4869,DropDowns!$D$2:$E$151,2,FALSE),\"\")","v":""},{"$f":"IFERROR(VLOOKUP(H4869,DropDowns!$F$2:$G$7,2,FALSE),\"Residual categories\")","v":"Residual categories"},null,null,null,0,0,0]
[0,{"$f":"IF(OR(COUNTA(O4840:O4869)>0,COUNTA(O4869:$O$5195)>0),IF(COUNTIF(B4860:B4869,B4869)=10,B4869+7,B4869),\"\")","v":""},"","","",null,null,null,0,0,0,0,{"$f":"IFERROR(VLOOKUP(G4870,DropDowns!$D$2:$E$151,2,FALSE),\"\")","v":""},{"$f":"IFERROR(VLOOKUP(H4870,DropDowns!$F$2:$G$7,2,FALSE),\"Residual categories\")","v":"Residual categories"},null,null,null,0,0,0]
[0,{"$f":"IF(OR(COUNTA(O4841:O4870)>0,COUNTA(O4870:$O$5195)>0),IF(COUNTIF(B4861:B4870,B4870)=10,B4870+7,B4870),\"\")","v":""},{"$f":"IF(D4871=1,A4871,\"\")","v":""},"","",null,null,null,{"$f":"IF(COUNTA(O4871:Q4871)>0,1,0)","v":0},{"$f":"IF(O4871=\"y\",1,0)","v":0},{"$f":"IF(P4871=\"y\",1,0)","v":0},{"$f":"IF(Q4871=\"y\",1,0)","v":0},{"$f":"IFERROR(VLOOKUP(G4871,DropDowns!$D$2:$E$151,2,FALSE),\"\")","v":""},{"$f":"IFERROR(VLOOKUP(H4871,DropDowns!$F$2:$G$7,2,FALSE),\"Residual categories\")","v":"Residual categories"},null,null,null,{"$f":"IF(O4871=\"yes\",1,0)","v":0},{"$f":"IF(P4871=\"yes\",1,0)","v":0},{"$f":"IF(Q4871=\"yes\",1,0)","v":0}]
[0,{"$f":"IF(OR(COUNTA(O4842:O4871)>0,COUNTA(O4871:$O$5195)>0),IF(COUNTIF(B4862:B4871,B4871)=10,B4871+7,B4871),\"\")","v":""},"","","",null,null,null,0,0,0,0,{"$f":"IFERROR(VLOOKUP(G4872,DropDowns!$D$2:$E$151,2,FALSE),\"\")","v":""},{"$f":"IFERROR(VLOOKUP(H4872,DropDowns!$F$2:$G$7,2,FALSE),\"Residual categories\")","v":"Residual categories"},null,null,null,0,0,0]
[0,{"$f":"IF(OR(COUNTA(O4843:O4872)>0,COUNTA(O4872:$O$5195)>0),IF(COUNTIF(B4863:B4872,B4872)=10,B4872+7,B4872),\"\")","v":""},"","","",null,null,null,0,0,0,0,{"$f":"IFERROR(VLOOKUP(G4873,DropDowns!$D$2:$E$151,2,FALSE),\"\")","v":""},{"$f":"IFERROR(VLOOKUP(H4873,DropDowns!$F$2:$G$7,2,FALSE),\"Residual categories\")","v":"Residual categories"},null,null,null,0,0,0]
[0,{"$f":"IF(OR(COUNTA(O4844:O4873)>0,COUNTA(O4873:$O$5195)>0),IF(COUNTIF(B4864:B4873,B4873)=10,B4873+7,B4873),\"\")","v":""},"","","",null,null,null,0,0,0,0,{"$f":"IFERROR(VLOOKUP(G4874,DropDowns!$D$2:$E$151,2,FALSE),\"\")","v":""},{"$f":"IFERROR(VLOOKUP(H4874,DropDowns!$F$2:$G$7,2,FALSE),\"Residual categories\")","v":"Residual categories"},null,null,null,0,0,0]
[0,{"$f":"IF(OR(COUNTA(O4845:O4874)>0,COUNTA(O4874:$O$5195)>0),IF(COUNTIF(B4865:B4874,B4874)=10,B4874+7,B4874),\"\")","v":""},"","","",null,null,null,0,0,0,0,{"$f":"IFERROR(VLOOKUP(G4875,DropDowns!$D$2:$E$151,2,FALSE),\"\")","v":""},{"$f":"IFERROR(VLOOKUP(H4875,DropDowns!$F$2:$G$7,2,FALSE),\"Residual categories\")","v":"Residual categories"},null,null,null,0,0,0]
[0,{"$f":"IF(OR(COUNTA(O4846:O4875)>0,COUNTA(O4875:$O$5195)>0),IF(COUNTIF(B4866:B4875,B4875)=10,B4875+7,B4875),\"\")","v":""},"","","",null,null,null,0,0,0,0,{"$f":"IFERROR(VLOOKUP(G4876,DropDowns!$D$2:$E$151,2,FALSE),\"\")","v":""},{"$f":"IFERROR(VLOOKUP(H4876,DropDowns!$F$2:$G$7,2,FALSE),\"Residual categories\")","v":"Residual categories"},null,null,null,0,0,0]
[0,{"$f":"IF(OR(COUNTA(O4847:O4876)>0,COUNTA(O4876:$O$5195)>0),IF(COUNTIF(B4867:B4876,B4876)=10,B4876+7,B4876),\"\")","v":""},"","","",null,null,null,0,0,0,0,{"$f":"IFERROR(VLOOKUP(G4877,DropDowns!$D$2:$E$151,2,FALSE),\"\")","v":""},{"$f":"IFERROR(VLOOKUP(H4877,DropDowns!$F$2:$G$7,2,FALSE),\"Residual categories\")","v":"Residual categories"},null,null,null,0,0,0]
[0,{"$f":"IF(OR(COUNTA(O4848:O4877)>0,COUNTA(O4877:$O$5195)>0),IF(COUNTIF(B4868:B4877,B4877)=10,B4877+7,B4877),\"\")","v":""},"","","",null,null,null,0,0,0,0,{"$f":"IFERROR(VLOOKUP(G4878,DropDowns!$D$2:$E$151,2,FALSE),\"\")","v":""},{"$f":"IFERROR(VLOOKUP(H4878,DropDowns!$F$2:$G$7,2,FALSE),\"Residual categories\")","v":"Residual categories"},null,null,null,0,0,0]
[0,{"$f":"IF(OR(COUNTA(O4849:O4878)>0,COUNTA(O4878:$O$5195)>0),IF(COUNTIF(B4869:B4878,B4878)=10,B4878+7,B4878),\"\")","v":""},"","","",null,null,null,0,0,0,0,{"$f":"IFERROR(VLOOKUP(G4879,DropDowns!$D$2:$E$151,2,FALSE),\"\")","v":""},{"$f":"IFERROR(VLOOKUP(H4879,DropDowns!$F$2:$G$7,2,FALSE),\"Residual categories\")","v":"Residual categories"},null,null,null,0,0,0]
[0,{"$f":"IF(OR(COUNTA(O4850:O4879)>0,COUNTA(O4879:$O$5195)>0),IF(COUNTIF(B4870:B4879,B4879)=10,B4879+7,B4879),\"\")","v":""},"","","",null,null,null,0,0,0,0,{"$f":"IFERROR(VLOOKUP(G4880,DropDowns!$D$2:$E$151,2,FALSE),\"\")","v":""},{"$f":"IFERROR(VLOOKUP(H4880,DropDowns!$F$2:$G$7,2,FALSE),\"Residual categories\")","v":"Residual categories"},null,null,null,0,0,0]
[0,{"$f":"IF(OR(COUNTA(O4851:O4880)>0,COUNTA(O4880:$O$5195)>0),IF(COUNTIF(B4871:B4880,B4880)=10,B4880+7,B4880),\"\")","v":""},"","",{"$f":"IF(B4881=\"\",\"\",COUNTIF(B4872:B4881,B4881))","v":""},null,null,null,0,0,0,0,{"$f":"IFERROR(VLOOKUP(G4881,DropDowns!$D$2:$E$151,2,FALSE),\"\")","v":""},{"$f":"IFERROR(VLOOKUP(H4881,DropDowns!$F$2:$G$7,2,FALSE),\"Residual categories\")","v":"Residual categories"},null,null,null,0,0,0]
[0,{"$f":"IF(OR(COUNTA(O4852:O4881)>0,COUNTA(O4881:$O$5195)>0),IF(COUNTIF(B4872:B4881,B4881)=10,B4881+7,B4881),\"\")","v":""},"","","",null,null,null,0,0,0,0,{"$f":"IFERROR(VLOOKUP(G4882,DropDowns!$D$2:$E$151,2,FALSE),\"\")","v":""},{"$f":"IFERROR(VLOOKUP(H4882,DropDowns!$F$2:$G$7,2,FALSE),\"Residual categories\")","v":"Residual categories"},null,null,null,0,0,0]
[0,{"$f":"IF(OR(COUNTA(O4853:O4882)>0,COUNTA(O4882:$O$5195)>0),IF(COUNTIF(B4873:B4882,B4882)=10,B4882+7,B4882),\"\")","v":""},"","","",null,null,null,0,0,0,0,{"$f":"IFERROR(VLOOKUP(G4883,DropDowns!$D$2:$E$151,2,FALSE),\"\")","v":""},{"$f":"IFERROR(VLOOKUP(H4883,DropDowns!$F$2:$G$7,2,FALSE),\"Residual categories\")","v":"Residual categories"},null,null,null,0,0,0]
[{"$f":"$E$2","v":0},{"$f":"IF(OR(COUNTA(O4854:O4883)>0,COUNTA(O4883:$O$5195)>0),IF(COUNTIF(B4874:B4883,B4883)=10,B4883+7,B4883),\"\")","v":""},"","","",null,null,null,0,0,0,0,{"$f":"IFERROR(VLOOKUP(G4884,DropDowns!$D$2:$E$151,2,FALSE),\"\")","v":""},{"$f":"IFERROR(VLOOKUP(H4884,DropDowns!$F$2:$G$7,2,FALSE),\"Residual categories\")","v":"Residual categories"},null,null,null,0,0,0]
[0,{"$f":"IF(OR(COUNTA(O4855:O4884)>0,COUNTA(O4884:$O$5195)>0),IF(COUNTIF(B4875:B4884,B4884)=10,B4884+7,B4884),\"\")","v":""},"","","",null,null,null,0,0,0,0,{"$f":"IFERROR(VLOOKUP(G4885,DropDowns!$D$2:$E$151,2,FALSE),\"\")","v":""},{"$f":"IFERROR(VLOOKUP(H4885,DropDowns!$F$2:$G$7,2,FALSE),\"Residual categories\")","v":"Residual categories"},null,null,null,0,0,0]
[0,{"$f":"IF(OR(COUNTA(O4856:O4885)>0,COUNTA(O4885:$O$5195)>0),IF(COUNTIF(B4876:B4885,B4885)=10,B4885+7,B4885),\"\")","v":""},"","","",null,null,null,0,0,0,0,{"$f":"IFERROR(VLOOKUP(G4886,DropDowns!$D$2:$E$151,2,FALSE),\"\")","v":""},{"$f":"IFERROR(VLOOKUP(H4886,DropDowns!$F$2:$G$7,2,FALSE),\"Residual categories\")","v":"Residual categories"},null,null,null,0,0,0]
[0,{"$f":"IF(OR(COUNTA(O4857:O4886)>0,COUNTA(O4886:$O$5195)>0),IF(COUNTIF(B4877:B4886,B4886)=10,B4886+7,B4886),\"\")","v":""},"","","",null,null,null,0,0,0,0,{"$f":"IFERROR(VLOOKUP(G4887,DropDowns!$D$2:$E$151,2,FALSE),\"\")","v":""},{"$f":"IFERROR(VLOOKUP(H4887,DropDowns!$F$2:$G$7,2,FALSE),\"Residual categories\")","v":"Residual categories"},null,null,null,0,0,0]
[0,{"$f":"IF(OR(COUNTA(O4858:O4887)>0,COUNTA(O4887:$O$5195)>0),IF(COUNTIF(B4878:B4887,B4887)=10,B4887+7,B4887),\"\")","v":""},"","","",null,null,null,0,0,0,0,{"$f":"IFERROR(VLOOKUP(G4888,DropDowns!$D$2:$E$151,2,FALSE),\"\")","v":""},{"$f":"IFERROR(VLOOKUP(H4888,DropDowns!$F$2:$G$7,2,FALSE),\"Residual categories\")","v":"Residual categories"},null,null,null,0,0,0]
[0,{"$f":"IF(OR(COUNTA(O4859:O4888)>0,COUNTA(O4888:$O$5195)>0),IF(COUNTIF(B4879:B4888,B4888)=10,B4888+7,B4888),\"\")","v":""},"","","",null,null,null,0,0,0,0,{"$f":"IFERROR(VLOOKUP(G4889,DropDowns!$D$2:$E$151,2,FALSE),\"\")","v":""},{"$f":"IFERROR(VLOOKUP(H4889,DropDowns!$F$2:$G$7,2,FALSE),\"Residual categories\")","v":"Residual categories"},null,null,null,0,0,0]
[0,{"$f":"IF(OR(COUNTA(O4860:O4889)>0,COUNTA(O4889:$O$5195)>0),IF(COUNTIF(B4880:B4889,B4889)=10,B4889+7,B4889),\"\")","v":""},"","","",null,null,null,0,0,0,0,{"$f":"IFERROR(VLOOKUP(G4890,DropDowns!$D$2:$E$151,2,FALSE),\"\")","v":""},{"$f":"IFERROR(VLOOKUP(H4890,DropDowns!$F$2:$G$7,2,FALSE),\"Residual categories\")","v":"Residual categories"},null,null,null,0,0,0]
[0,{"$f":"IF(OR(COUNTA(O4861:O4890)>0,COUNTA(O4890:$O$5195)>0),IF(COUNTIF(B4881:B4890,B4890)=10,B4890+7,B4890),\"\")","v":""},"","","",null,null,null,0,0,0,0,{"$f":"IFERROR(VLOOKUP(G4891,DropDowns!$D$2:$E$151,2,FALSE),\"\")","v":""},{"$f":"IFERROR(VLOOKUP(H4891,DropDowns!$F$2:$G$7,2,FALSE),\"Residual categories\")","v":"Residual categories"},null,null,null,0,0,0]
[0,{"$f":"IF(OR(COUNTA(O4862:O4891)>0,COUNTA(O4891:$O$5195)>0),IF(COUNTIF(B4882:B4891,B4891)=10,B4891+7,B4891),\"\")","v":""},"","","",null,null,null,0,0,0,0,{"$f":"IFERROR(VLOOKUP(G4892,DropDowns!$D$2:$E$151,2,FALSE),\"\")","v":""},{"$f":"IFERROR(VLOOKUP(H4892,DropDowns!$F$2:$G$7,2,FALSE),\"Residual categories\")","v":"Residual categories"},null,null,null,0,0,0]
[0,{"$f":"IF(OR(COUNTA(O4863:O4892)>0,COUNTA(O4892:$O$5195)>0),IF(COUNTIF(B4883:B4892,B4892)=10,B4892+7,B4892),\"\")","v":""},"","","",null,null,null,0,0,0,0,{"$f":"IFERROR(VLOOKUP(G4893,DropDowns!$D$2:$E$151,2,FALSE),\"\")","v":""},{"$f":"IFERROR(VLOOKUP(H4893,DropDowns!$F$2:$G$7,2,FALSE),\"Residual categories\")","v":"Residual categories"},null,null,null,0,0,0]
[0,{"$f":"IF(OR(COUNTA(O4864:O4893)>0,COUNTA(O4893:$O$5195)>0),IF(COUNTIF(B4884:B4893,B4893)=10,B4893+7,B4893),\"\")","v":""},"","","",null,null,null,0,0,0,0,{"$f":"IFERROR(VLOOKUP(G4894,DropDowns!$D$2:$E$151,2,FALSE),\"\")","v":""},{"$f":"IFERROR(VLOOKUP(H4894,DropDowns!$F$2:$G$7,2,FALSE),\"Residual categories\")","v":"Residual categories"},null,null,null,0,0,0]
[0,{"$f":"IF(OR(COUNTA(O4865:O4894)>0,COUNTA(O4894:$O$5195)>0),IF(COUNTIF(B4885:B4894,B4894)=10,B4894+7,B4894),\"\")","v":""},"","","",null,null,null,0,0,0,0,{"$f":"IFERROR(VLOOKUP(G4895,DropDowns!$D$2:$E$151,2,FALSE),\"\")","v":""},{"$f":"IFERROR(VLOOKUP(H4895,DropDowns!$F$2:$G$7,2,FALSE),\"Residual categories\")","v":"Residual categories"},null,null,null,0,0,0]
[0,{"$f":"IF(OR(COUNTA(O4866:O4895)>0,COUNTA(O4895:$O$5195)>0),IF(COUNTIF(B4886:B4895,B4895)=10,B4895+7,B4895),\"\")","v":""},"","","",null,null,null,0,0,0,0,{"$f":"IFERROR(VLOOKUP(G4896,DropDowns!$D$2:$E$151,2,FALSE),\"\")","v":""},{"$f":"IFERROR(VLOOKUP(H4896,DropDowns!$F$2:$G$7,2,FALSE),\"Residual categories\")","v":"Residual categories"},null,null,null,0,0,0]
[0,{"$f":"IF(OR(COUNTA(O4867:O4896)>0,COUNTA(O4896:$O$5195)>0),IF(COUNTIF(B4887:B4896,B4896)=10,B4896+7,B4896),\"\")","v":""},"","","",null,null,null,0,0,0,0,{"$f":"IFERROR(VLOOKUP(G4897,DropDowns!$D$2:$E$151,2,FALSE),\"\")","v":""},{"$f":"IFERROR(VLOOKUP(H4897,DropDowns!$F$2:$G$7,2,FALSE),\"Residual categories\")","v":"Residual categories"},null,null,null,0,0,0]
[0,{"$f":"IF(OR(COUNTA(O4868:O4897)>0,COUNTA(O4897:$O$5195)>0),IF(COUNTIF(B4888:B4897,B4897)=10,B4897+7,B4897),\"\")","v":""},"","","",null,null,null,0,0,0,0,{"$f":"IFERROR(VLOOKUP(G4898,DropDowns!$D$2:$E$151,2,FALSE),\"\")","v":""},{"$f":"IFERROR(VLOOKUP(H4898,DropDowns!$F$2:$G$7,2,FALSE),\"Residual categories\")","v":"Residual categories"},null,null,null,0,0,0]
[0,{"$f":"IF(OR(COUNTA(O4869:O4898)>0,COUNTA(O4898:$O$5195)>0),IF(COUNTIF(B4889:B4898,B4898)=10,B4898+7,B4898),\"\")","v":""},"","","",null,null,null,0,0,0,0,{"$f":"IFERROR(VLOOKUP(G4899,DropDowns!$D$2:$E$151,2,FALSE),\"\")","v":""},{"$f":"IFERROR(VLOOKUP(H4899,DropDowns!$F$2:$G$7,2,FALSE),\"Residual categories\")","v":"Residual categories"},null,null,null,0,0,0]
[0,{"$f":"IF(OR(COUNTA(O4870:O4899)>0,COUNTA(O4899:$O$5195)>0),IF(COUNTIF(B4890:B4899,B4899)=10,B4899+7,B4899),\"\")","v":""},"","","",null,null,null,0,0,0,0,{"$f":"IFERROR(VLOOKUP(G4900,DropDowns!$D$2:$E$151,2,FALSE),\"\")","v":""},{"$f":"IFERROR(VLOOKUP(H4900,DropDowns!$F$2:$G$7,2,FALSE),\"Residual categories\")","v":"Residual categories"},null,null,null,0,0,0]
[0,{"$f":"IF(OR(COUNTA(O4871:O4900)>0,COUNTA(O4900:$O$5195)>0),IF(COUNTIF(B4891:B4900,B4900)=10,B4900+7,B4900),\"\")","v":""},"","","",null,null,null,0,0,0,0,{"$f":"IFERROR(VLOOKUP(G4901,DropDowns!$D$2:$E$151,2,FALSE),\"\")","v":""},{"$f":"IFERROR(VLOOKUP(H4901,DropDowns!$F$2:$G$7,2,FALSE),\"Residual categories\")","v":"Residual categories"},null,null,null,0,0,0]
[0,{"$f":"IF(OR(COUNTA(O4872:O4901)>0,COUNTA(O4901:$O$5195)>0),IF(COUNTIF(B4892:B4901,B4901)=10,B4901+7,B4901),\"\")","v":""},"","","",null,null,null,0,0,0,0,{"$f":"IFERROR(VLOOKUP(G4902,DropDowns!$D$2:$E$151,2,FALSE),\"\")","v":""},{"$f":"IFERROR(VLOOKUP(H4902,DropDowns!$F$2:$G$7,2,FALSE),\"Residual categories\")","v":"Residual categories"},null,null,null,0,0,0]
[0,{"$f":"IF(OR(COUNTA(O4873:O4902)>0,COUNTA(O4902:$O$5195)>0),IF(COUNTIF(B4893:B4902,B4902)=10,B4902+7,B4902),\"\")","v":""},"","","",null,null,null,0,0,0,0,{"$f":"IFERROR(VLOOKUP(G4903,DropDowns!$D$2:$E$151,2,FALSE),\"\")","v":""},{"$f":"IFERROR(VLOOKUP(H4903,DropDowns!$F$2:$G$7,2,FALSE),\"Residual categories\")","v":"Residual categories"},null,null,null,0,0,0]
[0,{"$f":"IF(OR(COUNTA(O4874:O4903)>0,COUNTA(O4903:$O$5195)>0),IF(COUNTIF(B4894:B4903,B4903)=10,B4903+7,B4903),\"\")","v":""},"","","",null,null,null,0,0,0,0,{"$f":"IFERROR(VLOOKUP(G4904,DropDowns!$D$2:$E$151,2,FALSE),\"\")","v":""},{"$f":"IFERROR(VLOOKUP(H4904,DropDowns!$F$2:$G$7,2,FALSE),\"Residual categories\")","v":"Residual categories"},null,null,null,0,0,0]
[0,{"$f":"IF(OR(COUNTA(O4875:O4904)>0,COUNTA(O4904:$O$5195)>0),IF(COUNTIF(B4895:B4904,B4904)=10,B4904+7,B4904),\"\")","v":""},"","","",null,null,null,0,0,0,0,{"$f":"IFERROR(VLOOKUP(G4905,DropDowns!$D$2:$E$151,2,FALSE),\"\")","v":""},{"$f":"IFERROR(VLOOKUP(H4905,DropDowns!$F$2:$G$7,2,FALSE),\"Residual categories\")","v":"Residual categories"},null,null,null,0,0,0]
[0,{"$f":"IF(OR(COUNTA(O4876:O4905)>0,COUNTA(O4905:$O$5195)>0),IF(COUNTIF(B4896:B4905,B4905)=10,B4905+7,B4905),\"\")","v":""},"","","",null,null,null,0,0,0,0,{"$f":"IFERROR(VLOOKUP(G4906,DropDowns!$D$2:$E$151,2,FALSE),\"\")","v":""},{"$f":"IFERROR(VLOOKUP(H4906,DropDowns!$F$2:$G$7,2,FALSE),\"Residual categories\")","v":"Residual categories"},null,null,null,0,0,0]
[0,{"$f":"IF(OR(COUNTA(O4877:O4906)>0,COUNTA(O4906:$O$5195)>0),IF(COUNTIF(B4897:B4906,B4906)=10,B4906+7,B4906),\"\")","v":""},"","","",null,null,null,0,0,0,0,{"$f":"IFERROR(VLOOKUP(G4907,DropDowns!$D$2:$E$151,2,FALSE),\"\")","v":""},{"$f":"IFERROR(VLOOKUP(H4907,DropDowns!$F$2:$G$7,2,FALSE),\"Residual categories\")","v":"Residual categories"},null,null,null,0,0,0]
[0,{"$f":"IF(OR(COUNTA(O4878:O4907)>0,COUNTA(O4907:$O$5195)>0),IF(COUNTIF(B4898:B4907,B4907)=10,B4907+7,B4907),\"\")","v":""},"","","",null,null,null,0,0,0,0,{"$f":"IFERROR(VLOOKUP(G4908,DropDowns!$D$2:$E$151,2,FALSE),\"\")","v":""},{"$f":"IFERROR(VLOOKUP(H4908,DropDowns!$F$2:$G$7,2,FALSE),\"Residual categories\")","v":"Residual categories"},null,null,null,0,0,0]
[0,{"$f":"IF(OR(COUNTA(O4879:O4908)>0,COUNTA(O4908:$O$5195)>0),IF(COUNTIF(B4899:B4908,B4908)=10,B4908+7,B4908),\"\")","v":""},"","","",null,null,null,0,0,0,0,{"$f":"IFERROR(VLOOKUP(G4909,DropDowns!$D$2:$E$151,2,FALSE),\"\")","v":""},{"$f":"IFERROR(VLOOKUP(H4909,DropDowns!$F$2:$G$7,2,FALSE),\"Residual categories\")","v":"Residual categories"},null,null,null,0,0,0]
[0,{"$f":"IF(OR(COUNTA(O4880:O4909)>0,COUNTA(O4909:$O$5195)>0),IF(COUNTIF(B4900:B4909,B4909)=10,B4909+7,B4909),\"\")","v":""},"","","",null,null,null,0,0,0,0,{"$f":"IFERROR(VLOOKUP(G4910,DropDowns!$D$2:$E$151,2,FALSE),\"\")","v":""},{"$f":"IFERROR(VLOOKUP(H4910,DropDowns!$F$2:$G$7,2,FALSE),\"Residual categories\")","v":"Residual categories"},null,null,null,0,0,0]
[0,{"$f":"IF(OR(COUNTA(O4881:O4910)>0,COUNTA(O4910:$O$5195)>0),IF(COUNTIF(B4901:B4910,B4910)=10,B4910+7,B4910),\"\")","v":""},"","","",null,null,null,0,0,0,0,{"$f":"IFERROR(VLOOKUP(G4911,DropDowns!$D$2:$E$151,2,FALSE),\"\")","v":""},{"$f":"IFERROR(VLOOKUP(H4911,DropDowns!$F$2:$G$7,2,FALSE),\"Residual categories\")","v":"Residual categories"},null,null,null,0,0,0]
[0,{"$f":"IF(OR(COUNTA(O4882:O4911)>0,COUNTA(O4911:$O$5195)>0),IF(COUNTIF(B4902:B4911,B4911)=10,B4911+7,B4911),\"\")","v":""},"","","",null,null,null,0,0,0,0,{"$f":"IFERROR(VLOOKUP(G4912,DropDowns!$D$2:$E$151,2,FALSE),\"\")","v":""},{"$f":"IFERROR(VLOOKUP(H4912,DropDowns!$F$2:$G$7,2,FALSE),\"Residual categories\")","v":"Residual categories"},null,null,null,0,0,0]
[0,{"$f":"IF(OR(COUNTA(O4883:O4912)>0,COUNTA(O4912:$O$5195)>0),IF(COUNTIF(B4903:B4912,B4912)=10,B4912+7,B4912),\"\")","v":""},"","","",null,null,null,0,0,0,0,{"$f":"IFERROR(VLOOKUP(G4913,DropDowns!$D$2:$E$151,2,FALSE),\"\")","v":""},{"$f":"IFERROR(VLOOKUP(H4913,DropDowns!$F$2:$G$7,2,FALSE),\"Residual categories\")","v":"Residual categories"},null,null,null,0,0,0]
[0,{"$f":"IF(OR(COUNTA(O4884:O4913)>0,COUNTA(O4913:$O$5195)>0),IF(COUNTIF(B4904:B4913,B4913)=10,B4913+7,B4913),\"\")","v":""},"","","",null,null,null,0,0,0,0,{"$f":"IFERROR(VLOOKUP(G4914,DropDowns!$D$2:$E$151,2,FALSE),\"\")","v":""},{"$f":"IFERROR(VLOOKUP(H4914,DropDowns!$F$2:$G$7,2,FALSE),\"Residual categories\")","v":"Residual categories"},null,null,null,0,0,0]
[0,{"$f":"IF(OR(COUNTA(O4885:O4914)>0,COUNTA(O4914:$O$5195)>0),IF(COUNTIF(B4905:B4914,B4914)=10,B4914+7,B4914),\"\")","v":""},"","","",null,null,null,0,0,0,0,{"$f":"IFERROR(VLOOKUP(G4915,DropDowns!$D$2:$E$151,2,FALSE),\"\")","v":""},{"$f":"IFERROR(VLOOKUP(H4915,DropDowns!$F$2:$G$7,2,FALSE),\"Residual categories\")","v":"Residual categories"},null,null,null,0,0,0]
[0,{"$f":"IF(OR(COUNTA(O4886:O4915)>0,COUNTA(O4915:$O$5195)>0),IF(COUNTIF(B4906:B4915,B4915)=10,B4915+7,B4915),\"\")","v":""},"","","",null,null,null,0,0,0,0,{"$f":"IFERROR(VLOOKUP(G4916,DropDowns!$D$2:$E$151,2,FALSE),\"\")","v":""},{"$f":"IFERROR(VLOOKUP(H4916,DropDowns!$F$2:$G$7,2,FALSE),\"Residual categories\")","v":"Residual categories"},null,null,null,0,0,0]
[0,{"$f":"IF(OR(COUNTA(O4887:O4916)>0,COUNTA(O4916:$O$5195)>0),IF(COUNTIF(B4907:B4916,B4916)=10,B4916+7,B4916),\"\")","v":""},"","","",null,null,null,0,0,0,0,{"$f":"IFERROR(VLOOKUP(G4917,DropDowns!$D$2:$E$151,2,FALSE),\"\")","v":""},{"$f":"IFERROR(VLOOKUP(H4917,DropDowns!$F$2:$G$7,2,FALSE),\"Residual categories\")","v":"Residual categories"},null,null,null,0,0,0]
[0,{"$f":"IF(OR(COUNTA(O4888:O4917)>0,COUNTA(O4917:$O$5195)>0),IF(COUNTIF(B4908:B4917,B4917)=10,B4917+7,B4917),\"\")","v":""},"","","",null,null,null,0,0,0,0,{"$f":"IFERROR(VLOOKUP(G4918,DropDowns!$D$2:$E$151,2,FALSE),\"\")","v":""},{"$f":"IFERROR(VLOOKUP(H4918,DropDowns!$F$2:$G$7,2,FALSE),\"Residual categories\")","v":"Residual categories"},null,null,null,0,0,0]
[0,{"$f":"IF(OR(COUNTA(O4889:O4918)>0,COUNTA(O4918:$O$5195)>0),IF(COUNTIF(B4909:B4918,B4918)=10,B4918+7,B4918),\"\")","v":""},"","","",null,null,null,0,0,0,0,{"$f":"IFERROR(VLOOKUP(G4919,DropDowns!$D$2:$E$151,2,FALSE),\"\")","v":""},{"$f":"IFERROR(VLOOKUP(H4919,DropDowns!$F$2:$G$7,2,FALSE),\"Residual categories\")","v":"Residual categories"},null,null,null,0,0,0]
[0,{"$f":"IF(OR(COUNTA(O4890:O4919)>0,COUNTA(O4919:$O$5195)>0),IF(COUNTIF(B4910:B4919,B4919)=10,B4919+7,B4919),\"\")","v":""},"","","",null,null,null,0,0,0,0,{"$f":"IFERROR(VLOOKUP(G4920,DropDowns!$D$2:$E$151,2,FALSE),\"\")","v":""},{"$f":"IFERROR(VLOOKUP(H4920,DropDowns!$F$2:$G$7,2,FALSE),\"Residual categories\")","v":"Residual categories"},null,null,null,0,0,0]
[0,{"$f":"IF(OR(COUNTA(O4891:O4920)>0,COUNTA(O4920:$O$5195)>0),IF(COUNTIF(B4911:B4920,B4920)=10,B4920+7,B4920),\"\")","v":""},"","","",null,null,null,0,0,0,0,{"$f":"IFERROR(VLOOKUP(G4921,DropDowns!$D$2:$E$151,2,FALSE),\"\")","v":""},{"$f":"IFERROR(VLOOKUP(H4921,DropDowns!$F$2:$G$7,2,FALSE),\"Residual categories\")","v":"Residual categories"},null,null,null,0,0,0]
[0,{"$f":"IF(OR(COUNTA(O4892:O4921)>0,COUNTA(O4921:$O$5195)>0),IF(COUNTIF(B4912:B4921,B4921)=10,B4921+7,B4921),\"\")","v":""},"","","",null,null,null,0,0,0,0,{"$f":"IFERROR(VLOOKUP(G4922,DropDowns!$D$2:$E$151,2,FALSE),\"\")","v":""},{"$f":"IFERROR(VLOOKUP(H4922,DropDowns!$F$2:$G$7,2,FALSE),\"Residual categories\")","v":"Residual categories"},null,null,null,0,0,0]
[0,{"$f":"IF(OR(COUNTA(O4893:O4922)>0,COUNTA(O4922:$O$5195)>0),IF(COUNTIF(B4913:B4922,B4922)=10,B4922+7,B4922),\"\")","v":""},"","","",null,null,null,0,0,0,0,{"$f":"IFERROR(VLOOKUP(G4923,DropDowns!$D$2:$E$151,2,FALSE),\"\")","v":""},{"$f":"IFERROR(VLOOKUP(H4923,DropDowns!$F$2:$G$7,2,FALSE),\"Residual categories\")","v":"Residual categories"},null,null,null,0,0,0]
[0,{"$f":"IF(OR(COUNTA(O4894:O4923)>0,COUNTA(O4923:$O$5195)>0),IF(COUNTIF(B4914:B4923,B4923)=10,B4923+7,B4923),\"\")","v":""},"","","",null,null,null,0,0,0,0,{"$f":"IFERROR(VLOOKUP(G4924,DropDowns!$D$2:$E$151,2,FALSE),\"\")","v":""},{"$f":"IFERROR(VLOOKUP(H4924,DropDowns!$F$2:$G$7,2,FALSE),\"Residual categories\")","v":"Residual categories"},null,null,null,0,0,0]
[0,{"$f":"IF(OR(COUNTA(O4895:O4924)>0,COUNTA(O4924:$O$5195)>0),IF(COUNTIF(B4915:B4924,B4924)=10,B4924+7,B4924),\"\")","v":""},"","","",null,null,null,0,0,0,0,{"$f":"IFERROR(VLOOKUP(G4925,DropDowns!$D$2:$E$151,2,FALSE),\"\")","v":""},{"$f":"IFERROR(VLOOKUP(H4925,DropDowns!$F$2:$G$7,2,FALSE),\"Residual categories\")","v":"Residual categories"},null,null,null,0,0,0]
[0,{"$f":"IF(OR(COUNTA(O4896:O4925)>0,COUNTA(O4925:$O$5195)>0),IF(COUNTIF(B4916:B4925,B4925)=10,B4925+7,B4925),\"\")","v":""},"","","",null,null,null,0,0,0,0,{"$f":"IFERROR(VLOOKUP(G4926,DropDowns!$D$2:$E$151,2,FALSE),\"\")","v":""},{"$f":"IFERROR(VLOOKUP(H4926,DropDowns!$F$2:$G$7,2,FALSE),\"Residual categories\")","v":"Residual categories"},null,null,null,0,0,0]
[0,{"$f":"IF(OR(COUNTA(O4897:O4926)>0,COUNTA(O4926:$O$5195)>0),IF(COUNTIF(B4917:B4926,B4926)=10,B4926+7,B4926),\"\")","v":""},"","","",null,null,null,0,0,0,0,{"$f":"IFERROR(VLOOKUP(G4927,DropDowns!$D$2:$E$151,2,FALSE),\"\")","v":""},{"$f":"IFERROR(VLOOKUP(H4927,DropDowns!$F$2:$G$7,2,FALSE),\"Residual categories\")","v":"Residual categories"},null,null,null,0,0,0]
[0,{"$f":"IF(OR(COUNTA(O4898:O4927)>0,COUNTA(O4927:$O$5195)>0),IF(COUNTIF(B4918:B4927,B4927)=10,B4927+7,B4927),\"\")","v":""},"","","",null,null,null,0,0,0,0,{"$f":"IFERROR(VLOOKUP(G4928,DropDowns!$D$2:$E$151,2,FALSE),\"\")","v":""},{"$f":"IFERROR(VLOOKUP(H4928,DropDowns!$F$2:$G$7,2,FALSE),\"Residual categories\")","v":"Residual categories"},null,null,null,0,0,0]
[0,{"$f":"IF(OR(COUNTA(O4899:O4928)>0,COUNTA(O4928:$O$5195)>0),IF(COUNTIF(B4919:B4928,B4928)=10,B4928+7,B4928),\"\")","v":""},"","","",null,null,null,0,0,0,0,{"$f":"IFERROR(VLOOKUP(G4929,DropDowns!$D$2:$E$151,2,FALSE),\"\")","v":""},{"$f":"IFERROR(VLOOKUP(H4929,DropDowns!$F$2:$G$7,2,FALSE),\"Residual categories\")","v":"Residual categories"},null,null,null,0,0,0]
[0,{"$f":"IF(OR(COUNTA(O4900:O4929)>0,COUNTA(O4929:$O$5195)>0),IF(COUNTIF(B4920:B4929,B4929)=10,B4929+7,B4929),\"\")","v":""},"","","",null,null,null,0,0,0,0,{"$f":"IFERROR(VLOOKUP(G4930,DropDowns!$D$2:$E$151,2,FALSE),\"\")","v":""},{"$f":"IFERROR(VLOOKUP(H4930,DropDowns!$F$2:$G$7,2,FALSE),\"Residual categories\")","v":"Residual categories"},null,null,null,0,0,0]
[0,{"$f":"IF(OR(COUNTA(O4901:O4930)>0,COUNTA(O4930:$O$5195)>0),IF(COUNTIF(B4921:B4930,B4930)=10,B4930+7,B4930),\"\")","v":""},"","","",null,null,null,0,0,0,0,{"$f":"IFERROR(VLOOKUP(G4931,DropDowns!$D$2:$E$151,2,FALSE),\"\")","v":""},{"$f":"IFERROR(VLOOKUP(H4931,DropDowns!$F$2:$G$7,2,FALSE),\"Residual categories\")","v":"Residual categories"},null,null,null,0,0,0]
[0,{"$f":"IF(OR(COUNTA(O4902:O4931)>0,COUNTA(O4931:$O$5195)>0),IF(COUNTIF(B4922:B4931,B4931)=10,B4931+7,B4931),\"\")","v":""},"","","",null,null,null,0,0,0,0,{"$f":"IFERROR(VLOOKUP(G4932,DropDowns!$D$2:$E$151,2,FALSE),\"\")","v":""},{"$f":"IFERROR(VLOOKUP(H4932,DropDowns!$F$2:$G$7,2,FALSE),\"Residual categories\")","v":"Residual categories"},null,null,null,0,0,0]
[0,{"$f":"IF(OR(COUNTA(O4903:O4932)>0,COUNTA(O4932:$O$5195)>0),IF(COUNTIF(B4923:B4932,B4932)=10,B4932+7,B4932),\"\")","v":""},"","","",null,null,null,0,0,0,0,{"$f":"IFERROR(VLOOKUP(G4933,DropDowns!$D$2:$E$151,2,FALSE),\"\")","v":""},{"$f":"IFERROR(VLOOKUP(H4933,DropDowns!$F$2:$G$7,2,FALSE),\"Residual categories\")","v":"Residual categories"},null,null,null,0,0,0]
[0,{"$f":"IF(OR(COUNTA(O4904:O4933)>0,COUNTA(O4933:$O$5195)>0),IF(COUNTIF(B4924:B4933,B4933)=10,B4933+7,B4933),\"\")","v":""},"","","",null,null,null,0,0,0,0,{"$f":"IFERROR(VLOOKUP(G4934,DropDowns!$D$2:$E$151,2,FALSE),\"\")","v":""},{"$f":"IFERROR(VLOOKUP(H4934,DropDowns!$F$2:$G$7,2,FALSE),\"Residual categories\")","v":"Residual categories"},null,null,null,0,0,0]
[0,{"$f":"IF(OR(COUNTA(O4905:O4934)>0,COUNTA(O4934:$O$5195)>0),IF(COUNTIF(B4925:B4934,B4934)=10,B4934+7,B4934),\"\")","v":""},{"$f":"IF(D4935=1,A4935,\"\")","v":""},"","",null,null,null,{"$f":"IF(COUNTA(O4935:Q4935)>0,1,0)","v":0},{"$f":"IF(O4935=\"y\",1,0)","v":0},{"$f":"IF(P4935=\"y\",1,0)","v":0},{"$f":"IF(Q4935=\"y\",1,0)","v":0},{"$f":"IFERROR(VLOOKUP(G4935,DropDowns!$D$2:$E$151,2,FALSE),\"\")","v":""},{"$f":"IFERROR(VLOOKUP(H4935,DropDowns!$F$2:$G$7,2,FALSE),\"Residual categories\")","v":"Residual categories"},null,null,null,{"$f":"IF(O4935=\"yes\",1,0)","v":0},{"$f":"IF(P4935=\"yes\",1,0)","v":0},{"$f":"IF(Q4935=\"yes\",1,0)","v":0}]
[0,{"$f":"IF(OR(COUNTA(O4906:O4935)>0,COUNTA(O4935:$O$5195)>0),IF(COUNTIF(B4926:B4935,B4935)=10,B4935+7,B4935),\"\")","v":""},"","","",null,null,null,0,0,0,0,{"$f":"IFERROR(VLOOKUP(G4936,DropDowns!$D$2:$E$151,2,FALSE),\"\")","v":""},{"$f":"IFERROR(VLOOKUP(H4936,DropDowns!$F$2:$G$7,2,FALSE),\"Residual categories\")","v":"Residual categories"},null,null,null,0,0,0]
[0,{"$f":"IF(OR(COUNTA(O4907:O4936)>0,COUNTA(O4936:$O$5195)>0),IF(COUNTIF(B4927:B4936,B4936)=10,B4936+7,B4936),\"\")","v":""},"","","",null,null,null,0,0,0,0,{"$f":"IFERROR(VLOOKUP(G4937,DropDowns!$D$2:$E$151,2,FALSE),\"\")","v":""},{"$f":"IFERROR(VLOOKUP(H4937,DropDowns!$F$2:$G$7,2,FALSE),\"Residual categories\")","v":"Residual categories"},null,null,null,0,0,0]
[0,{"$f":"IF(OR(COUNTA(O4908:O4937)>0,COUNTA(O4937:$O$5195)>0),IF(COUNTIF(B4928:B4937,B4937)=10,B4937+7,B4937),\"\")","v":""},"","","",null,null,null,0,0,0,0,{"$f":"IFERROR(VLOOKUP(G4938,DropDowns!$D$2:$E$151,2,FALSE),\"\")","v":""},{"$f":"IFERROR(VLOOKUP(H4938,DropDowns!$F$2:$G$7,2,FALSE),\"Residual categories\")","v":"Residual categories"},null,null,null,0,0,0]
[0,{"$f":"IF(OR(COUNTA(O4909:O4938)>0,COUNTA(O4938:$O$5195)>0),IF(COUNTIF(B4929:B4938,B4938)=10,B4938+7,B4938),\"\")","v":""},"","","",null,null,null,0,0,0,0,{"$f":"IFERROR(VLOOKUP(G4939,DropDowns!$D$2:$E$151,2,FALSE),\"\")","v":""},{"$f":"IFERROR(VLOOKUP(H4939,DropDowns!$F$2:$G$7,2,FALSE),\"Residual categories\")","v":"Residual categories"},null,null,null,0,0,0]
[0,{"$f":"IF(OR(COUNTA(O4910:O4939)>0,COUNTA(O4939:$O$5195)>0),IF(COUNTIF(B4930:B4939,B4939)=10,B4939+7,B4939),\"\")","v":""},"","","",null,null,null,0,0,0,0,{"$f":"IFERROR(VLOOKUP(G4940,DropDowns!$D$2:$E$151,2,FALSE),\"\")","v":""},{"$f":"IFERROR(VLOOKUP(H4940,DropDowns!$F$2:$G$7,2,FALSE),\"Residual categories\")","v":"Residual categories"},null,null,null,0,0,0]
[0,{"$f":"IF(OR(COUNTA(O4911:O4940)>0,COUNTA(O4940:$O$5195)>0),IF(COUNTIF(B4931:B4940,B4940)=10,B4940+7,B4940),\"\")","v":""},"","","",null,null,null,0,0,0,0,{"$f":"IFERROR(VLOOKUP(G4941,DropDowns!$D$2:$E$151,2,FALSE),\"\")","v":""},{"$f":"IFERROR(VLOOKUP(H4941,DropDowns!$F$2:$G$7,2,FALSE),\"Residual categories\")","v":"Residual categories"},null,null,null,0,0,0]
[0,{"$f":"IF(OR(COUNTA(O4912:O4941)>0,COUNTA(O4941:$O$5195)>0),IF(COUNTIF(B4932:B4941,B4941)=10,B4941+7,B4941),\"\")","v":""},"","","",null,null,null,0,0,0,0,{"$f":"IFERROR(VLOOKUP(G4942,DropDowns!$D$2:$E$151,2,FALSE),\"\")","v":""},{"$f":"IFERROR(VLOOKUP(H4942,DropDowns!$F$2:$G$7,2,FALSE),\"Residual categories\")","v":"Residual categories"},null,null,null,0,0,0]
[0,{"$f":"IF(OR(COUNTA(O4913:O4942)>0,COUNTA(O4942:$O$5195)>0),IF(COUNTIF(B4933:B4942,B4942)=10,B4942+7,B4942),\"\")","v":""},"","","",null,null,null,0,0,0,0,{"$f":"IFERROR(VLOOKUP(G4943,DropDowns!$D$2:$E$151,2,FALSE),\"\")","v":""},{"$f":"IFERROR(VLOOKUP(H4943,DropDowns!$F$2:$G$7,2,FALSE),\"Residual categories\")","v":"Residual categories"},null,null,null,0,0,0]
[0,{"$f":"IF(OR(COUNTA(O4914:O4943)>0,COUNTA(O4943:$O$5195)>0),IF(COUNTIF(B4934:B4943,B4943)=10,B4943+7,B4943),\"\")","v":""},"","","",null,null,null,0,0,0,0,{"$f":"IFERROR(VLOOKUP(G4944,DropDowns!$D$2:$E$151,2,FALSE),\"\")","v":""},{"$f":"IFERROR(VLOOKUP(H4944,DropDowns!$F$2:$G$7,2,FALSE),\"Residual categories\")","v":"Residual categories"},null,null,null,0,0,0]
[0,{"$f":"IF(OR(COUNTA(O4915:O4944)>0,COUNTA(O4944:$O$5195)>0),IF(COUNTIF(B4935:B4944,B4944)=10,B4944+7,B4944),\"\")","v":""},"","",{"$f":"IF(B4945=\"\",\"\",COUNTIF(B4936:B4945,B4945))","v":""},null,null,null,0,0,0,0,{"$f":"IFERROR(VLOOKUP(G4945,DropDowns!$D$2:$E$151,2,FALSE),\"\")","v":""},{"$f":"IFERROR(VLOOKUP(H4945,DropDowns!$F$2:$G$7,2,FALSE),\"Residual categories\")","v":"Residual categories"},null,null,null,0,0,0]
[0,{"$f":"IF(OR(COUNTA(O4916:O4945)>0,COUNTA(O4945:$O$5195)>0),IF(COUNTIF(B4936:B4945,B4945)=10,B4945+7,B4945),\"\")","v":""},"","","",null,null,null,0,0,0,0,{"$f":"IFERROR(VLOOKUP(G4946,DropDowns!$D$2:$E$151,2,FALSE),\"\")","v":""},{"$f":"IFERROR(VLOOKUP(H4946,DropDowns!$F$2:$G$7,2,FALSE),\"Residual categories\")","v":"Residual categories"},null,null,null,0,0,0]
[0,{"$f":"IF(OR(COUNTA(O4917:O4946)>0,COUNTA(O4946:$O$5195)>0),IF(COUNTIF(B4937:B4946,B4946)=10,B4946+7,B4946),\"\")","v":""},"","","",null,null,null,0,0,0,0,{"$f":"IFERROR(VLOOKUP(G4947,DropDowns!$D$2:$E$151,2,FALSE),\"\")","v":""},{"$f":"IFERROR(VLOOKUP(H4947,DropDowns!$F$2:$G$7,2,FALSE),\"Residual categories\")","v":"Residual categories"},null,null,null,0,0,0]
[{"$f":"$E$2","v":0},{"$f":"IF(OR(COUNTA(O4918:O4947)>0,COUNTA(O4947:$O$5195)>0),IF(COUNTIF(B4938:B4947,B4947)=10,B4947+7,B4947),\"\")","v":""},"","","",null,null,null,0,0,0,0,{"$f":"IFERROR(VLOOKUP(G4948,DropDowns!$D$2:$E$151,2,FALSE),\"\")","v":""},{"$f":"IFERROR(VLOOKUP(H4948,DropDowns!$F$2:$G$7,2,FALSE),\"Residual categories\")","v":"Residual categories"},null,null,null,0,0,0]
[0,{"$f":"IF(OR(COUNTA(O4919:O4948)>0,COUNTA(O4948:$O$5195)>0),IF(COUNTIF(B4939:B4948,B4948)=10,B4948+7,B4948),\"\")","v":""},"","","",null,null,null,0,0,0,0,{"$f":"IFERROR(VLOOKUP(G4949,DropDowns!$D$2:$E$151,2,FALSE),\"\")","v":""},{"$f":"IFERROR(VLOOKUP(H4949,DropDowns!$F$2:$G$7,2,FALSE),\"Residual categories\")","v":"Residual categories"},null,null,null,0,0,0]
[0,{"$f":"IF(OR(COUNTA(O4920:O4949)>0,COUNTA(O4949:$O$5195)>0),IF(COUNTIF(B4940:B4949,B4949)=10,B4949+7,B4949),\"\")","v":""},"","","",null,null,null,0,0,0,0,{"$f":"IFERROR(VLOOKUP(G4950,DropDowns!$D$2:$E$151,2,FALSE),\"\")","v":""},{"$f":"IFERROR(VLOOKUP(H4950,DropDowns!$F$2:$G$7,2,FALSE),\"Residual categories\")","v":"Residual categories"},null,null,null,0,0,0]
[0,{"$f":"IF(OR(COUNTA(O4921:O4950)>0,COUNTA(O4950:$O$5195)>0),IF(COUNTIF(B4941:B4950,B4950)=10,B4950+7,B4950),\"\")","v":""},"","","",null,null,null,0,0,0,0,{"$f":"IFERROR(VLOOKUP(G4951,DropDowns!$D$2:$E$151,2,FALSE),\"\")","v":""},{"$f":"IFERROR(VLOOKUP(H4951,DropDowns!$F$2:$G$7,2,FALSE),\"Residual categories\")","v":"Residual categories"},null,null,null,0,0,0]
[0,{"$f":"IF(OR(COUNTA(O4922:O4951)>0,COUNTA(O4951:$O$5195)>0),IF(COUNTIF(B4942:B4951,B4951)=10,B4951+7,B4951),\"\")","v":""},"","","",null,null,null,0,0,0,0,{"$f":"IFERROR(VLOOKUP(G4952,DropDowns!$D$2:$E$151,2,FALSE),\"\")","v":""},{"$f":"IFERROR(VLOOKUP(H4952,DropDowns!$F$2:$G$7,2,FALSE),\"Residual categories\")","v":"Residual categories"},null,null,null,0,0,0]
[0,{"$f":"IF(OR(COUNTA(O4923:O4952)>0,COUNTA(O4952:$O$5195)>0),IF(COUNTIF(B4943:B4952,B4952)=10,B4952+7,B4952),\"\")","v":""},"","","",null,null,null,0,0,0,0,{"$f":"IFERROR(VLOOKUP(G4953,DropDowns!$D$2:$E$151,2,FALSE),\"\")","v":""},{"$f":"IFERROR(VLOOKUP(H4953,DropDowns!$F$2:$G$7,2,FALSE),\"Residual categories\")","v":"Residual categories"},null,null,null,0,0,0]
[0,{"$f":"IF(OR(COUNTA(O4924:O4953)>0,COUNTA(O4953:$O$5195)>0),IF(COUNTIF(B4944:B4953,B4953)=10,B4953+7,B4953),\"\")","v":""},"","","",null,null,null,0,0,0,0,{"$f":"IFERROR(VLOOKUP(G4954,DropDowns!$D$2:$E$151,2,FALSE),\"\")","v":""},{"$f":"IFERROR(VLOOKUP(H4954,DropDowns!$F$2:$G$7,2,FALSE),\"Residual categories\")","v":"Residual categories"},null,null,null,0,0,0]
[0,{"$f":"IF(OR(COUNTA(O4925:O4954)>0,COUNTA(O4954:$O$5195)>0),IF(COUNTIF(B4945:B4954,B4954)=10,B4954+7,B4954),\"\")","v":""},"","","",null,null,null,0,0,0,0,{"$f":"IFERROR(VLOOKUP(G4955,DropDowns!$D$2:$E$151,2,FALSE),\"\")","v":""},{"$f":"IFERROR(VLOOKUP(H4955,DropDowns!$F$2:$G$7,2,FALSE),\"Residual categories\")","v":"Residual categories"},null,null,null,0,0,0]
[0,{"$f":"IF(OR(COUNTA(O4926:O4955)>0,COUNTA(O4955:$O$5195)>0),IF(COUNTIF(B4946:B4955,B4955)=10,B4955+7,B4955),\"\")","v":""},"","","",null,null,null,0,0,0,0,{"$f":"IFERROR(VLOOKUP(G4956,DropDowns!$D$2:$E$151,2,FALSE),\"\")","v":""},{"$f":"IFERROR(VLOOKUP(H4956,DropDowns!$F$2:$G$7,2,FALSE),\"Residual categories\")","v":"Residual categories"},null,null,null,0,0,0]
[0,{"$f":"IF(OR(COUNTA(O4927:O4956)>0,COUNTA(O4956:$O$5195)>0),IF(COUNTIF(B4947:B4956,B4956)=10,B4956+7,B4956),\"\")","v":""},"","","",null,null,null,0,0,0,0,{"$f":"IFERROR(VLOOKUP(G4957,DropDowns!$D$2:$E$151,2,FALSE),\"\")","v":""},{"$f":"IFERROR(VLOOKUP(H4957,DropDowns!$F$2:$G$7,2,FALSE),\"Residual categories\")","v":"Residual categories"},null,null,null,0,0,0]
[0,{"$f":"IF(OR(COUNTA(O4928:O4957)>0,COUNTA(O4957:$O$5195)>0),IF(COUNTIF(B4948:B4957,B4957)=10,B4957+7,B4957),\"\")","v":""},"","","",null,null,null,0,0,0,0,{"$f":"IFERROR(VLOOKUP(G4958,DropDowns!$D$2:$E$151,2,FALSE),\"\")","v":""},{"$f":"IFERROR(VLOOKUP(H4958,DropDowns!$F$2:$G$7,2,FALSE),\"Residual categories\")","v":"Residual categories"},null,null,null,0,0,0]
[0,{"$f":"IF(OR(COUNTA(O4929:O4958)>0,COUNTA(O4958:$O$5195)>0),IF(COUNTIF(B4949:B4958,B4958)=10,B4958+7,B4958),\"\")","v":""},"","","",null,null,null,0,0,0,0,{"$f":"IFERROR(VLOOKUP(G4959,DropDowns!$D$2:$E$151,2,FALSE),\"\")","v":""},{"$f":"IFERROR(VLOOKUP(H4959,DropDowns!$F$2:$G$7,2,FALSE),\"Residual categories\")","v":"Residual categories"},null,null,null,0,0,0]
[0,{"$f":"IF(OR(COUNTA(O4930:O4959)>0,COUNTA(O4959:$O$5195)>0),IF(COUNTIF(B4950:B4959,B4959)=10,B4959+7,B4959),\"\")","v":""},"","","",null,null,null,0,0,0,0,{"$f":"IFERROR(VLOOKUP(G4960,DropDowns!$D$2:$E$151,2,FALSE),\"\")","v":""},{"$f":"IFERROR(VLOOKUP(H4960,DropDowns!$F$2:$G$7,2,FALSE),\"Residual categories\")","v":"Residual categories"},null,null,null,0,0,0]
[0,{"$f":"IF(OR(COUNTA(O4931:O4960)>0,COUNTA(O4960:$O$5195)>0),IF(COUNTIF(B4951:B4960,B4960)=10,B4960+7,B4960),\"\")","v":""},"","","",null,null,null,0,0,0,0,{"$f":"IFERROR(VLOOKUP(G4961,DropDowns!$D$2:$E$151,2,FALSE),\"\")","v":""},{"$f":"IFERROR(VLOOKUP(H4961,DropDowns!$F$2:$G$7,2,FALSE),\"Residual categories\")","v":"Residual categories"},null,null,null,0,0,0]
[0,{"$f":"IF(OR(COUNTA(O4932:O4961)>0,COUNTA(O4961:$O$5195)>0),IF(COUNTIF(B4952:B4961,B4961)=10,B4961+7,B4961),\"\")","v":""},"","","",null,null,null,0,0,0,0,{"$f":"IFERROR(VLOOKUP(G4962,DropDowns!$D$2:$E$151,2,FALSE),\"\")","v":""},{"$f":"IFERROR(VLOOKUP(H4962,DropDowns!$F$2:$G$7,2,FALSE),\"Residual categories\")","v":"Residual categories"},null,null,null,0,0,0]
[0,{"$f":"IF(OR(COUNTA(O4933:O4962)>0,COUNTA(O4962:$O$5195)>0),IF(COUNTIF(B4953:B4962,B4962)=10,B4962+7,B4962),\"\")","v":""},"","","",null,null,null,0,0,0,0,{"$f":"IFERROR(VLOOKUP(G4963,DropDowns!$D$2:$E$151,2,FALSE),\"\")","v":""},{"$f":"IFERROR(VLOOKUP(H4963,DropDowns!$F$2:$G$7,2,FALSE),\"Residual categories\")","v":"Residual categories"},null,null,null,0,0,0]
[0,{"$f":"IF(OR(COUNTA(O4934:O4963)>0,COUNTA(O4963:$O$5195)>0),IF(COUNTIF(B4954:B4963,B4963)=10,B4963+7,B4963),\"\")","v":""},"","","",null,null,null,0,0,0,0,{"$f":"IFERROR(VLOOKUP(G4964,DropDowns!$D$2:$E$151,2,FALSE),\"\")","v":""},{"$f":"IFERROR(VLOOKUP(H4964,DropDowns!$F$2:$G$7,2,FALSE),\"Residual categories\")","v":"Residual categories"},null,null,null,0,0,0]
[0,{"$f":"IF(OR(COUNTA(O4935:O4964)>0,COUNTA(O4964:$O$5195)>0),IF(COUNTIF(B4955:B4964,B4964)=10,B4964+7,B4964),\"\")","v":""},"","","",null,null,null,0,0,0,0,{"$f":"IFERROR(VLOOKUP(G4965,DropDowns!$D$2:$E$151,2,FALSE),\"\")","v":""},{"$f":"IFERROR(VLOOKUP(H4965,DropDowns!$F$2:$G$7,2,FALSE),\"Residual categories\")","v":"Residual categories"},null,null,null,0,0,0]
[0,{"$f":"IF(OR(COUNTA(O4936:O4965)>0,COUNTA(O4965:$O$5195)>0),IF(COUNTIF(B4956:B4965,B4965)=10,B4965+7,B4965),\"\")","v":""},"","","",null,null,null,0,0,0,0,{"$f":"IFERROR(VLOOKUP(G4966,DropDowns!$D$2:$E$151,2,FALSE),\"\")","v":""},{"$f":"IFERROR(VLOOKUP(H4966,DropDowns!$F$2:$G$7,2,FALSE),\"Residual categories\")","v":"Residual categories"},null,null,null,0,0,0]
[0,{"$f":"IF(OR(COUNTA(O4937:O4966)>0,COUNTA(O4966:$O$5195)>0),IF(COUNTIF(B4957:B4966,B4966)=10,B4966+7,B4966),\"\")","v":""},"","","",null,null,null,0,0,0,0,{"$f":"IFERROR(VLOOKUP(G4967,DropDowns!$D$2:$E$151,2,FALSE),\"\")","v":""},{"$f":"IFERROR(VLOOKUP(H4967,DropDowns!$F$2:$G$7,2,FALSE),\"Residual categories\")","v":"Residual categories"},null,null,null,0,0,0]
[0,{"$f":"IF(OR(COUNTA(O4938:O4967)>0,COUNTA(O4967:$O$5195)>0),IF(COUNTIF(B4958:B4967,B4967)=10,B4967+7,B4967),\"\")","v":""},"","","",null,null,null,0,0,0,0,{"$f":"IFERROR(VLOOKUP(G4968,DropDowns!$D$2:$E$151,2,FALSE),\"\")","v":""},{"$f":"IFERROR(VLOOKUP(H4968,DropDowns!$F$2:$G$7,2,FALSE),\"Residual categories\")","v":"Residual categories"},null,null,null,0,0,0]
[0,{"$f":"IF(OR(COUNTA(O4939:O4968)>0,COUNTA(O4968:$O$5195)>0),IF(COUNTIF(B4959:B4968,B4968)=10,B4968+7,B4968),\"\")","v":""},"","","",null,null,null,0,0,0,0,{"$f":"IFERROR(VLOOKUP(G4969,DropDowns!$D$2:$E$151,2,FALSE),\"\")","v":""},{"$f":"IFERROR(VLOOKUP(H4969,DropDowns!$F$2:$G$7,2,FALSE),\"Residual categories\")","v":"Residual categories"},null,null,null,0,0,0]
[0,{"$f":"IF(OR(COUNTA(O4940:O4969)>0,COUNTA(O4969:$O$5195)>0),IF(COUNTIF(B4960:B4969,B4969)=10,B4969+7,B4969),\"\")","v":""},"","","",null,null,null,0,0,0,0,{"$f":"IFERROR(VLOOKUP(G4970,DropDowns!$D$2:$E$151,2,FALSE),\"\")","v":""},{"$f":"IFERROR(VLOOKUP(H4970,DropDowns!$F$2:$G$7,2,FALSE),\"Residual categories\")","v":"Residual categories"},null,null,null,0,0,0]
[0,{"$f":"IF(OR(COUNTA(O4941:O4970)>0,COUNTA(O4970:$O$5195)>0),IF(COUNTIF(B4961:B4970,B4970)=10,B4970+7,B4970),\"\")","v":""},"","","",null,null,null,0,0,0,0,{"$f":"IFERROR(VLOOKUP(G4971,DropDowns!$D$2:$E$151,2,FALSE),\"\")","v":""},{"$f":"IFERROR(VLOOKUP(H4971,DropDowns!$F$2:$G$7,2,FALSE),\"Residual categories\")","v":"Residual categories"},null,null,null,0,0,0]
[0,{"$f":"IF(OR(COUNTA(O4942:O4971)>0,COUNTA(O4971:$O$5195)>0),IF(COUNTIF(B4962:B4971,B4971)=10,B4971+7,B4971),\"\")","v":""},"","","",null,null,null,0,0,0,0,{"$f":"IFERROR(VLOOKUP(G4972,DropDowns!$D$2:$E$151,2,FALSE),\"\")","v":""},{"$f":"IFERROR(VLOOKUP(H4972,DropDowns!$F$2:$G$7,2,FALSE),\"Residual categories\")","v":"Residual categories"},null,null,null,0,0,0]
[0,{"$f":"IF(OR(COUNTA(O4943:O4972)>0,COUNTA(O4972:$O$5195)>0),IF(COUNTIF(B4963:B4972,B4972)=10,B4972+7,B4972),\"\")","v":""},"","","",null,null,null,0,0,0,0,{"$f":"IFERROR(VLOOKUP(G4973,DropDowns!$D$2:$E$151,2,FALSE),\"\")","v":""},{"$f":"IFERROR(VLOOKUP(H4973,DropDowns!$F$2:$G$7,2,FALSE),\"Residual categories\")","v":"Residual categories"},null,null,null,0,0,0]
[0,{"$f":"IF(OR(COUNTA(O4944:O4973)>0,COUNTA(O4973:$O$5195)>0),IF(COUNTIF(B4964:B4973,B4973)=10,B4973+7,B4973),\"\")","v":""},"","","",null,null,null,0,0,0,0,{"$f":"IFERROR(VLOOKUP(G4974,DropDowns!$D$2:$E$151,2,FALSE),\"\")","v":""},{"$f":"IFERROR(VLOOKUP(H4974,DropDowns!$F$2:$G$7,2,FALSE),\"Residual categories\")","v":"Residual categories"},null,null,null,0,0,0]
[0,{"$f":"IF(OR(COUNTA(O4945:O4974)>0,COUNTA(O4974:$O$5195)>0),IF(COUNTIF(B4965:B4974,B4974)=10,B4974+7,B4974),\"\")","v":""},"","","",null,null,null,0,0,0,0,{"$f":"IFERROR(VLOOKUP(G4975,DropDowns!$D$2:$E$151,2,FALSE),\"\")","v":""},{"$f":"IFERROR(VLOOKUP(H4975,DropDowns!$F$2:$G$7,2,FALSE),\"Residual categories\")","v":"Residual categories"},null,null,null,0,0,0]
[0,{"$f":"IF(OR(COUNTA(O4946:O4975)>0,COUNTA(O4975:$O$5195)>0),IF(COUNTIF(B4966:B4975,B4975)=10,B4975+7,B4975),\"\")","v":""},"","","",null,null,null,0,0,0,0,{"$f":"IFERROR(VLOOKUP(G4976,DropDowns!$D$2:$E$151,2,FALSE),\"\")","v":""},{"$f":"IFERROR(VLOOKUP(H4976,DropDowns!$F$2:$G$7,2,FALSE),\"Residual categories\")","v":"Residual categories"},null,null,null,0,0,0]
[0,{"$f":"IF(OR(COUNTA(O4947:O4976)>0,COUNTA(O4976:$O$5195)>0),IF(COUNTIF(B4967:B4976,B4976)=10,B4976+7,B4976),\"\")","v":""},"","","",null,null,null,0,0,0,0,{"$f":"IFERROR(VLOOKUP(G4977,DropDowns!$D$2:$E$151,2,FALSE),\"\")","v":""},{"$f":"IFERROR(VLOOKUP(H4977,DropDowns!$F$2:$G$7,2,FALSE),\"Residual categories\")","v":"Residual categories"},null,null,null,0,0,0]
[0,{"$f":"IF(OR(COUNTA(O4948:O4977)>0,COUNTA(O4977:$O$5195)>0),IF(COUNTIF(B4968:B4977,B4977)=10,B4977+7,B4977),\"\")","v":""},"","","",null,null,null,0,0,0,0,{"$f":"IFERROR(VLOOKUP(G4978,DropDowns!$D$2:$E$151,2,FALSE),\"\")","v":""},{"$f":"IFERROR(VLOOKUP(H4978,DropDowns!$F$2:$G$7,2,FALSE),\"Residual categories\")","v":"Residual categories"},null,null,null,0,0,0]
[0,{"$f":"IF(OR(COUNTA(O4949:O4978)>0,COUNTA(O4978:$O$5195)>0),IF(COUNTIF(B4969:B4978,B4978)=10,B4978+7,B4978),\"\")","v":""},"","","",null,null,null,0,0,0,0,{"$f":"IFERROR(VLOOKUP(G4979,DropDowns!$D$2:$E$151,2,FALSE),\"\")","v":""},{"$f":"IFERROR(VLOOKUP(H4979,DropDowns!$F$2:$G$7,2,FALSE),\"Residual categories\")","v":"Residual categories"},null,null,null,0,0,0]
[0,{"$f":"IF(OR(COUNTA(O4950:O4979)>0,COUNTA(O4979:$O$5195)>0),IF(COUNTIF(B4970:B4979,B4979)=10,B4979+7,B4979),\"\")","v":""},"","","",null,null,null,0,0,0,0,{"$f":"IFERROR(VLOOKUP(G4980,DropDowns!$D$2:$E$151,2,FALSE),\"\")","v":""},{"$f":"IFERROR(VLOOKUP(H4980,DropDowns!$F$2:$G$7,2,FALSE),\"Residual categories\")","v":"Residual categories"},null,null,null,0,0,0]
[0,{"$f":"IF(OR(COUNTA(O4951:O4980)>0,COUNTA(O4980:$O$5195)>0),IF(COUNTIF(B4971:B4980,B4980)=10,B4980+7,B4980),\"\")","v":""},"","","",null,null,null,0,0,0,0,{"$f":"IFERROR(VLOOKUP(G4981,DropDowns!$D$2:$E$151,2,FALSE),\"\")","v":""},{"$f":"IFERROR(VLOOKUP(H4981,DropDowns!$F$2:$G$7,2,FALSE),\"Residual categories\")","v":"Residual categories"},null,null,null,0,0,0]
[0,{"$f":"IF(OR(COUNTA(O4952:O4981)>0,COUNTA(O4981:$O$5195)>0),IF(COUNTIF(B4972:B4981,B4981)=10,B4981+7,B4981),\"\")","v":""},"","","",null,null,null,0,0,0,0,{"$f":"IFERROR(VLOOKUP(G4982,DropDowns!$D$2:$E$151,2,FALSE),\"\")","v":""},{"$f":"IFERROR(VLOOKUP(H4982,DropDowns!$F$2:$G$7,2,FALSE),\"Residual categories\")","v":"Residual categories"},null,null,null,0,0,0]
[0,{"$f":"IF(OR(COUNTA(O4953:O4982)>0,COUNTA(O4982:$O$5195)>0),IF(COUNTIF(B4973:B4982,B4982)=10,B4982+7,B4982),\"\")","v":""},"","","",null,null,null,0,0,0,0,{"$f":"IFERROR(VLOOKUP(G4983,DropDowns!$D$2:$E$151,2,FALSE),\"\")","v":""},{"$f":"IFERROR(VLOOKUP(H4983,DropDowns!$F$2:$G$7,2,FALSE),\"Residual categories\")","v":"Residual categories"},null,null,null,0,0,0]
[0,{"$f":"IF(OR(COUNTA(O4954:O4983)>0,COUNTA(O4983:$O$5195)>0),IF(COUNTIF(B4974:B4983,B4983)=10,B4983+7,B4983),\"\")","v":""},"","","",null,null,null,0,0,0,0,{"$f":"IFERROR(VLOOKUP(G4984,DropDowns!$D$2:$E$151,2,FALSE),\"\")","v":""},{"$f":"IFERROR(VLOOKUP(H4984,DropDowns!$F$2:$G$7,2,FALSE),\"Residual categories\")","v":"Residual categories"},null,null,null,0,0,0]
[0,{"$f":"IF(OR(COUNTA(O4955:O4984)>0,COUNTA(O4984:$O$5195)>0),IF(COUNTIF(B4975:B4984,B4984)=10,B4984+7,B4984),\"\")","v":""},"","","",null,null,null,0,0,0,0,{"$f":"IFERROR(VLOOKUP(G4985,DropDowns!$D$2:$E$151,2,FALSE),\"\")","v":""},{"$f":"IFERROR(VLOOKUP(H4985,DropDowns!$F$2:$G$7,2,FALSE),\"Residual categories\")","v":"Residual categories"},null,null,null,0,0,0]
[0,{"$f":"IF(OR(COUNTA(O4956:O4985)>0,COUNTA(O4985:$O$5195)>0),IF(COUNTIF(B4976:B4985,B4985)=10,B4985+7,B4985),\"\")","v":""},"","","",null,null,null,0,0,0,0,{"$f":"IFERROR(VLOOKUP(G4986,DropDowns!$D$2:$E$151,2,FALSE),\"\")","v":""},{"$f":"IFERROR(VLOOKUP(H4986,DropDowns!$F$2:$G$7,2,FALSE),\"Residual categories\")","v":"Residual categories"},null,null,null,0,0,0]
[0,{"$f":"IF(OR(COUNTA(O4957:O4986)>0,COUNTA(O4986:$O$5195)>0),IF(COUNTIF(B4977:B4986,B4986)=10,B4986+7,B4986),\"\")","v":""},"","","",null,null,null,0,0,0,0,{"$f":"IFERROR(VLOOKUP(G4987,DropDowns!$D$2:$E$151,2,FALSE),\"\")","v":""},{"$f":"IFERROR(VLOOKUP(H4987,DropDowns!$F$2:$G$7,2,FALSE),\"Residual categories\")","v":"Residual categories"},null,null,null,0,0,0]
[0,{"$f":"IF(OR(COUNTA(O4958:O4987)>0,COUNTA(O4987:$O$5195)>0),IF(COUNTIF(B4978:B4987,B4987)=10,B4987+7,B4987),\"\")","v":""},"","","",null,null,null,0,0,0,0,{"$f":"IFERROR(VLOOKUP(G4988,DropDowns!$D$2:$E$151,2,FALSE),\"\")","v":""},{"$f":"IFERROR(VLOOKUP(H4988,DropDowns!$F$2:$G$7,2,FALSE),\"Residual categories\")","v":"Residual categories"},null,null,null,0,0,0]
[0,{"$f":"IF(OR(COUNTA(O4959:O4988)>0,COUNTA(O4988:$O$5195)>0),IF(COUNTIF(B4979:B4988,B4988)=10,B4988+7,B4988),\"\")","v":""},"","","",null,null,null,0,0,0,0,{"$f":"IFERROR(VLOOKUP(G4989,DropDowns!$D$2:$E$151,2,FALSE),\"\")","v":""},{"$f":"IFERROR(VLOOKUP(H4989,DropDowns!$F$2:$G$7,2,FALSE),\"Residual categories\")","v":"Residual categories"},null,null,null,0,0,0]
[0,{"$f":"IF(OR(COUNTA(O4960:O4989)>0,COUNTA(O4989:$O$5195)>0),IF(COUNTIF(B4980:B4989,B4989)=10,B4989+7,B4989),\"\")","v":""},"","","",null,null,null,0,0,0,0,{"$f":"IFERROR(VLOOKUP(G4990,DropDowns!$D$2:$E$151,2,FALSE),\"\")","v":""},{"$f":"IFERROR(VLOOKUP(H4990,DropDowns!$F$2:$G$7,2,FALSE),\"Residual categories\")","v":"Residual categories"},null,null,null,0,0,0]
[0,{"$f":"IF(OR(COUNTA(O4961:O4990)>0,COUNTA(O4990:$O$5195)>0),IF(COUNTIF(B4981:B4990,B4990)=10,B4990+7,B4990),\"\")","v":""},"","","",null,null,null,0,0,0,0,{"$f":"IFERROR(VLOOKUP(G4991,DropDowns!$D$2:$E$151,2,FALSE),\"\")","v":""},{"$f":"IFERROR(VLOOKUP(H4991,DropDowns!$F$2:$G$7,2,FALSE),\"Residual categories\")","v":"Residual categories"},null,null,null,0,0,0]
[0,{"$f":"IF(OR(COUNTA(O4962:O4991)>0,COUNTA(O4991:$O$5195)>0),IF(COUNTIF(B4982:B4991,B4991)=10,B4991+7,B4991),\"\")","v":""},"","","",null,null,null,0,0,0,0,{"$f":"IFERROR(VLOOKUP(G4992,DropDowns!$D$2:$E$151,2,FALSE),\"\")","v":""},{"$f":"IFERROR(VLOOKUP(H4992,DropDowns!$F$2:$G$7,2,FALSE),\"Residual categories\")","v":"Residual categories"},null,null,null,0,0,0]
[0,{"$f":"IF(OR(COUNTA(O4963:O4992)>0,COUNTA(O4992:$O$5195)>0),IF(COUNTIF(B4983:B4992,B4992)=10,B4992+7,B4992),\"\")","v":""},"","","",null,null,null,0,0,0,0,{"$f":"IFERROR(VLOOKUP(G4993,DropDowns!$D$2:$E$151,2,FALSE),\"\")","v":""},{"$f":"IFERROR(VLOOKUP(H4993,DropDowns!$F$2:$G$7,2,FALSE),\"Residual categories\")","v":"Residual categories"},null,null,null,0,0,0]
[0,{"$f":"IF(OR(COUNTA(O4964:O4993)>0,COUNTA(O4993:$O$5195)>0),IF(COUNTIF(B4984:B4993,B4993)=10,B4993+7,B4993),\"\")","v":""},"","","",null,null,null,0,0,0,0,{"$f":"IFERROR(VLOOKUP(G4994,DropDowns!$D$2:$E$151,2,FALSE),\"\")","v":""},{"$f":"IFERROR(VLOOKUP(H4994,DropDowns!$F$2:$G$7,2,FALSE),\"Residual categories\")","v":"Residual categories"},null,null,null,0,0,0]
[0,{"$f":"IF(OR(COUNTA(O4965:O4994)>0,COUNTA(O4994:$O$5195)>0),IF(COUNTIF(B4985:B4994,B4994)=10,B4994+7,B4994),\"\")","v":""},"","","",null,null,null,0,0,0,0,{"$f":"IFERROR(VLOOKUP(G4995,DropDowns!$D$2:$E$151,2,FALSE),\"\")","v":""},{"$f":"IFERROR(VLOOKUP(H4995,DropDowns!$F$2:$G$7,2,FALSE),\"Residual categories\")","v":"Residual categories"},null,null,null,0,0,0]
[0,{"$f":"IF(OR(COUNTA(O4966:O4995)>0,COUNTA(O4995:$O$5195)>0),IF(COUNTIF(B4986:B4995,B4995)=10,B4995+7,B4995),\"\")","v":""},"","","",null,null,null,0,0,0,0,{"$f":"IFERROR(VLOOKUP(G4996,DropDowns!$D$2:$E$151,2,FALSE),\"\")","v":""},{"$f":"IFERROR(VLOOKUP(H4996,DropDowns!$F$2:$G$7,2,FALSE),\"Residual categories\")","v":"Residual categories"},null,null,null,0,0,0]
[0,{"$f":"IF(OR(COUNTA(O4967:O4996)>0,COUNTA(O4996:$O$5195)>0),IF(COUNTIF(B4987:B4996,B4996)=10,B4996+7,B4996),\"\")","v":""},"","","",null,null,null,0,0,0,0,{"$f":"IFERROR(VLOOKUP(G4997,DropDowns!$D$2:$E$151,2,FALSE),\"\")","v":""},{"$f":"IFERROR(VLOOKUP(H4997,DropDowns!$F$2:$G$7,2,FALSE),\"Residual categories\")","v":"Residual categories"},null,null,null,0,0,0]
[0,{"$f":"IF(OR(COUNTA(O4968:O4997)>0,COUNTA(O4997:$O$5195)>0),IF(COUNTIF(B4988:B4997,B4997)=10,B4997+7,B4997),\"\")","v":""},"","","",null,null,null,0,0,0,0,{"$f":"IFERROR(VLOOKUP(G4998,DropDowns!$D$2:$E$151,2,FALSE),\"\")","v":""},{"$f":"IFERROR(VLOOKUP(H4998,DropDowns!$F$2:$G$7,2,FALSE),\"Residual categories\")","v":"Residual categories"},null,null,null,0,0,0]
[0,{"$f":"IF(OR(COUNTA(O4969:O4998)>0,COUNTA(O4998:$O$5195)>0),IF(COUNTIF(B4989:B4998,B4998)=10,B4998+7,B4998),\"\")","v":""},{"$f":"IF(D4999=1,A4999,\"\")","v":""},"","",null,null,null,{"$f":"IF(COUNTA(O4999:Q4999)>0,1,0)","v":0},{"$f":"IF(O4999=\"y\",1,0)","v":0},{"$f":"IF(P4999=\"y\",1,0)","v":0},{"$f":"IF(Q4999=\"y\",1,0)","v":0},{"$f":"IFERROR(VLOOKUP(G4999,DropDowns!$D$2:$E$151,2,FALSE),\"\")","v":""},{"$f":"IFERROR(VLOOKUP(H4999,DropDowns!$F$2:$G$7,2,FALSE),\"Residual categories\")","v":"Residual categories"},null,null,null,{"$f":"IF(O4999=\"yes\",1,0)","v":0},{"$f":"IF(P4999=\"yes\",1,0)","v":0},{"$f":"IF(Q4999=\"yes\",1,0)","v":0}]
[0,{"$f":"IF(OR(COUNTA(O4970:O4999)>0,COUNTA(O4999:$O$5195)>0),IF(COUNTIF(B4990:B4999,B4999)=10,B4999+7,B4999),\"\")","v":""},"","","",null,null,null,0,0,0,0,{"$f":"IFERROR(VLOOKUP(G5000,DropDowns!$D$2:$E$151,2,FALSE),\"\")","v":""},{"$f":"IFERROR(VLOOKUP(H5000,DropDowns!$F$2:$G$7,2,FALSE),\"Residual categories\")","v":"Residual categories"},null,null,null,0,0,0]
[0,{"$f":"IF(OR(COUNTA(O4971:O5000)>0,COUNTA(O5000:$O$5195)>0),IF(COUNTIF(B4991:B5000,B5000)=10,B5000+7,B5000),\"\")","v":""},"","","",null,null,null,0,0,0,0,{"$f":"IFERROR(VLOOKUP(G5001,DropDowns!$D$2:$E$151,2,FALSE),\"\")","v":""},{"$f":"IFERROR(VLOOKUP(H5001,DropDowns!$F$2:$G$7,2,FALSE),\"Residual categories\")","v":"Residual categories"},null,null,null,0,0,0]
[0,{"$f":"IF(OR(COUNTA(O4972:O5001)>0,COUNTA(O5001:$O$5195)>0),IF(COUNTIF(B4992:B5001,B5001)=10,B5001+7,B5001),\"\")","v":""},"","","",null,null,null,0,0,0,0,{"$f":"IFERROR(VLOOKUP(G5002,DropDowns!$D$2:$E$151,2,FALSE),\"\")","v":""},{"$f":"IFERROR(VLOOKUP(H5002,DropDowns!$F$2:$G$7,2,FALSE),\"Residual categories\")","v":"Residual categories"},null,null,null,0,0,0]
[0,{"$f":"IF(OR(COUNTA(O4973:O5002)>0,COUNTA(O5002:$O$5195)>0),IF(COUNTIF(B4993:B5002,B5002)=10,B5002+7,B5002),\"\")","v":""},"","","",null,null,null,0,0,0,0,{"$f":"IFERROR(VLOOKUP(G5003,DropDowns!$D$2:$E$151,2,FALSE),\"\")","v":""},{"$f":"IFERROR(VLOOKUP(H5003,DropDowns!$F$2:$G$7,2,FALSE),\"Residual categories\")","v":"Residual categories"},null,null,null,0,0,0]
[0,{"$f":"IF(OR(COUNTA(O4974:O5003)>0,COUNTA(O5003:$O$5195)>0),IF(COUNTIF(B4994:B5003,B5003)=10,B5003+7,B5003),\"\")","v":""},"","","",null,null,null,0,0,0,0,{"$f":"IFERROR(VLOOKUP(G5004,DropDowns!$D$2:$E$151,2,FALSE),\"\")","v":""},{"$f":"IFERROR(VLOOKUP(H5004,DropDowns!$F$2:$G$7,2,FALSE),\"Residual categories\")","v":"Residual categories"},null,null,null,0,0,0]
[0,{"$f":"IF(OR(COUNTA(O4975:O5004)>0,COUNTA(O5004:$O$5195)>0),IF(COUNTIF(B4995:B5004,B5004)=10,B5004+7,B5004),\"\")","v":""},"","","",null,null,null,0,0,0,0,{"$f":"IFERROR(VLOOKUP(G5005,DropDowns!$D$2:$E$151,2,FALSE),\"\")","v":""},{"$f":"IFERROR(VLOOKUP(H5005,DropDowns!$F$2:$G$7,2,FALSE),\"Residual categories\")","v":"Residual categories"},null,null,null,0,0,0]
[0,{"$f":"IF(OR(COUNTA(O4976:O5005)>0,COUNTA(O5005:$O$5195)>0),IF(COUNTIF(B4996:B5005,B5005)=10,B5005+7,B5005),\"\")","v":""},"","","",null,null,null,0,0,0,0,{"$f":"IFERROR(VLOOKUP(G5006,DropDowns!$D$2:$E$151,2,FALSE),\"\")","v":""},{"$f":"IFERROR(VLOOKUP(H5006,DropDowns!$F$2:$G$7,2,FALSE),\"Residual categories\")","v":"Residual categories"},null,null,null,0,0,0]
[0,{"$f":"IF(OR(COUNTA(O4977:O5006)>0,COUNTA(O5006:$O$5195)>0),IF(COUNTIF(B4997:B5006,B5006)=10,B5006+7,B5006),\"\")","v":""},"","","",null,null,null,0,0,0,0,{"$f":"IFERROR(VLOOKUP(G5007,DropDowns!$D$2:$E$151,2,FALSE),\"\")","v":""},{"$f":"IFERROR(VLOOKUP(H5007,DropDowns!$F$2:$G$7,2,FALSE),\"Residual categories\")","v":"Residual categories"},null,null,null,0,0,0]
[0,{"$f":"IF(OR(COUNTA(O4978:O5007)>0,COUNTA(O5007:$O$5195)>0),IF(COUNTIF(B4998:B5007,B5007)=10,B5007+7,B5007),\"\")","v":""},"","","",null,null,null,0,0,0,0,{"$f":"IFERROR(VLOOKUP(G5008,DropDowns!$D$2:$E$151,2,FALSE),\"\")","v":""},{"$f":"IFERROR(VLOOKUP(H5008,DropDowns!$F$2:$G$7,2,FALSE),\"Residual categories\")","v":"Residual categories"},null,null,null,0,0,0]
[0,{"$f":"IF(OR(COUNTA(O4979:O5008)>0,COUNTA(O5008:$O$5195)>0),IF(COUNTIF(B4999:B5008,B5008)=10,B5008+7,B5008),\"\")","v":""},"","",{"$f":"IF(B5009=\"\",\"\",COUNTIF(B5000:B5009,B5009))","v":""},null,null,null,0,0,0,0,{"$f":"IFERROR(VLOOKUP(G5009,DropDowns!$D$2:$E$151,2,FALSE),\"\")","v":""},{"$f":"IFERROR(VLOOKUP(H5009,DropDowns!$F$2:$G$7,2,FALSE),\"Residual categories\")","v":"Residual categories"},null,null,null,0,0,0]
[0,{"$f":"IF(OR(COUNTA(O4980:O5009)>0,COUNTA(O5009:$O$5195)>0),IF(COUNTIF(B5000:B5009,B5009)=10,B5009+7,B5009),\"\")","v":""},"","","",null,null,null,0,0,0,0,{"$f":"IFERROR(VLOOKUP(G5010,DropDowns!$D$2:$E$151,2,FALSE),\"\")","v":""},{"$f":"IFERROR(VLOOKUP(H5010,DropDowns!$F$2:$G$7,2,FALSE),\"Residual categories\")","v":"Residual categories"},null,null,null,0,0,0]
[0,{"$f":"IF(OR(COUNTA(O4981:O5010)>0,COUNTA(O5010:$O$5195)>0),IF(COUNTIF(B5001:B5010,B5010)=10,B5010+7,B5010),\"\")","v":""},"","","",null,null,null,0,0,0,0,{"$f":"IFERROR(VLOOKUP(G5011,DropDowns!$D$2:$E$151,2,FALSE),\"\")","v":""},{"$f":"IFERROR(VLOOKUP(H5011,DropDowns!$F$2:$G$7,2,FALSE),\"Residual categories\")","v":"Residual categories"},null,null,null,0,0,0]
[{"$f":"$E$2","v":0},{"$f":"IF(OR(COUNTA(O4982:O5011)>0,COUNTA(O5011:$O$5195)>0),IF(COUNTIF(B5002:B5011,B5011)=10,B5011+7,B5011),\"\")","v":""},"","","",null,null,null,0,0,0,0,{"$f":"IFERROR(VLOOKUP(G5012,DropDowns!$D$2:$E$151,2,FALSE),\"\")","v":""},{"$f":"IFERROR(VLOOKUP(H5012,DropDowns!$F$2:$G$7,2,FALSE),\"Residual categories\")","v":"Residual categories"},null,null,null,0,0,0]
[0,{"$f":"IF(OR(COUNTA(O4983:O5012)>0,COUNTA(O5012:$O$5195)>0),IF(COUNTIF(B5003:B5012,B5012)=10,B5012+7,B5012),\"\")","v":""},"","","",null,null,null,0,0,0,0,{"$f":"IFERROR(VLOOKUP(G5013,DropDowns!$D$2:$E$151,2,FALSE),\"\")","v":""},{"$f":"IFERROR(VLOOKUP(H5013,DropDowns!$F$2:$G$7,2,FALSE),\"Residual categories\")","v":"Residual categories"},null,null,null,0,0,0]
[0,{"$f":"IF(OR(COUNTA(O4984:O5013)>0,COUNTA(O5013:$O$5195)>0),IF(COUNTIF(B5004:B5013,B5013)=10,B5013+7,B5013),\"\")","v":""},"","","",null,null,null,0,0,0,0,{"$f":"IFERROR(VLOOKUP(G5014,DropDowns!$D$2:$E$151,2,FALSE),\"\")","v":""},{"$f":"IFERROR(VLOOKUP(H5014,DropDowns!$F$2:$G$7,2,FALSE),\"Residual categories\")","v":"Residual categories"},null,null,null,0,0,0]
[0,{"$f":"IF(OR(COUNTA(O4985:O5014)>0,COUNTA(O5014:$O$5195)>0),IF(COUNTIF(B5005:B5014,B5014)=10,B5014+7,B5014),\"\")","v":""},"","","",null,null,null,0,0,0,0,{"$f":"IFERROR(VLOOKUP(G5015,DropDowns!$D$2:$E$151,2,FALSE),\"\")","v":""},{"$f":"IFERROR(VLOOKUP(H5015,DropDowns!$F$2:$G$7,2,FALSE),\"Residual categories\")","v":"Residual categories"},null,null,null,0,0,0]
[0,{"$f":"IF(OR(COUNTA(O4986:O5015)>0,COUNTA(O5015:$O$5195)>0),IF(COUNTIF(B5006:B5015,B5015)=10,B5015+7,B5015),\"\")","v":""},"","","",null,null,null,0,0,0,0,{"$f":"IFERROR(VLOOKUP(G5016,DropDowns!$D$2:$E$151,2,FALSE),\"\")","v":""},{"$f":"IFERROR(VLOOKUP(H5016,DropDowns!$F$2:$G$7,2,FALSE),\"Residual categories\")","v":"Residual categories"},null,null,null,0,0,0]
[0,{"$f":"IF(OR(COUNTA(O4987:O5016)>0,COUNTA(O5016:$O$5195)>0),IF(COUNTIF(B5007:B5016,B5016)=10,B5016+7,B5016),\"\")","v":""},"","","",null,null,null,0,0,0,0,{"$f":"IFERROR(VLOOKUP(G5017,DropDowns!$D$2:$E$151,2,FALSE),\"\")","v":""},{"$f":"IFERROR(VLOOKUP(H5017,DropDowns!$F$2:$G$7,2,FALSE),\"Residual categories\")","v":"Residual categories"},null,null,null,0,0,0]
[0,{"$f":"IF(OR(COUNTA(O4988:O5017)>0,COUNTA(O5017:$O$5195)>0),IF(COUNTIF(B5008:B5017,B5017)=10,B5017+7,B5017),\"\")","v":""},"","","",null,null,null,0,0,0,0,{"$f":"IFERROR(VLOOKUP(G5018,DropDowns!$D$2:$E$151,2,FALSE),\"\")","v":""},{"$f":"IFERROR(VLOOKUP(H5018,DropDowns!$F$2:$G$7,2,FALSE),\"Residual categories\")","v":"Residual categories"},null,null,null,0,0,0]
[0,{"$f":"IF(OR(COUNTA(O4989:O5018)>0,COUNTA(O5018:$O$5195)>0),IF(COUNTIF(B5009:B5018,B5018)=10,B5018+7,B5018),\"\")","v":""},"","","",null,null,null,0,0,0,0,{"$f":"IFERROR(VLOOKUP(G5019,DropDowns!$D$2:$E$151,2,FALSE),\"\")","v":""},{"$f":"IFERROR(VLOOKUP(H5019,DropDowns!$F$2:$G$7,2,FALSE),\"Residual categories\")","v":"Residual categories"},null,null,null,0,0,0]
[0,{"$f":"IF(OR(COUNTA(O4990:O5019)>0,COUNTA(O5019:$O$5195)>0),IF(COUNTIF(B5010:B5019,B5019)=10,B5019+7,B5019),\"\")","v":""},"","","",null,null,null,0,0,0,0,{"$f":"IFERROR(VLOOKUP(G5020,DropDowns!$D$2:$E$151,2,FALSE),\"\")","v":""},{"$f":"IFERROR(VLOOKUP(H5020,DropDowns!$F$2:$G$7,2,FALSE),\"Residual categories\")","v":"Residual categories"},null,null,null,0,0,0]
[0,{"$f":"IF(OR(COUNTA(O4991:O5020)>0,COUNTA(O5020:$O$5195)>0),IF(COUNTIF(B5011:B5020,B5020)=10,B5020+7,B5020),\"\")","v":""},"","","",null,null,null,0,0,0,0,{"$f":"IFERROR(VLOOKUP(G5021,DropDowns!$D$2:$E$151,2,FALSE),\"\")","v":""},{"$f":"IFERROR(VLOOKUP(H5021,DropDowns!$F$2:$G$7,2,FALSE),\"Residual categories\")","v":"Residual categories"},null,null,null,0,0,0]
[0,{"$f":"IF(OR(COUNTA(O4992:O5021)>0,COUNTA(O5021:$O$5195)>0),IF(COUNTIF(B5012:B5021,B5021)=10,B5021+7,B5021),\"\")","v":""},"","","",null,null,null,0,0,0,0,{"$f":"IFERROR(VLOOKUP(G5022,DropDowns!$D$2:$E$151,2,FALSE),\"\")","v":""},{"$f":"IFERROR(VLOOKUP(H5022,DropDowns!$F$2:$G$7,2,FALSE),\"Residual categories\")","v":"Residual categories"},null,null,null,0,0,0]
[0,{"$f":"IF(OR(COUNTA(O4993:O5022)>0,COUNTA(O5022:$O$5195)>0),IF(COUNTIF(B5013:B5022,B5022)=10,B5022+7,B5022),\"\")","v":""},"","","",null,null,null,0,0,0,0,{"$f":"IFERROR(VLOOKUP(G5023,DropDowns!$D$2:$E$151,2,FALSE),\"\")","v":""},{"$f":"IFERROR(VLOOKUP(H5023,DropDowns!$F$2:$G$7,2,FALSE),\"Residual categories\")","v":"Residual categories"},null,null,null,0,0,0]
[0,{"$f":"IF(OR(COUNTA(O4994:O5023)>0,COUNTA(O5023:$O$5195)>0),IF(COUNTIF(B5014:B5023,B5023)=10,B5023+7,B5023),\"\")","v":""},"","","",null,null,null,0,0,0,0,{"$f":"IFERROR(VLOOKUP(G5024,DropDowns!$D$2:$E$151,2,FALSE),\"\")","v":""},{"$f":"IFERROR(VLOOKUP(H5024,DropDowns!$F$2:$G$7,2,FALSE),\"Residual categories\")","v":"Residual categories"},null,null,null,0,0,0]
[0,{"$f":"IF(OR(COUNTA(O4995:O5024)>0,COUNTA(O5024:$O$5195)>0),IF(COUNTIF(B5015:B5024,B5024)=10,B5024+7,B5024),\"\")","v":""},"","","",null,null,null,0,0,0,0,{"$f":"IFERROR(VLOOKUP(G5025,DropDowns!$D$2:$E$151,2,FALSE),\"\")","v":""},{"$f":"IFERROR(VLOOKUP(H5025,DropDowns!$F$2:$G$7,2,FALSE),\"Residual categories\")","v":"Residual categories"},null,null,null,0,0,0]
[0,{"$f":"IF(OR(COUNTA(O4996:O5025)>0,COUNTA(O5025:$O$5195)>0),IF(COUNTIF(B5016:B5025,B5025)=10,B5025+7,B5025),\"\")","v":""},"","","",null,null,null,0,0,0,0,{"$f":"IFERROR(VLOOKUP(G5026,DropDowns!$D$2:$E$151,2,FALSE),\"\")","v":""},{"$f":"IFERROR(VLOOKUP(H5026,DropDowns!$F$2:$G$7,2,FALSE),\"Residual categories\")","v":"Residual categories"},null,null,null,0,0,0]
[0,{"$f":"IF(OR(COUNTA(O4997:O5026)>0,COUNTA(O5026:$O$5195)>0),IF(COUNTIF(B5017:B5026,B5026)=10,B5026+7,B5026),\"\")","v":""},"","","",null,null,null,0,0,0,0,{"$f":"IFERROR(VLOOKUP(G5027,DropDowns!$D$2:$E$151,2,FALSE),\"\")","v":""},{"$f":"IFERROR(VLOOKUP(H5027,DropDowns!$F$2:$G$7,2,FALSE),\"Residual categories\")","v":"Residual categories"},null,null,null,0,0,0]
[0,{"$f":"IF(OR(COUNTA(O4998:O5027)>0,COUNTA(O5027:$O$5195)>0),IF(COUNTIF(B5018:B5027,B5027)=10,B5027+7,B5027),\"\")","v":""},"","","",null,null,null,0,0,0,0,{"$f":"IFERROR(VLOOKUP(G5028,DropDowns!$D$2:$E$151,2,FALSE),\"\")","v":""},{"$f":"IFERROR(VLOOKUP(H5028,DropDowns!$F$2:$G$7,2,FALSE),\"Residual categories\")","v":"Residual categories"},null,null,null,0,0,0]
[0,{"$f":"IF(OR(COUNTA(O4999:O5028)>0,COUNTA(O5028:$O$5195)>0),IF(COUNTIF(B5019:B5028,B5028)=10,B5028+7,B5028),\"\")","v":""},"","","",null,null,null,0,0,0,0,{"$f":"IFERROR(VLOOKUP(G5029,DropDowns!$D$2:$E$151,2,FALSE),\"\")","v":""},{"$f":"IFERROR(VLOOKUP(H5029,DropDowns!$F$2:$G$7,2,FALSE),\"Residual categories\")","v":"Residual categories"},null,null,null,0,0,0]
[0,{"$f":"IF(OR(COUNTA(O5000:O5029)>0,COUNTA(O5029:$O$5195)>0),IF(COUNTIF(B5020:B5029,B5029)=10,B5029+7,B5029),\"\")","v":""},"","","",null,null,null,0,0,0,0,{"$f":"IFERROR(VLOOKUP(G5030,DropDowns!$D$2:$E$151,2,FALSE),\"\")","v":""},{"$f":"IFERROR(VLOOKUP(H5030,DropDowns!$F$2:$G$7,2,FALSE),\"Residual categories\")","v":"Residual categories"},null,null,null,0,0,0]
[0,{"$f":"IF(OR(COUNTA(O5001:O5030)>0,COUNTA(O5030:$O$5195)>0),IF(COUNTIF(B5021:B5030,B5030)=10,B5030+7,B5030),\"\")","v":""},"","","",null,null,null,0,0,0,0,{"$f":"IFERROR(VLOOKUP(G5031,DropDowns!$D$2:$E$151,2,FALSE),\"\")","v":""},{"$f":"IFERROR(VLOOKUP(H5031,DropDowns!$F$2:$G$7,2,FALSE),\"Residual categories\")","v":"Residual categories"},null,null,null,0,0,0]
[0,{"$f":"IF(OR(COUNTA(O5002:O5031)>0,COUNTA(O5031:$O$5195)>0),IF(COUNTIF(B5022:B5031,B5031)=10,B5031+7,B5031),\"\")","v":""},"","","",null,null,null,0,0,0,0,{"$f":"IFERROR(VLOOKUP(G5032,DropDowns!$D$2:$E$151,2,FALSE),\"\")","v":""},{"$f":"IFERROR(VLOOKUP(H5032,DropDowns!$F$2:$G$7,2,FALSE),\"Residual categories\")","v":"Residual categories"},null,null,null,0,0,0]
[0,{"$f":"IF(OR(COUNTA(O5003:O5032)>0,COUNTA(O5032:$O$5195)>0),IF(COUNTIF(B5023:B5032,B5032)=10,B5032+7,B5032),\"\")","v":""},"","","",null,null,null,0,0,0,0,{"$f":"IFERROR(VLOOKUP(G5033,DropDowns!$D$2:$E$151,2,FALSE),\"\")","v":""},{"$f":"IFERROR(VLOOKUP(H5033,DropDowns!$F$2:$G$7,2,FALSE),\"Residual categories\")","v":"Residual categories"},null,null,null,0,0,0]
[0,{"$f":"IF(OR(COUNTA(O5004:O5033)>0,COUNTA(O5033:$O$5195)>0),IF(COUNTIF(B5024:B5033,B5033)=10,B5033+7,B5033),\"\")","v":""},"","","",null,null,null,0,0,0,0,{"$f":"IFERROR(VLOOKUP(G5034,DropDowns!$D$2:$E$151,2,FALSE),\"\")","v":""},{"$f":"IFERROR(VLOOKUP(H5034,DropDowns!$F$2:$G$7,2,FALSE),\"Residual categories\")","v":"Residual categories"},null,null,null,0,0,0]
[0,{"$f":"IF(OR(COUNTA(O5005:O5034)>0,COUNTA(O5034:$O$5195)>0),IF(COUNTIF(B5025:B5034,B5034)=10,B5034+7,B5034),\"\")","v":""},"","","",null,null,null,0,0,0,0,{"$f":"IFERROR(VLOOKUP(G5035,DropDowns!$D$2:$E$151,2,FALSE),\"\")","v":""},{"$f":"IFERROR(VLOOKUP(H5035,DropDowns!$F$2:$G$7,2,FALSE),\"Residual categories\")","v":"Residual categories"},null,null,null,0,0,0]
[0,{"$f":"IF(OR(COUNTA(O5006:O5035)>0,COUNTA(O5035:$O$5195)>0),IF(COUNTIF(B5026:B5035,B5035)=10,B5035+7,B5035),\"\")","v":""},"","","",null,null,null,0,0,0,0,{"$f":"IFERROR(VLOOKUP(G5036,DropDowns!$D$2:$E$151,2,FALSE),\"\")","v":""},{"$f":"IFERROR(VLOOKUP(H5036,DropDowns!$F$2:$G$7,2,FALSE),\"Residual categories\")","v":"Residual categories"},null,null,null,0,0,0]
[0,{"$f":"IF(OR(COUNTA(O5007:O5036)>0,COUNTA(O5036:$O$5195)>0),IF(COUNTIF(B5027:B5036,B5036)=10,B5036+7,B5036),\"\")","v":""},"","","",null,null,null,0,0,0,0,{"$f":"IFERROR(VLOOKUP(G5037,DropDowns!$D$2:$E$151,2,FALSE),\"\")","v":""},{"$f":"IFERROR(VLOOKUP(H5037,DropDowns!$F$2:$G$7,2,FALSE),\"Residual categories\")","v":"Residual categories"},null,null,null,0,0,0]
[0,{"$f":"IF(OR(COUNTA(O5008:O5037)>0,COUNTA(O5037:$O$5195)>0),IF(COUNTIF(B5028:B5037,B5037)=10,B5037+7,B5037),\"\")","v":""},"","","",null,null,null,0,0,0,0,{"$f":"IFERROR(VLOOKUP(G5038,DropDowns!$D$2:$E$151,2,FALSE),\"\")","v":""},{"$f":"IFERROR(VLOOKUP(H5038,DropDowns!$F$2:$G$7,2,FALSE),\"Residual categories\")","v":"Residual categories"},null,null,null,0,0,0]
[0,{"$f":"IF(OR(COUNTA(O5009:O5038)>0,COUNTA(O5038:$O$5195)>0),IF(COUNTIF(B5029:B5038,B5038)=10,B5038+7,B5038),\"\")","v":""},"","","",null,null,null,0,0,0,0,{"$f":"IFERROR(VLOOKUP(G5039,DropDowns!$D$2:$E$151,2,FALSE),\"\")","v":""},{"$f":"IFERROR(VLOOKUP(H5039,DropDowns!$F$2:$G$7,2,FALSE),\"Residual categories\")","v":"Residual categories"},null,null,null,0,0,0]
[0,{"$f":"IF(OR(COUNTA(O5010:O5039)>0,COUNTA(O5039:$O$5195)>0),IF(COUNTIF(B5030:B5039,B5039)=10,B5039+7,B5039),\"\")","v":""},"","","",null,null,null,0,0,0,0,{"$f":"IFERROR(VLOOKUP(G5040,DropDowns!$D$2:$E$151,2,FALSE),\"\")","v":""},{"$f":"IFERROR(VLOOKUP(H5040,DropDowns!$F$2:$G$7,2,FALSE),\"Residual categories\")","v":"Residual categories"},null,null,null,0,0,0]
[0,{"$f":"IF(OR(COUNTA(O5011:O5040)>0,COUNTA(O5040:$O$5195)>0),IF(COUNTIF(B5031:B5040,B5040)=10,B5040+7,B5040),\"\")","v":""},"","","",null,null,null,0,0,0,0,{"$f":"IFERROR(VLOOKUP(G5041,DropDowns!$D$2:$E$151,2,FALSE),\"\")","v":""},{"$f":"IFERROR(VLOOKUP(H5041,DropDowns!$F$2:$G$7,2,FALSE),\"Residual categories\")","v":"Residual categories"},null,null,null,0,0,0]
[0,{"$f":"IF(OR(COUNTA(O5012:O5041)>0,COUNTA(O5041:$O$5195)>0),IF(COUNTIF(B5032:B5041,B5041)=10,B5041+7,B5041),\"\")","v":""},"","","",null,null,null,0,0,0,0,{"$f":"IFERROR(VLOOKUP(G5042,DropDowns!$D$2:$E$151,2,FALSE),\"\")","v":""},{"$f":"IFERROR(VLOOKUP(H5042,DropDowns!$F$2:$G$7,2,FALSE),\"Residual categories\")","v":"Residual categories"},null,null,null,0,0,0]
[0,{"$f":"IF(OR(COUNTA(O5013:O5042)>0,COUNTA(O5042:$O$5195)>0),IF(COUNTIF(B5033:B5042,B5042)=10,B5042+7,B5042),\"\")","v":""},"","","",null,null,null,0,0,0,0,{"$f":"IFERROR(VLOOKUP(G5043,DropDowns!$D$2:$E$151,2,FALSE),\"\")","v":""},{"$f":"IFERROR(VLOOKUP(H5043,DropDowns!$F$2:$G$7,2,FALSE),\"Residual categories\")","v":"Residual categories"},null,null,null,0,0,0]
[0,{"$f":"IF(OR(COUNTA(O5014:O5043)>0,COUNTA(O5043:$O$5195)>0),IF(COUNTIF(B5034:B5043,B5043)=10,B5043+7,B5043),\"\")","v":""},"","","",null,null,null,0,0,0,0,{"$f":"IFERROR(VLOOKUP(G5044,DropDowns!$D$2:$E$151,2,FALSE),\"\")","v":""},{"$f":"IFERROR(VLOOKUP(H5044,DropDowns!$F$2:$G$7,2,FALSE),\"Residual categories\")","v":"Residual categories"},null,null,null,0,0,0]
[0,{"$f":"IF(OR(COUNTA(O5015:O5044)>0,COUNTA(O5044:$O$5195)>0),IF(COUNTIF(B5035:B5044,B5044)=10,B5044+7,B5044),\"\")","v":""},"","","",null,null,null,0,0,0,0,{"$f":"IFERROR(VLOOKUP(G5045,DropDowns!$D$2:$E$151,2,FALSE),\"\")","v":""},{"$f":"IFERROR(VLOOKUP(H5045,DropDowns!$F$2:$G$7,2,FALSE),\"Residual categories\")","v":"Residual categories"},null,null,null,0,0,0]
[0,{"$f":"IF(OR(COUNTA(O5016:O5045)>0,COUNTA(O5045:$O$5195)>0),IF(COUNTIF(B5036:B5045,B5045)=10,B5045+7,B5045),\"\")","v":""},"","","",null,null,null,0,0,0,0,{"$f":"IFERROR(VLOOKUP(G5046,DropDowns!$D$2:$E$151,2,FALSE),\"\")","v":""},{"$f":"IFERROR(VLOOKUP(H5046,DropDowns!$F$2:$G$7,2,FALSE),\"Residual categories\")","v":"Residual categories"},null,null,null,0,0,0]
[0,{"$f":"IF(OR(COUNTA(O5017:O5046)>0,COUNTA(O5046:$O$5195)>0),IF(COUNTIF(B5037:B5046,B5046)=10,B5046+7,B5046),\"\")","v":""},"","","",null,null,null,0,0,0,0,{"$f":"IFERROR(VLOOKUP(G5047,DropDowns!$D$2:$E$151,2,FALSE),\"\")","v":""},{"$f":"IFERROR(VLOOKUP(H5047,DropDowns!$F$2:$G$7,2,FALSE),\"Residual categories\")","v":"Residual categories"},null,null,null,0,0,0]
[0,{"$f":"IF(OR(COUNTA(O5018:O5047)>0,COUNTA(O5047:$O$5195)>0),IF(COUNTIF(B5038:B5047,B5047)=10,B5047+7,B5047),\"\")","v":""},"","","",null,null,null,0,0,0,0,{"$f":"IFERROR(VLOOKUP(G5048,DropDowns!$D$2:$E$151,2,FALSE),\"\")","v":""},{"$f":"IFERROR(VLOOKUP(H5048,DropDowns!$F$2:$G$7,2,FALSE),\"Residual categories\")","v":"Residual categories"},null,null,null,0,0,0]
[0,{"$f":"IF(OR(COUNTA(O5019:O5048)>0,COUNTA(O5048:$O$5195)>0),IF(COUNTIF(B5039:B5048,B5048)=10,B5048+7,B5048),\"\")","v":""},"","","",null,null,null,0,0,0,0,{"$f":"IFERROR(VLOOKUP(G5049,DropDowns!$D$2:$E$151,2,FALSE),\"\")","v":""},{"$f":"IFERROR(VLOOKUP(H5049,DropDowns!$F$2:$G$7,2,FALSE),\"Residual categories\")","v":"Residual categories"},null,null,null,0,0,0]
[0,{"$f":"IF(OR(COUNTA(O5020:O5049)>0,COUNTA(O5049:$O$5195)>0),IF(COUNTIF(B5040:B5049,B5049)=10,B5049+7,B5049),\"\")","v":""},"","","",null,null,null,0,0,0,0,{"$f":"IFERROR(VLOOKUP(G5050,DropDowns!$D$2:$E$151,2,FALSE),\"\")","v":""},{"$f":"IFERROR(VLOOKUP(H5050,DropDowns!$F$2:$G$7,2,FALSE),\"Residual categories\")","v":"Residual categories"},null,null,null,0,0,0]
[0,{"$f":"IF(OR(COUNTA(O5021:O5050)>0,COUNTA(O5050:$O$5195)>0),IF(COUNTIF(B5041:B5050,B5050)=10,B5050+7,B5050),\"\")","v":""},"","","",null,null,null,0,0,0,0,{"$f":"IFERROR(VLOOKUP(G5051,DropDowns!$D$2:$E$151,2,FALSE),\"\")","v":""},{"$f":"IFERROR(VLOOKUP(H5051,DropDowns!$F$2:$G$7,2,FALSE),\"Residual categories\")","v":"Residual categories"},null,null,null,0,0,0]
[0,{"$f":"IF(OR(COUNTA(O5022:O5051)>0,COUNTA(O5051:$O$5195)>0),IF(COUNTIF(B5042:B5051,B5051)=10,B5051+7,B5051),\"\")","v":""},"","","",null,null,null,0,0,0,0,{"$f":"IFERROR(VLOOKUP(G5052,DropDowns!$D$2:$E$151,2,FALSE),\"\")","v":""},{"$f":"IFERROR(VLOOKUP(H5052,DropDowns!$F$2:$G$7,2,FALSE),\"Residual categories\")","v":"Residual categories"},null,null,null,0,0,0]
[0,{"$f":"IF(OR(COUNTA(O5023:O5052)>0,COUNTA(O5052:$O$5195)>0),IF(COUNTIF(B5043:B5052,B5052)=10,B5052+7,B5052),\"\")","v":""},"","","",null,null,null,0,0,0,0,{"$f":"IFERROR(VLOOKUP(G5053,DropDowns!$D$2:$E$151,2,FALSE),\"\")","v":""},{"$f":"IFERROR(VLOOKUP(H5053,DropDowns!$F$2:$G$7,2,FALSE),\"Residual categories\")","v":"Residual categories"},null,null,null,0,0,0]
[0,{"$f":"IF(OR(COUNTA(O5024:O5053)>0,COUNTA(O5053:$O$5195)>0),IF(COUNTIF(B5044:B5053,B5053)=10,B5053+7,B5053),\"\")","v":""},"","","",null,null,null,0,0,0,0,{"$f":"IFERROR(VLOOKUP(G5054,DropDowns!$D$2:$E$151,2,FALSE),\"\")","v":""},{"$f":"IFERROR(VLOOKUP(H5054,DropDowns!$F$2:$G$7,2,FALSE),\"Residual categories\")","v":"Residual categories"},null,null,null,0,0,0]
[0,{"$f":"IF(OR(COUNTA(O5025:O5054)>0,COUNTA(O5054:$O$5195)>0),IF(COUNTIF(B5045:B5054,B5054)=10,B5054+7,B5054),\"\")","v":""},"","","",null,null,null,0,0,0,0,{"$f":"IFERROR(VLOOKUP(G5055,DropDowns!$D$2:$E$151,2,FALSE),\"\")","v":""},{"$f":"IFERROR(VLOOKUP(H5055,DropDowns!$F$2:$G$7,2,FALSE),\"Residual categories\")","v":"Residual categories"},null,null,null,0,0,0]
[0,{"$f":"IF(OR(COUNTA(O5026:O5055)>0,COUNTA(O5055:$O$5195)>0),IF(COUNTIF(B5046:B5055,B5055)=10,B5055+7,B5055),\"\")","v":""},"","","",null,null,null,0,0,0,0,{"$f":"IFERROR(VLOOKUP(G5056,DropDowns!$D$2:$E$151,2,FALSE),\"\")","v":""},{"$f":"IFERROR(VLOOKUP(H5056,DropDowns!$F$2:$G$7,2,FALSE),\"Residual categories\")","v":"Residual categories"},null,null,null,0,0,0]
[0,{"$f":"IF(OR(COUNTA(O5027:O5056)>0,COUNTA(O5056:$O$5195)>0),IF(COUNTIF(B5047:B5056,B5056)=10,B5056+7,B5056),\"\")","v":""},"","","",null,null,null,0,0,0,0,{"$f":"IFERROR(VLOOKUP(G5057,DropDowns!$D$2:$E$151,2,FALSE),\"\")","v":""},{"$f":"IFERROR(VLOOKUP(H5057,DropDowns!$F$2:$G$7,2,FALSE),\"Residual categories\")","v":"Residual categories"},null,null,null,0,0,0]
[0,{"$f":"IF(OR(COUNTA(O5028:O5057)>0,COUNTA(O5057:$O$5195)>0),IF(COUNTIF(B5048:B5057,B5057)=10,B5057+7,B5057),\"\")","v":""},"","","",null,null,null,0,0,0,0,{"$f":"IFERROR(VLOOKUP(G5058,DropDowns!$D$2:$E$151,2,FALSE),\"\")","v":""},{"$f":"IFERROR(VLOOKUP(H5058,DropDowns!$F$2:$G$7,2,FALSE),\"Residual categories\")","v":"Residual categories"},null,null,null,0,0,0]
[0,{"$f":"IF(OR(COUNTA(O5029:O5058)>0,COUNTA(O5058:$O$5195)>0),IF(COUNTIF(B5049:B5058,B5058)=10,B5058+7,B5058),\"\")","v":""},"","","",null,null,null,0,0,0,0,{"$f":"IFERROR(VLOOKUP(G5059,DropDowns!$D$2:$E$151,2,FALSE),\"\")","v":""},{"$f":"IFERROR(VLOOKUP(H5059,DropDowns!$F$2:$G$7,2,FALSE),\"Residual categories\")","v":"Residual categories"},null,null,null,0,0,0]
[0,{"$f":"IF(OR(COUNTA(O5030:O5059)>0,COUNTA(O5059:$O$5195)>0),IF(COUNTIF(B5050:B5059,B5059)=10,B5059+7,B5059),\"\")","v":""},"","","",null,null,null,0,0,0,0,{"$f":"IFERROR(VLOOKUP(G5060,DropDowns!$D$2:$E$151,2,FALSE),\"\")","v":""},{"$f":"IFERROR(VLOOKUP(H5060,DropDowns!$F$2:$G$7,2,FALSE),\"Residual categories\")","v":"Residual categories"},null,null,null,0,0,0]
[0,{"$f":"IF(OR(COUNTA(O5031:O5060)>0,COUNTA(O5060:$O$5195)>0),IF(COUNTIF(B5051:B5060,B5060)=10,B5060+7,B5060),\"\")","v":""},"","","",null,null,null,0,0,0,0,{"$f":"IFERROR(VLOOKUP(G5061,DropDowns!$D$2:$E$151,2,FALSE),\"\")","v":""},{"$f":"IFERROR(VLOOKUP(H5061,DropDowns!$F$2:$G$7,2,FALSE),\"Residual categories\")","v":"Residual categories"},null,null,null,0,0,0]
[0,{"$f":"IF(OR(COUNTA(O5032:O5061)>0,COUNTA(O5061:$O$5195)>0),IF(COUNTIF(B5052:B5061,B5061)=10,B5061+7,B5061),\"\")","v":""},"","","",null,null,null,0,0,0,0,{"$f":"IFERROR(VLOOKUP(G5062,DropDowns!$D$2:$E$151,2,FALSE),\"\")","v":""},{"$f":"IFERROR(VLOOKUP(H5062,DropDowns!$F$2:$G$7,2,FALSE),\"Residual categories\")","v":"Residual categories"},null,null,null,0,0,0]
[0,{"$f":"IF(OR(COUNTA(O5033:O5062)>0,COUNTA(O5062:$O$5195)>0),IF(COUNTIF(B5053:B5062,B5062)=10,B5062+7,B5062),\"\")","v":""},{"$f":"IF(D5063=1,A5063,\"\")","v":""},"","",null,null,null,{"$f":"IF(COUNTA(O5063:Q5063)>0,1,0)","v":0},{"$f":"IF(O5063=\"y\",1,0)","v":0},{"$f":"IF(P5063=\"y\",1,0)","v":0},{"$f":"IF(Q5063=\"y\",1,0)","v":0},{"$f":"IFERROR(VLOOKUP(G5063,DropDowns!$D$2:$E$151,2,FALSE),\"\")","v":""},{"$f":"IFERROR(VLOOKUP(H5063,DropDowns!$F$2:$G$7,2,FALSE),\"Residual categories\")","v":"Residual categories"},null,null,null,{"$f":"IF(O5063=\"yes\",1,0)","v":0},{"$f":"IF(P5063=\"yes\",1,0)","v":0},{"$f":"IF(Q5063=\"yes\",1,0)","v":0}]
[0,{"$f":"IF(OR(COUNTA(O5034:O5063)>0,COUNTA(O5063:$O$5195)>0),IF(COUNTIF(B5054:B5063,B5063)=10,B5063+7,B5063),\"\")","v":""},"","","",null,null,null,0,0,0,0,{"$f":"IFERROR(VLOOKUP(G5064,DropDowns!$D$2:$E$151,2,FALSE),\"\")","v":""},{"$f":"IFERROR(VLOOKUP(H5064,DropDowns!$F$2:$G$7,2,FALSE),\"Residual categories\")","v":"Residual categories"},null,null,null,0,0,0]
[0,{"$f":"IF(OR(COUNTA(O5035:O5064)>0,COUNTA(O5064:$O$5195)>0),IF(COUNTIF(B5055:B5064,B5064)=10,B5064+7,B5064),\"\")","v":""},"","","",null,null,null,0,0,0,0,{"$f":"IFERROR(VLOOKUP(G5065,DropDowns!$D$2:$E$151,2,FALSE),\"\")","v":""},{"$f":"IFERROR(VLOOKUP(H5065,DropDowns!$F$2:$G$7,2,FALSE),\"Residual categories\")","v":"Residual categories"},null,null,null,0,0,0]
[0,{"$f":"IF(OR(COUNTA(O5036:O5065)>0,COUNTA(O5065:$O$5195)>0),IF(COUNTIF(B5056:B5065,B5065)=10,B5065+7,B5065),\"\")","v":""},"","","",null,null,null,0,0,0,0,{"$f":"IFERROR(VLOOKUP(G5066,DropDowns!$D$2:$E$151,2,FALSE),\"\")","v":""},{"$f":"IFERROR(VLOOKUP(H5066,DropDowns!$F$2:$G$7,2,FALSE),\"Residual categories\")","v":"Residual categories"},null,null,null,0,0,0]
[0,{"$f":"IF(OR(COUNTA(O5037:O5066)>0,COUNTA(O5066:$O$5195)>0),IF(COUNTIF(B5057:B5066,B5066)=10,B5066+7,B5066),\"\")","v":""},"","","",null,null,null,0,0,0,0,{"$f":"IFERROR(VLOOKUP(G5067,DropDowns!$D$2:$E$151,2,FALSE),\"\")","v":""},{"$f":"IFERROR(VLOOKUP(H5067,DropDowns!$F$2:$G$7,2,FALSE),\"Residual categories\")","v":"Residual categories"},null,null,null,0,0,0]
[0,{"$f":"IF(OR(COUNTA(O5038:O5067)>0,COUNTA(O5067:$O$5195)>0),IF(COUNTIF(B5058:B5067,B5067)=10,B5067+7,B5067),\"\")","v":""},"","","",null,null,null,0,0,0,0,{"$f":"IFERROR(VLOOKUP(G5068,DropDowns!$D$2:$E$151,2,FALSE),\"\")","v":""},{"$f":"IFERROR(VLOOKUP(H5068,DropDowns!$F$2:$G$7,2,FALSE),\"Residual categories\")","v":"Residual categories"},null,null,null,0,0,0]
[0,{"$f":"IF(OR(COUNTA(O5039:O5068)>0,COUNTA(O5068:$O$5195)>0),IF(COUNTIF(B5059:B5068,B5068)=10,B5068+7,B5068),\"\")","v":""},"","","",null,null,null,0,0,0,0,{"$f":"IFERROR(VLOOKUP(G5069,DropDowns!$D$2:$E$151,2,FALSE),\"\")","v":""},{"$f":"IFERROR(VLOOKUP(H5069,DropDowns!$F$2:$G$7,2,FALSE),\"Residual categories\")","v":"Residual categories"},null,null,null,0,0,0]
[0,{"$f":"IF(OR(COUNTA(O5040:O5069)>0,COUNTA(O5069:$O$5195)>0),IF(COUNTIF(B5060:B5069,B5069)=10,B5069+7,B5069),\"\")","v":""},"","","",null,null,null,0,0,0,0,{"$f":"IFERROR(VLOOKUP(G5070,DropDowns!$D$2:$E$151,2,FALSE),\"\")","v":""},{"$f":"IFERROR(VLOOKUP(H5070,DropDowns!$F$2:$G$7,2,FALSE),\"Residual categories\")","v":"Residual categories"},null,null,null,0,0,0]
[0,{"$f":"IF(OR(COUNTA(O5041:O5070)>0,COUNTA(O5070:$O$5195)>0),IF(COUNTIF(B5061:B5070,B5070)=10,B5070+7,B5070),\"\")","v":""},"","","",null,null,null,0,0,0,0,{"$f":"IFERROR(VLOOKUP(G5071,DropDowns!$D$2:$E$151,2,FALSE),\"\")","v":""},{"$f":"IFERROR(VLOOKUP(H5071,DropDowns!$F$2:$G$7,2,FALSE),\"Residual categories\")","v":"Residual categories"},null,null,null,0,0,0]
[0,{"$f":"IF(OR(COUNTA(O5042:O5071)>0,COUNTA(O5071:$O$5195)>0),IF(COUNTIF(B5062:B5071,B5071)=10,B5071+7,B5071),\"\")","v":""},"","","",null,null,null,0,0,0,0,{"$f":"IFERROR(VLOOKUP(G5072,DropDowns!$D$2:$E$151,2,FALSE),\"\")","v":""},{"$f":"IFERROR(VLOOKUP(H5072,DropDowns!$F$2:$G$7,2,FALSE),\"Residual categories\")","v":"Residual categories"},null,null,null,0,0,0]
[0,{"$f":"IF(OR(COUNTA(O5043:O5072)>0,COUNTA(O5072:$O$5195)>0),IF(COUNTIF(B5063:B5072,B5072)=10,B5072+7,B5072),\"\")","v":""},"","",{"$f":"IF(B5073=\"\",\"\",COUNTIF(B5064:B5073,B5073))","v":""},null,null,null,0,0,0,0,{"$f":"IFERROR(VLOOKUP(G5073,DropDowns!$D$2:$E$151,2,FALSE),\"\")","v":""},{"$f":"IFERROR(VLOOKUP(H5073,DropDowns!$F$2:$G$7,2,FALSE),\"Residual categories\")","v":"Residual categories"},null,null,null,0,0,0]
[0,{"$f":"IF(OR(COUNTA(O5044:O5073)>0,COUNTA(O5073:$O$5195)>0),IF(COUNTIF(B5064:B5073,B5073)=10,B5073+7,B5073),\"\")","v":""},"","","",null,null,null,0,0,0,0,{"$f":"IFERROR(VLOOKUP(G5074,DropDowns!$D$2:$E$151,2,FALSE),\"\")","v":""},{"$f":"IFERROR(VLOOKUP(H5074,DropDowns!$F$2:$G$7,2,FALSE),\"Residual categories\")","v":"Residual categories"},null,null,null,0,0,0]
[0,{"$f":"IF(OR(COUNTA(O5045:O5074)>0,COUNTA(O5074:$O$5195)>0),IF(COUNTIF(B5065:B5074,B5074)=10,B5074+7,B5074),\"\")","v":""},"","","",null,null,null,0,0,0,0,{"$f":"IFERROR(VLOOKUP(G5075,DropDowns!$D$2:$E$151,2,FALSE),\"\")","v":""},{"$f":"IFERROR(VLOOKUP(H5075,DropDowns!$F$2:$G$7,2,FALSE),\"Residual categories\")","v":"Residual categories"},null,null,null,0,0,0]
[{"$f":"$E$2","v":0},{"$f":"IF(OR(COUNTA(O5046:O5075)>0,COUNTA(O5075:$O$5195)>0),IF(COUNTIF(B5066:B5075,B5075)=10,B5075+7,B5075),\"\")","v":""},"","","",null,null,null,0,0,0,0,{"$f":"IFERROR(VLOOKUP(G5076,DropDowns!$D$2:$E$151,2,FALSE),\"\")","v":""},{"$f":"IFERROR(VLOOKUP(H5076,DropDowns!$F$2:$G$7,2,FALSE),\"Residual categories\")","v":"Residual categories"},null,null,null,0,0,0]
[0,{"$f":"IF(OR(COUNTA(O5047:O5076)>0,COUNTA(O5076:$O$5195)>0),IF(COUNTIF(B5067:B5076,B5076)=10,B5076+7,B5076),\"\")","v":""},"","","",null,null,null,0,0,0,0,{"$f":"IFERROR(VLOOKUP(G5077,DropDowns!$D$2:$E$151,2,FALSE),\"\")","v":""},{"$f":"IFERROR(VLOOKUP(H5077,DropDowns!$F$2:$G$7,2,FALSE),\"Residual categories\")","v":"Residual categories"},null,null,null,0,0,0]
[0,{"$f":"IF(OR(COUNTA(O5048:O5077)>0,COUNTA(O5077:$O$5195)>0),IF(COUNTIF(B5068:B5077,B5077)=10,B5077+7,B5077),\"\")","v":""},"","","",null,null,null,0,0,0,0,{"$f":"IFERROR(VLOOKUP(G5078,DropDowns!$D$2:$E$151,2,FALSE),\"\")","v":""},{"$f":"IFERROR(VLOOKUP(H5078,DropDowns!$F$2:$G$7,2,FALSE),\"Residual categories\")","v":"Residual categories"},null,null,null,0,0,0]
[0,{"$f":"IF(OR(COUNTA(O5049:O5078)>0,COUNTA(O5078:$O$5195)>0),IF(COUNTIF(B5069:B5078,B5078)=10,B5078+7,B5078),\"\")","v":""},"","","",null,null,null,0,0,0,0,{"$f":"IFERROR(VLOOKUP(G5079,DropDowns!$D$2:$E$151,2,FALSE),\"\")","v":""},{"$f":"IFERROR(VLOOKUP(H5079,DropDowns!$F$2:$G$7,2,FALSE),\"Residual categories\")","v":"Residual categories"},null,null,null,0,0,0]
[0,{"$f":"IF(OR(COUNTA(O5050:O5079)>0,COUNTA(O5079:$O$5195)>0),IF(COUNTIF(B5070:B5079,B5079)=10,B5079+7,B5079),\"\")","v":""},"","","",null,null,null,0,0,0,0,{"$f":"IFERROR(VLOOKUP(G5080,DropDowns!$D$2:$E$151,2,FALSE),\"\")","v":""},{"$f":"IFERROR(VLOOKUP(H5080,DropDowns!$F$2:$G$7,2,FALSE),\"Residual categories\")","v":"Residual categories"},null,null,null,0,0,0]
[0,{"$f":"IF(OR(COUNTA(O5051:O5080)>0,COUNTA(O5080:$O$5195)>0),IF(COUNTIF(B5071:B5080,B5080)=10,B5080+7,B5080),\"\")","v":""},"","","",null,null,null,0,0,0,0,{"$f":"IFERROR(VLOOKUP(G5081,DropDowns!$D$2:$E$151,2,FALSE),\"\")","v":""},{"$f":"IFERROR(VLOOKUP(H5081,DropDowns!$F$2:$G$7,2,FALSE),\"Residual categories\")","v":"Residual categories"},null,null,null,0,0,0]
[0,{"$f":"IF(OR(COUNTA(O5052:O5081)>0,COUNTA(O5081:$O$5195)>0),IF(COUNTIF(B5072:B5081,B5081)=10,B5081+7,B5081),\"\")","v":""},"","","",null,null,null,0,0,0,0,{"$f":"IFERROR(VLOOKUP(G5082,DropDowns!$D$2:$E$151,2,FALSE),\"\")","v":""},{"$f":"IFERROR(VLOOKUP(H5082,DropDowns!$F$2:$G$7,2,FALSE),\"Residual categories\")","v":"Residual categories"},null,null,null,0,0,0]
[0,{"$f":"IF(OR(COUNTA(O5053:O5082)>0,COUNTA(O5082:$O$5195)>0),IF(COUNTIF(B5073:B5082,B5082)=10,B5082+7,B5082),\"\")","v":""},"","","",null,null,null,0,0,0,0,{"$f":"IFERROR(VLOOKUP(G5083,DropDowns!$D$2:$E$151,2,FALSE),\"\")","v":""},{"$f":"IFERROR(VLOOKUP(H5083,DropDowns!$F$2:$G$7,2,FALSE),\"Residual categories\")","v":"Residual categories"},null,null,null,0,0,0]
[0,{"$f":"IF(OR(COUNTA(O5054:O5083)>0,COUNTA(O5083:$O$5195)>0),IF(COUNTIF(B5074:B5083,B5083)=10,B5083+7,B5083),\"\")","v":""},"","","",null,null,null,0,0,0,0,{"$f":"IFERROR(VLOOKUP(G5084,DropDowns!$D$2:$E$151,2,FALSE),\"\")","v":""},{"$f":"IFERROR(VLOOKUP(H5084,DropDowns!$F$2:$G$7,2,FALSE),\"Residual categories\")","v":"Residual categories"},null,null,null,0,0,0]
[0,{"$f":"IF(OR(COUNTA(O5055:O5084)>0,COUNTA(O5084:$O$5195)>0),IF(COUNTIF(B5075:B5084,B5084)=10,B5084+7,B5084),\"\")","v":""},"","","",null,null,null,0,0,0,0,{"$f":"IFERROR(VLOOKUP(G5085,DropDowns!$D$2:$E$151,2,FALSE),\"\")","v":""},{"$f":"IFERROR(VLOOKUP(H5085,DropDowns!$F$2:$G$7,2,FALSE),\"Residual categories\")","v":"Residual categories"},null,null,null,0,0,0]
[0,{"$f":"IF(OR(COUNTA(O5056:O5085)>0,COUNTA(O5085:$O$5195)>0),IF(COUNTIF(B5076:B5085,B5085)=10,B5085+7,B5085),\"\")","v":""},"","","",null,null,null,0,0,0,0,{"$f":"IFERROR(VLOOKUP(G5086,DropDowns!$D$2:$E$151,2,FALSE),\"\")","v":""},{"$f":"IFERROR(VLOOKUP(H5086,DropDowns!$F$2:$G$7,2,FALSE),\"Residual categories\")","v":"Residual categories"},null,null,null,0,0,0]
[0,{"$f":"IF(OR(COUNTA(O5057:O5086)>0,COUNTA(O5086:$O$5195)>0),IF(COUNTIF(B5077:B5086,B5086)=10,B5086+7,B5086),\"\")","v":""},"","","",null,null,null,0,0,0,0,{"$f":"IFERROR(VLOOKUP(G5087,DropDowns!$D$2:$E$151,2,FALSE),\"\")","v":""},{"$f":"IFERROR(VLOOKUP(H5087,DropDowns!$F$2:$G$7,2,FALSE),\"Residual categories\")","v":"Residual categories"},null,null,null,0,0,0]
[0,{"$f":"IF(OR(COUNTA(O5058:O5087)>0,COUNTA(O5087:$O$5195)>0),IF(COUNTIF(B5078:B5087,B5087)=10,B5087+7,B5087),\"\")","v":""},"","","",null,null,null,0,0,0,0,{"$f":"IFERROR(VLOOKUP(G5088,DropDowns!$D$2:$E$151,2,FALSE),\"\")","v":""},{"$f":"IFERROR(VLOOKUP(H5088,DropDowns!$F$2:$G$7,2,FALSE),\"Residual categories\")","v":"Residual categories"},null,null,null,0,0,0]
[0,{"$f":"IF(OR(COUNTA(O5059:O5088)>0,COUNTA(O5088:$O$5195)>0),IF(COUNTIF(B5079:B5088,B5088)=10,B5088+7,B5088),\"\")","v":""},"","","",null,null,null,0,0,0,0,{"$f":"IFERROR(VLOOKUP(G5089,DropDowns!$D$2:$E$151,2,FALSE),\"\")","v":""},{"$f":"IFERROR(VLOOKUP(H5089,DropDowns!$F$2:$G$7,2,FALSE),\"Residual categories\")","v":"Residual categories"},null,null,null,0,0,0]
[0,{"$f":"IF(OR(COUNTA(O5060:O5089)>0,COUNTA(O5089:$O$5195)>0),IF(COUNTIF(B5080:B5089,B5089)=10,B5089+7,B5089),\"\")","v":""},"","","",null,null,null,0,0,0,0,{"$f":"IFERROR(VLOOKUP(G5090,DropDowns!$D$2:$E$151,2,FALSE),\"\")","v":""},{"$f":"IFERROR(VLOOKUP(H5090,DropDowns!$F$2:$G$7,2,FALSE),\"Residual categories\")","v":"Residual categories"},null,null,null,0,0,0]
[0,{"$f":"IF(OR(COUNTA(O5061:O5090)>0,COUNTA(O5090:$O$5195)>0),IF(COUNTIF(B5081:B5090,B5090)=10,B5090+7,B5090),\"\")","v":""},"","","",null,null,null,0,0,0,0,{"$f":"IFERROR(VLOOKUP(G5091,DropDowns!$D$2:$E$151,2,FALSE),\"\")","v":""},{"$f":"IFERROR(VLOOKUP(H5091,DropDowns!$F$2:$G$7,2,FALSE),\"Residual categories\")","v":"Residual categories"},null,null,null,0,0,0]
[0,{"$f":"IF(OR(COUNTA(O5062:O5091)>0,COUNTA(O5091:$O$5195)>0),IF(COUNTIF(B5082:B5091,B5091)=10,B5091+7,B5091),\"\")","v":""},"","","",null,null,null,0,0,0,0,{"$f":"IFERROR(VLOOKUP(G5092,DropDowns!$D$2:$E$151,2,FALSE),\"\")","v":""},{"$f":"IFERROR(VLOOKUP(H5092,DropDowns!$F$2:$G$7,2,FALSE),\"Residual categories\")","v":"Residual categories"},null,null,null,0,0,0]
[0,{"$f":"IF(OR(COUNTA(O5063:O5092)>0,COUNTA(O5092:$O$5195)>0),IF(COUNTIF(B5083:B5092,B5092)=10,B5092+7,B5092),\"\")","v":""},"","","",null,null,null,0,0,0,0,{"$f":"IFERROR(VLOOKUP(G5093,DropDowns!$D$2:$E$151,2,FALSE),\"\")","v":""},{"$f":"IFERROR(VLOOKUP(H5093,DropDowns!$F$2:$G$7,2,FALSE),\"Residual categories\")","v":"Residual categories"},null,null,null,0,0,0]
[0,{"$f":"IF(OR(COUNTA(O5064:O5093)>0,COUNTA(O5093:$O$5195)>0),IF(COUNTIF(B5084:B5093,B5093)=10,B5093+7,B5093),\"\")","v":""},"","","",null,null,null,0,0,0,0,{"$f":"IFERROR(VLOOKUP(G5094,DropDowns!$D$2:$E$151,2,FALSE),\"\")","v":""},{"$f":"IFERROR(VLOOKUP(H5094,DropDowns!$F$2:$G$7,2,FALSE),\"Residual categories\")","v":"Residual categories"},null,null,null,0,0,0]
[0,{"$f":"IF(OR(COUNTA(O5065:O5094)>0,COUNTA(O5094:$O$5195)>0),IF(COUNTIF(B5085:B5094,B5094)=10,B5094+7,B5094),\"\")","v":""},"","","",null,null,null,0,0,0,0,{"$f":"IFERROR(VLOOKUP(G5095,DropDowns!$D$2:$E$151,2,FALSE),\"\")","v":""},{"$f":"IFERROR(VLOOKUP(H5095,DropDowns!$F$2:$G$7,2,FALSE),\"Residual categories\")","v":"Residual categories"},null,null,null,0,0,0]
[0,{"$f":"IF(OR(COUNTA(O5066:O5095)>0,COUNTA(O5095:$O$5195)>0),IF(COUNTIF(B5086:B5095,B5095)=10,B5095+7,B5095),\"\")","v":""},"","","",null,null,null,0,0,0,0,{"$f":"IFERROR(VLOOKUP(G5096,DropDowns!$D$2:$E$151,2,FALSE),\"\")","v":""},{"$f":"IFERROR(VLOOKUP(H5096,DropDowns!$F$2:$G$7,2,FALSE),\"Residual categories\")","v":"Residual categories"},null,null,null,0,0,0]
[0,{"$f":"IF(OR(COUNTA(O5067:O5096)>0,COUNTA(O5096:$O$5195)>0),IF(COUNTIF(B5087:B5096,B5096)=10,B5096+7,B5096),\"\")","v":""},"","","",null,null,null,0,0,0,0,{"$f":"IFERROR(VLOOKUP(G5097,DropDowns!$D$2:$E$151,2,FALSE),\"\")","v":""},{"$f":"IFERROR(VLOOKUP(H5097,DropDowns!$F$2:$G$7,2,FALSE),\"Residual categories\")","v":"Residual categories"},null,null,null,0,0,0]
[0,{"$f":"IF(OR(COUNTA(O5068:O5097)>0,COUNTA(O5097:$O$5195)>0),IF(COUNTIF(B5088:B5097,B5097)=10,B5097+7,B5097),\"\")","v":""},"","","",null,null,null,0,0,0,0,{"$f":"IFERROR(VLOOKUP(G5098,DropDowns!$D$2:$E$151,2,FALSE),\"\")","v":""},{"$f":"IFERROR(VLOOKUP(H5098,DropDowns!$F$2:$G$7,2,FALSE),\"Residual categories\")","v":"Residual categories"},null,null,null,0,0,0]
[0,{"$f":"IF(OR(COUNTA(O5069:O5098)>0,COUNTA(O5098:$O$5195)>0),IF(COUNTIF(B5089:B5098,B5098)=10,B5098+7,B5098),\"\")","v":""},"","","",null,null,null,0,0,0,0,{"$f":"IFERROR(VLOOKUP(G5099,DropDowns!$D$2:$E$151,2,FALSE),\"\")","v":""},{"$f":"IFERROR(VLOOKUP(H5099,DropDowns!$F$2:$G$7,2,FALSE),\"Residual categories\")","v":"Residual categories"},null,null,null,0,0,0]
[0,{"$f":"IF(OR(COUNTA(O5070:O5099)>0,COUNTA(O5099:$O$5195)>0),IF(COUNTIF(B5090:B5099,B5099)=10,B5099+7,B5099),\"\")","v":""},"","","",null,null,null,0,0,0,0,{"$f":"IFERROR(VLOOKUP(G5100,DropDowns!$D$2:$E$151,2,FALSE),\"\")","v":""},{"$f":"IFERROR(VLOOKUP(H5100,DropDowns!$F$2:$G$7,2,FALSE),\"Residual categories\")","v":"Residual categories"},null,null,null,0,0,0]
[0,{"$f":"IF(OR(COUNTA(O5071:O5100)>0,COUNTA(O5100:$O$5195)>0),IF(COUNTIF(B5091:B5100,B5100)=10,B5100+7,B5100),\"\")","v":""},"","","",null,null,null,0,0,0,0,{"$f":"IFERROR(VLOOKUP(G5101,DropDowns!$D$2:$E$151,2,FALSE),\"\")","v":""},{"$f":"IFERROR(VLOOKUP(H5101,DropDowns!$F$2:$G$7,2,FALSE),\"Residual categories\")","v":"Residual categories"},null,null,null,0,0,0]
[0,{"$f":"IF(OR(COUNTA(O5072:O5101)>0,COUNTA(O5101:$O$5195)>0),IF(COUNTIF(B5092:B5101,B5101)=10,B5101+7,B5101),\"\")","v":""},"","","",null,null,null,0,0,0,0,{"$f":"IFERROR(VLOOKUP(G5102,DropDowns!$D$2:$E$151,2,FALSE),\"\")","v":""},{"$f":"IFERROR(VLOOKUP(H5102,DropDowns!$F$2:$G$7,2,FALSE),\"Residual categories\")","v":"Residual categories"},null,null,null,0,0,0]
[0,{"$f":"IF(OR(COUNTA(O5073:O5102)>0,COUNTA(O5102:$O$5195)>0),IF(COUNTIF(B5093:B5102,B5102)=10,B5102+7,B5102),\"\")","v":""},"","","",null,null,null,0,0,0,0,{"$f":"IFERROR(VLOOKUP(G5103,DropDowns!$D$2:$E$151,2,FALSE),\"\")","v":""},{"$f":"IFERROR(VLOOKUP(H5103,DropDowns!$F$2:$G$7,2,FALSE),\"Residual categories\")","v":"Residual categories"},null,null,null,0,0,0]
[0,{"$f":"IF(OR(COUNTA(O5074:O5103)>0,COUNTA(O5103:$O$5195)>0),IF(COUNTIF(B5094:B5103,B5103)=10,B5103+7,B5103),\"\")","v":""},"","","",null,null,null,0,0,0,0,{"$f":"IFERROR(VLOOKUP(G5104,DropDowns!$D$2:$E$151,2,FALSE),\"\")","v":""},{"$f":"IFERROR(VLOOKUP(H5104,DropDowns!$F$2:$G$7,2,FALSE),\"Residual categories\")","v":"Residual categories"},null,null,null,0,0,0]
[0,{"$f":"IF(OR(COUNTA(O5075:O5104)>0,COUNTA(O5104:$O$5195)>0),IF(COUNTIF(B5095:B5104,B5104)=10,B5104+7,B5104),\"\")","v":""},"","","",null,null,null,0,0,0,0,{"$f":"IFERROR(VLOOKUP(G5105,DropDowns!$D$2:$E$151,2,FALSE),\"\")","v":""},{"$f":"IFERROR(VLOOKUP(H5105,DropDowns!$F$2:$G$7,2,FALSE),\"Residual categories\")","v":"Residual categories"},null,null,null,0,0,0]
[0,{"$f":"IF(OR(COUNTA(O5076:O5105)>0,COUNTA(O5105:$O$5195)>0),IF(COUNTIF(B5096:B5105,B5105)=10,B5105+7,B5105),\"\")","v":""},"","","",null,null,null,0,0,0,0,{"$f":"IFERROR(VLOOKUP(G5106,DropDowns!$D$2:$E$151,2,FALSE),\"\")","v":""},{"$f":"IFERROR(VLOOKUP(H5106,DropDowns!$F$2:$G$7,2,FALSE),\"Residual categories\")","v":"Residual categories"},null,null,null,0,0,0]
[0,{"$f":"IF(OR(COUNTA(O5077:O5106)>0,COUNTA(O5106:$O$5195)>0),IF(COUNTIF(B5097:B5106,B5106)=10,B5106+7,B5106),\"\")","v":""},"","","",null,null,null,0,0,0,0,{"$f":"IFERROR(VLOOKUP(G5107,DropDowns!$D$2:$E$151,2,FALSE),\"\")","v":""},{"$f":"IFERROR(VLOOKUP(H5107,DropDowns!$F$2:$G$7,2,FALSE),\"Residual categories\")","v":"Residual categories"},null,null,null,0,0,0]
[0,{"$f":"IF(OR(COUNTA(O5078:O5107)>0,COUNTA(O5107:$O$5195)>0),IF(COUNTIF(B5098:B5107,B5107)=10,B5107+7,B5107),\"\")","v":""},"","","",null,null,null,0,0,0,0,{"$f":"IFERROR(VLOOKUP(G5108,DropDowns!$D$2:$E$151,2,FALSE),\"\")","v":""},{"$f":"IFERROR(VLOOKUP(H5108,DropDowns!$F$2:$G$7,2,FALSE),\"Residual categories\")","v":"Residual categories"},null,null,null,0,0,0]
[0,{"$f":"IF(OR(COUNTA(O5079:O5108)>0,COUNTA(O5108:$O$5195)>0),IF(COUNTIF(B5099:B5108,B5108)=10,B5108+7,B5108),\"\")","v":""},"","","",null,null,null,0,0,0,0,{"$f":"IFERROR(VLOOKUP(G5109,DropDowns!$D$2:$E$151,2,FALSE),\"\")","v":""},{"$f":"IFERROR(VLOOKUP(H5109,DropDowns!$F$2:$G$7,2,FALSE),\"Residual categories\")","v":"Residual categories"},null,null,null,0,0,0]
[0,{"$f":"IF(OR(COUNTA(O5080:O5109)>0,COUNTA(O5109:$O$5195)>0),IF(COUNTIF(B5100:B5109,B5109)=10,B5109+7,B5109),\"\")","v":""},"","","",null,null,null,0,0,0,0,{"$f":"IFERROR(VLOOKUP(G5110,DropDowns!$D$2:$E$151,2,FALSE),\"\")","v":""},{"$f":"IFERROR(VLOOKUP(H5110,DropDowns!$F$2:$G$7,2,FALSE),\"Residual categories\")","v":"Residual categories"},null,null,null,0,0,0]
[0,{"$f":"IF(OR(COUNTA(O5081:O5110)>0,COUNTA(O5110:$O$5195)>0),IF(COUNTIF(B5101:B5110,B5110)=10,B5110+7,B5110),\"\")","v":""},"","","",null,null,null,0,0,0,0,{"$f":"IFERROR(VLOOKUP(G5111,DropDowns!$D$2:$E$151,2,FALSE),\"\")","v":""},{"$f":"IFERROR(VLOOKUP(H5111,DropDowns!$F$2:$G$7,2,FALSE),\"Residual categories\")","v":"Residual categories"},null,null,null,0,0,0]
[0,{"$f":"IF(OR(COUNTA(O5082:O5111)>0,COUNTA(O5111:$O$5195)>0),IF(COUNTIF(B5102:B5111,B5111)=10,B5111+7,B5111),\"\")","v":""},"","","",null,null,null,0,0,0,0,{"$f":"IFERROR(VLOOKUP(G5112,DropDowns!$D$2:$E$151,2,FALSE),\"\")","v":""},{"$f":"IFERROR(VLOOKUP(H5112,DropDowns!$F$2:$G$7,2,FALSE),\"Residual categories\")","v":"Residual categories"},null,null,null,0,0,0]
[0,{"$f":"IF(OR(COUNTA(O5083:O5112)>0,COUNTA(O5112:$O$5195)>0),IF(COUNTIF(B5103:B5112,B5112)=10,B5112+7,B5112),\"\")","v":""},"","","",null,null,null,0,0,0,0,{"$f":"IFERROR(VLOOKUP(G5113,DropDowns!$D$2:$E$151,2,FALSE),\"\")","v":""},{"$f":"IFERROR(VLOOKUP(H5113,DropDowns!$F$2:$G$7,2,FALSE),\"Residual categories\")","v":"Residual categories"},null,null,null,0,0,0]
[0,{"$f":"IF(OR(COUNTA(O5084:O5113)>0,COUNTA(O5113:$O$5195)>0),IF(COUNTIF(B5104:B5113,B5113)=10,B5113+7,B5113),\"\")","v":""},"","","",null,null,null,0,0,0,0,{"$f":"IFERROR(VLOOKUP(G5114,DropDowns!$D$2:$E$151,2,FALSE),\"\")","v":""},{"$f":"IFERROR(VLOOKUP(H5114,DropDowns!$F$2:$G$7,2,FALSE),\"Residual categories\")","v":"Residual categories"},null,null,null,0,0,0]
[0,{"$f":"IF(OR(COUNTA(O5085:O5114)>0,COUNTA(O5114:$O$5195)>0),IF(COUNTIF(B5105:B5114,B5114)=10,B5114+7,B5114),\"\")","v":""},"","","",null,null,null,0,0,0,0,{"$f":"IFERROR(VLOOKUP(G5115,DropDowns!$D$2:$E$151,2,FALSE),\"\")","v":""},{"$f":"IFERROR(VLOOKUP(H5115,DropDowns!$F$2:$G$7,2,FALSE),\"Residual categories\")","v":"Residual categories"},null,null,null,0,0,0]
[0,{"$f":"IF(OR(COUNTA(O5086:O5115)>0,COUNTA(O5115:$O$5195)>0),IF(COUNTIF(B5106:B5115,B5115)=10,B5115+7,B5115),\"\")","v":""},"","","",null,null,null,0,0,0,0,{"$f":"IFERROR(VLOOKUP(G5116,DropDowns!$D$2:$E$151,2,FALSE),\"\")","v":""},{"$f":"IFERROR(VLOOKUP(H5116,DropDowns!$F$2:$G$7,2,FALSE),\"Residual categories\")","v":"Residual categories"},null,null,null,0,0,0]
[0,{"$f":"IF(OR(COUNTA(O5087:O5116)>0,COUNTA(O5116:$O$5195)>0),IF(COUNTIF(B5107:B5116,B5116)=10,B5116+7,B5116),\"\")","v":""},"","","",null,null,null,0,0,0,0,{"$f":"IFERROR(VLOOKUP(G5117,DropDowns!$D$2:$E$151,2,FALSE),\"\")","v":""},{"$f":"IFERROR(VLOOKUP(H5117,DropDowns!$F$2:$G$7,2,FALSE),\"Residual categories\")","v":"Residual categories"},null,null,null,0,0,0]
[0,{"$f":"IF(OR(COUNTA(O5088:O5117)>0,COUNTA(O5117:$O$5195)>0),IF(COUNTIF(B5108:B5117,B5117)=10,B5117+7,B5117),\"\")","v":""},"","","",null,null,null,0,0,0,0,{"$f":"IFERROR(VLOOKUP(G5118,DropDowns!$D$2:$E$151,2,FALSE),\"\")","v":""},{"$f":"IFERROR(VLOOKUP(H5118,DropDowns!$F$2:$G$7,2,FALSE),\"Residual categories\")","v":"Residual categories"},null,null,null,0,0,0]
[0,{"$f":"IF(OR(COUNTA(O5089:O5118)>0,COUNTA(O5118:$O$5195)>0),IF(COUNTIF(B5109:B5118,B5118)=10,B5118+7,B5118),\"\")","v":""},"","","",null,null,null,0,0,0,0,{"$f":"IFERROR(VLOOKUP(G5119,DropDowns!$D$2:$E$151,2,FALSE),\"\")","v":""},{"$f":"IFERROR(VLOOKUP(H5119,DropDowns!$F$2:$G$7,2,FALSE),\"Residual categories\")","v":"Residual categories"},null,null,null,0,0,0]
[0,{"$f":"IF(OR(COUNTA(O5090:O5119)>0,COUNTA(O5119:$O$5195)>0),IF(COUNTIF(B5110:B5119,B5119)=10,B5119+7,B5119),\"\")","v":""},"","","",null,null,null,0,0,0,0,{"$f":"IFERROR(VLOOKUP(G5120,DropDowns!$D$2:$E$151,2,FALSE),\"\")","v":""},{"$f":"IFERROR(VLOOKUP(H5120,DropDowns!$F$2:$G$7,2,FALSE),\"Residual categories\")","v":"Residual categories"},null,null,null,0,0,0]
[0,{"$f":"IF(OR(COUNTA(O5091:O5120)>0,COUNTA(O5120:$O$5195)>0),IF(COUNTIF(B5111:B5120,B5120)=10,B5120+7,B5120),\"\")","v":""},"","","",null,null,null,0,0,0,0,{"$f":"IFERROR(VLOOKUP(G5121,DropDowns!$D$2:$E$151,2,FALSE),\"\")","v":""},{"$f":"IFERROR(VLOOKUP(H5121,DropDowns!$F$2:$G$7,2,FALSE),\"Residual categories\")","v":"Residual categories"},null,null,null,0,0,0]
[0,{"$f":"IF(OR(COUNTA(O5092:O5121)>0,COUNTA(O5121:$O$5195)>0),IF(COUNTIF(B5112:B5121,B5121)=10,B5121+7,B5121),\"\")","v":""},"","","",null,null,null,0,0,0,0,{"$f":"IFERROR(VLOOKUP(G5122,DropDowns!$D$2:$E$151,2,FALSE),\"\")","v":""},{"$f":"IFERROR(VLOOKUP(H5122,DropDowns!$F$2:$G$7,2,FALSE),\"Residual categories\")","v":"Residual categories"},null,null,null,0,0,0]
[0,{"$f":"IF(OR(COUNTA(O5093:O5122)>0,COUNTA(O5122:$O$5195)>0),IF(COUNTIF(B5113:B5122,B5122)=10,B5122+7,B5122),\"\")","v":""},"","","",null,null,null,0,0,0,0,{"$f":"IFERROR(VLOOKUP(G5123,DropDowns!$D$2:$E$151,2,FALSE),\"\")","v":""},{"$f":"IFERROR(VLOOKUP(H5123,DropDowns!$F$2:$G$7,2,FALSE),\"Residual categories\")","v":"Residual categories"},null,null,null,0,0,0]
[0,{"$f":"IF(OR(COUNTA(O5094:O5123)>0,COUNTA(O5123:$O$5195)>0),IF(COUNTIF(B5114:B5123,B5123)=10,B5123+7,B5123),\"\")","v":""},"","","",null,null,null,0,0,0,0,{"$f":"IFERROR(VLOOKUP(G5124,DropDowns!$D$2:$E$151,2,FALSE),\"\")","v":""},{"$f":"IFERROR(VLOOKUP(H5124,DropDowns!$F$2:$G$7,2,FALSE),\"Residual categories\")","v":"Residual categories"},null,null,null,0,0,0]
[0,{"$f":"IF(OR(COUNTA(O5095:O5124)>0,COUNTA(O5124:$O$5195)>0),IF(COUNTIF(B5115:B5124,B5124)=10,B5124+7,B5124),\"\")","v":""},"","","",null,null,null,0,0,0,0,{"$f":"IFERROR(VLOOKUP(G5125,DropDowns!$D$2:$E$151,2,FALSE),\"\")","v":""},{"$f":"IFERROR(VLOOKUP(H5125,DropDowns!$F$2:$G$7,2,FALSE),\"Residual categories\")","v":"Residual categories"},null,null,null,0,0,0]
[0,{"$f":"IF(OR(COUNTA(O5096:O5125)>0,COUNTA(O5125:$O$5195)>0),IF(COUNTIF(B5116:B5125,B5125)=10,B5125+7,B5125),\"\")","v":""},"","","",null,null,null,0,0,0,0,{"$f":"IFERROR(VLOOKUP(G5126,DropDowns!$D$2:$E$151,2,FALSE),\"\")","v":""},{"$f":"IFERROR(VLOOKUP(H5126,DropDowns!$F$2:$G$7,2,FALSE),\"Residual categories\")","v":"Residual categories"},null,null,null,0,0,0]
[0,{"$f":"IF(OR(COUNTA(O5097:O5126)>0,COUNTA(O5126:$O$5195)>0),IF(COUNTIF(B5117:B5126,B5126)=10,B5126+7,B5126),\"\")","v":""},{"$f":"IF(D5127=1,A5127,\"\")","v":""},"","",null,null,null,{"$f":"IF(COUNTA(O5127:Q5127)>0,1,0)","v":0},{"$f":"IF(O5127=\"y\",1,0)","v":0},{"$f":"IF(P5127=\"y\",1,0)","v":0},{"$f":"IF(Q5127=\"y\",1,0)","v":0},{"$f":"IFERROR(VLOOKUP(G5127,DropDowns!$D$2:$E$151,2,FALSE),\"\")","v":""},{"$f":"IFERROR(VLOOKUP(H5127,DropDowns!$F$2:$G$7,2,FALSE),\"Residual categories\")","v":"Residual categories"},null,null,null,{"$f":"IF(O5127=\"yes\",1,0)","v":0},{"$f":"IF(P5127=\"yes\",1,0)","v":0},{"$f":"IF(Q5127=\"yes\",1,0)","v":0}]
[0,{"$f":"IF(OR(COUNTA(O5098:O5127)>0,COUNTA(O5127:$O$5195)>0),IF(COUNTIF(B5118:B5127,B5127)=10,B5127+7,B5127),\"\")","v":""},"","","",null,null,null,0,0,0,0,{"$f":"IFERROR(VLOOKUP(G5128,DropDowns!$D$2:$E$151,2,FALSE),\"\")","v":""},{"$f":"IFERROR(VLOOKUP(H5128,DropDowns!$F$2:$G$7,2,FALSE),\"Residual categories\")","v":"Residual categories"},null,null,null,0,0,0]
[0,{"$f":"IF(OR(COUNTA(O5099:O5128)>0,COUNTA(O5128:$O$5195)>0),IF(COUNTIF(B5119:B5128,B5128)=10,B5128+7,B5128),\"\")","v":""},"","","",null,null,null,0,0,0,0,{"$f":"IFERROR(VLOOKUP(G5129,DropDowns!$D$2:$E$151,2,FALSE),\"\")","v":""},{"$f":"IFERROR(VLOOKUP(H5129,DropDowns!$F$2:$G$7,2,FALSE),\"Residual categories\")","v":"Residual categories"},null,null,null,0,0,0]
[0,{"$f":"IF(OR(COUNTA(O5100:O5129)>0,COUNTA(O5129:$O$5195)>0),IF(COUNTIF(B5120:B5129,B5129)=10,B5129+7,B5129),\"\")","v":""},"","","",null,null,null,0,0,0,0,{"$f":"IFERROR(VLOOKUP(G5130,DropDowns!$D$2:$E$151,2,FALSE),\"\")","v":""},{"$f":"IFERROR(VLOOKUP(H5130,DropDowns!$F$2:$G$7,2,FALSE),\"Residual categories\")","v":"Residual categories"},null,null,null,0,0,0]
[0,{"$f":"IF(OR(COUNTA(O5101:O5130)>0,COUNTA(O5130:$O$5195)>0),IF(COUNTIF(B5121:B5130,B5130)=10,B5130+7,B5130),\"\")","v":""},"","","",null,null,null,0,0,0,0,{"$f":"IFERROR(VLOOKUP(G5131,DropDowns!$D$2:$E$151,2,FALSE),\"\")","v":""},{"$f":"IFERROR(VLOOKUP(H5131,DropDowns!$F$2:$G$7,2,FALSE),\"Residual categories\")","v":"Residual categories"},null,null,null,0,0,0]
[0,{"$f":"IF(OR(COUNTA(O5102:O5131)>0,COUNTA(O5131:$O$5195)>0),IF(COUNTIF(B5122:B5131,B5131)=10,B5131+7,B5131),\"\")","v":""},"","","",null,null,null,0,0,0,0,{"$f":"IFERROR(VLOOKUP(G5132,DropDowns!$D$2:$E$151,2,FALSE),\"\")","v":""},{"$f":"IFERROR(VLOOKUP(H5132,DropDowns!$F$2:$G$7,2,FALSE),\"Residual categories\")","v":"Residual categories"},null,null,null,0,0,0]
[0,{"$f":"IF(OR(COUNTA(O5103:O5132)>0,COUNTA(O5132:$O$5195)>0),IF(COUNTIF(B5123:B5132,B5132)=10,B5132+7,B5132),\"\")","v":""},"","","",null,null,null,0,0,0,0,{"$f":"IFERROR(VLOOKUP(G5133,DropDowns!$D$2:$E$151,2,FALSE),\"\")","v":""},{"$f":"IFERROR(VLOOKUP(H5133,DropDowns!$F$2:$G$7,2,FALSE),\"Residual categories\")","v":"Residual categories"},null,null,null,0,0,0]
[0,{"$f":"IF(OR(COUNTA(O5104:O5133)>0,COUNTA(O5133:$O$5195)>0),IF(COUNTIF(B5124:B5133,B5133)=10,B5133+7,B5133),\"\")","v":""},"","","",null,null,null,0,0,0,0,{"$f":"IFERROR(VLOOKUP(G5134,DropDowns!$D$2:$E$151,2,FALSE),\"\")","v":""},{"$f":"IFERROR(VLOOKUP(H5134,DropDowns!$F$2:$G$7,2,FALSE),\"Residual categories\")","v":"Residual categories"},null,null,null,0,0,0]
[0,{"$f":"IF(OR(COUNTA(O5105:O5134)>0,COUNTA(O5134:$O$5195)>0),IF(COUNTIF(B5125:B5134,B5134)=10,B5134+7,B5134),\"\")","v":""},"","","",null,null,null,0,0,0,0,{"$f":"IFERROR(VLOOKUP(G5135,DropDowns!$D$2:$E$151,2,FALSE),\"\")","v":""},{"$f":"IFERROR(VLOOKUP(H5135,DropDowns!$F$2:$G$7,2,FALSE),\"Residual categories\")","v":"Residual categories"},null,null,null,0,0,0]
[0,{"$f":"IF(OR(COUNTA(O5106:O5135)>0,COUNTA(O5135:$O$5195)>0),IF(COUNTIF(B5126:B5135,B5135)=10,B5135+7,B5135),\"\")","v":""},"","","",null,null,null,0,0,0,0,{"$f":"IFERROR(VLOOKUP(G5136,DropDowns!$D$2:$E$151,2,FALSE),\"\")","v":""},{"$f":"IFERROR(VLOOKUP(H5136,DropDowns!$F$2:$G$7,2,FALSE),\"Residual categories\")","v":"Residual categories"},null,null,null,0,0,0]
[0,{"$f":"IF(OR(COUNTA(O5107:O5136)>0,COUNTA(O5136:$O$5195)>0),IF(COUNTIF(B5127:B5136,B5136)=10,B5136+7,B5136),\"\")","v":""},"","",{"$f":"IF(B5137=\"\",\"\",COUNTIF(B5128:B5137,B5137))","v":""},null,null,null,0,0,0,0,{"$f":"IFERROR(VLOOKUP(G5137,DropDowns!$D$2:$E$151,2,FALSE),\"\")","v":""},{"$f":"IFERROR(VLOOKUP(H5137,DropDowns!$F$2:$G$7,2,FALSE),\"Residual categories\")","v":"Residual categories"},null,null,null,0,0,0]
[0,{"$f":"IF(OR(COUNTA(O5108:O5137)>0,COUNTA(O5137:$O$5195)>0),IF(COUNTIF(B5128:B5137,B5137)=10,B5137+7,B5137),\"\")","v":""},"","","",null,null,null,0,0,0,0,{"$f":"IFERROR(VLOOKUP(G5138,DropDowns!$D$2:$E$151,2,FALSE),\"\")","v":""},{"$f":"IFERROR(VLOOKUP(H5138,DropDowns!$F$2:$G$7,2,FALSE),\"Residual categories\")","v":"Residual categories"},null,null,null,0,0,0]
[0,{"$f":"IF(OR(COUNTA(O5109:O5138)>0,COUNTA(O5138:$O$5195)>0),IF(COUNTIF(B5129:B5138,B5138)=10,B5138+7,B5138),\"\")","v":""},"","","",null,null,null,0,0,0,0,{"$f":"IFERROR(VLOOKUP(G5139,DropDowns!$D$2:$E$151,2,FALSE),\"\")","v":""},{"$f":"IFERROR(VLOOKUP(H5139,DropDowns!$F$2:$G$7,2,FALSE),\"Residual categories\")","v":"Residual categories"},null,null,null,0,0,0]
[{"$f":"$E$2","v":0},{"$f":"IF(OR(COUNTA(O5110:O5139)>0,COUNTA(O5139:$O$5195)>0),IF(COUNTIF(B5130:B5139,B5139)=10,B5139+7,B5139),\"\")","v":""},"","","",null,null,null,0,0,0,0,{"$f":"IFERROR(VLOOKUP(G5140,DropDowns!$D$2:$E$151,2,FALSE),\"\")","v":""},{"$f":"IFERROR(VLOOKUP(H5140,DropDowns!$F$2:$G$7,2,FALSE),\"Residual categories\")","v":"Residual categories"},null,null,null,0,0,0]
[0,{"$f":"IF(OR(COUNTA(O5111:O5140)>0,COUNTA(O5140:$O$5195)>0),IF(COUNTIF(B5131:B5140,B5140)=10,B5140+7,B5140),\"\")","v":""},"","","",null,null,null,0,0,0,0,{"$f":"IFERROR(VLOOKUP(G5141,DropDowns!$D$2:$E$151,2,FALSE),\"\")","v":""},{"$f":"IFERROR(VLOOKUP(H5141,DropDowns!$F$2:$G$7,2,FALSE),\"Residual categories\")","v":"Residual categories"},null,null,null,0,0,0]
[0,{"$f":"IF(OR(COUNTA(O5112:O5141)>0,COUNTA(O5141:$O$5195)>0),IF(COUNTIF(B5132:B5141,B5141)=10,B5141+7,B5141),\"\")","v":""},"","","",null,null,null,0,0,0,0,{"$f":"IFERROR(VLOOKUP(G5142,DropDowns!$D$2:$E$151,2,FALSE),\"\")","v":""},{"$f":"IFERROR(VLOOKUP(H5142,DropDowns!$F$2:$G$7,2,FALSE),\"Residual categories\")","v":"Residual categories"},null,null,null,0,0,0]
[0,{"$f":"IF(OR(COUNTA(O5113:O5142)>0,COUNTA(O5142:$O$5195)>0),IF(COUNTIF(B5133:B5142,B5142)=10,B5142+7,B5142),\"\")","v":""},"","","",null,null,null,0,0,0,0,{"$f":"IFERROR(VLOOKUP(G5143,DropDowns!$D$2:$E$151,2,FALSE),\"\")","v":""},{"$f":"IFERROR(VLOOKUP(H5143,DropDowns!$F$2:$G$7,2,FALSE),\"Residual categories\")","v":"Residual categories"},null,null,null,0,0,0]
[0,{"$f":"IF(OR(COUNTA(O5114:O5143)>0,COUNTA(O5143:$O$5195)>0),IF(COUNTIF(B5134:B5143,B5143)=10,B5143+7,B5143),\"\")","v":""},"","","",null,null,null,0,0,0,0,{"$f":"IFERROR(VLOOKUP(G5144,DropDowns!$D$2:$E$151,2,FALSE),\"\")","v":""},{"$f":"IFERROR(VLOOKUP(H5144,DropDowns!$F$2:$G$7,2,FALSE),\"Residual categories\")","v":"Residual categories"},null,null,null,0,0,0]
[0,{"$f":"IF(OR(COUNTA(O5115:O5144)>0,COUNTA(O5144:$O$5195)>0),IF(COUNTIF(B5135:B5144,B5144)=10,B5144+7,B5144),\"\")","v":""},"","","",null,null,null,0,0,0,0,{"$f":"IFERROR(VLOOKUP(G5145,DropDowns!$D$2:$E$151,2,FALSE),\"\")","v":""},{"$f":"IFERROR(VLOOKUP(H5145,DropDowns!$F$2:$G$7,2,FALSE),\"Residual categories\")","v":"Residual categories"},null,null,null,0,0,0]
[0,{"$f":"IF(OR(COUNTA(O5116:O5145)>0,COUNTA(O5145:$O$5195)>0),IF(COUNTIF(B5136:B5145,B5145)=10,B5145+7,B5145),\"\")","v":""},"","","",null,null,null,0,0,0,0,{"$f":"IFERROR(VLOOKUP(G5146,DropDowns!$D$2:$E$151,2,FALSE),\"\")","v":""},{"$f":"IFERROR(VLOOKUP(H5146,DropDowns!$F$2:$G$7,2,FALSE),\"Residual categories\")","v":"Residual categories"},null,null,null,0,0,0]
[0,{"$f":"IF(OR(COUNTA(O5117:O5146)>0,COUNTA(O5146:$O$5195)>0),IF(COUNTIF(B5137:B5146,B5146)=10,B5146+7,B5146),\"\")","v":""},"","","",null,null,null,0,0,0,0,{"$f":"IFERROR(VLOOKUP(G5147,DropDowns!$D$2:$E$151,2,FALSE),\"\")","v":""},{"$f":"IFERROR(VLOOKUP(H5147,DropDowns!$F$2:$G$7,2,FALSE),\"Residual categories\")","v":"Residual categories"},null,null,null,0,0,0]
[0,{"$f":"IF(OR(COUNTA(O5118:O5147)>0,COUNTA(O5147:$O$5195)>0),IF(COUNTIF(B5138:B5147,B5147)=10,B5147+7,B5147),\"\")","v":""},"","","",null,null,null,0,0,0,0,{"$f":"IFERROR(VLOOKUP(G5148,DropDowns!$D$2:$E$151,2,FALSE),\"\")","v":""},{"$f":"IFERROR(VLOOKUP(H5148,DropDowns!$F$2:$G$7,2,FALSE),\"Residual categories\")","v":"Residual categories"},null,null,null,0,0,0]
[0,{"$f":"IF(OR(COUNTA(O5119:O5148)>0,COUNTA(O5148:$O$5195)>0),IF(COUNTIF(B5139:B5148,B5148)=10,B5148+7,B5148),\"\")","v":""},"","","",null,null,null,0,0,0,0,{"$f":"IFERROR(VLOOKUP(G5149,DropDowns!$D$2:$E$151,2,FALSE),\"\")","v":""},{"$f":"IFERROR(VLOOKUP(H5149,DropDowns!$F$2:$G$7,2,FALSE),\"Residual categories\")","v":"Residual categories"},null,null,null,0,0,0]
[0,{"$f":"IF(OR(COUNTA(O5120:O5149)>0,COUNTA(O5149:$O$5195)>0),IF(COUNTIF(B5140:B5149,B5149)=10,B5149+7,B5149),\"\")","v":""},"","","",null,null,null,0,0,0,0,{"$f":"IFERROR(VLOOKUP(G5150,DropDowns!$D$2:$E$151,2,FALSE),\"\")","v":""},{"$f":"IFERROR(VLOOKUP(H5150,DropDowns!$F$2:$G$7,2,FALSE),\"Residual categories\")","v":"Residual categories"},null,null,null,0,0,0]
[0,{"$f":"IF(OR(COUNTA(O5121:O5150)>0,COUNTA(O5150:$O$5195)>0),IF(COUNTIF(B5141:B5150,B5150)=10,B5150+7,B5150),\"\")","v":""},"","","",null,null,null,0,0,0,0,{"$f":"IFERROR(VLOOKUP(G5151,DropDowns!$D$2:$E$151,2,FALSE),\"\")","v":""},{"$f":"IFERROR(VLOOKUP(H5151,DropDowns!$F$2:$G$7,2,FALSE),\"Residual categories\")","v":"Residual categories"},null,null,null,0,0,0]
[0,{"$f":"IF(OR(COUNTA(O5122:O5151)>0,COUNTA(O5151:$O$5195)>0),IF(COUNTIF(B5142:B5151,B5151)=10,B5151+7,B5151),\"\")","v":""},"","","",null,null,null,0,0,0,0,{"$f":"IFERROR(VLOOKUP(G5152,DropDowns!$D$2:$E$151,2,FALSE),\"\")","v":""},{"$f":"IFERROR(VLOOKUP(H5152,DropDowns!$F$2:$G$7,2,FALSE),\"Residual categories\")","v":"Residual categories"},null,null,null,0,0,0]
[0,{"$f":"IF(OR(COUNTA(O5123:O5152)>0,COUNTA(O5152:$O$5195)>0),IF(COUNTIF(B5143:B5152,B5152)=10,B5152+7,B5152),\"\")","v":""},"","","",null,null,null,0,0,0,0,{"$f":"IFERROR(VLOOKUP(G5153,DropDowns!$D$2:$E$151,2,FALSE),\"\")","v":""},{"$f":"IFERROR(VLOOKUP(H5153,DropDowns!$F$2:$G$7,2,FALSE),\"Residual categories\")","v":"Residual categories"},null,null,null,0,0,0]
[0,{"$f":"IF(OR(COUNTA(O5124:O5153)>0,COUNTA(O5153:$O$5195)>0),IF(COUNTIF(B5144:B5153,B5153)=10,B5153+7,B5153),\"\")","v":""},"","","",null,null,null,0,0,0,0,{"$f":"IFERROR(VLOOKUP(G5154,DropDowns!$D$2:$E$151,2,FALSE),\"\")","v":""},{"$f":"IFERROR(VLOOKUP(H5154,DropDowns!$F$2:$G$7,2,FALSE),\"Residual categories\")","v":"Residual categories"},null,null,null,0,0,0]
[0,{"$f":"IF(OR(COUNTA(O5125:O5154)>0,COUNTA(O5154:$O$5195)>0),IF(COUNTIF(B5145:B5154,B5154)=10,B5154+7,B5154),\"\")","v":""},"","","",null,null,null,0,0,0,0,{"$f":"IFERROR(VLOOKUP(G5155,DropDowns!$D$2:$E$151,2,FALSE),\"\")","v":""},{"$f":"IFERROR(VLOOKUP(H5155,DropDowns!$F$2:$G$7,2,FALSE),\"Residual categories\")","v":"Residual categories"},null,null,null,0,0,0]
[0,{"$f":"IF(OR(COUNTA(O5126:O5155)>0,COUNTA(O5155:$O$5195)>0),IF(COUNTIF(B5146:B5155,B5155)=10,B5155+7,B5155),\"\")","v":""},"","","",null,null,null,0,0,0,0,{"$f":"IFERROR(VLOOKUP(G5156,DropDowns!$D$2:$E$151,2,FALSE),\"\")","v":""},{"$f":"IFERROR(VLOOKUP(H5156,DropDowns!$F$2:$G$7,2,FALSE),\"Residual categories\")","v":"Residual categories"},null,null,null,0,0,0]
[0,{"$f":"IF(OR(COUNTA(O5127:O5156)>0,COUNTA(O5156:$O$5195)>0),IF(COUNTIF(B5147:B5156,B5156)=10,B5156+7,B5156),\"\")","v":""},"","","",null,null,null,0,0,0,0,{"$f":"IFERROR(VLOOKUP(G5157,DropDowns!$D$2:$E$151,2,FALSE),\"\")","v":""},{"$f":"IFERROR(VLOOKUP(H5157,DropDowns!$F$2:$G$7,2,FALSE),\"Residual categories\")","v":"Residual categories"},null,null,null,0,0,0]
[0,{"$f":"IF(OR(COUNTA(O5128:O5157)>0,COUNTA(O5157:$O$5195)>0),IF(COUNTIF(B5148:B5157,B5157)=10,B5157+7,B5157),\"\")","v":""},"","","",null,null,null,0,0,0,0,{"$f":"IFERROR(VLOOKUP(G5158,DropDowns!$D$2:$E$151,2,FALSE),\"\")","v":""},{"$f":"IFERROR(VLOOKUP(H5158,DropDowns!$F$2:$G$7,2,FALSE),\"Residual categories\")","v":"Residual categories"},null,null,null,0,0,0]
[0,{"$f":"IF(OR(COUNTA(O5129:O5158)>0,COUNTA(O5158:$O$5195)>0),IF(COUNTIF(B5149:B5158,B5158)=10,B5158+7,B5158),\"\")","v":""},"","","",null,null,null,0,0,0,0,{"$f":"IFERROR(VLOOKUP(G5159,DropDowns!$D$2:$E$151,2,FALSE),\"\")","v":""},{"$f":"IFERROR(VLOOKUP(H5159,DropDowns!$F$2:$G$7,2,FALSE),\"Residual categories\")","v":"Residual categories"},null,null,null,0,0,0]
[0,{"$f":"IF(OR(COUNTA(O5130:O5159)>0,COUNTA(O5159:$O$5195)>0),IF(COUNTIF(B5150:B5159,B5159)=10,B5159+7,B5159),\"\")","v":""},"","","",null,null,null,0,0,0,0,{"$f":"IFERROR(VLOOKUP(G5160,DropDowns!$D$2:$E$151,2,FALSE),\"\")","v":""},{"$f":"IFERROR(VLOOKUP(H5160,DropDowns!$F$2:$G$7,2,FALSE),\"Residual categories\")","v":"Residual categories"},null,null,null,0,0,0]
[0,{"$f":"IF(OR(COUNTA(O5131:O5160)>0,COUNTA(O5160:$O$5195)>0),IF(COUNTIF(B5151:B5160,B5160)=10,B5160+7,B5160),\"\")","v":""},"","","",null,null,null,0,0,0,0,{"$f":"IFERROR(VLOOKUP(G5161,DropDowns!$D$2:$E$151,2,FALSE),\"\")","v":""},{"$f":"IFERROR(VLOOKUP(H5161,DropDowns!$F$2:$G$7,2,FALSE),\"Residual categories\")","v":"Residual categories"},null,null,null,0,0,0]
[0,{"$f":"IF(OR(COUNTA(O5132:O5161)>0,COUNTA(O5161:$O$5195)>0),IF(COUNTIF(B5152:B5161,B5161)=10,B5161+7,B5161),\"\")","v":""},"","","",null,null,null,0,0,0,0,{"$f":"IFERROR(VLOOKUP(G5162,DropDowns!$D$2:$E$151,2,FALSE),\"\")","v":""},{"$f":"IFERROR(VLOOKUP(H5162,DropDowns!$F$2:$G$7,2,FALSE),\"Residual categories\")","v":"Residual categories"},null,null,null,0,0,0]
[0,{"$f":"IF(OR(COUNTA(O5133:O5162)>0,COUNTA(O5162:$O$5195)>0),IF(COUNTIF(B5153:B5162,B5162)=10,B5162+7,B5162),\"\")","v":""},"","","",null,null,null,0,0,0,0,{"$f":"IFERROR(VLOOKUP(G5163,DropDowns!$D$2:$E$151,2,FALSE),\"\")","v":""},{"$f":"IFERROR(VLOOKUP(H5163,DropDowns!$F$2:$G$7,2,FALSE),\"Residual categories\")","v":"Residual categories"},null,null,null,0,0,0]
[0,{"$f":"IF(OR(COUNTA(O5134:O5163)>0,COUNTA(O5163:$O$5195)>0),IF(COUNTIF(B5154:B5163,B5163)=10,B5163+7,B5163),\"\")","v":""},"","","",null,null,null,0,0,0,0,{"$f":"IFERROR(VLOOKUP(G5164,DropDowns!$D$2:$E$151,2,FALSE),\"\")","v":""},{"$f":"IFERROR(VLOOKUP(H5164,DropDowns!$F$2:$G$7,2,FALSE),\"Residual categories\")","v":"Residual categories"},null,null,null,0,0,0]
[0,{"$f":"IF(OR(COUNTA(O5135:O5164)>0,COUNTA(O5164:$O$5195)>0),IF(COUNTIF(B5155:B5164,B5164)=10,B5164+7,B5164),\"\")","v":""},"","","",null,null,null,0,0,0,0,{"$f":"IFERROR(VLOOKUP(G5165,DropDowns!$D$2:$E$151,2,FALSE),\"\")","v":""},{"$f":"IFERROR(VLOOKUP(H5165,DropDowns!$F$2:$G$7,2,FALSE),\"Residual categories\")","v":"Residual categories"},null,null,null,0,0,0]
[0,{"$f":"IF(OR(COUNTA(O5136:O5165)>0,COUNTA(O5165:$O$5195)>0),IF(COUNTIF(B5156:B5165,B5165)=10,B5165+7,B5165),\"\")","v":""},"","","",null,null,null,0,0,0,0,{"$f":"IFERROR(VLOOKUP(G5166,DropDowns!$D$2:$E$151,2,FALSE),\"\")","v":""},{"$f":"IFERROR(VLOOKUP(H5166,DropDowns!$F$2:$G$7,2,FALSE),\"Residual categories\")","v":"Residual categories"},null,null,null,0,0,0]
[0,{"$f":"IF(OR(COUNTA(O5137:O5166)>0,COUNTA(O5166:$O$5195)>0),IF(COUNTIF(B5157:B5166,B5166)=10,B5166+7,B5166),\"\")","v":""},"","","",null,null,null,0,0,0,0,{"$f":"IFERROR(VLOOKUP(G5167,DropDowns!$D$2:$E$151,2,FALSE),\"\")","v":""},{"$f":"IFERROR(VLOOKUP(H5167,DropDowns!$F$2:$G$7,2,FALSE),\"Residual categories\")","v":"Residual categories"},null,null,null,0,0,0]
[0,{"$f":"IF(OR(COUNTA(O5138:O5167)>0,COUNTA(O5167:$O$5195)>0),IF(COUNTIF(B5158:B5167,B5167)=10,B5167+7,B5167),\"\")","v":""},"","","",null,null,null,0,0,0,0,{"$f":"IFERROR(VLOOKUP(G5168,DropDowns!$D$2:$E$151,2,FALSE),\"\")","v":""},{"$f":"IFERROR(VLOOKUP(H5168,DropDowns!$F$2:$G$7,2,FALSE),\"Residual categories\")","v":"Residual categories"},null,null,null,0,0,0]
[0,{"$f":"IF(OR(COUNTA(O5139:O5168)>0,COUNTA(O5168:$O$5195)>0),IF(COUNTIF(B5159:B5168,B5168)=10,B5168+7,B5168),\"\")","v":""},"","","",null,null,null,0,0,0,0,{"$f":"IFERROR(VLOOKUP(G5169,DropDowns!$D$2:$E$151,2,FALSE),\"\")","v":""},{"$f":"IFERROR(VLOOKUP(H5169,DropDowns!$F$2:$G$7,2,FALSE),\"Residual categories\")","v":"Residual categories"},null,null,null,0,0,0]
[0,{"$f":"IF(OR(COUNTA(O5140:O5169)>0,COUNTA(O5169:$O$5195)>0),IF(COUNTIF(B5160:B5169,B5169)=10,B5169+7,B5169),\"\")","v":""},"","","",null,null,null,0,0,0,0,{"$f":"IFERROR(VLOOKUP(G5170,DropDowns!$D$2:$E$151,2,FALSE),\"\")","v":""},{"$f":"IFERROR(VLOOKUP(H5170,DropDowns!$F$2:$G$7,2,FALSE),\"Residual categories\")","v":"Residual categories"},null,null,null,0,0,0]
[0,{"$f":"IF(OR(COUNTA(O5141:O5170)>0,COUNTA(O5170:$O$5195)>0),IF(COUNTIF(B5161:B5170,B5170)=10,B5170+7,B5170),\"\")","v":""},"","","",null,null,null,0,0,0,0,{"$f":"IFERROR(VLOOKUP(G5171,DropDowns!$D$2:$E$151,2,FALSE),\"\")","v":""},{"$f":"IFERROR(VLOOKUP(H5171,DropDowns!$F$2:$G$7,2,FALSE),\"Residual categories\")","v":"Residual categories"},null,null,null,0,0,0]
[0,{"$f":"IF(OR(COUNTA(O5142:O5171)>0,COUNTA(O5171:$O$5195)>0),IF(COUNTIF(B5162:B5171,B5171)=10,B5171+7,B5171),\"\")","v":""},"","","",null,null,null,0,0,0,0,{"$f":"IFERROR(VLOOKUP(G5172,DropDowns!$D$2:$E$151,2,FALSE),\"\")","v":""},{"$f":"IFERROR(VLOOKUP(H5172,DropDowns!$F$2:$G$7,2,FALSE),\"Residual categories\")","v":"Residual categories"},null,null,null,0,0,0]
[0,{"$f":"IF(OR(COUNTA(O5143:O5172)>0,COUNTA(O5172:$O$5195)>0),IF(COUNTIF(B5163:B5172,B5172)=10,B5172+7,B5172),\"\")","v":""},"","","",null,null,null,0,0,0,0,{"$f":"IFERROR(VLOOKUP(G5173,DropDowns!$D$2:$E$151,2,FALSE),\"\")","v":""},{"$f":"IFERROR(VLOOKUP(H5173,DropDowns!$F$2:$G$7,2,FALSE),\"Residual categories\")","v":"Residual categories"},null,null,null,0,0,0]
[0,{"$f":"IF(OR(COUNTA(O5144:O5173)>0,COUNTA(O5173:$O$5195)>0),IF(COUNTIF(B5164:B5173,B5173)=10,B5173+7,B5173),\"\")","v":""},"","","",null,null,null,0,0,0,0,{"$f":"IFERROR(VLOOKUP(G5174,DropDowns!$D$2:$E$151,2,FALSE),\"\")","v":""},{"$f":"IFERROR(VLOOKUP(H5174,DropDowns!$F$2:$G$7,2,FALSE),\"Residual categories\")","v":"Residual categories"},null,null,null,0,0,0]
[0,{"$f":"IF(OR(COUNTA(O5145:O5174)>0,COUNTA(O5174:$O$5195)>0),IF(COUNTIF(B5165:B5174,B5174)=10,B5174+7,B5174),\"\")","v":""},"","","",null,null,null,0,0,0,0,{"$f":"IFERROR(VLOOKUP(G5175,DropDowns!$D$2:$E$151,2,FALSE),\"\")","v":""},{"$f":"IFERROR(VLOOKUP(H5175,DropDowns!$F$2:$G$7,2,FALSE),\"Residual categories\")","v":"Residual categories"},null,null,null,0,0,0]
[0,{"$f":"IF(OR(COUNTA(O5146:O5175)>0,COUNTA(O5175:$O$5195)>0),IF(COUNTIF(B5166:B5175,B5175)=10,B5175+7,B5175),\"\")","v":""},"","","",null,null,null,0,0,0,0,{"$f":"IFERROR(VLOOKUP(G5176,DropDowns!$D$2:$E$151,2,FALSE),\"\")","v":""},{"$f":"IFERROR(VLOOKUP(H5176,DropDowns!$F$2:$G$7,2,FALSE),\"Residual categories\")","v":"Residual categories"},null,null,null,0,0,0]
[0,{"$f":"IF(OR(COUNTA(O5147:O5176)>0,COUNTA(O5176:$O$5195)>0),IF(COUNTIF(B5167:B5176,B5176)=10,B5176+7,B5176),\"\")","v":""},"","","",null,null,null,0,0,0,0,{"$f":"IFERROR(VLOOKUP(G5177,DropDowns!$D$2:$E$151,2,FALSE),\"\")","v":""},{"$f":"IFERROR(VLOOKUP(H5177,DropDowns!$F$2:$G$7,2,FALSE),\"Residual categories\")","v":"Residual categories"},null,null,null,0,0,0]
[0,{"$f":"IF(OR(COUNTA(O5148:O5177)>0,COUNTA(O5177:$O$5195)>0),IF(COUNTIF(B5168:B5177,B5177)=10,B5177+7,B5177),\"\")","v":""},"","","",null,null,null,0,0,0,0,{"$f":"IFERROR(VLOOKUP(G5178,DropDowns!$D$2:$E$151,2,FALSE),\"\")","v":""},{"$f":"IFERROR(VLOOKUP(H5178,DropDowns!$F$2:$G$7,2,FALSE),\"Residual categories\")","v":"Residual categories"},null,null,null,0,0,0]
[0,{"$f":"IF(OR(COUNTA(O5149:O5178)>0,COUNTA(O5178:$O$5195)>0),IF(COUNTIF(B5169:B5178,B5178)=10,B5178+7,B5178),\"\")","v":""},"","","",null,null,null,0,0,0,0,{"$f":"IFERROR(VLOOKUP(G5179,DropDowns!$D$2:$E$151,2,FALSE),\"\")","v":""},{"$f":"IFERROR(VLOOKUP(H5179,DropDowns!$F$2:$G$7,2,FALSE),\"Residual categories\")","v":"Residual categories"},null,null,null,0,0,0]
[0,{"$f":"IF(OR(COUNTA(O5150:O5179)>0,COUNTA(O5179:$O$5195)>0),IF(COUNTIF(B5170:B5179,B5179)=10,B5179+7,B5179),\"\")","v":""},"","","",null,null,null,0,0,0,0,{"$f":"IFERROR(VLOOKUP(G5180,DropDowns!$D$2:$E$151,2,FALSE),\"\")","v":""},{"$f":"IFERROR(VLOOKUP(H5180,DropDowns!$F$2:$G$7,2,FALSE),\"Residual categories\")","v":"Residual categories"},null,null,null,0,0,0]
[0,{"$f":"IF(OR(COUNTA(O5151:O5180)>0,COUNTA(O5180:$O$5195)>0),IF(COUNTIF(B5171:B5180,B5180)=10,B5180+7,B5180),\"\")","v":""},"","","",null,null,null,0,0,0,0,{"$f":"IFERROR(VLOOKUP(G5181,DropDowns!$D$2:$E$151,2,FALSE),\"\")","v":""},{"$f":"IFERROR(VLOOKUP(H5181,DropDowns!$F$2:$G$7,2,FALSE),\"Residual categories\")","v":"Residual categories"},null,null,null,0,0,0]
[0,{"$f":"IF(OR(COUNTA(O5152:O5181)>0,COUNTA(O5181:$O$5195)>0),IF(COUNTIF(B5172:B5181,B5181)=10,B5181+7,B5181),\"\")","v":""},"","","",null,null,null,0,0,0,0,{"$f":"IFERROR(VLOOKUP(G5182,DropDowns!$D$2:$E$151,2,FALSE),\"\")","v":""},{"$f":"IFERROR(VLOOKUP(H5182,DropDowns!$F$2:$G$7,2,FALSE),\"Residual categories\")","v":"Residual categories"},null,null,null,0,0,0]
[0,{"$f":"IF(OR(COUNTA(O5153:O5182)>0,COUNTA(O5182:$O$5195)>0),IF(COUNTIF(B5173:B5182,B5182)=10,B5182+7,B5182),\"\")","v":""},"","","",null,null,null,0,0,0,0,{"$f":"IFERROR(VLOOKUP(G5183,DropDowns!$D$2:$E$151,2,FALSE),\"\")","v":""},{"$f":"IFERROR(VLOOKUP(H5183,DropDowns!$F$2:$G$7,2,FALSE),\"Residual categories\")","v":"Residual categories"},null,null,null,0,0,0]
[0,{"$f":"IF(OR(COUNTA(O5154:O5183)>0,COUNTA(O5183:$O$5195)>0),IF(COUNTIF(B5174:B5183,B5183)=10,B5183+7,B5183),\"\")","v":""},"","","",null,null,null,0,0,0,0,{"$f":"IFERROR(VLOOKUP(G5184,DropDowns!$D$2:$E$151,2,FALSE),\"\")","v":""},{"$f":"IFERROR(VLOOKUP(H5184,DropDowns!$F$2:$G$7,2,FALSE),\"Residual categories\")","v":"Residual categories"},null,null,null,0,0,0]
[0,{"$f":"IF(OR(COUNTA(O5155:O5184)>0,COUNTA(O5184:$O$5195)>0),IF(COUNTIF(B5175:B5184,B5184)=10,B5184+7,B5184),\"\")","v":""},"","","",null,null,null,0,0,0,0,{"$f":"IFERROR(VLOOKUP(G5185,DropDowns!$D$2:$E$151,2,FALSE),\"\")","v":""},{"$f":"IFERROR(VLOOKUP(H5185,DropDowns!$F$2:$G$7,2,FALSE),\"Residual categories\")","v":"Residual categories"},null,null,null,0,0,0]
[0,{"$f":"IF(OR(COUNTA(O5156:O5185)>0,COUNTA(O5185:$O$5195)>0),IF(COUNTIF(B5176:B5185,B5185)=10,B5185+7,B5185),\"\")","v":""},"","","",null,null,null,0,0,0,0,{"$f":"IFERROR(VLOOKUP(G5186,DropDowns!$D$2:$E$151,2,FALSE),\"\")","v":""},{"$f":"IFERROR(VLOOKUP(H5186,DropDowns!$F$2:$G$7,2,FALSE),\"Residual categories\")","v":"Residual categories"},null,null,null,0,0,0]
[0,{"$f":"IF(OR(COUNTA(O5157:O5186)>0,COUNTA(O5186:$O$5195)>0),IF(COUNTIF(B5177:B5186,B5186)=10,B5186+7,B5186),\"\")","v":""},"","","",null,null,null,0,0,0,0,{"$f":"IFERROR(VLOOKUP(G5187,DropDowns!$D$2:$E$151,2,FALSE),\"\")","v":""},{"$f":"IFERROR(VLOOKUP(H5187,DropDowns!$F$2:$G$7,2,FALSE),\"Residual categories\")","v":"Residual categories"},null,null,null,0,0,0]
[0,{"$f":"IF(OR(COUNTA(O5158:O5187)>0,COUNTA(O5187:$O$5195)>0),IF(COUNTIF(B5178:B5187,B5187)=10,B5187+7,B5187),\"\")","v":""},"","","",null,null,null,0,0,0,0,{"$f":"IFERROR(VLOOKUP(G5188,DropDowns!$D$2:$E$151,2,FALSE),\"\")","v":""},{"$f":"IFERROR(VLOOKUP(H5188,DropDowns!$F$2:$G$7,2,FALSE),\"Residual categories\")","v":"Residual categories"},null,null,null,0,0,0]
[0,{"$f":"IF(OR(COUNTA(O5159:O5188)>0,COUNTA(O5188:$O$5195)>0),IF(COUNTIF(B5179:B5188,B5188)=10,B5188+7,B5188),\"\")","v":""},"","","",null,null,null,0,0,0,0,{"$f":"IFERROR(VLOOKUP(G5189,DropDowns!$D$2:$E$151,2,FALSE),\"\")","v":""},{"$f":"IFERROR(VLOOKUP(H5189,DropDowns!$F$2:$G$7,2,FALSE),\"Residual categories\")","v":"Residual categories"},null,null,null,0,0,0]
[0,{"$f":"IF(OR(COUNTA(O5160:O5189)>0,COUNTA(O5189:$O$5195)>0),IF(COUNTIF(B5180:B5189,B5189)=10,B5189+7,B5189),\"\")","v":""},"","","",null,null,null,0,0,0,0,{"$f":"IFERROR(VLOOKUP(G5190,DropDowns!$D$2:$E$151,2,FALSE),\"\")","v":""},{"$f":"IFERROR(VLOOKUP(H5190,DropDowns!$F$2:$G$7,2,FALSE),\"Residual categories\")","v":"Residual categories"},null,null,null,0,0,0]
[0,{"$f":"IF(OR(COUNTA(O5161:O5190)>0,COUNTA(O5190:$O$5195)>0),IF(COUNTIF(B5181:B5190,B5190)=10,B5190+7,B5190),\"\")","v":""},{"$f":"IF(D5191=1,A5191,\"\")","v":""},"","",null,null,null,{"$f":"IF(COUNTA(O5191:Q5191)>0,1,0)","v":0},{"$f":"IF(O5191=\"y\",1,0)","v":0},{"$f":"IF(P5191=\"y\",1,0)","v":0},{"$f":"IF(Q5191=\"y\",1,0)","v":0},{"$f":"IFERROR(VLOOKUP(G5191,DropDowns!$D$2:$E$151,2,FALSE),\"\")","v":""},{"$f":"IFERROR(VLOOKUP(H5191,DropDowns!$F$2:$G$7,2,FALSE),\"Residual categories\")","v":"Residual categories"},null,null,null,{"$f":"IF(O5191=\"yes\",1,0)","v":0},{"$f":"IF(P5191=\"yes\",1,0)","v":0},{"$f":"IF(Q5191=\"yes\",1,0)","v":0}]
[0,{"$f":"IF(OR(COUNTA(O5162:O5191)>0,COUNTA(O5191:$O$5195)>0),IF(COUNTIF(B5182:B5191,B5191)=10,B5191+7,B5191),\"\")","v":""},"","","",null,null,null,0,0,0,0,{"$f":"IFERROR(VLOOKUP(G5192,DropDowns!$D$2:$E$151,2,FALSE),\"\")","v":""},{"$f":"IFERROR(VLOOKUP(H5192,DropDowns!$F$2:$G$7,2,FALSE),\"Residual categories\")","v":"Residual categories"},null,null,null,0,0,0]
[0,{"$f":"IF(OR(COUNTA(O5163:O5192)>0,COUNTA(O5192:$O$5195)>0),IF(COUNTIF(B5183:B5192,B5192)=10,B5192+7,B5192),\"\")","v":""},"","","",null,null,null,0,0,0,0,{"$f":"IFERROR(VLOOKUP(G5193,DropDowns!$D$2:$E$151,2,FALSE),\"\")","v":""},{"$f":"IFERROR(VLOOKUP(H5193,DropDowns!$F$2:$G$7,2,FALSE),\"Residual categories\")","v":"Residual categories"},null,null,null,0,0,0]
[0,{"$f":"IF(OR(COUNTA(O5164:O5193)>0,COUNTA(O5193:$O$5195)>0),IF(COUNTIF(B5184:B5193,B5193)=10,B5193+7,B5193),\"\")","v":""},"","","",null,null,null,0,0,0,0,{"$f":"IFERROR(VLOOKUP(G5194,DropDowns!$D$2:$E$151,2,FALSE),\"\")","v":""},{"$f":"IFERROR(VLOOKUP(H5194,DropDowns!$F$2:$G$7,2,FALSE),\"Residual categories\")","v":"Residual categories"},null,null,null,0,0,0]
[0,{"$f":"IF(OR(COUNTA(O5165:O5194)>0,COUNTA(O5194:$O$5195)>0),IF(COUNTIF(B5185:B5194,B5194)=10,B5194+7,B5194),\"\")","v":""},"","","",null,null,null,0,0,0,0,{"$f":"IFERROR(VLOOKUP(G5195,DropDowns!$D$2:$E$151,2,FALSE),\"\")","v":""},{"$f":"IFERROR(VLOOKUP(H5195,DropDowns!$F$2:$G$7,2,FALSE),\"Residual categories\")","v":"Residual categories"},null,null,null,0,0,0]

{"sheet":"Pivot Tables","index":2,"n_rows":13,"n_cols":87,"rows_kept":13,"cut":false,"hidden":false,"merged":[]}
["By date",null,null,null,null,null,null,null,null,null,null,null,null,null,null,"By ethnicity",null,null,null,null,null,null,null,null,null,null,null,null,null,null,null,null,null,null,null,null,"By age",null,null,null,null,null,null,null,null,null,null,null,null,null,null,null,null,null,null,null,null,null,null,null,null,null,null,null,null,null,null,null,null,null,null,null,"By gender",null,null,null,null,null,null,null,null,null,null,null,"By area"]
[null,null,null,null,null,null,null,null,null,null,null,null,null,null,null,null,"Ethnic group",null,null,null,null,null,null,null,null,null,null,null,null,null,null,null,null,null,null,null,"Count of Process 1 (Yes/No)","Process 1 (Yes/No)",null,null,null,null,null,null,null,null,null,null,"Count of Process 2 (Yes/No)","Process 2 (Yes/No)",null,null,null,null,null,null,null,null,null,null,null,"Count of Balance (Yes/No/Not recorded)","Balance (Yes/No/Not recorded)",null,null,null,null,null,null,null,null,null,null,"Gender",null,null,null,null,null,null,null,null,null,null,null,"Area (optional)"]
["Date","Documented sedation scores","Documented bowel function monitored","Uncontrolled pain",null,null,null,null,null,null,null,null,null,null,null,"Values","Asian","European","Māori","Other","Pacific","Residual categories","Grand Total",null,null,null,null,null,null,null,null,null,null,null,null,null,"Age group","Grand Total",null,null,null,null,null,null,null,null,null,null,"Age group","Grand Total",null,null,null,null,null,null,null,null,null,null,null,"Age group","Grand Total",null,null,null,null,null,null,null,null,null,"Values","f","m","o","Grand Total",null,null,null,null,null,null,null,"Values","(blank)","Grand Total"]
["00:00:00",0,0,0,null,null,null,null,null,null,null,null,null,null,null,"Documented sedation scores",0,0,0,0,0,0,0,null,null,null,null,null,null,null,null,null,null,null,null,null,null,null,null,null,null,null,null,null,null,null,null,null,null,null,null,null,null,null,null,null,null,null,null,null,null,null,null,null,null,null,null,null,null,null,null,null,"Documented sedation scores",null,null,null,0,null,null,null,null,null,null,null,"Documented sedation scores",0,0]
[7,0,0,0,null,null,null,null,null,null,null,null,null,null,null,"Documented bowel function monitored",0,0,0,0,0,0,0,null,null,null,null,null,null,null,null,null,null,null,null,null,"<25",null,null,null,null,null,null,null,null,null,null,null,"<25",null,null,null,null,null,null,null,null,null,null,null,null,"<25",null,null,null,null,null,null,null,null,null,null,"Documented bowel function monitored",null,null,null,0,null,null,null,null,null,null,null,"Documented bowel function monitored",0,0]
["Grand Total",0,0,0,null,null,null,null,null,null,null,null,null,null,null,"Uncontrolled pain",0,0,0,0,0,0,0,null,null,null,null,null,null,null,null,null,null,null,null,null,"25-34",null,null,null,null,null,null,null,null,null,null,null,"25-34",null,null,null,null,null,null,null,null,null,null,null,null,"25-34",null,null,null,null,null,null,null,null,null,null,"Uncontrolled pain",null,null,null,0,null,null,null,null,null,null,null,"Uncontrolled pain",0,0]
[null,null,null,null,null,null,null,null,null,null,null,null,null,null,null,null,null,null,null,null,null,null,null,null,null,null,null,null,null,null,null,null,null,null,null,null,"35-44",null,null,null,null,null,null,null,null,null,null,null,"35-44",null,null,null,null,null,null,null,null,null,null,null,null,"35-44"]
[null,null,null,null,null,null,null,null,null,null,null,null,null,null,null,null,null,null,null,null,null,null,null,null,null,null,null,null,null,null,null,null,null,null,null,null,"45-54",null,null,null,null,null,null,null,null,null,null,null,"45-54",null,null,null,null,null,null,null,null,null,null,null,null,"45-54"]
[null,null,null,null,null,null,null,null,null,null,null,null,null,null,null,null,null,null,null,null,null,null,null,null,null,null,null,null,null,null,null,null,null,null,null,null,"55-64",null,null,null,null,null,null,null,null,null,null,null,"55-64",null,null,null,null,null,null,null,null,null,null,null,null,"55-64"]
[null,null,null,null,null,null,null,null,null,null,null,null,null,null,null,null,null,null,null,null,null,null,null,null,null,null,null,null,null,null,null,null,null,null,null,null,"65-74",null,null,null,null,null,null,null,null,null,null,null,"65-74",null,null,null,null,null,null,null,null,null,null,null,null,"65-74"]
[null,null,null,null,null,null,null,null,null,null,null,null,null,null,null,null,null,null,null,null,null,null,null,null,null,null,null,null,null,null,null,null,null,null,null,null,"75-84",null,null,null,null,null,null,null,null,null,null,null,"75-84",null,null,null,null,null,null,null,null,null,null,null,null,"75-84"]
[null,null,null,null,null,null,null,null,null,null,null,null,null,null,null,null,null,null,null,null,null,null,null,null,null,null,null,null,null,null,null,null,null,null,null,null,"85+",null,null,null,null,null,null,null,null,null,null,null,"85+",null,null,null,null,null,null,null,null,null,null,null,null,"85+"]
[null,null,null,null,null,null,null,null,null,null,null,null,null,null,null,null,null,null,null,null,null,null,null,null,null,null,null,null,null,null,null,null,null,null,null,null,"Grand Total",{"$error":"#DIV/0!"},null,null,null,null,null,null,null,null,null,null,"Grand Total",{"$error":"#DIV/0!"},null,null,null,null,null,null,null,null,null,null,null,"Grand Total",{"$error":"#DIV/0!"}]

{"sheet":"Graphs","index":3,"n_rows":0,"n_cols":0,"rows_kept":0,"cut":false,"hidden":false,"merged":[]}

{"sheet":"DataExport","index":4,"n_rows":37,"n_cols":10,"rows_kept":37,"cut":false,"hidden":false,"merged":[]}
["DHB","Date","Age (years)","Case number (10 per week)","Age group","Gender","Process 1 (Yes/No)","Process 2 (Yes/No)","Balance (Yes/No/Not recorded)","Sum of Number of audits"]
["Waikato DHB",null,"(blank)",1,null,"(blank)","(blank)","(blank)","(blank)",0]
["Waikato DHB",null,"(blank)",2,null,"(blank)","(blank)","(blank)","(blank)",0]
["Waikato DHB",null,"(blank)",3,null,"(blank)","(blank)","(blank)","(blank)",0]
["Waikato DHB",null,"(blank)",4,null,"(blank)","(blank)","(blank)","(blank)",0]
["Waikato DHB",null,"(blank)",5,null,"(blank)","(blank)","(blank)","(blank)",0]
["Waikato DHB",null,"(blank)",null,null,"(blank)","(blank)","(blank)","(blank)",0]
["Waikato DHB",43577,"(blank)",1,null,"(blank)","(blank)","(blank)","(blank)",0]
["Waikato DHB",43577,"(blank)",2,null,"(blank)","(blank)","(blank)","(blank)",0]
["Waikato DHB",43577,"(blank)",3,null,"(blank)","(blank)","(blank)","(blank)",0]
["Waikato DHB",43577,"(blank)",4,null,"(blank)","(blank)","(blank)","(blank)",0]
["Waikato DHB",43577,"(blank)",5,null,"(blank)","(blank)","(blank)","(blank)",0]
["Waikato DHB",43577,"(blank)",6,null,"(blank)","(blank)","(blank)","(blank)",0]
["Waikato DHB",43577,"(blank)",7,null,"(blank)","(blank)","(blank)","(blank)",0]
["Waikato DHB",43577,"(blank)",8,null,"(blank)","(blank)","(blank)","(blank)",0]
["Waikato DHB",43577,"(blank)",9,null,"(blank)","(blank)","(blank)","(blank)",0]
["Waikato DHB",43577,"(blank)",10,null,"(blank)","(blank)","(blank)","(blank)",0]
["Waikato DHB",43584,"(blank)",1,null,"(blank)","(blank)","(blank)","(blank)",0]
["Waikato DHB",43584,"(blank)",2,null,"(blank)","(blank)","(blank)","(blank)",0]
["Waikato DHB",43584,"(blank)",3,null,"(blank)","(blank)","(blank)","(blank)",0]
["Waikato DHB",43584,"(blank)",4,null,"(blank)","(blank)","(blank)","(blank)",0]
["Waikato DHB",43584,"(blank)",5,null,"(blank)","(blank)","(blank)","(blank)",0]
["Waikato DHB",43584,"(blank)",6,null,"(blank)","(blank)","(blank)","(blank)",0]
["Waikato DHB",43584,"(blank)",7,null,"(blank)","(blank)","(blank)","(blank)",0]
["Waikato DHB",43584,"(blank)",8,null,"(blank)","(blank)","(blank)","(blank)",0]
["Waikato DHB",43584,"(blank)",9,null,"(blank)","(blank)","(blank)","(blank)",0]
["Waikato DHB",43584,"(blank)",10,null,"(blank)","(blank)","(blank)","(blank)",0]
["Waikato DHB",43591,"(blank)",1,null,"(blank)","(blank)","(blank)","(blank)",0]
["Waikato DHB",43591,"(blank)",2,null,"(blank)","(blank)","(blank)","(blank)",0]
["Waikato DHB",43591,"(blank)",3,null,"(blank)","(blank)","(blank)","(blank)",0]
["Waikato DHB",43591,"(blank)",4,null,"(blank)","(blank)","(blank)","(blank)",0]
["Waikato DHB",43591,"(blank)",5,null,"(blank)","(blank)","(blank)","(blank)",0]
["Waikato DHB",43591,"(blank)",6,null,"(blank)","(blank)","(blank)","(blank)",0]
["Waikato DHB",43591,"(blank)",7,null,"(blank)","(blank)","(blank)","(blank)",0]
["Waikato DHB",43591,"(blank)",8,null,"(blank)","(blank)","(blank)","(blank)",0]
["Waikato DHB",43591,"(blank)",9,null,"(blank)","(blank)","(blank)","(blank)",0]
["Waikato DHB",43591,"(blank)",10,null,"(blank)","(blank)","(blank)","(blank)",0]

{"sheet":"DropDowns","index":5,"n_rows":151,"n_cols":9,"rows_kept":151,"cut":false,"hidden":true,"merged":[]}
["DHB","Present","Gender","Age","Age","Ethnicity",null,"Week beginning","Reporting quarter"]
["Auckland DHB","Yes","M",1,"<25","M","Māori",43374,"October - December 2018"]
["Bay of Plenty DHB","No","F",2,"<25","P","Pacific",43381,"January - March 2019"]
["Canterbury","Not recorded","O",3,"<25","A","Asian",43388,"April - June 2019"]
["Capital and Coast DHB",null,null,4,"<25","E","European",43395,"July - September 2019"]
["Counties Manukau Health",null,null,5,"<25","O","Other",43402,"October - December 2019"]
["Hawke's Bay DHB",null,null,6,"<25","R","Residual Categories",43409,"January - March 2020"]
["Hutt DHB",null,null,7,"<25",null,null,43416,"April - June 2020"]
["Lakes DHB",null,null,8,"<25",null,null,43423,"July - September 2020"]
["MercyAscot",null,null,9,"<25",null,null,43430,"October - December 2020"]
["MidCentral DHB",null,null,10,"<25",null,null,43437]
["Nelson Marlborough",null,null,11,"<25",null,null,43444]
["Northland DHB",null,null,12,"<25",null,null,43451]
["South Canterbury",null,null,13,"<25",null,null,43458]
["Southern",null,null,14,"<25",null,null,43465]
["Tairawhiti DHB",null,null,15,"<25",null,null,43472]
["Taranaki DHB",null,null,16,"<25",null,null,43479]
["Waikato DHB",null,null,17,"<25",null,null,43486]
["Wairarapa DHB",null,null,18,"<25",null,null,43493]
["Waitemata DHB",null,null,19,"<25",null,null,43500]
["West Coast",null,null,20,"<25",null,null,43507]
["Whanganui DHB",null,null,21,"<25",null,null,43514]
[null,null,null,22,"<25",null,null,43521]
[null,null,null,23,"<25",null,null,43528]
[null,null,null,24,"<25",null,null,43535]
[null,null,null,25,"25-34",null,null,43542]
[null,null,null,26,"25-34",null,null,43549]
[null,null,null,27,"25-34",null,null,43556]
[null,null,null,28,"25-34",null,null,43563]
[null,null,null,29,"25-34",null,null,43570]
[null,null,null,30,"25-34",null,null,43577]
[null,null,null,31,"25-34",null,null,43584]
[null,null,null,32,"25-34",null,null,43591]
[null,null,null,33,"25-34",null,null,43598]
[null,null,null,34,"25-34",null,null,43605]
[null,null,null,35,"35-44",null,null,43612]
[null,null,null,36,"35-44",null,null,43619]
[null,null,null,37,"35-44",null,null,43626]
[null,null,null,38,"35-44",null,null,43633]
[null,null,null,39,"35-44",null,null,43640]
[null,null,null,40,"35-44"]
[null,null,null,41,"35-44"]
[null,null,null,42,"35-44"]
[null,null,null,43,"35-44"]
[null,null,null,44,"35-44"]
[null,null,null,45,"45-54"]
[null,null,null,46,"45-54"]
[null,null,null,47,"45-54"]
[null,null,null,48,"45-54"]
[null,null,null,49,"45-54"]
[null,null,null,50,"45-54"]
[null,null,null,51,"45-54"]
[null,null,null,52,"45-54"]
[null,null,null,53,"45-54"]
[null,null,null,54,"45-54"]
[null,null,null,55,"55-64"]
[null,null,null,56,"55-64"]
[null,null,null,57,"55-64"]
[null,null,null,58,"55-64"]
[null,null,null,59,"55-64"]
[null,null,null,60,"55-64"]
[null,null,null,61,"55-64"]
[null,null,null,62,"55-64"]
[null,null,null,63,"55-64"]
[null,null,null,64,"55-64"]
[null,null,null,65,"65-74"]
[null,null,null,66,"65-74"]
[null,null,null,67,"65-74"]
[null,null,null,68,"65-74"]
[null,null,null,69,"65-74"]
[null,null,null,70,"65-74"]
[null,null,null,71,"65-74"]
[null,null,null,72,"65-74"]
[null,null,null,73,"65-74"]
[null,null,null,74,"65-74"]
[null,null,null,75,"75-84"]
[null,null,null,76,"75-84"]
[null,null,null,77,"75-84"]
[null,null,null,78,"75-84"]
[null,null,null,79,"75-84"]
[null,null,null,80,"75-84"]
[null,null,null,81,"75-84"]
[null,null,null,82,"75-84"]
[null,null,null,83,"75-84"]
[null,null,null,84,"75-84"]
[null,null,null,85,"85+"]
[null,null,null,86,"85+"]
[null,null,null,87,"85+"]
[null,null,null,88,"85+"]
[null,null,null,89,"85+"]
[null,null,null,90,"85+"]
[null,null,null,91,"85+"]
[null,null,null,92,"85+"]
[null,null,null,93,"85+"]
[null,null,null,94,"85+"]
[null,null,null,95,"85+"]
[null,null,null,96,"85+"]
[null,null,null,97,"85+"]
[null,null,null,98,"85+"]
[null,null,null,99,"85+"]
[null,null,null,100,"85+"]
[null,null,null,101,"85+"]
[null,null,null,102,"85+"]
[null,null,null,103,"85+"]
[null,null,null,104,"85+"]
[null,null,null,105,"85+"]
[null,null,null,106,"85+"]
[null,null,null,107,"85+"]
[null,null,null,108,"85+"]
[null,null,null,109,"85+"]
[null,null,null,110,"85+"]
[null,null,null,111,"85+"]
[null,null,null,112,"85+"]
[null,null,null,113,"85+"]
[null,null,null,114,"85+"]
[null,null,null,115,"85+"]
[null,null,null,116,"85+"]
[null,null,null,117,"85+"]
[null,null,null,118,"85+"]
[null,null,null,119,"85+"]
[null,null,null,120,"85+"]
[null,null,null,121,"85+"]
[null,null,null,122,"85+"]
[null,null,null,123,"85+"]
[null,null,null,124,"85+"]
[null,null,null,125,"85+"]
[null,null,null,126,"85+"]
[null,null,null,127,"85+"]
[null,null,null,128,"85+"]
[null,null,null,129,"85+"]
[null,null,null,130,"85+"]
[null,null,null,131,"85+"]
[null,null,null,132,"85+"]
[null,null,null,133,"85+"]
[null,null,null,134,"85+"]
[null,null,null,135,"85+"]
[null,null,null,136,"85+"]
[null,null,null,137,"85+"]
[null,null,null,138,"85+"]
[null,null,null,139,"85+"]
[null,null,null,140,"85+"]
[null,null,null,141,"85+"]
[null,null,null,142,"85+"]
[null,null,null,143,"85+"]
[null,null,null,144,"85+"]
[null,null,null,145,"85+"]
[null,null,null,146,"85+"]
[null,null,null,147,"85+"]
[null,null,null,148,"85+"]
[null,null,null,149,"85+"]
[null,null,null,150,"85+"]